Workbook
Name _ftnref1: Orcamento!#REF!
Name _Toc89844996: Orcamento!#REF!
Name _ftn1: Orcamento!$B$10

Sheet Orcamento
B8: Estado do Rio Grande do Sul
B9: MUNICÍPIO DE SÃO VENDELINO
A10: Planilha de Orçamento - Global
C11: Proprietario: Prefeitura Municipal de São Vendelino, CNPJ.: 91.984.492/0001-52 | H11: Area a ser pavimentada:[m²] | J11: Extensao: 62,31 metros
C12: Obra: Ponte Metálica para pedestres | G12: B.D.I. | I12: Encargos Sociais sobre preco da M.O
C13: End. Rua Cônego Caspary, interligação com o Recanto do Paraíso, São Vendelino-RS | G13: 0.2195 | I13: Não Desonerado: 112,88% (hora) 69,79%(mês)
C14: Planilha Orçamentária Sintética Com Valor do Material e da Mão de Obra
A15: Cod. SINAPI | B15: Item | C15: Descrição | D15: Und | E15: Quant. | F15: Valor Unit s/ BDI | G15: Valor Unit com BDI | J15: Total | M15: Peso (%)
G16: M. O. | H16: MAT. | I16: Total | J16: M. O. | K16: MAT. | L16: Total
B17: 1 | C17: TRELICAS METÁLICAS ESTRUTURA DA PONTE | L17: =SUM(L18:L27) -> 219712.25 | M17: =L17/$L$78 -> 0.57979566
A18: 100377 + 10% CALANDRA | B18: 1.1 | C18: FABRICAÇÃO E INSTALAÇÃO DE TRELIÇA METÁLICA, COM PERFIL TUBULAR SEM COSTURA METÁLICO, DIMENSÕES 200X150[mm], ESPESSURA 6,3mm, CALANDRADO, PESO DO PERFIL POR m = 33,4 KG/m - COMPRIMENTO TOTAL 83,14m BANZO INFERIORES CALANDRADAS | D18: KG | E18: =ROUND(83.15*33.4,4) -> 2777.21 | F18: =ROUND(14.26*1.1,2) -> 15.69 | G18: =ROUND(I18*0.3,2) -> 5.74 | H18: =ROUND(I18*0.7,2) -> 13.39 | I18: =ROUND(F18*(1+$G$13),2) -> 19.13 | J18: =ROUND(G18*E18,2) -> 15941.19 | K18: =ROUND(H18*E18,2) -> 37186.84 | L18: =K18+J18 -> 53128.03 | M18: =L18/$L$78 -> 0.14019883
A19: 100377 + 10% CALANDRA | B19: 1.2 | C19: FABRICAÇÃO E INSTALAÇÃO DE TRELIÇA METÁLICA, COM PERFIL TUBULAR SEM COSTURA METÁLICO, DIMENSÕES 200X150[mm], ESPESSURA 3,75mm, CALANDRADO, PESO DO PERFIL POR m = 19,965 KG/m - COMPRIMENTO TOTAL 83,155m BANZO SUPERIORES CALANDRADAS | D19: KG | E19: =ROUND(83.155*19.965,4) -> 1660.1896 | F19: =ROUND(14.26*1.1,2) -> 15.69 | G19: =ROUND(I19*0.3,2) -> 5.74 | H19: =ROUND(I19*0.7,2) -> 13.39 | I19: =ROUND(F19*(1+$G$13),2) -> 19.13 | J19: =ROUND(G19*E19,2) -> 9529.49 | K19: =ROUND(H19*E19,2) -> 22229.94 | L19: =K19+J19 -> 31759.43 | M19: =L19/$L$78 -> 0.083809527
A20: 100377 | B20: 1.3 | C20: FABRICAÇÃO E INSTALAÇÃO DE TRELIÇA METÁLICA, COM PERFIL TUBULAR SEM COSTURA METÁLICO, DIMENSÕES 200X150[mm], ESPESSURA 3,75mm, PESO DO PERFIL POR m = 19,965 KG/m - COMPRIMENTO TOTAL 81,182m - BANZOS SUPERIORES E INFERIORES RETOS LATERAIS | D20: KG | E20: =ROUND(81.182*19.965,4) -> 1620.7986 | F20: =14.26 -> 14.26 | G20: =ROUND(I20*0.3,2) -> 5.22 | H20: =ROUND(I20*0.7,2) -> 12.17 | I20: =ROUND(F20*(1+$G$13),2) -> 17.39 | J20: =ROUND(G20*E20,2) -> 8460.57 | K20: =ROUND(H20*E20,2) -> 19725.12 | L20: =K20+J20 -> 28185.69 | M20: =L20/$L$78 -> 0.074378833
A21: 100377 | B21: 1.4 | C21: FABRICAÇÃO E INSTALAÇÃO DE TRELIÇA METÁLICA, COM PERFIL TUBULAR SEM COSTURA METÁLICO, DIMENSÕES 200X150[mm], ESPESSURA 3,75mm, PESO DO PERFIL POR m = 19,965 KG/m - COMPRIMENTO TOTAL 68,523m - MONTANTES DO PISO | D21: KG | E21: =ROUND(68.523*19.965,4) -> 1368.0617 | F21: =14.26 -> 14.26 | G21: =ROUND(I21*0.3,2) -> 5.22 | H21: =ROUND(I21*0.7,2) -> 12.17 | I21: =ROUND(F21*(1+$G$13),2) -> 17.39 | J21: =ROUND(G21*E21,2) -> 7141.28 | K21: =ROUND(H21*E21,2) -> 16649.31 | L21: =K21+J21 -> 23790.59 | M21: =L21/$L$78 -> 0.062780664
A22: 100377 | B22: 1.5 | C22: FABRICAÇÃO E INSTALAÇÃO DE TRELIÇA METÁLICA, COM PERFIL U MECÂNICO METÁLICO, DIMENSÕES 100X50[mm], ESPESSURA 3,75mm, , PESO DO PERFIL POR m = 5,74 KG/m - COMPRIMENTO TOTAL 22,10m - MONTANTES | D22: KG | E22: =ROUND(22.1*5.74,4) -> 126.854 | F22: 14.26 | G22: =ROUND(I22*0.3,2) -> 5.22 | H22: =ROUND(I22*0.7,2) -> 12.17 | I22: =ROUND(F22*(1+$G$13),2) -> 17.39 | J22: =ROUND(G22*E22,2) -> 662.18 | K22: =ROUND(H22*E22,2) -> 1543.81 | L22: =K22+J22 -> 2205.99 | M22: =L22/$L$78 -> 0.0058213569
A23: 100377 | B23: 1.6 | C23: FABRICAÇÃO E INSTALAÇÃO DE TRELIÇA METÁLICA, COM PERFIL QUADRADO SEM COSTURA METÁLICO, DIMENSÕES 100X100[mm], ESPESSURA 3,75mm, , PESO DO PERFIL POR m = 11,33 KG/m - COMPRIMENTO TOTAL 331,73m - MONTANTES, MONTANTES SEGUNDARIOS E DIAGONAIS | D23: KG | E23: =ROUND(331.73*11.33,4) -> 3758.5009 | F23: 14.26 | G23: =ROUND(I23*0.3,2) -> 5.22 | H23: =ROUND(I23*0.7,2) -> 12.17 | I23: =ROUND(F23*(1+$G$13),2) -> 17.39 | J23: =ROUND(G23*E23,2) -> 19619.37 | K23: =ROUND(H23*E23,2) -> 45740.96 | L23: =K23+J23 -> 65360.33 | M23: =L23/$L$78 -> 0.17247848
A24: 100377 | B24: 1.7 | C24: FABRICAÇÃO E INSTALAÇÃO DE TRELIÇA METÁLICA, COM PERFIL CANTONEIRA LAMINADA METÁLICA, DIMENSÕES 2"X2", ESPESSURA , 1/8" , PESO DO PERFIL POR m = 2,46 KG/m - COMPRIMENTO TOTAL 171,39m - CONTRA VENTAMENTO | D24: KG | E24: =ROUND(171.89*2.46,4) -> 422.8494 | F24: 14.26 | G24: =ROUND(I24*0.3,2) -> 5.22 | H24: =ROUND(I24*0.7,2) -> 12.17 | I24: =ROUND(F24*(1+$G$13),2) -> 17.39 | J24: =ROUND(G24*E24,2) -> 2207.27 | K24: =ROUND(H24*E24,2) -> 5146.08 | L24: =K24+J24 -> 7353.35 | M24: =L24/$L$78 -> 0.019404655
A25: 100377 | B25: 1.8 | C25: FABRICAÇÃO E INSTALAÇÃO DE TRELIÇA METÁLICA, COM PERFIL RETANGULAR LAMINADA METÁLICA, DIMENSÕES 3"X200MM, ESPESSURA , 1/4" , PESO DO PERFIL POR m = 3,8 KG/m - COMPRIMENTO TOTAL 30m - CHAPA FIXAÇÃO DO CONTRA VENTAMENTO | D25: KG | E25: =ROUND(30*3.8,4) -> 114 | F25: 14.26 | G25: =ROUND(I25*0.3,2) -> 5.22 | H25: =ROUND(I25*0.7,2) -> 12.17 | I25: =ROUND(F25*(1+$G$13),2) -> 17.39 | J25: =ROUND(G25*E25,2) -> 595.08 | K25: =ROUND(H25*E25,2) -> 1387.38 | L25: =K25+J25 -> 1982.46 | M25: =L25/$L$78 -> 0.0052314867
A26: 89272 | B26: 1.9 | C26: GUINDASTE HIDRAULICO AUTOPROPELIDO COM LANÇA TELESCOPICO 28,80M, CAPACIDADE MAXIMA 30T, POTENCIA 97KW, TRAÇÃO 4X4 CHP DIURNO | D26: CHP | E26: 18 | F26: 242.81 | G26: =ROUND(I26*0.3,2) -> 88.83 | H26: =ROUND(I26*0.7,2) -> 207.28 | I26: =ROUND(F26*(1+$G$13),2) -> 296.11 | J26: =ROUND(G26*E26,2) -> 1598.94 | K26: =ROUND(H26*E26,2) -> 3731.04 | L26: =K26+J26 -> 5329.98 | M26: =L26/$L$78 -> 0.014065212
A27: 89273 | B27: 1.10 | C27: GUINDASTE HIDRAULICO AUTOPROPELIDO COM LANÇA TELESCOPICO 28,80M, CAPACIDADE MAXIMA 30T, POTENCIA 97KW, TRAÇÃO 4X4 CHI DIURNO (CUSTO PARA DESLOCAMENTO) | D27: CHI | E27: 4 | F27: 126.36 | G27: =ROUND(I27*0.3,2) -> 46.23 | H27: =ROUND(I27*0.7,2) -> 107.87 | I27: =ROUND(F27*(1+$G$13),2) -> 154.1 | J27: =ROUND(G27*E27,2) -> 184.92 | K27: =ROUND(H27*E27,2) -> 431.48 | L27: =K27+J27 -> 616.4 | M27: =L27/$L$78 -> 0.0016266096
B29: 2 | C29: PEGA MÃO METÁLICO - 2 ALTURAS, 70cm E 92cm | L29: =L30 -> 31448.62 | M29: =L29/$L$78 -> 0.082989335
A30: 99855 + 10% CALANDRA | B30: 2.1 | C30: CORRIMÃO SIMPLES (COMPRIMENTO X 2 PARA DUAS ALTURAS) EM AÇO, PERFIL TUBULAR REDONDO, 1 1/2", 3MM ESPESSURA, INCLUSO ELEMENTO DE FIXAÇÃO. | D30: m | E30: 247.51 | F30: =ROUND(94.72*1.1,2) -> 104.19 | G30: =ROUND(I30*0.3,2) -> 38.12 | H30: =ROUND(I30*0.7,2) -> 88.94 | I30: =ROUND(F30*(1+$G$13),2) -> 127.06 | J30: =ROUND(G30*E30,2) -> 9435.08 | K30: =ROUND(H30*E30,2) -> 22013.54 | L30: =K30+J30 -> 31448.62 | M30: =L30/$L$78 -> 0.082989335
B32: 3 | C32: CHAPA DE PISO - XADREZ | L32: =L33 -> 43500.6 | M32: =L32/$L$78 -> 0.11479314
A33: AçoPlan+ 30% (MÃO DE OBRA E PERDA) | B33: 3.1 | C33: CHAPA METÁLICA XADREZ, ESPESSURA = 3,0mm - 25,4KG/m² - 1200X3000mm | D33: m² | E33: 110 | F33: =ROUND(249.4444*1.3,2) -> 324.28 | G33: =ROUND(I33*0.3,2) -> 118.64 | H33: =ROUND(I33*0.7,2) -> 276.82 | I33: =ROUND(F33*(1+$G$13),2) -> 395.46 | J33: =ROUND(G33*E33,2) -> 13050.4 | K33: =ROUND(H33*E33,2) -> 30450.2 | L33: =K33+J33 -> 43500.6 | M33: =L33/$L$78 -> 0.11479314
B35: 4 | C35: CHAPA EXPANDIDA PARA PROTEÇÃO LATERAL | L35: =L36 -> 16010.4 | M35: =L35/$L$78 -> 0.042249626
A36: AçoPlan+ 30% (MÃO DE OBRA E PERDA) | B36: 4.1 | C36: CHAPA EXPANDIDA 25X50 [mm], CORDÃO DE 2MM PESO POR KG = 2,5kg/m² | D36: m² | E36: 140 | F36: =ROUND(72.13*1.3,2) -> 93.77 | G36: =ROUND(I36*0.3,2) -> 34.31 | H36: =ROUND(I36*0.7,2) -> 80.05 | I36: =ROUND(F36*(1+$G$13),2) -> 114.35 | J36: =ROUND(G36*E36,2) -> 4803.4 | K36: =ROUND(H36*E36,2) -> 11207 | L36: =K36+J36 -> 16010.4 | M36: =L36+K36 -> 27217.4
B38: 5 | C38: CHUMBADOR MECÂNICO PARA INTERLIGAÇÃO DA ESTRUTURA METÁLICA À ESTRUTURA DE CONCRETO ARMADO | L38: =SUM(L39) -> 9087.15 | M38: =L38/$L$78 -> 0.023979956
A39: COMP 1 | B39: 5.1 | C39: CHUMPADOR MECÂNICO, VERGALHÃO16MM + CHAPA 2,2 X 0,5 ESPESSURA 10mm + CHAPA 0,45 X 0,16 ESPSSURA 25,4MM | D39: UNID. | E39: 5 | F39: ='Composições'!H24 -> 1490.31 | G39: =ROUND(I39*0.3,2) -> 545.23 | H39: =ROUND(I39*0.7,2) -> 1272.2 | I39: =ROUND(F39*(1+$G$13),2) -> 1817.43 | J39: =ROUND(G39*E39,2) -> 2726.15 | K39: =ROUND(H39*E39,2) -> 6361 | L39: =K39+J39 -> 9087.15 | M39: =L39/$L$78 -> 0.023979956
B41: 6 | C41: POSTES PARA ILUMINAÇÃO SOBRE A PASSARELA | L41: =SUM(L42:L43) -> 6196.98 | M41: =L41/$L$78 -> 0.016353126
A42: 106478 | B42: 6.1 | C42: POSTE TUBO GALVANIZADO COM COSTURA MÉDIA DM 2' 1/2 ESPESSURA 3,65 MM MASSA LINEAR 6,51KG/M. INCLUSO ELEMENTOS DE FIXAÇÃO. | D42: m | E42: =7*3.5 -> 24.5 | F42: 111.28 | G42: =ROUND(I42*0.3,2) -> 40.71 | H42: =ROUND(I42*0.7,2) -> 95 | I42: =ROUND(F42*(1+$G$13),2) -> 135.71 | J42: =ROUND(G42*E42,2) -> 997.4 | K42: =ROUND(H42*E42,2) -> 2327.5 | L42: =K42+J42 -> 3324.9 | M42: =L42/$L$78 -> 0.0087740333
A43: 101657 | B43: 6.2 | C43: LUMINARIA DE LED PARA ILUMINAÇÃO PUBLICA, DE 98W ATÉ 137W, FORNECIMENTO E INSTALAÇÃO, INCLUSIVE FOTO CELULA PARA ACIONAMENTO AUTOMATICO. INSTALAÇÃO ELETRICA COM TOTAL ISOLAMENTO. | D43: UM | E43: 6 | F43: 392.52 | G43: =ROUND(I43*0.3,2) -> 143.6 | H43: =ROUND(I43*0.7,2) -> 335.08 | I43: =ROUND(F43*(1+$G$13),2) -> 478.68 | J43: =ROUND(G43*E43,2) -> 861.6 | K43: =ROUND(H43*E43,2) -> 2010.48 | L43: =K43+J43 -> 2872.08 | M43: =L43/$L$78 -> 0.0075790928
B45: 7 | C45: SUPORTE PARA BANDEIRAS | L45: =SUM(L46) -> 141.13 | M45: =L45/$L$78 -> 0.00037242603
A46: AçoPlan+ 30% (MÃO DE OBRA E PERDA) | B46: 7.1 | C46: TUBO MECÂNICO DM 2' ESPESSURA 3,75 MM MASSA LINEAR 4,56KG/M. INCLUSO ELEMENTOS DE FIXAÇÃO. | D46: m | E46: 0.8 | F46: =ROUND(111.28*1.3,2) -> 144.66 | G46: =ROUND(I46*0.3,2) -> 52.92 | H46: =ROUND(I46*0.7,2) -> 123.49 | I46: =ROUND(F46*(1+$G$13),2) -> 176.41 | J46: =ROUND(G46*E46,2) -> 42.34 | K46: =ROUND(H46*E46,2) -> 98.79 | L46: =K46+J46 -> 141.13 | M46: =L46/$L$78 -> 0.00037242603
B48: 8 | C48: PINTURA | L48: =SUM(L49:L76) -> 52850.6 | M48: =L48/$L$78 -> 0.13946673
A49: 100719 | B49: 8.1 | C49: PINTURA COM TINTA ALQUÍDICA DE FUNDO (TIPO ZARCÃO) PULVERIZADO SOBRE PERFIL METÁLICO EXECUTADO EM FÁBRICA - BANZO INFERIOR CALANDRADO | D49: m² | E49: =ROUND(0.7*83.14,4) -> 58.198 | F49: 12.14 | G49: =ROUND(F49*(1+$G$13)*0.3,2) -> 4.44 | H49: =ROUND(F49*(1+$G$13)*0.7,2) -> 10.36 | I49: =H49+G49 -> 14.8 | J49: =ROUND(G49*E49,2) -> 258.4 | K49: =ROUND(H49*E49,2) -> 602.93 | L49: =K49+J49 -> 861.33 | M49: =L49/$L$78 -> 0.002272952
A50: 100761 | B50: 8.2 | C50: PINTURA COM TINTA ALQUÍDICA DE ACABAMENTO (ESMALTE SINTÉTICO FOSCO)PULVERIZADA SOBRE SUPERFÍCIE METÁLICA, EXECUTADO EM INDUSTRIA COM ARREMATES EM OBRA, 2 DEMÃOS - BANZO INFERIOR CALANDRADO | D50: m² | E50: =E49 -> 58.198 | F50: 52.38 | G50: =ROUND(F50*(1+$G$13)*0.3,2) -> 19.16 | H50: =ROUND(F50*(1+$G$13)*0.7,2) -> 44.71 | I50: =H50+G50 -> 63.87 | J50: =ROUND(G50*E50,2) -> 1115.07 | K50: =ROUND(H50*E50,2)+0.01 -> 2602.04 | L50: =K50+J50 -> 3717.11 | M50: =L50/$L$78 -> 0.0098090309
A51: 100719 | B51: 8.3 | C51: PINTURA COM TINTA ALQUÍDICA DE FUNDO (TIPO ZARCÃO) PULVERIZADO SOBRE PERFIL METÁLICO EXECUTADO EM FÁBRICA - BANZO SUPERIOR CALANDRADO | D51: m² | E51: =ROUND(0.7*83.155,4) -> 58.2085 | F51: 12.14 | G51: =ROUND(F51*(1+$G$13)*0.3,2) -> 4.44 | H51: =ROUND(F51*(1+$G$13)*0.7,2) -> 10.36 | I51: =H51+G51 -> 14.8 | J51: =ROUND(G51*E51,2) -> 258.45 | K51: =ROUND(H51*E51,2) -> 603.04 | L51: =K51+J51 -> 861.49 | M51: =L51/$L$78 -> 0.0022733742
A52: 100761 | B52: 8.4 | C52: PINTURA COM TINTA ALQUÍDICA DEACABAMENTO (ESMALTE SINTÉTICO FOSCO)PULVERIZADA SOBRE SUPERFÍCIE METÁLICA, EXECUTADO EM OBRA, 2 DEMÃOS - BANZO SUPERIOR CALANDRADO | D52: m² | E52: =E51 -> 58.2085 | F52: 52.38 | G52: =ROUND(F52*(1+$G$13)*0.3,2) -> 19.16 | H52: =ROUND(F52*(1+$G$13)*0.7,2) -> 44.71 | I52: =H52+G52 -> 63.87 | J52: =ROUND(G52*E52,2) -> 1115.27 | K52: =ROUND(H52*E52,2)+0.01 -> 2602.51 | L52: =K52+J52 -> 3717.78 | M52: =L52/$L$78 -> 0.009810799
A53: 100719 | B53: 8.5 | C53: PINTURA COM TINTA ALQUÍDICA DE FUNDO (TIPO ZARCÃO) PULVERIZADO SOBRE PERFIL METÁLICO EXECUTADO EM FÁBRICA - BANZOS SUPERIORES E INFERIORES RETOS LATERAIS | D53: m² | E53: =ROUND(0.7*81.182,4) -> 56.8274 | F53: 12.14 | G53: =ROUND(F53*(1+$G$13)*0.3,2) -> 4.44 | H53: =ROUND(F53*(1+$G$13)*0.7,2) -> 10.36 | I53: =H53+G53 -> 14.8 | J53: =ROUND(G53*E53,2) -> 252.31 | K53: =ROUND(H53*E53,2)+0.01 -> 588.74 | L53: =K53+J53 -> 841.05 | M53: =L53/$L$78 -> 0.0022194354
A54: 100761 | B54: 8.6 | C54: PINTURA COM TINTA ALQUÍDICA DEACABAMENTO (ESMALTE SINTÉTICO FOSCO)PULVERIZADA SOBRE SUPERFÍCIE METÁLICA, EXECUTADO EM OBRA, 2 DEMÃOS -BANZOS SUPERIORES E INFERIORES RETOS LATERAIS | D54: m² | E54: =E53 -> 56.8274 | F54: 52.38 | G54: =ROUND(F54*(1+$G$13)*0.3,2) -> 19.16 | H54: =ROUND(F54*(1+$G$13)*0.7,2) -> 44.71 | I54: =H54+G54 -> 63.87 | J54: =ROUND(G54*E54,2) -> 1088.81 | K54: =ROUND(H54*E54,2)+0.01 -> 2540.76 | L54: =K54+J54 -> 3629.57 | M54: =L54/$L$78 -> 0.0095780228
...

Sheet Orcamento Resumo
B7: Estado do Rio Grande do Sul
B8: MUNICÍPIO DE FORQUETINHA
B9: Proprietario: Prefeitura Municipal de Forquetinha - RS
B10: Obra: Pavimentacao Asfaltica Bauereck TRECHO 1
B11: End. Bauereck, Interior, Forquetinha - RS
B12: PLANILHA DE ORCAMENTO RESUMO
C13: DESCRICAO ATIVIDADE | G13: Valor
B14: =[1]Orcamento!B15 -> #ERROR! | C14: =Orcamento!C17 -> TRELICAS METÁLICAS ESTRUTURA DA PONTE | G14: =Orcamento!L17 -> 219712.25
B15: =[1]Orcamento!B22 -> #ERROR! | C15: =Orcamento!C20 -> FABRICAÇÃO E INSTALAÇÃO DE TRELIÇA METÁLICA, COM PERFIL TUBULAR SEM COSTURA METÁLICO, DIMENSÕES 200X150[mm], ESPESSURA 3,75mm, PESO DO PERFIL POR m = 19,965 KG/m - COMPRIMENTO TOTAL 81,182m - BANZOS SUPERIORES E INFERIORES RETOS LATERAIS | G15: =Orcamento!L20 -> 28185.69
B16: =[1]Orcamento!B32 -> #ERROR! | C16: =Orcamento!C37 | G16: =Orcamento!L37
B17: =[1]Orcamento!B47 -> #ERROR! | C17: =Orcamento!C40 | G17: =Orcamento!L40
B18: =[1]Orcamento!B51 -> #ERROR! | C18: =Orcamento!#REF! -> #ERROR! | G18: =Orcamento!#REF! -> #ERROR!
C19: TOTAL | G19: =SUM(G14:G18) -> #ERROR!
B23: Forquetinha-RS, 26 de JUNHO de 2023.
D25: EVERSON SERGIO KERBES
D26: ENGENHEIRO CIVIL
D27: CREA/RS 124.620

Sheet Cronograma
B8: Estado do Rio Grande do Sul
B9: MUNICÍPIO DE SÃO VENDELINO
B10: Proprietario: Prefeitura Municipal de SÃO VENDELINO - RS
B11: Obra: Ponte Metálica para pedestres
B12: End. Rua Cônego Caspary, interligação com o Recanto do Paraíso, Centro, São Vendelino-RS
B13: CRONOGRAMA FÍSICO-FINANCEIRO
B16: ITEM | C16: DESCRIÇÃO | D16: Total Servico | E16: PARCELA 1 | F16: % Acum | G16: PARCELA 2 | H16: % Acum | I16: PARCELA 3 | J16: % Acum | K16: PARCELA 4 | L16: % Acum
B17: 1. | C17: =Orcamento!C17 -> TRELICAS METÁLICAS ESTRUTURA DA PONTE | D17: =Orcamento!L17 -> 219712.25 | E17: =E18*D17 -> 0 | G17: =G18*D17 -> 0 | I17: =I18*D17 -> 219712.25 | K17: =K18*H17 -> 0
D18: =D17/$D$33 -> 0.57979566 | F18: =E18 | H18: =G18+E18 -> 0 | I18: 1 | J18: =I18+G18 -> 1 | L18: =K18+I18 -> 1
B19: 2. | C19: =Orcamento!C29 -> PEGA MÃO METÁLICO - 2 ALTURAS, 70cm E 92cm | D19: =Orcamento!L29 -> 31448.62 | E19: =E20*D19 -> 0 | G19: =G20*D19 -> 0 | I19: =I20*F19 -> 0 | K19: =K20*D19 -> 31448.62
D20: =D19/$D$33 -> 0.082989335 | F20: =E20 | H20: =G20+E20 -> 0 | J20: =I20+G20 -> 0 | K20: 1 | L20: =K20+I20 -> 1
B21: 3. | C21: =Orcamento!C32 -> CHAPA DE PISO - XADREZ | D21: =Orcamento!L32 -> 43500.6 | E21: =E22*D21 -> 0 | G21: =G22*D21 -> 0 | I21: =I22*F21 -> 0 | K21: =K22*D21 -> 43500.6
D22: =D21/$D$33 -> 0.11479314 | F22: =E22 | H22: =G22+E22 -> 0 | J22: =I22+G22 -> 0 | K22: 1 | L22: =K22+I22 -> 1
B23: 4. | C23: =Orcamento!C35 -> CHAPA EXPANDIDA PARA PROTEÇÃO LATERAL | D23: =Orcamento!L35 -> 16010.4 | E23: =E24*D23 -> 0 | G23: =G24*D23 -> 0 | I23: =I24*F23 -> 0 | K23: =K24*D23 -> 16010.4
D24: =D23/$D$33 -> 0.042249626 | F24: =E24 | H24: =G24+E24 -> 0 | J24: =I24+G24 -> 0 | K24: 1 | L24: =K24+I24 -> 1
B25: 5. | C25: =Orcamento!C38 -> CHUMBADOR MECÂNICO PARA INTERLIGAÇÃO DA ESTRUTURA METÁLICA À ESTRUTURA DE CONCRETO ARMADO | D25: =Orcamento!L38 -> 9087.15 | E25: =E26*D25 -> 0 | G25: =G26*D25 -> 9087.15 | I25: =I26*F25 -> 0 | K25: =K26*D25 -> 0
D26: =D25/$D$33 -> 0.023979956 | F26: =E26 | G26: 1 | H26: =G26+E26 -> 1 | L26: =K26+I26 -> 0
B27: 6. | C27: =Orcamento!C41 -> POSTES PARA ILUMINAÇÃO SOBRE A PASSARELA | D27: =Orcamento!L41 -> 6196.98 | E27: =E28*D27 -> 0 | G27: =G28*D27 -> 0 | I27: =I28*F27 -> 0 | K27: =K28*D27 -> 6196.98
D28: =D27/$D$33 -> 0.016353126 | F28: =E28 | H28: =G28+E28 -> 0 | J28: =I28+G28 -> 0 | K28: 1 | L28: =K28+I28 -> 1
B29: 7. | C29: =Orcamento!C45 -> SUPORTE PARA BANDEIRAS | D29: =Orcamento!L45 -> 141.13 | E29: =E30*D29 -> 0 | G29: =G30*D29 -> 0 | I29: =I30*F29 -> 0 | K29: =K30*D29 -> 141.13
D30: =D29/$D$33 -> 0.00037242603 | F30: =E30 | H30: =G30+E30 -> 0 | J30: =I30+G30 -> 0 | K30: 1 | L30: =K30+I30 -> 1
B31: 8. | C31: =Orcamento!C48 -> PINTURA | D31: =Orcamento!L48 -> 52850.6 | E31: =E32*D31 -> 0 | G31: =G32*D31 -> 0 | I31: =I32*D31 -> 42280.48 | K31: =K32*D31 -> 10570.12
D32: =D31/$D$33 -> 0.13946673 | F32: =E32 | H32: =G32+E32 -> 0 | I32: 0.8 | J32: =I32+G32 -> 0.8 | K32: 0.2 | L32: =K32+I32 -> 1
B33: TOTAL | D33: =D17+D19+D21+D23+D25+D27+D29+D31 -> 378947.73 | G33: =G17+G19+G21+G23+G25+G27+G29+G31 -> 9087.15 | I33: =I17+I19+I21+I23+I25+I27+I29+I31 -> 261992.73 | K33: =K17+K19+K21+K23+K25+K27+K29+K31 -> 107867.85
D34: =D18+D20+D22+D24+D26+D28+D30+D32 -> 1 | F34: =E34 | G34: =G33/$D$33 -> 0.023979956 | H34: =G34+F34 -> 0.023979956 | I34: =I33/$D$33 -> 0.69136904 | J34: =I34+H34 -> 0.715349 | K34: =K33/$D$33 -> 0.284651 | L34: =K34+J34 -> 1
B38: Obs. Importante: Tendo em vista que este projeto é composto por uma parte civil (sapatas e pilares em concreto armado), os 2 primeiros mêses da execução deste projeto reportam-se
B39: aos trabalhos de obras civis, sendo que possuem orçamento e cronograma próprio. A única etapa que se soprepõem é a instalação dos chumbadores as quais deverão ser executadas
B40: simultaneamente nomomento da concretagem dos pilares.
C42: São Vendelino-RS, 09 de Junho de 2026.
E46: Lisandro Michels Tunnermann
E47: ENGENHEIRO MECÂNICO
E48: CREA-RS 271474

Sheet Plan1
B1: Calculo de volumes
B2: Cota projeto | C2: cota Terreno | E2: CORTE +
A3: 0 | B3: 59.208 | C3: 59.578 | D3: =(C3-B3)*5 -> 1.85 | E3: =D3*10 -> 18.5
A4: 20 | B4: 59.357 | C4: 59.662 | D4: =(C4-B4)*5 -> 1.525 | E4: =D4*20 -> 30.5
A5: 40
A6: 60
A7: 80
A8: 100
A9: 120
A10: 140
A11: 160
A12: 180
A13: 200
A14: 220
A15: 240
A16: 260
... A35: 640

Sheet Composições
A11: Estado do Rio Grande do Sul
A12: MUNICÍPIO DE SÃO VENDELINO
A14: Composições
A17: CP1 | B17: CHUMBADOR, COMPOSTO POR CHAPA DE AÇO - E=12,7mm - COM HASTES EM AÇO CA-50 - 16,0mm
A18: Item | B18: Referência | D18: Seviços | E18: Und | F18: Quant | G18: Custo R$
G19: Unit. | H19: Total
A20: 1 | B20: SINAPI | C20: 98746 | D20: SOLDA DE TOPO EM CHPA/PERFIL/TUBO DE AÇO | E20: m | F20: =0.06*10+(1.2*2) -> 3 | G20: 94.43 | H20: =ROUND(G20*F20,2) -> 283.29
A21: 2 | B21: SINAPI | C21: 92922 | D21: HASTES 16MM PARA CHUMBAÇÃO EM CONCRETO ARMADO - 10 UNIDADES POR CHAPA, COMPRIMENTO DE CADA 80cm - PREÇO POR KG = R$9,65 - MASSA 1,60KG/m | E21: KG | F21: =0.8*10*1.6 -> 12.8 | G21: 9.65 | H21: =ROUND(G21*F21,2) -> 123.52
A22: 3 | B22: AçoPlan | D22: CHAPA 2,20X0,50 - ESPESSURA 9,50mm - PESO/m² = 76,36KG/m² | E22: KG | F22: =2.2*0.5*76.36 -> 83.996 | G22: =(8.61*1.0325) -> 8.889825 | H22: =ROUND(G22*F22,2) -> 746.71
A23: 4 | B23: AçoPlan | D23: BARRA CHATA SEÇÃO TRANSVERSAL RETANGULAR DE BAIXO TEOR DE CARBONO 0,45X0,15 - 2 LADOS - ESPESSURA 25,4mm - PESO/m/² = 158,9KG/m² - CONTENÇÃO LATERAL | E23: KG | F23: =0.45*0.15*2*158.9 -> 21.4515 | G23: 15.7 | H23: =ROUND(G23*F23,2) -> 336.79
A24: TOTAL DA COMPOSIÇÃO | H24: =H20+H21+H22+H23 -> 1490.31
