Workbook
Name _ftn1: Orcamento!$B$10
Name _ftnref1: Orcamento!#REF!
Name _Toc89844996: Orcamento!#REF!

Sheet Orcamento
B8: Estado do Rio Grande do Sul
B9: MUNICÍPIO DE SÃO VENDELINO
A10: Planilha de Orçamento - Global
C11: Proprietario: Prefeitura Municipal de São Vendelino, CNPJ.: 91.984.492/0001-52 | H11: Extensão:[m] 215,00 | L11: Área a ser pavimentada Calçada:[m²] 426,80
C12: Obra: Drenagem Rua José Fritzen, Rua Emancipação - Calçada de Passeio - Rua Erminio Weirich - Rua Silfredo SeibertRua | G12: B.D.I. | K12: Encargos Sociais sobre preco da M.O
C13: End. Várias Localidades | G13: 0.2195 | K13: Não Desonerado: 112,88% (hora) 69,79%(mês)
C14: Planilha Orçamentária Sintética Com Valor do Material e da Mão de Obra
A15: Cod. SINAPI | B15: Item | C15: Descrição | D15: Und | E15: Quant. | F15: Valor Unit s/ BDI | G15: Valor Unit com BDI | J15: Total | M15: Peso (%)
G16: M. O. | H16: MAT. | I16: Total | J16: M. O. | K16: MAT. | L16: Total
C17: Rua José Fritzen
B18: 1 | C18: SERVIÇOS PRELIMINARES | L18: =SUM(L19:L22) -> 4440.82 | M18: =L18/$L$161 -> 0.0039596776
A19: 90781 | B19: 1.1 | C19: TOPÓGRAFO COM ENCARGOS SOCIAIS | D19: H | E19: 7 | F19: 47.82 | G19: =ROUND((F19*(1+$G$13)*0.3),2) -> 17.49 | H19: =ROUND((F19*(1+$G$13)*0.7),2) -> 40.82 | I19: =H19+G19 -> 58.31 | J19: =ROUND(G19*E19,2) -> 122.43 | K19: =ROUND(H19*E19,2) -> 285.74 | L19: =K19+J19 -> 408.17 | M19: =L19/$L$161 -> 0.00036394666
A20: 88253 | B20: 1.2 | C20: AUXILIAR DE TOPÓGRAFO COM ENCARGOS SOCIAIS | D20: H | E20: 7 | F20: 24.37 | G20: =ROUND((F20*(1+$G$13)*0.3),2) -> 8.92 | H20: =ROUND((F20*(1+$G$13)*0.7),2) -> 20.8 | I20: =H20+G20 -> 29.72 | J20: =ROUND(G20*E20,2) -> 62.44 | K20: =ROUND(H20*E20,2) -> 145.6 | L20: =K20+J20 -> 208.04 | M20: =L20/$L$161 -> 0.00018549982
A21: 103689 | B21: 1.3 | C21: FORNECIMENTO E INSTALAÇÃO DE PLACA DE OBRA COM CHAPA GALVANIZADA E ESTRUTURA DE MADEIRA - PADRÃO GOPVERNO FEDERAL - 300X200 | D21: m² | E21: =2*3 -> 6 | F21: 496.79 | G21: =ROUND((F21*(1+$G$13)*0.3),2) -> 181.75 | H21: =ROUND((F21*(1+$G$13)*0.7),2) -> 424.08 | I21: =H21+G21 -> 605.83 | J21: =ROUND(G21*E21,2) -> 1090.5 | K21: =ROUND(H21*E21,2) -> 2544.48 | L21: =K21+J21 -> 3634.98 | M21: =L21/$L$161 -> 0.0032411466
A22: 98525 | B22: 1.4 | C22: LIMPEZA DO TERRENO. REMOÇÃO MECANIZADA DA CAMADA DE VEGETAÇÃO, REMOÇÃO DE MATERIAL, NIVELAMENTO. 90m X 2,45m | D22: m² | E22: =ROUND(90*2.45,4) -> 220.5 | F22: 0.7 | G22: =ROUND((F22*(1+$G$13)*0.3),2) -> 0.26 | H22: =ROUND((F22*(1+$G$13)*0.7),2) -> 0.6 | I22: =H22+G22 -> 0.86 | J22: =ROUND(G22*E22,2) -> 57.33 | K22: =ROUND(H22*E22,2) -> 132.3 | L22: =K22+J22 -> 189.63 | M22: =L22/$L$161 -> 0.00016908446
B24: 2 | C24: DEMOLIÇÕES DE CALÇADA DE PASSEIO EXISTENTE | L24: =SUM(L25) -> 7675.92 | M24: =L24/$L$161 -> 0.0068442694
A25: 97623 | B25: 2.1 | C25: DEMOLIÇÃO DE CALÇADA DE PASSEIO DE FORMA MANUAL COM REAPROVEITAMENTO DAS PEDRAS DE BASALTO | D25: m³ | E25: =30.36 -> 30.36 | F25: 207.32 | G25: =ROUND((F25*(1+$G$13)*0.3),2) -> 75.85 | H25: =ROUND((F25*(1+$G$13)*0.7),2) -> 176.98 | I25: =H25+G25 -> 252.83 | J25: =ROUND(G25*E25,2) -> 2302.81 | K25: =ROUND(H25*E25,2) -> 5373.11 | L25: =K25+J25 -> 7675.92 | M25: =L25/$L$161 -> 0.0068442694
B27: 3 | C27: MOVIMENTAÇÃO DE TERRA | L27: =SUM(L28:L30) -> 47217.18 | M27: =L27/$L$161 -> 0.042101416
A28: 101245 | B28: 3.1 | C28: ESCAVAÇÃO VERTICAL A CÉU ABERTO EM OBRAS DE INFRAESTRUTURA, INC. CARGA/DESCARGA E TRANSPORTE, EM SOLO DE 1ª CATEGORIA, C/ ESCAVADEIRA HIDRAULICA, DMT 2KM - COMPRIMENTO INTERVENÇÕES - INCLUINDO DEMOLIÇÃO MECÂNICA DAS CAIXAS EXISTENTES | D28: m³ | E28: 897.98 | F28: 18.58 | G28: =ROUND((F28*(1+$G$13)*0.3),2) -> 6.8 | H28: =ROUND((F28*(1+$G$13)*0.7),2) -> 15.86 | I28: =H28+G28 -> 22.66 | J28: =ROUND(G28*E28,2) -> 6106.26 | K28: =ROUND(H28*E28,2)+0.01 -> 14241.97 | L28: =K28+J28 -> 20348.23 | M28: =L28/$L$161 -> 0.018143593
A29: 100574 | B29: 3.2 | C29: ESPALHAMENTO DE MATERIAL COM TRATOR ESTEIRA (30% Empolamento) | D29: m³ | E29: =ROUND((E28)*1.3,4) -> 1167.374 | F29: 1.48 | G29: =ROUND((F29*(1+$G$13)*0.3),2) -> 0.54 | H29: =ROUND((F29*(1+$G$13)*0.7),2) -> 1.26 | I29: =H29+G29 -> 1.8 | J29: =ROUND(G29*E29,2) -> 630.38 | K29: =ROUND(H29*E29,2) -> 1470.89 | L29: =K29+J29 -> 2101.27 | M29: =L29/$L$161 -> 0.0018736071
A30: 93382 | B30: 3.3 | C30: REATERRO MANUAL DE VALA, COM COMPACTADOR DE SOLO DE PERCUSSÃO | D30: m³ | E30: 655.75 | F30: 30.97 | G30: =ROUND((F30*(1+$G$13)*0.3),2) -> 11.33 | H30: =ROUND((F30*(1+$G$13)*0.7),2) -> 26.44 | I30: =H30+G30 -> 37.77 | J30: =ROUND(G30*E30,2) -> 7429.65 | K30: =ROUND(H30*E30,2) -> 17338.03 | L30: =K30+J30 -> 24767.68 | M30: =L30/$L$161 -> 0.022084216
B32: 4 | C32: DRENAGEM DE ÁGUAS PLUVIAIS E ENTRADAS MORADORES | L32: =SUM(L33:L38) -> 212073.18 | M32: =L32/$L$161 -> 0.18909603
A33: 1600404 - SICRO | B33: 4.1 | C33: REMOÇÃO DE TUBOS DE CONCRETO COM DIÂMETRO DE 0,40m A 1,0m | D33: UNID | E33: 175 | F33: 11.72 | G33: =ROUND((F33*(1+$G$13)*0.3),2) -> 4.29 | H33: =ROUND((F33*(1+$G$13)*0.7),2) -> 10 | I33: =H33+G33 -> 14.29 | J33: =ROUND(G33*E33,2) -> 750.75 | K33: =ROUND(H33*E33,2) -> 1750 | L33: =K33+J33 -> 2500.75 | M33: =L33/$L$161 -> 0.0022298052
A34: 2003830 - SICRO | B34: 4.2 | C34: TUBO DE CONCRETO PA1, DN 1.000mm, FORNECIMENTO E INSTALAÇÃO | D34: UNID | E34: 215 | F34: 649.12 | G34: =ROUND((F34*(1+$G$13)*0.3),2) -> 237.48 | H34: =ROUND((F34*(1+$G$13)*0.7),2) -> 554.12 | I34: =H34+G34 -> 791.6 | J34: =ROUND(G34*E34,2) -> 51058.2 | K34: =ROUND(H34*E34,2) -> 119135.8 | L34: =K34+J34 -> 170194 | M34: =L34/$L$161 -> 0.15175426
A35: COMP 4 | B35: 4.3 | C35: CAIXA 120X120X120 - , ESPESSURA DA PAREDE 0,25m, ALVENARIA DE EMBASAMENTO COM BLOCOS ESTRUTURAIS DE CONCRETO MACIÇOS, ASSENTADO COM ARGAMASSA PROEPARO EM BETONEIRA - R$ 1.131,68/m³ | D35: unid. | E35: 7 | F35: 1717.75 | G35: =ROUND((F35*(1+$G$13)*0.3),2) -> 628.44 | H35: =ROUND((F35*(1+$G$13)*0.7),2) -> 1466.36 | I35: =H35+G35 -> 2094.8 | J35: =ROUND(G35*E35,2) -> 4399.08 | K35: =ROUND(H35*E35,2) -> 10264.52 | L35: =K35+J35 -> 14663.6 | M35: =L35/$L$161 -> 0.013074866
A36: 97953 | B36: 4.4 | C36: CAIXA BOC DE LOBO COM GRELHA RETANGULAR, EM ALVENARIA COM BLOCOS DE CONCRETO, DIMENSÕES INTERNAS 0,7m X0,40m | D36: unid. | E36: 8 | F36: 1673.09 | G36: =ROUND((F36*(1+$G$13)*0.3),2) -> 612.1 | H36: =ROUND((F36*(1+$G$13)*0.7),2) -> 1428.23 | I36: =H36+G36 -> 2040.33 | J36: =ROUND(G36*E36,2) -> 4896.8 | K36: =ROUND(H36*E36,2) -> 11425.84 | L36: =K36+J36 -> 16322.64 | M36: =L36/$L$161 -> 0.014554157
A37: COMP 3 | B37: 4.5 | C37: TAMPÃO DE CONCRETO ARMADO PARA CAIXA, 160X160X10 | D37: unid. | E37: 7 | F37: 674.61 | G37: =ROUND((F37*(1+$G$13)*0.3),2) -> 246.81 | H37: =ROUND((F37*(1+$G$13)*0.7),2) -> 575.88 | I37: =H37+G37 -> 822.69 | J37: =ROUND(G37*E37,2) -> 1727.67 | K37: =ROUND(H37*E37,2) -> 4031.16 | L37: =K37+J37 -> 5758.83 | M37: =L37/$L$161 -> 0.0051348873
A38: 92851 | B38: 4.6 | C38: TUBO DE CONCRETO SIMPLES - PA1 - PARA REDES COLETORAS DE ESGOTO PLUVIAL, DN 400mm, JUNTA ELÁSTICA, INSTALADO EM LOCAL COM BAIXO NÍVEL DE INTERFERÊNCIA - FORNECIMENTO E ASSENTAMENTO, PARA LIGAÇÃO DA BOCA DE LOBA A CAIXA | D38: m | E38: 8 | F38: 269.92 | G38: =ROUND((F38*(1+$G$13)*0.3),2) -> 98.75 | H38: =ROUND((F38*(1+$G$13)*0.7),2) -> 230.42 | I38: =H38+G38 -> 329.17 | J38: =ROUND(G38*E38,2) -> 790 | K38: =ROUND(H38*E38,2) -> 1843.36 | L38: =K38+J38 -> 2633.36 | M38: =L38/$L$161 -> 0.0023480476
B40: 5 | C40: CALÇADA DE PASSEIO | L40: =SUM(L41:L51) -> 70839.97 | M40: =L40/$L$161 -> 0.063164785
A41: 100576 | B41: 5.1 | C41: REGULARIZAÇÃO E COMPACTAÇÃO DE SUBLEITO - Caixa carroçavel + Calçada | D41: m² | E41: =ROUND(426.8*0.5,4) -> 213.4 | F41: 3.03 | G41: =ROUND((F41*(1+$G$13)*0.3),2) -> 1.11 | H41: =ROUND((F41*(1+$G$13)*0.7),2) -> 2.59 | I41: =H41+G41 -> 3.7 | J41: =ROUND(G41*E41,2) -> 236.87 | K41: =ROUND(H41*E41,2) -> 552.71 | L41: =K41+J41 -> 789.58 | M41: =L41/$L$161 -> 0.00070403264
A42: 96399 | B42: 5.2 | C42: BASE DE BRITA GRADUADA, EXECUÇÃO E COMPACTAÇÃO DE BASE OU SUB BASE PARA PAVIMENTAÇÃO, ENCHIMENTO DE BRITA E CAMADA DE BLOQUEIO - E=15cm | D42: m³ | E42: =ROUND(426.8*0.15,4) -> 64.02 | F42: 123.04 | G42: =ROUND((F42*(1+$G$13)*0.3),2) -> 45.01 | H42: =ROUND((F42*(1+$G$13)*0.7),2) -> 105.03 | I42: =H42+G42 -> 150.04 | J42: =ROUND(G42*E42,2) -> 2881.54 | K42: =ROUND(H42*E42,2) -> 6724.02 | L42: =K42+J42 -> 9605.56 | M42: =L42/$L$161 -> 0.0085648418
A43: 95876 | B43: 5.3 | C43: TRASPORTE COM CAMINHãO BASCULANTE DE 14m³, EM VIA URBANA PAVIMENTADA, DTM 26KM (pedreira mais próxima) - Valor do custo do trasporte de 1KM * DMT - Empolamento 30% - DMT 26KM, Pedreira mais próxima | D43: m³ * 26KM | E43: =ROUND(E42*1.3*26,2) -> 2163.88 | F43: =2.47 -> 2.47 | G43: =ROUND((F43*(1+$G$13)*0.3),2) -> 0.9 | H43: =ROUND((F43*(1+$G$13)*0.7),2) -> 2.11 | I43: =H43+G43 -> 3.01 | J43: =ROUND(G43*E43,2) -> 1947.49 | K43: =ROUND(H43*E43,2) -> 4565.79 | L43: =K43+J43 -> 6513.28 | M43: =L43/$L$161 -> 0.0058075961
A44: 96396 | B44: 5.4 | C44: BASE DE BRITA GRADUADA, INCLISIVE COMPACTAÇÃO, E=5cm, EXCLUSIVE TRANSPORTE - Calçada TOTALMENTE NOVA | D44: m³ | E44: =51*0.05 -> 2.55 | F44: 180.32 | G44: =ROUND((F44*(1+$G$13)*0.3),2) -> 65.97 | H44: =ROUND((F44*(1+$G$13)*0.7),2) -> 153.93 | I44: =H44+G44 -> 219.9 | J44: =ROUND(G44*E44,2) -> 168.22 | K44: =ROUND(H44*E44,2)+0.01 -> 392.53 | L44: =K44+J44 -> 560.75 | M44: =L44/$L$161 -> 0.00049999532
A45: 95876 | B45: 5.5 | C45: TRASPORTE COM CAMINHãO BASCULANTE DE 14m³, EM VIA URBANA PAVIMENTADA, DTM 26KM (pedreira mais próxima) - Valor do custo do trasporte de 1KM * DMT - Empolamento 30% - DMT 26KM, Pedreira mais próxima | D45: m³ * 26KM | E45: =ROUND(E44*1.3*26,2) -> 86.19 | F45: =2.47 -> 2.47 | G45: =ROUND((F45*(1+$G$13)*0.3),2) -> 0.9 | H45: =ROUND((F45*(1+$G$13)*0.7),2) -> 2.11 | I45: =H45+G45 -> 3.01 | J45: =ROUND(G45*E45,2) -> 77.57 | K45: =ROUND(H45*E45,2) -> 181.86 | L45: =K45+J45 -> 259.43 | M45: =L45/$L$161 -> 0.00023132195
A46: 94273 | B46: 5.6 | C46: ASSENTAMENTO DE GUIA (MEIO-FIO), EM TRECHO RETO, CONFECCIONADO COM CONCRETO PRÉ FABRICADO, DIMENSÕES 100X15/13X30cm (Comprimento * Largura inferior / Largura Superior * altura) | D46: m | E46: 51 | F46: 53.35 | G46: =ROUND((F46*(1+$G$13)*0.3),2) -> 19.52 | H46: =ROUND((F46*(1+$G$13)*0.7),2) -> 45.54 | I46: =H46+G46 -> 65.06 | J46: =ROUND(G46*E46,2) -> 995.52 | K46: =ROUND(H46*E46,2) -> 2322.54 | L46: =K46+J46 -> 3318.06 | M46: =L46/$L$161 -> 0.0029585635
A47: 101855 | B47: 5.7 | C47: REASSENTAMENTO DE PEDRAS POLIÉDRIACAS REJUNTAMENTO COM ARGAMASSA, COM REAPROVEITAMENTO DAS PEDRAS POLIEDRICAS | D47: m² | E47: 303.8 | F47: 90.3 | G47: =ROUND((F47*(1+$G$13)*0.3),2) -> 33.04 | H47: =ROUND((F47*(1+$G$13)*0.7),2) -> 77.08 | I47: =H47+G47 -> 110.12 | J47: =ROUND(G47*E47,2) -> 10037.55 | K47: =ROUND(H47*E47,2)+0.01 -> 23416.91 | L47: =K47+J47 -> 33454.46 | M47: =L47/$L$161 -> 0.029829823
A48: 104626 | B48: 5.8 | C48: EXECUÇÃO DE PASSEIO (CALÇADA) OU PISO DE CONCRETO MOLDADO IN LOCO, CONCRETO USINADO C25, ACABAMENTO REGOADO, LISO, COM CAIMENTO PARA A RUA, 5cm DE ESPESSURA, CORTADO (JUNTAS DE DILATAÇÃO) A CADA 4m. | D48: m³ | E48: =ROUND((51+11)*0.05,2) -> 3.1 | F48: 920.2 | G48: =ROUND((F48*(1+$G$13)*0.3),2) -> 336.66 | H48: =ROUND((F48*(1+$G$13)*0.7),2) -> 785.53 | I48: =H48+G48 -> 1122.19 | J48: =ROUND(G48*E48,2) -> 1043.65 | K48: =ROUND(H48*E48,2) -> 2435.14 | L48: =K48+J48 -> 3478.79 | M48: =L48/$L$161 -> 0.0031018791
A49: 104658 | B49: 5.9 | C49: PISO PODOTÁTIL DIRECIONAL, DE CONCRETO, COR AMARELO, ASSENTADO SOBRE ARGAMASSA, EM CONFORMIDADE COM ABNT NBR 16537/2025 | D49: m² | E49: =ROUND((214+11-39)*0.25,2) -> 46.5 | F49: 155.61 | G49: =ROUND((F49*(1+$G$13)*0.3),2) -> 56.93 | H49: =ROUND((F49*(1+$G$13)*0.7),2) -> 132.84 | I49: =H49+G49 -> 189.77 | J49: =ROUND(G49*E49,2) -> 2647.25 | K49: =ROUND(H49*E49,2) -> 6177.06 | L49: =K49+J49 -> 8824.31 | M49: =L49/$L$161 -> 0.0078682366
A50: 104658 | B50: 5.10 | C50: PISO PODOTÁTIL ALERTA, DE CONCRETO, COR AMARELO, ASSENTADO SOBRE ARGAMASSA, EM CONFORMIDADE COM ABNT NBR 16537/2025 | D50: m² | E50: =24*0.25 -> 6 | F50: 155.61 | G50: =ROUND((F50*(1+$G$13)*0.3),2) -> 56.93 | H50: =ROUND((F50*(1+$G$13)*0.7),2) -> 132.84 | I50: =H50+G50 -> 189.77 | J50: =ROUND(G50*E50,2) -> 341.58 | K50: =ROUND(H50*E50,2) -> 797.04 | L50: =K50+J50 -> 1138.62 | M50: =L50/$L$161 -> 0.0010152558
A51: 105002 | B51: 5.11 | C51: RAMPA DE ACESSIBILIDADE EM CONCRETO MOLDADO IN LOCO, EM CALÇADA, FCK=25MPA, INCLUÍDO PISO PODOTÁTIL DE ALERTA, CONFORME ABNT NBR 16537/2025 | D51: UNIDADE | E51: 3 | F51: 791.89 | G51: =ROUND((F51*(1+$G$13)*0.3),2) -> 289.71 | H51: =ROUND((F51*(1+$G$13)*0.7),2) -> 676 | I51: =H51+G51 -> 965.71 | J51: =ROUND(G51*E51,2) -> 869.13 | K51: =ROUND(H51*E51,2) -> 2028 | L51: =K51+J51 -> 2897.13 | M51: =L51/$L$161 -> 0.0025832393
...

Sheet Orcamento Resumo
B7: Estado do Rio Grande do Sul
B8: MUNICÍPIO DE SÃO VENDELINO
B9: Proprietario: Prefeitura Municipal de São Vendelino - RS
B12: PLANILHA DE ORCAMENTO RESUMO
C13: DESCRICAO ATIVIDADE | G13: Valor
B14: =[1]Orcamento!B15 -> 1 | C14: =Orcamento!C18 -> SERVIÇOS PRELIMINARES | G14: =Orcamento!L18 -> 4440.82
B15: =[1]Orcamento!B22 -> 2 | C15: =Orcamento!C27 -> MOVIMENTAÇÃO DE TERRA | G15: =Orcamento!L27 -> 47217.18
B16: =[1]Orcamento!B32 -> 3 | C16: =Orcamento!C40 -> CALÇADA DE PASSEIO | G16: =Orcamento!L40 -> 70839.97
B17: =[1]Orcamento!B47 -> 4 | C17: =Orcamento!#REF! -> #REF! | G17: =Orcamento!#REF! -> #REF!
B18: =[1]Orcamento!B51 -> 5 | C18: =Orcamento!#REF! -> #REF! | G18: =Orcamento!#REF! -> #REF!
C19: TOTAL | G19: =SUM(G14:G18) -> #REF!
B23: Forquetinha-RS, 26 de maio de 2025.
D25: EVERSON SERGIO KERBES
D26: ENGENHEIRO CIVIL
D27: CREA/RS 124.620

Sheet Cronograma
B13: Estado do Rio Grande do Sul
B14: MUNICÍPIO DE SÃO VENDELINO
B15: Proprietario: Prefeitura Municipal de SÃO VENDELINO - RS
B16: Obra: Drenagem Rua José Fritzen e Rua Emancipação - Calçada de Passeio; Rua Silfredo Seibert; Rua Ermindo Weirich.
B18: CRONOGRAMA FÍSICO-FINANCEIRO
B21: ITEM | C21: DESCRIÇÃO | D21: Total Servico | E21: PARCELA 1 | F21: % Acum | G21: PARCELA 2 | H21: % Acum | I21: PARCELA 3 | J21: % Acum
B22: Rua José Fritzen e Emancipação | D22: =D23+D25+D27+D29+D31+D33+D35+D37 -> 488264.76
B23: 1. | C23: =Orcamento!C18 -> SERVIÇOS PRELIMINARES | D23: =Orcamento!L18 -> 4440.82 | E23: =E24*D23 -> 4440.82 | G23: =G24*D23 -> 0 | I23: =I24*D23 -> 0
E24: 1 | F24: =E24 -> 1 | H24: =G24+E24 -> 1 | J24: =I24+H24 -> 1
B25: 2. | C25: =Orcamento!C24 -> DEMOLIÇÕES DE CALÇADA DE PASSEIO EXISTENTE | D25: =Orcamento!L24 -> 7675.92 | E25: =E26*D25 -> 3070.368 | G25: =G26*D25 -> 4605.552 | I25: =I26*D25 -> 0
E26: 0.4 | F26: =E26 -> 0.4 | G26: 0.6 | H26: =G26+E26 -> 1 | J26: =I26+H26 -> 1
B27: 3. | C27: =Orcamento!C27 -> MOVIMENTAÇÃO DE TERRA | D27: =Orcamento!L27 -> 47217.18 | E27: =E28*D27 -> 28330.308 | G27: =G28*D27 -> 18886.872 | I27: =I28*D27 -> 0
E28: 0.6 | F28: =E28 -> 0.6 | G28: 0.4 | H28: =G28+E28 -> 1 | J28: =I28+H28 -> 1
B29: 4. | C29: =Orcamento!C32 -> DRENAGEM DE ÁGUAS PLUVIAIS E ENTRADAS MORADORES | D29: =Orcamento!L32 -> 212073.18 | E29: =E30*D29 -> 0 | G29: =G30*D29 -> 127243.91 | I29: =I30*D29 -> 84829.272
E30: 0 | F30: =E30 -> 0 | G30: 0.6 | H30: =G30+E30 -> 0.6 | I30: 0.4 | J30: =I30+H30 -> 1
B31: 5. | C31: =Orcamento!C40 -> CALÇADA DE PASSEIO | D31: =Orcamento!L40 -> 70839.97 | E31: =E32*D31 -> 0 | G31: =G32*D31 -> 42503.982 | I31: =I32*D31 -> 28335.988
F32: =E32 -> 0 | G32: 0.6 | H32: =G32+E32 -> 0.6 | I32: 0.4 | J32: =I32+H32 -> 1
B33: 6. | C33: =Orcamento!C53 -> INTERVENÇÕES NA CAIXA CARROÇÁVEL COM CBUQ | D33: =Orcamento!L53 -> 36879.21 | E33: =E34*D33 -> 0 | G33: =G34*D33 -> 14751.684 | I33: =I34*D33 -> 22127.526
F34: =E34 -> 0 | G34: 0.4 | H34: =G34+E34 -> 0.4 | I34: 0.6 | J34: =I34+H34 -> 1
B35: 7. | C35: =Orcamento!C68 -> DESLOCAMENTO DE REDE DE ENERGIA ELÉTRICA | D35: =Orcamento!L68 -> 108000 | E35: =E36*D35 -> 0 | G35: =G36*D35 -> 64800 | I35: =I36*D35 -> 43200
F36: =E36 -> 0 | G36: 0.6 | H36: =G36+E36 -> 0.6 | I36: 0.4 | J36: =I36+H36 -> 1
B37: 8. | C37: =Orcamento!C71 -> SERVIÇOS FINAIS | D37: =Orcamento!L71 -> 1138.48 | E37: =E38*D37 -> 0 | G37: =G38*D37 -> 455.392 | I37: =I38*D37 -> 683.088
F38: =E38 -> 0 | G38: 0.4 | H38: =G38+E38 -> 0.4 | I38: 0.6 | J38: =I38+H38 -> 1 | K38: =D23+D25+D27+D29+D31+D33+D35+D37 -> 488264.76
B39: Rua Silfredo Seibert - Linha Neis | D39: =D40+D42+D44+D46+D48 -> 227742.21
B40: 9. | C40: =Orcamento!C77 -> SERVIÇOS PRELIMINARES | D40: =Orcamento!L77 -> 4251.19 | E40: =E41*D40 -> 4251.19 | G40: =G41*D40 -> 0 | I40: =I41*D40 -> 0
E41: 1 | F41: =E41 -> 1 | H41: =G41+E41 -> 1 | J41: =I41+H41 -> 1
B42: 10. | C42: =Orcamento!C82 -> MOVIMENTAÇÃO DE TERRA | D42: =Orcamento!L82 -> 13325.16 | E42: =E43*D42 -> 3997.548 | G42: =G43*D42 -> 9327.612 | I42: =I43*D42 -> 0
E43: 0.3 | F43: =E43 -> 0.3 | G43: 0.7 | H43: =G43+E43 -> 1 | J43: =I43+H43 -> 1
B44: 11. | C44: =Orcamento!C90 -> DRENAGEM DE ÁGUAS PLUVIAIS E ENTRADAS MORADORES | D44: =Orcamento!L90 -> 179069.5 | E44: =E45*D44 -> 35813.9 | G44: =G45*D44 -> 107441.7 | I44: =I45*D44 -> 35813.9
E45: 0.2 | F45: =E45 -> 0.2 | G45: 0.6 | H45: =G45+E45 -> 0.8 | I45: 0.2 | J45: =I45+H45 -> 1
B46: 12. | C46: =Orcamento!C95 -> INTERVENÇÕES NA CAIXA CARROÇÁVEL COM CBUQ | D46: =Orcamento!L95 -> 30575 | E46: =E47*D46 -> 0 | G46: =G47*D46 -> 12230 | I46: =I47*D46 -> 18345
F47: =E47 -> 0 | G47: 0.4 | H47: =G47+E47 -> 0.4 | I47: 0.6 | J47: =I47+H47 -> 1
B48: 13. | C48: =Orcamento!C108 -> SERVIÇOS FINAIS | D48: =Orcamento!L108 -> 521.36 | E48: =E49*D48 -> 0 | G48: =G49*D48 -> 312.816 | I48: =I49*D48 -> 208.544
F49: =E49 -> 0 | G49: 0.6 | H49: =G49+E49 -> 0.6 | I49: 0.4 | J49: =I49+H49 -> 1 | K49: =D40+D42+D44+D46+D48 -> 227742.21
B50: Rua Ermindo Weirich | D50: =D51+D53+D55+D57++D59+D61 -> 405503.53
B51: 14. | C51: =Orcamento!C114 -> SERVIÇOS PRELIMINARES | D51: =Orcamento!L114 -> 4777.94 | E51: =E52*D51 -> 4777.94 | G51: =G52*D51 -> 0 | I51: =I52*D51 -> 0
E52: 1 | F52: =E52 -> 1 | H52: =G52+E52 -> 1 | J52: =I52+H52 -> 1
B53: 15. | C53: =Orcamento!C120 -> MOVIMENTAÇÃO DE TERRA | D53: =Orcamento!L120 -> 53695.42 | E53: =E54*D53 -> 16108.626 | G53: =G54*D53 -> 32217.252 | I53: =I54*D53 -> 5369.542
E54: 0.3 | F54: =E54 -> 0.3 | G54: 0.6 | H54: =G54+E54 -> 0.9 | I54: 0.1 | J54: =I54+H54 -> 1
B55: 16. | C55: =Orcamento!C125 -> DRENAGEM DE ÁGUAS PLUVIAIS E ENTRADAS MORADORES | D55: =Orcamento!L125 -> 236237.92 | E55: =E56*D55 -> 47247.584 | G55: =G56*D55 -> 141742.75 | I55: =I56*D55 -> 47247.584
...

Sheet Composições
A11: Estado do Rio Grande do Sul
A12: MUNICÍPIO DE SÃO VENDELINO
A14: Composições
A17: CP1 | B17: EXECUÇÃO DE IMPRIMAÇÃO COM MATERIAL ASFÁLTICO
A18: Item | B18: Referência | D18: Seviços | E18: Und | F18: Quant | G18: Custo R$
G19: Unit. | H19: Total | J19: SINAPI 09/2023
A20: 1 | B20: SINAPI | C20: 5839 | D20: VASSOURA MECÂNICA REBOCÁVEL COM ESCOVA CILÍNDRICA, LARGURA ÚTIL DE VARRIMENTO DE 2,44 M (PRODUTIVO) | E20: h | F20: 0.002 | G20: 12.18 | H20: =ROUND(G20*F20,2) -> 0.02 | J20: ANP 08/2023
A21: 2 | B21: SINAPI | C21: 5841 | D21: VASSOURA MECÂNICA REBOCÁVEL COM ESCOVA CILÍNDRICA, LARGURA ÚTIL DE VARRIMENTO DE 2,44 M (IMPRODUTIVO) | E21: h | F21: 0.004 | G21: 6.12 | H21: =ROUND(G21*F21,2) -> 0.02 | I21: ANP - Jul/26 | J21: ICMS | K21: PIS | L21: COFINS | M21: TOTAL
A22: 3 | B22: ANP | C22: 41901 | D22: ASFALTO DILUIDO DE PETROLEO CM-30 (ACRESCIDO DE ICMS, PIS E COFINS) | E22: kg | F22: 1.2 | G22: =ROUND(I22*(1+M22),2) -> 8.98 | H22: =ROUND(G22*F22,2) -> 10.78 | I22: 6.95062 | J22: 0.2 | K22: 0.0165 | L22: 0.076 | M22: =L22+K22+J22 -> 0.2925
A23: 4 | B23: SINAPI | C23: 83362 | D23: ESPARGIDOR DE ASFALTO PRESSURIZADO, TANQUE 6 M3 COM ISOLAÇÃO TÉRMICA, AQUECIDO COM 2 MAÇARICOS, COM BARRA ESPARGIDORA 3,60 M, MONTADO SOBRE CAMINHÃO TOCO, PBT 14.300 KG, POTÊNCIA 185 CV (PRODUTIVO) | E23: h | F23: 0.001 | G23: 290.05 | H23: =ROUND(G23*F23,2) -> 0.29 | J23: 18% ICMS + 2% Fundo de Erradicação da Pobreza
A24: 5 | B24: SINAPI | C24: 88316 | D24: SERVENTE COM ENCARGOS COMPLEMENTARES | E24: h | F24: 0.0058 | G24: 25.81 | H24: =ROUND(G24*F24,2) -> 0.15 | J24: Nota nº 05/2021 nº 01 do SINAPI
A25: 6 | B25: SINAPI | C25: 89035 | D25: TRATOR DE PNEUS, POTÊNCIA 85 CV, TRAÇÃO 4X4, PESO COM LASTRO DE 4.675 KG (PRODUTIVO) | E25: h | F25: 0.0017 | G25: 141.06 | H25: =ROUND(G25*F25,2) -> 0.24
A26: 7 | B26: SINAPI | C26: 89036 | D26: TRATOR DE PNEUS, POTÊNCIA 85 CV, TRAÇÃO 4X4, PESO COM LASTRO DE 4.675 KG | E26: h | F26: 0.0041 | G26: 53.29 | H26: =ROUND(G26*F26,2) -> 0.22
A27: 8 | B27: SINAPI | C27: 91486 | D27: ESPARGIDOR DE ASFALTO PRESSURIZADO, TANQUE 6 M3 COM ISOLAÇÃO TÉRMICA, AQUECIDO COM 2 MAÇARICOS, COM BARRA ESPARGIDORA 3,60 M, MONTADO SOBRE CAMINHÃO TOCO, PBT 14.300 KG, POTÊNCIA 185 CV (IMPRODUTIVO) | E27: h | F27: 0.0049 | G27: 73.77 | H27: =ROUND(G27*F27,2) -> 0.36
A28: TOTAL DA COMPOSIÇÃO | H28: =SUM(H20:H27) -> 12.08
A30: CP2 | B30: EXECUÇÃO DE PINTURA DE LIGAÇÃO
A31: Item | B31: Referência | D31: Seviços | E31: Und | F31: Quant | G31: Custo R$
G32: Unit. | H32: Total
A33: 1 | B33: SINAPI | C33: 5839 | D33: VASSOURA MECÂNICA REBOCÁVEL COM ESCOVA CILÍNDRICA, LARGURA ÚTIL DE VARRIMENTO DE 2,44 M (PRODUTIVO) | E33: CHP | F33: 0.002 | G33: 12.18 | H33: =ROUND(G33*F33,2) -> 0.02
A34: 2 | B34: SINAPI | C34: 5841 | D34: VASSOURA MECÂNICA REBOCÁVEL COM ESCOVA CILÍNDRICA, LARGURA ÚTIL DE VARRIMENTO DE 2,44 M (IMPRODUTIVO) | E34: CHI | F34: 0.004 | G34: 6.12 | H34: =ROUND(G34*F34,2) -> 0.02 | I34: ANP - Jul/26 | J34: ICMS | K34: PIS | L34: COFINS | M34: TOTAL
A35: 3 | B35: ANP | C35: 41903 | D35: EMULSAO ASFALTICA CATIONICA RR-2C PARA USO EM PAVIMENTACAO ASFALTICA (COLETADO CAIXA NA ANP ACRESCIDO DE ICMS) | E35: kg | F35: 0.45 | G35: =ROUND(I35*(1+M35),2) -> 4.45 | H35: =ROUND(G35*F35,2) -> 2 | I35: 3.44528 | J35: 0.2 | K35: 0.0165 | L35: 0.076 | M35: =L35+K35+J35 -> 0.2925
A36: 4 | B36: SINAPI | C36: 83362 | D36: ESPARGIDOR DE ASFALTO PRESSURIZADO, TANQUE 6 M3 COM ISOLAÇÃO TÉRMICA, AQUECIDO COM 2 MAÇARICOS, COM BARRA ESPARGIDORA 3,60 M, MONTADO SOBRE CAMINHÃO TOCO, PBT 14.300 KG, POTÊNCIA 185 CV | E36: CHP | F36: 0.0004 | G36: 290.05 | H36: =ROUND(G36*F36,2) -> 0.12 | J36: 18% ICMS + 2% Fundo de Erradicação da Pobreza
A37: 5 | B37: SINAPI | C37: 88316 | D37: SERVENTE COM ENCARGOS COMPLEMENTARES | E37: h | F37: 0.0055 | G37: 25.81 | H37: =ROUND(G37*F37,2) -> 0.14 | J37: Nota nº 05/2021 nº 01 do SINAPI
A38: 6 | B38: SINAPI | C38: 89035 | D38: TRATOR DE PNEUS, POTÊNCIA 85 CV, TRAÇÃO 4X4, PESO COM LASTRO DE 4.675 KG | E38: CHP | F38: 0.0017 | G38: 141.06 | H38: =ROUND(G38*F38,2) -> 0.24
A39: 7 | B39: SINAPI | C39: 89036 | D39: TRATOR DE PNEUS, POTÊNCIA 85 CV, TRAÇÃO 4X4, PESO COM LASTRO DE 4.675 KG | E39: CHI | F39: 0.0038 | G39: 53.29 | H39: =ROUND(G39*F39,2) -> 0.2
A40: 8 | B40: SINAPI | C40: 91486 | D40: ESPARGIDOR DE ASFALTO PRESSURIZADO, TANQUE 6 M3 COM ISOLAÇÃO TÉRMICA, AQUECIDO COM 2 MAÇARICOS, COM BARRA ESPARGIDORA 3,60 M, MONTADO SOBRE CAMINHÃO TOCO, PBT 14.300 KG, POTÊNCIA 185 CV | E40: CHI | F40: 0.0051 | G40: 73.77 | H40: =ROUND(G40*F40,2) -> 0.38
A41: TOTAL DA COMPOSIÇÃO | H41: =SUM(H33:H40) -> 3.12
A43: CP3 | B43: TAMPA DE CONCRETO PARA POÇO DE VISITA - 1,6x1,6x0,10
A44: Item | B44: Referência | D44: Seviços | E44: Und | F44: Quant | G44: Custo R$
G45: Unit. | H45: Total
A46: 1 | B46: SINAPI | C46: 97096 | D46: CONCRETAGEM DE RADIER, PISO DE CONCRETO OU LAJE SOBRE SOLO, FCK 30MPA, LANÇAMENTO, ADENSAMENTO E ACABAMENTO | E46: m³ | F46: =1.6*1.6*0.1 -> 0.256 | G46: 828.03 | H46: =G46*F46 -> 211.97568
A47: 2 | B47: SINAPI | C47: 92767 | D47: ARMAÇÃO DE LAJE DE STRUTURA CONVENCIONAL, CONCRETO ARMADO UTILIZANDO AÇO CA-60 DE 4,2mm - MALHA DUPLA, 10x10 - 57,6m DE FERRO 4,2mm | E47: KG | F47: =57.6*0.109 -> 6.2784 | G47: 15.15 | H47: =G47*F47 -> 95.11776
A48: 3 | B48: SINAPI | C48: 97086 | D48: FABRICAÇÃO, MONTAGEM E DESMONTAGEM DE FORMA PARA RADIER, PISO DE CONCRETO OU LAJE SOBRE SOLO, EM MADEIRA SERRADA - 4 UTILIZAÇÕES | E48: m² | F48: =(1.6*1.6)+(1.6*4*0.1) -> 3.2 | G48: 114.85 | H48: =G48*F48 -> 367.52
A49: TOTAL DA COMPOSIÇÃO | H49: =H46+H47+H48 -> 674.61344
A51: CP4 | B51: ALVENARIAS PARA POÇO DE VISITA - 1,25x1,25x0,19
A52: Item | B52: Referência | D52: Seviços | E52: Und | F52: Quant | G52: Custo R$
G53: Unit. | H53: Total
A54: 1 | B54: SINAPI | C54: 101165 | D54: ALVENARIA DE EMBASAMENTO COM BLOCOS ESTRUTURAIS DE CONCRETO, OU PEDRA GRÊS DE 14X19X29 | E54: m³ | F54: =(1.2*1.2)*4*0.25 -> 1.44 | G54: 1192.88 | H54: =G54*F54 -> 1717.7472
A55: TOTAL DA COMPOSIÇÃO | H55: =H54 -> 1717.7472
C59: São Vendelino - RS, 25 de agosto de 2026.
...
