Workbook

Sheet 12 x 36 diurno
A2: PLANILHA DE CUSTOS E FORMAÇÃO DE PREÇOS
A3: I - INFORMAÇÕES DA PRESTAÇÃO E SERVIÇOS: | B3: NUMERO | C3: POR EXTENSO
A4: A - Do Serviço:
A5: 01 - JORNADA DIÁRIA | B5: 12 | C5: 12 x 36 DIURNO
A6: 02 - ESCALA DE SERVIÇO | B6: - | C6: CFE TERMO DE REFERÊNCIA
A7: 03 - TOTAL DE HORAS MENSAIS | B7: 220 | C7: DUZENTAS E VINTE HORAS
A8: 04 - QUANTIDADE DE COLABORADORES NECESSÁRIOS | B8: 2 | C8: HUM
A11: B - Salário Normativo e Dados Complementares:
A12: 01 - SALÁRIO NORMATIVO DA CATEGORIA CFE CCT 220H | C12: 2105.4
A13: 02 - CATEGORIA PROFISSIONAL/ FUNÇÃO | C13: Vigilante
A14: 03 - SINDICATO PROFISSIONAL COMPETENTE | C14: SindiVigilantes do Sul
A15: 04 - DATA BASE DA CATEGORIA | C15: 45748
A16: 05 - N°. DISSIDIO DA CATEGORIA VIGENTE | C16: RS001064/2025
A18: II - REMUNEAÇÃO E ENCARGOS: | B18: Vlr / % / Hs | C18: POR COLABORADOR
A19: A - REMUNERAÇÃO
A20: 01 - Salário Base cfe Categoria | B20: =B7 -> 220 | C20: =C12/220*B20 -> 2105.4
A21: 02 - Adicional Insalubridade | B21: 0 | C21: =C12*B21% -> 0
A22: 03 - Adicional Periculosidade | B22: 30 | C22: =C20*B22% -> 631.62
A23: 04 - Adicional Noturno / Hora reduzida (20%) | B23: 0 | C23: =(((C20+C21+C22)/B20)*0.2)*B23 -> 0
A24: 05 - Adicional de Horas Extras (50%) | B24: 0 | C24: =((((C20+C21+C22)/B20)*1.5)*B24)+((B24/30*4)*(C20+C21+C22)/B20)*1.5 -> 0
A25: 06 - Adicional de Horas Extras (100%) | B25: 0 | C25: =(((C20+C21+C22)/B20)*2)*B25+((B25/30*4)*(C20+C21+C22)/B20)*2 -> 0
A26: 07 – Hora intevalar | B26: 0 | C26: 0
A27: TOTAL DA REMUNERAÇÃO (A) = | C27: =SUM(C20:C26) -> 2737.02
A29: B - ENCARGOS SOCIAIS BÁSICOS
A30: *Incidentes na Remuneração de acordo com enquadramento tributário
A31: 01 - PREVIDÊNCIA SOCIAL PATRONAL | B31: 0.2 | C31: =ROUND(C$27*B31,2) -> 547.4
A32: 02 - SESC | B32: 0.015 | C32: =ROUND(C$27*B32,2) -> 41.06
A33: 03 - SENAC | B33: 0.01 | C33: =ROUND(C$27*B33,2) -> 27.37
A34: 04 - INCRA | B34: 0.002 | C34: =ROUND(C$27*B34,2) -> 5.47
A35: 05 - SALÁRIO EDUCAÇÃO | B35: 0.025 | C35: =ROUND(C$27*B35,2) -> 68.43
A36: 06 - FGTS | B36: 0.08 | C36: =ROUND(C$27*B36,2) -> 218.96
A37: 07 - RAT Ajustado/FAP | B37: 0.015 | C37: =ROUND(C$27*B37,2) -> 41.06
A38: 08 - SEBRAE | B38: 0.006 | C38: =ROUND(C$27*B38,2) -> 16.42
A39: VALOR DOS ENCARGOS SOCIAIS: | B39: =SUM(B31:B38) -> 0.353 | C39: =TRUNC(SUM(C31:C38),2) -> 966.17
A41: C - DEMAIS ENCARGOS TRABALHISTAS
A42: *Incidentes sobre Remuneração
A43: Grupo "C.1"
A44: 01 - 13º Salário | B44: 0.0833 | C44: =ROUND(C$27*B44,2) -> 227.99
A45: 02 - Férias (1/12) | B45: 0.0833 | C45: =ROUND(C$27*B45,2) -> 227.99
A46: 03 – Abono de férias/Terço constitucional (1/3) | B46: 0.0278 | C46: =ROUND(C$27*B46,2) -> 76.09
...

Sheet 12 x 36 Noturno
A2: PLANILHA DE CUSTOS E FORMAÇÃO DE PREÇOS
A3: I - INFORMAÇÕES DA PRESTAÇÃO E SERVIÇOS: | B3: NUMERO | C3: POR EXTENSO
A4: A - Do Serviço:
A5: 01 - JORNADA DIÁRIA | B5: 12 | C5: 12 x 36 NOTURNO
A6: 02 - ESCALA DE SERVIÇO | B6: - | C6: CFE TERMO DE REFERÊNCIA
A7: 03 - TOTAL DE HORAS MENSAIS | B7: 220 | C7: DUZENTAS E VINTE HORAS
A8: 04 - QUANTIDADE DE COLABORADORES NECESSÁRIOS | B8: 4 | C8: HUM
A11: B - Salário Normativo e Dados Complementares:
A12: 01 - SALÁRIO NORMATIVO DA CATEGORIA CFE CCT 220H | C12: ='12 x 36 diurno'!C12 -> 2105.4
A13: 02 - CATEGORIA PROFISSIONAL/ FUNÇÃO | C13: ='12 x 36 diurno'!C13 -> Vigilante
A14: 03 - SINDICATO PROFISSIONAL COMPETENTE | C14: ='12 x 36 diurno'!C14 -> SindiVigilantes do Sul
A15: 04 - DATA BASE DA CATEGORIA | C15: ='12 x 36 diurno'!C15 -> 45748
A16: 05 - N°. DISSIDIO DA CATEGORIA VIGENTE | C16: ='12 x 36 diurno'!C16 -> RS001064/2025
A18: II - REMUNEAÇÃO E ENCARGOS: | B18: Vlr / % / Hs | C18: POR COLABORADOR
A19: A - REMUNERAÇÃO
A20: 01 - Salário Base cfe Categoria | B20: 220 | C20: =C12/220*B20 -> 2105.4
A21: 02 - Adicional Insalubridade | B21: 0 | C21: =C12*B21% -> 0
A22: 03 - Adicional Periculosidade | B22: 30 | C22: =C20*B22% -> 631.62
A23: 04 - Adicional Noturno / Hora reduzida (20%) | B23: 120 | C23: =(((C20+C21+C22)/B20)*0.2)*B23 -> 298.584
A24: 05 - Adicional de Horas Extras (50%) | B24: 0 | C24: =((((C20+C21+C22)/B20)*1.5)*B24)+((B24/30*4)*(C20+C21+C22)/B20)*1.5 -> 0
A25: 06 - Adicional de Horas Extras (100%) | B25: 0 | C25: =(((C20+C21+C22)/B20)*2)*B25+((B25/30*4)*(C20+C21+C22)/B20)*2 -> 0
A26: 07 – Hora intevalar | B26: 0 | C26: =(((C20+C22+C23)/B7)*1.5)*(15/2) -> 155.22975
A27: TOTAL DA REMUNERAÇÃO (A) = | C27: =SUM(C20:C26) -> 3190.8337
A29: B - ENCARGOS SOCIAIS BÁSICOS
A30: *Incidentes na Remuneração de acordo com enquadramento tributário
A31: 01 - PREVIDÊNCIA SOCIAL PATRONAL | B31: 0.2 | C31: =ROUND(C$27*B31,2) -> 638.17
A32: 02 - SESC | B32: 0.015 | C32: =ROUND(C$27*B32,2) -> 47.86
A33: 03 - SENAC | B33: 0.01 | C33: =ROUND(C$27*B33,2) -> 31.91
A34: 04 - INCRA | B34: 0.002 | C34: =ROUND(C$27*B34,2) -> 6.38
A35: 05 - SALÁRIO EDUCAÇÃO | B35: 0.025 | C35: =ROUND(C$27*B35,2) -> 79.77
A36: 06 - FGTS | B36: 0.08 | C36: =ROUND(C$27*B36,2) -> 255.27
A37: 07 - RAT Ajustado/FAP | B37: 0.015 | C37: =ROUND(C$27*B37,2) -> 47.86
A38: 08 - SEBRAE | B38: 0.006 | C38: =ROUND(C$27*B38,2) -> 19.15
A39: VALOR DOS ENCARGOS SOCIAIS: | B39: =SUM(B31:B38) -> 0.353 | C39: =TRUNC(SUM(C31:C38),2) -> 1126.37
A41: C - DEMAIS ENCARGOS TRABALHISTAS
A42: *Incidentes sobre Remuneração
A43: Grupo "C.1"
A44: 01 - 13º Salário | B44: 0.0833 | C44: =ROUND(C$27*B44,2) -> 265.8
A45: 02 - Férias (1/12) | B45: 0.0833 | C45: =ROUND(C$27*B45,2) -> 265.8
A46: 03 – Abono de férias/Terço constitucional (1/3) | B46: 0.0278 | C46: =ROUND(C$27*B46,2) -> 88.71
...
