Workbook
Name bdi: '[1]Comparativo Av. Cristóvão'!#REF!
Name CALCETEIRO: #REF!
Name Carpinteiro: #REF!
Name CORDOEIRO: #REF!
Name dados_re: [2]RE!$B$13:$P$37
Name Diesel: '[3]Ct Hor Equip 2'!$AA$8
Name EncarregadoObrasViárias: #REF!
Name Excel_BuiltIn_Print_Area_6_1: #REF!
Name Excel_BuiltIn_Print_Titles_1_1: #REF!
Name Ferreiro: #REF!
Name Gasolina: '[3]Ct Hor Equip 2'!$AC$9
Name InstaladorHidraulico: #REF!
Name k: #REF!
Name KWH: '[3]Ct Hor Equip 2'!$AC$8
Name LeisSociais: #REF!
Name LS: #REF!
Name M: #REF!
Name Motorista: #REF!
Name número: #REF!
Name Operador: #REF!
Name Pedreiro: #REF!
Name PS: '[3]Ct Hor MDO 4'!$P$8
Name SB: '[3]Ct Hor Equip 2'!$AA$9
Name Servente: #REF!
Name TERRAPLENAGEM: #REF!
Name TOTAL: #REF!
Name x: #REF!

Sheet PO -
A1: PLANILHA ORÇAMENTÁRIA-MATERIAL e MÃO de OBRA
A3: OBRA: REFORMA ESCOLA MUNICIPAL - NOSSA SENHORA DAS GRAÇAS
A4: LOCALIZAÇÃO: Rua Helmo Nonnemacher,Nº1115, CAPELA DE SANTANA - RS
A5: ÁREA:879,56 m²
A6: SINAPI: DATA BASE : novembro/2024 | E6: BDI ADOTADO (%): | G6: 0.22
A7: Item | B7: Descrição dos Materiais | C7: CÓDIGO SINAPI | E7: Un. | F7: Qtd. | G7: Valor unitário | H7: Valor Unitário | I7: VALOR TOTAL C / BDI | J7: %
F9: A | G9: s / BDI | H9: C / BDI
A11: 1 | B11: SERVIÇOS PRELIMINARES | L11: material | M11: mão obra | N11: total
A12: 1.1 | B12: Placa de obra em chapa de aço galvanizado, medidas 2,40x1,20m | C12: SINAPI | D12: 4813 | E12: M² | F12: =2.4*1.2 -> 2.88 | G12: 400 | H12: =ROUND(G12*(1+$G$6),2) -> 488 | I12: =ROUND(F12*H12,2) -> 1405.44 | J12: =ROUND(I12/$I$15,4) -> 0.1364 | L12: 400 | N12: =M12+L12 -> 400
A13: 1.2 | B13: Locação de Container 2,30x6,00m, alt. 2,50m, com 1 sanitario, para escritorio, completo, sem divisorias internas (não inclui mobilização/desmobilização) | C13: 10775 | D13: mês | E13: 1 | F13: 1000 | G13: =F13+F13*0.22 -> 1220 | H13: =ROUND(G13*(1+$G$6),2) -> 1488.4 | I13: =E13*H13 -> 1488.4 | J13: =ROUND(I13/$I$15,4) -> 0.1445 | L13: 1000 | N13: =M13+L13 -> 1000
A14: 1.3 | B14: Engenheiro civil de obra pleno com encargos complomentares | C14: 90778 | D14: h | E14: 40 | F14: 124.45 | G14: =F14+F14*0.22 -> 151.83 | H14: =ROUND(G14*(1+$G$6),2) -> 185.23 | I14: =E14*H14 -> 7409.2 | J14: =ROUND(I14/$I$15,4) -> 0.7191 | M14: 124.45 | N14: =M14+L14 -> 124.45
A15: TOTAL ÍTEM | H15: =$A$11 -> 1 | I15: =I12+I13+I14 -> 10303.04 | J15: =ROUND(I15/$I$59,4) -> 0.1764
A16: 2 | B16: REFORMA DE PAREDES
A17: 2.1 | B17: Emboço para as paredes externas | C17: SINAPI | D17: 87775 | E17: M² | F17: 20 | G17: 56.46 | H17: =ROUND(G17*(1+$G$6),2) -> 68.88 | I17: =ROUND(F17*H17,2) -> 1377.6 | J17: =ROUND(I17/$I$20,4) -> 0.1338 | L17: =0.05+25.36 -> 25.41 | M17: 31.05 | N17: =L17+M17 -> 56.46
A18: 2.2 | B18: Reboco das paredes externas | C18: SINAPI | D18: 87530 | E18: M² | F18: 20 | G18: 40.01 | H18: =ROUND(G18*(1+$G$6),2) -> 48.81 | I18: =ROUND(F18*H18,2) -> 976.2 | J18: =ROUND(I18/$I$20,4) -> 0.0948 | L18: 19.59 | M18: 20.42 | N18: =L18+M18 -> 40.01
A19: 2.3 | B19: Raspagem e restauração emboço paredes internas e externas 1 m de altura | C19: SINAPI | D19: COMP.A | E19: M³ | F19: 145 | G19: 44.9 | H19: =G19+G19*0.22 -> 54.78 | I19: =ROUND(F19*H19,2) -> 7943.1 | J19: =ROUND(I19/$I$20,4) -> 0.7714 | N19: =M19+L19 -> 0
A20: TOTAL ÍTEM | H20: =A16 -> 2 | I20: =I17+I18+I19 -> 10296.9 | J20: =ROUND(I20/$I$59,4) -> 0.1763
A21: 3 | B21: PINTURAS
A22: 3.1 | B22: Pintura das paredes com tinta acrílica, duas demãos (interna) | C22: SINAPI | D22: 88489 | E22: M² | F22: 478 | G22: 13.83 | H22: =ROUND(G22*(1+$G$6),2) -> 16.87 | I22: =ROUND(F22*H22,2) -> 8063.86 | J22: =ROUND(I22/$I$26,4) -> 0.4497 | L22: 9.32 | M22: 4.51 | N22: =L22+M22 -> 13.83
A23: 3.2 | B23: Pintura tinta de acabamento a óleo em madeira, 2 demãos (porta ) | C23: SINAPI | D23: 102217 | E23: M² | F23: 122.5 | G23: 17.87 | H23: =ROUND(G23*(1+$G$6),2) -> 21.8 | I23: =ROUND(F23*H23,2) -> 2670.5 | J23: =ROUND(I23/$I$26,4) -> 0.1489 | L23: 9.52 | M23: 8.35 | N23: =L23+M23 -> 17.87
A24: 3.3 | B24: Aplicação manual de fundo selador acrílico em paredes interna | C24: SINAPI | D24: 88411 | E24: M² | F24: 425 | G24: 4.06 | H24: =G24+G24*0.22 -> 4.95 | I24: =ROUND(F24*H24,2) -> 2103.75 | J24: =ROUND(I24/$I$26,4) -> 0.1173 | L24: 2.8 | M24: 1.26 | N24: =M24+L24 -> 4.06
A25: 3.4 | B25: Aplicação manual de massa acrílica em superfícies internas, duas demãos | C25: SINAPI | D25: 96130 | E25: M131 | F25: 202 | G25: 20.67 | H25: =G25+G25*0.22 -> 25.22 | I25: =ROUND(F25*H25,2) -> 5094.44 | J25: =ROUND(I25/$I$26,4) -> 0.2841 | L25: 9.95 | M25: 10.72 | N25: =M25+L25 -> 20.67
A26: TOTAL ÍTEM | H26: =A21 -> 3 | I26: =I22+I23+I24+I25 -> 17932.55 | J26: =ROUND(I26/$I$59,4) -> 0.3071
A27: 4 | B27: COBERTURA INFILTRAÇÕES
A28: 4.1 | B28: Revisão de infiltração no telhado das salas 2,8 e Saguão | C28: composição 1 | E28: M² | F28: =104+86 -> 190 | G28: =COMP!J7 -> 43.36 | H28: =ROUND(G28*(1+$G$6),2) -> 52.9 | I28: =ROUND(F28*H28,2) -> 10051 | J28: =ROUND(I28/$I$48,4) -> 25.2158 | N28: =M28+L28 -> 0
A29: TOTAL ÍTEM | H29: =A27 -> 4 | I29: =I28 -> 10051 | J29: =ROUND(I29/$I$59,4) -> 0.1721
A30: 5 | B30: ABERTURAS
A31: 5.1 | B31: Porta de madeira 80x210cm, folha pesada, núcleo sólido | C31: SINAPI | D31: 90791 | E31: Un | F31: 1 | G31: 1217.52 | H31: =ROUND(G31*(1+$G$6),2) -> 1485.37 | I31: =ROUND(F31*H31,2) -> 1485.37 | J31: =ROUND(I31/$I$26,4) -> 0.0828 | L31: 1195.54 | M31: 21.98 | N31: =M31+L31 -> 1217.52
A32: 5.2 | B32: Remoção de divisória de madeira e recolocação | C32: composição 2 | E32: M² | F32: 20.5 | G32: =COMP!J17 -> 91.67 | H32: =ROUND(G32*(1+$G$6),2) -> 111.84 | I32: =ROUND(F32*H32,2) -> 2292.72 | J32: =ROUND(I32/$I$26,4) -> 0.1279 | N32: =M32+L32 -> 0
A33: TOTAL ÍTEM | H33: =A30 -> 5 | I33: =I32+I31 -> 3778.09 | J33: =ROUND(I33/$I$59,4) -> 0.0647
A34: 6 | B34: HIDRAULICA
A35: 6.1 | B35: Conserto de vaso sanitario entupido(BANHEIRO MASCULINO) | C35: composição 3 | E35: Un | F35: 5 | G35: =COMP!J24 -> 45.78 | H35: =ROUND(G35*(1+$G$6),2) -> 55.85 | I35: =ROUND(F35*H35,2) -> 279.25 | J35: =ROUND(I35/$I$48,4) -> 0.7006 | N35: =M35+L35 -> 0
A36: 6.2 | B36: Limpeza de fossa | C36: pesquisa mercado | E36: Un | F36: 1 | G36: 1100 | H36: =ROUND(G36*(1+$G$6),2) -> 1342 | I36: =ROUND(F36*H36,2) -> 1342 | J36: =ROUND(I36/$I$48,4) -> 3.3668 | L36: 1100 | N36: =M36+L36 -> 1100
A37: 6.3 | B37: Fixação de vaso sanitario e lavatorio | C37: composição 4 | E37: Un | F37: 2 | G37: =COMP!J33 -> 46.42 | H37: =ROUND(G37*(1+$G$6),2) -> 56.63 | I37: =ROUND(F37*H37,2) -> 113.26 | J37: =ROUND(I37/$I$48,4) -> 0.2841 | N37: =M37+L37 -> 0
A38: TOTAL ÍTEM | H38: =A34 -> 6 | I38: =I35+I36+I37 -> 1734.51 | J38: =ROUND(I38/$I$59,4) -> 0.0297
A39: 7 | B39: RAMPA ACESSIBILIDADE TROCA MADEIRAS
A40: 7.1 | B40: Madeira serrada em pinus, mista ou equivalente da região. | C40: SINAPI | D40: 4006 | E40: M³ | F40: 5 | G40: 37.64 | H40: =ROUND(G40*(1+$G$6),2) -> 45.92 | I40: =ROUND(F40*H40,2) -> 229.6 | J40: =ROUND(I40/$I$56,4) -> 0.0996 | L40: 37.64 | N40: =M40+L40 -> 37.64
A41: 7.2 | B41: Carpinteiro com encargos complementares. | C41: SINAPI | D41: 88262 | E41: H | F41: 2 | G41: 27.55 | H41: =ROUND(G41*(1+$G$6),2) -> 33.61 | I41: =ROUND(F41*H41,2) -> 67.22 | J41: =ROUND(I41/$I$56,4) -> 0.0292 | M41: 27.55 | N41: =M41+L41 -> 27.55
A42: TOTAL ÍTEM | H42: =A39 -> 7 | I42: =I41+I40 -> 296.82 | J42: =ROUND(I42/$I$59,4) -> 0.0051
A43: 8 | B43: ELETRICA
...

Sheet TOTALIZADORA
A1: PLANILHA TOTALIZADORA COM CRONOGRAMA FÍSICO-FINACEIRO
A3: ='PO -'!A3 -> OBRA: REFORMA ESCOLA MUNICIPAL - NOSSA SENHORA DAS GRAÇAS
A4: ='PO -'!A4 -> LOCALIZAÇÃO: Rua Helmo Nonnemacher,Nº1115, CAPELA DE SANTANA - RS
A5: ='PO -'!A5 -> ÁREA:879,56 m²
A6: ='PO -'!A6 -> SINAPI: DATA BASE : novembro/2024
A8: Item | B8: Descrição dos Serviços | C8: VALOR TOTAL | D8: % | E8: 30 dias | F8: % | G8: 60 dias | H8: %
C9: Mat./M.Obra
A11: ='PO -'!A11 -> 1 | B11: ='PO -'!B11 -> SERVIÇOS PRELIMINARES | C11: ='PO -'!I15 -> 10303.04 | D11: ='PO -'!J15 -> 0.1764 | E11: =F11*$C11 -> 5151.52 | F11: 0.5 | G11: =H11*$C11 -> 5151.52 | H11: 0.5 | I11: =E11+G11 -> 10303.04 | J11: =F11+H11 -> 1
A12: ='PO -'!A16 -> 2 | B12: ='PO -'!B16 -> REFORMA DE PAREDES | C12: ='PO -'!I20 -> 10296.9 | D12: ='PO -'!J20 -> 0.1763 | E12: =F12*$C12 -> 5148.45 | F12: 0.5 | G12: =H12*$C12+0.01 -> 5148.46 | H12: 0.5 | I12: =E12+G12-0.01 -> 10296.9 | J12: =F12+H12 -> 1
A13: ='PO -'!A21 -> 3 | B13: ='PO -'!B21 -> PINTURAS | C13: ='PO -'!I26 -> 17932.55 | D13: ='PO -'!J26 -> 0.3071 | E13: =F13*$C13 -> 8966.28 | F13: 0.5 | G13: =H13*$C13 -> 8966.28 | H13: 0.5 | I13: =E13+G13 -> 17932.56 | J13: =F13+H13 -> 1
A14: ='PO -'!A27 -> 4 | B14: ='PO -'!B27 -> COBERTURA INFILTRAÇÕES | C14: ='PO -'!I29 -> 10051 | D14: ='PO -'!J29 -> 0.1721 | E14: =F14*$C14 -> 5025.5 | F14: 0.5 | G14: =H14*$C14 -> 5025.5 | H14: 0.5 | I14: =E14+G14 -> 10051 | J14: =F14+H14 -> 1
A15: ='PO -'!A30 -> 5 | B15: ='PO -'!B30:J30 -> ABERTURAS | C15: ='PO -'!I33 -> 3778.09 | D15: ='PO -'!J33 -> 0.0647 | E15: =F15*$C15 -> 0 | F15: 0 | G15: =H15*$C15 -> 3778.09 | H15: 1 | I15: =E15+G15 -> 3778.09 | J15: =F15+H15 -> 1
A16: 6 | B16: ='PO -'!B34:J34 -> HIDRAULICA | C16: ='PO -'!I38 -> 1734.51 | D16: ='PO -'!J38 -> 0.0297 | E16: =F16*$C16 -> 0 | F16: 0 | G16: =H16*$C16 -> 1734.51 | H16: 1 | I16: =E16+G16 -> 1734.51 | J16: =F16+H16 -> 1
A17: 7 | B17: ='PO -'!B39:J39 -> RAMPA ACESSIBILIDADE TROCA MADEIRAS | C17: ='PO -'!I42 -> 296.82 | D17: ='PO -'!J42 -> 0.0051 | E17: =F17*$C17 -> 148.41 | F17: 0.5 | G17: =H17*$C17 -> 148.41 | H17: 0.5 | I17: =E17+G17 -> 296.82 | J17: =F17+H17 -> 1
A18: ='PO -'!A43 -> 8 | B18: ='PO -'!B43:J43 -> ELETRICA | C18: ='PO -'!I48 -> 398.6 | D18: ='PO -'!J48 -> 0.0068 | E18: =F18*$C18 -> 0 | F18: 0 | G18: =H18*$C18 -> 398.6 | H18: 1 | I18: =E18+G18 -> 398.6 | J18: =F18+H18 -> 1
A19: 9 | B19: ='PO -'!B49:J49 -> ACESSÓRIOS | C19: ='PO -'!I53 -> 1297.84 | D19: ='PO -'!J53 -> 0.0222 | E19: =F19*$C19 -> 648.92 | F19: 0.5 | G19: =H19*$C19 -> 648.92 | H19: 0.5 | I19: =E19+G19 -> 1297.84 | J19: =F19+H19 -> 1
A20: ='PO -'!A54 -> 10 | B20: ='PO -'!B54:J54 -> REFORMA DA PRASINHA , PLAY GRAUD E PINTURA | C20: ='PO -'!I56 -> 2305.1 | D20: ='PO -'!J56 -> 0.0395 | E20: =F20*$C20 -> 1152.55 | F20: 0.5 | G20: =H20*$C20 -> 1152.55 | H20: 0.5 | I20: =E20+G20 -> 2305.1 | J20: =F20+H20 -> 1
A22: TOTAL DAS MEDIÇÕES | C22: =SUM(C11:C21) -> 58394.45 | D22: =D11+D12+D13+D14+D15+D16+D17+D18+D19+D20 -> 1 | E22: =SUM(E11:E20) -> 26241.63 | F22: =E22/$C22 -> 0.4494 | G22: =SUM(G11:G20) -> 32152.84 | H22: =G22/$C22 -> 0.5506 | J22: =AVERAGE(J11:J14) -> 1
A23: VALORES ACUMULADOS | E23: =E22 -> 26241.63 | F23: =E23/$C22 -> 0.4494 | G23: =G22+E23-0.01 -> 58394.46 | H23: =G23/$C22 -> 1

Sheet COMP
D2: COMPOSIÇÃO 1- REVISÃO DE INFILTRAÇÃO NO TELHADO (SALAS 2 , 8 E SAGUÃO)
D3: CLASSE/TIPO | E3: CÓDIGOS | F3: DESCRIÇÃO | G3: UNIDADE | H3: COEFICIENTE | I3: CUSTO UNITÁRIO (R$) | J3: TOTAL R$
D4: COMPOSICAO | E4: 88252 | F4: AUXILIAR DE SERVIÇOS GERAIS COM ENCARGOS COMPLEMENTARES | G4: H | H4: 0.5 | I4: 22.89 | J4: =TRUNC(I4*H4,2) -> 11.44
D5: COMPOSICAO | E5: 88316 | F5: SERVENTE COM ENCARGOS COMPLEMENTARES | G5: H | H5: 0.5 | I5: 23.08 | J5: =TRUNC(I5*H5,2) -> 11.54
D6: COMPOSICAO | E6: 94226 | F6: SUBCOBERTURA COM MANTA PLÁSTICA REVESTIDA POR PELÍCULA DE ALUMÍNO,INLUSO TRANSPORTE VERTICAL. | G6: M² | H6: 1 | I6: 20.38 | J6: =TRUNC(I6*H6,2) -> 20.38
D7: VALOR R$ p/ m³ | J7: =SUM(J4:J6) -> 43.36
D8: Tabela SINAPI - data base NOV/2024
D10: COMPOSIÇÃO 2- REMOÇÃO DE DIVISÓRIA E COLOCAÇÃO
D11: CLASSE/TIPO | E11: CÓDIGOS | F11: DESCRIÇÃO | G11: UNIDADE | H11: COEFICIENTE | I11: CUSTO UNITÁRIO (R$) | J11: TOTAL R$
D12: COMPOSICAO | E12: 88252 | F12: AUXILIAR DE SERVIÇOS GERAIS COM ENCARGOS COMPLEMENTARES | G12: H | H12: 1.5 | I12: 22.89 | J12: =TRUNC(I12*H12,2) -> 34.33
D13: COMPOSICAO | E13: 88325 | F13: SERRALHEIRO COM ENCARGOS COMPLEMENTARES | G13: H | H13: 1.5 | I13: 27.69 | J13: =TRUNC(I13*H13,2) -> 41.53
D14: COMPOSICAO | E14: 88316 | F14: SERVENTE COM ENCARGOS COMPLEMENTARES | G14: H | H14: 0.5 | I14: 23.08 | J14: =TRUNC(I14*H14,2) -> 11.54
D15: COMPOSICAO | E15: 97651 | F15: REMOÇÃO DE TRAMA DE MADEIRA, DE FORMA MANUAL,C/REAPROVEITAMENTO | G15: M² | H15: 0.5 | I15: 8.12 | J15: =TRUNC(I15*H15,2) -> 4.06
D16: COMPOSICAO | E16: 5074 | F16: PREGO DE ACO POLIDO COM CABECA 15 X 18 (1 1/2 X 13) | G16: KG | H16: 0.15 | I16: 1.45 | J16: =TRUNC(I16*H16,2) -> 0.21
D17: VALOR R$ p/m² | J17: =SUM(J12:J16) -> 91.67
D18: Tabela SINAPI - data base NOV/2024
D20: COMPOSIÇÃO 3- CONSERTO DE VASO SANITARIO ENTUPIDO (BANHEIRO MASCULINO)
D21: CLASSE/TIPO | E21: CÓDIGOS | F21: DESCRIÇÃO | G21: UNIDADE | H21: COEFICIENTE | I21: CUSTO UNITÁRIO (R$) | J21: TOTAL R$
D22: COMPOSICAO | E22: 88252 | F22: AUXILIAR DE SERVIÇOS GERAIS COM ENCARGOS COMPLEMENTARES | G22: H | H22: 2 | I22: 22.89 | J22: =TRUNC(I22*H22,2) -> 45.78
D24: VALOR R$ p/ unid | J24: =SUM(J22:J23) -> 45.78
D25: Tabela SINAPI - data base NOV/2024
D27: COMPOSIÇÃO 4- FIXAÇÃO DE VASO SANITÁRIO E LAVATÓRIO
D28: CLASSE/TIPO | E28: CÓDIGOS | F28: DESCRIÇÃO | G28: UNIDADE | H28: COEFICIENTE | I28: CUSTO UNITÁRIO (R$) | J28: TOTAL R$
D29: COMPOSICAO | E29: 88252 | F29: AUXILIAR DE SERVIÇOS GERAIS COM ENCARGOS COMPLEMENTARES | G29: H | H29: 0.8 | I29: 22.89 | J29: =TRUNC(I29*H29,2) -> 18.31
D30: COMPOSICAO | E30: 88316 | F30: SERVENTE COM ENCARGOS COMPLEMENTARES | G30: H | H30: 0.8 | I30: 23.08 | J30: =TRUNC(I30*H30,2) -> 18.46
D31: COMPOSICAO | E31: 34753 | F31: CIMENTO PORTLAND POZOLANICO CP IV-32 | G31: KG | H31: 0.1 | I31: 0.82 | J31: =TRUNC(I31*H31,2) -> 0.08
D32: COMPOSICAO | E32: 11963 | F32: PARAFUSO DE ACO ZINCADO, TIPO CHUMBADOR PARABOLT, DIAMETRO 1/2", COMPRIMENTO 75 MM | G32: UND | H32: 1 | I32: 9.57 | J32: =TRUNC(I32*H32,2) -> 9.57
D33: VALOR R$ p/ und. | J33: =SUM(J29:J32) -> 46.42
D34: Tabela SINAPI - data base NOV/2024
D36: COMPOSIÇÃO 5 - INSTALAÇÃO DE VENTILADOR
D37: CLASSE/TIPO | E37: CÓDIGOS | F37: DESCRIÇÃO | G37: UNIDADE | H37: COEFICIENTE | I37: CUSTO UNITÁRIO (R$) | J37: TOTAL R$
D38: COMPOSICAO | E38: 88264 | F38: ELETRICISTA COM ENCARGOS COMPLEMENTARES | G38: H | H38: 0.5 | I38: 29.9 | J38: =TRUNC(I38*H38,2) -> 14.95
D39: VALOR R$ p/ und. | J39: =SUM(J38:J38) -> 14.95
D40: Tabela SINAPI - data base NOV/2024
D42: COMPOSIÇÃO 6 - REVISÃO ELÉTRICA
D43: CLASSE/TIPO | E43: CÓDIGOS | F43: DESCRIÇÃO | G43: UNIDADE | H43: COEFICIENTE | I43: CUSTO UNITÁRIO (R$) | J43: TOTAL R$
D44: COMPOSICAO | E44: 88264 | F44: ELETRICISTA COM ENCARGOS COMPLEMENTARES | G44: H | H44: 0.25 | I44: 29.9 | J44: =TRUNC(I44*H44,2) -> 7.47
D45: VALOR R$ p/ und. | J45: =SUM(J44:J44) -> 7.47
D46: Tabela SINAPI - data base NOV/2024
D48: COMPOSIÇÃO 7- FIXAÇÃO DE VARÃO CORTINAS SALA 4
...

Sheet Plan1
