Workbook

Sheet ORÇAMENTO
A1: PLANILHA ORÇAMENTÁRIA
A2: OBRA: PPCI GINÁSIO CLÓVIS SCHAEFFER e CENTRO DE EVENTOS
A3: ENDEREÇO: RUA 44 Nº 203 - BAIRRO CENTRO - SÃO JOSÉ DO HORTÊNCIO/RS
A6: Item | B6: Ref. | C6: Código | D6: Descrição | E6: Unid. | F6: Quant. | G6: Preço Unitário s/ BDI | J6: Preço Unitário c/ BDI | M6: Preço Total
G7: MAT | H7: M.O. | I7: TOTAL | J7: MAT | K7: M.O. | L7: TOTAL | M7: MAT | N7: M.O. | O7: TOTAL
A8: 1. | B8: PPCI
A9: 1.1 | B9: CPU | C9: 1 | D9: Bombas Schneider ME-33250 C150 25 CV | E9: UN | F9: 1 | G9: 25835.95 | H9: 169.96 | I9: =IF($C9="","",G9+H9) -> 26005.91 | J9: =IF($C9="","",ROUND(G9*(1+$D$113),2)) -> 32036.58 | K9: =IF($C9="","",ROUND(H9*(1+$D$113),2)) -> 210.75 | L9: =IF($C9="","",J9+K9) -> 32247.33 | M9: =IF($C9="","",ROUND(J9*$F9,2)) -> 32036.58 | N9: =IF($C9="","",ROUND(K9*$F9,2)) -> 210.75 | O9: =IF($C9="","",M9+N9) -> 32247.33
A10: 1.2 | B10: CPU | C10: 2 | D10: BOMBA Schneider BT4-05 79mm - 1CV | E10: UN | F10: 1 | G10: 3590.885 | H10: 169.96 | I10: =IF($C10="","",G10+H10) -> 3760.845 | J10: =IF($C10="","",ROUND(G10*(1+$D$113),2)) -> 4452.7 | K10: =IF($C10="","",ROUND(H10*(1+$D$113),2)) -> 210.75 | L10: =IF($C10="","",J10+K10) -> 4663.45 | M10: =IF($C10="","",ROUND(J10*$F10,2)) -> 4452.7 | N10: =IF($C10="","",ROUND(K10*$F10,2)) -> 210.75 | O10: =IF($C10="","",M10+N10) -> 4663.45
A11: 1.3 | B11: CPU | C11: 3 | D11: BUCHA DE REDUCAO DE FERRO GALVANIZADO, COM ROSCA BSP, DE 1 1/2" X 1" | E11: UN | F11: 1 | G11: 27.99 | H11: 37.9 | I11: =IF($C11="","",G11+H11) -> 65.89 | J11: =IF($C11="","",ROUND(G11*(1+$D$113),2)) -> 34.71 | K11: =IF($C11="","",ROUND(H11*(1+$D$113),2)) -> 47 | L11: =IF($C11="","",J11+K11) -> 81.71 | M11: =IF($C11="","",ROUND(J11*$F11,2)) -> 34.71 | N11: =IF($C11="","",ROUND(K11*$F11,2)) -> 47 | O11: =IF($C11="","",M11+N11) -> 81.71
A12: 1.4 | B12: CPU | C12: 4 | D12: BUCHA DE REDUCAO DE FERRO GALVANIZADO, COM ROSCA BSP, DE 1 1/4" X 1" | E12: UN | F12: 6 | G12: 23.58 | H12: 37.9 | I12: =IF($C12="","",G12+H12) -> 61.48 | J12: =IF($C12="","",ROUND(G12*(1+$D$113),2)) -> 29.24 | K12: =IF($C12="","",ROUND(H12*(1+$D$113),2)) -> 47 | L12: =IF($C12="","",J12+K12) -> 76.24 | M12: =IF($C12="","",ROUND(J12*$F12,2)) -> 175.44 | N12: =IF($C12="","",ROUND(K12*$F12,2)) -> 282 | O12: =IF($C12="","",M12+N12) -> 457.44
A13: 1.5 | B13: CPU | C13: 5 | D13: BUCHA DE REDUCAO DE FERRO GALVANIZADO, COM ROSCA BSP, DE 2 1/2" X 1 1/4" | E13: UN | F13: 6 | G13: 50.13 | H13: 37.9 | I13: =IF($C13="","",G13+H13) -> 88.03 | J13: =IF($C13="","",ROUND(G13*(1+$D$113),2)) -> 62.16 | K13: =IF($C13="","",ROUND(H13*(1+$D$113),2)) -> 47 | L13: =IF($C13="","",J13+K13) -> 109.16 | M13: =IF($C13="","",ROUND(J13*$F13,2)) -> 372.96 | N13: =IF($C13="","",ROUND(K13*$F13,2)) -> 282 | O13: =IF($C13="","",M13+N13) -> 654.96
A14: 1.6 | B14: CPU | C14: 6 | D14: BUCHA DE REDUCAO DE FERRO GALVANIZADO, COM ROSCA BSP, DE 3" X 1 1/2" | E14: UN | F14: 1 | G14: 69.68 | H14: 37.9 | I14: =IF($C14="","",G14+H14) -> 107.58 | J14: =IF($C14="","",ROUND(G14*(1+$D$113),2)) -> 86.4 | K14: =IF($C14="","",ROUND(H14*(1+$D$113),2)) -> 47 | L14: =IF($C14="","",J14+K14) -> 133.4 | M14: =IF($C14="","",ROUND(J14*$F14,2)) -> 86.4 | N14: =IF($C14="","",ROUND(K14*$F14,2)) -> 47 | O14: =IF($C14="","",M14+N14) -> 133.4
A15: 1.7 | B15: CPU | C15: 7 | D15: BUCHA DE REDUCAO DE FERRO GALVANIZADO, COM ROSCA BSP, DE 3" X 2 1/2" | E15: UN | F15: 3 | G15: 68.28 | H15: 37.9 | I15: =IF($C15="","",G15+H15) -> 106.18 | J15: =IF($C15="","",ROUND(G15*(1+$D$113),2)) -> 84.67 | K15: =IF($C15="","",ROUND(H15*(1+$D$113),2)) -> 47 | L15: =IF($C15="","",J15+K15) -> 131.67 | M15: =IF($C15="","",ROUND(J15*$F15,2)) -> 254.01 | N15: =IF($C15="","",ROUND(K15*$F15,2)) -> 141 | O15: =IF($C15="","",M15+N15) -> 395.01
A16: 1.8 | B16: CPU | C16: 8 | D16: COTOVELO 90 GRAUS DE FERRO GALVANIZADO, COM ROSCA BSP MACHO/FEMEA, DE 1" | E16: UN | F16: 8 | G16: 28.09 | H16: 37.9 | I16: =IF($C16="","",G16+H16) -> 65.99 | J16: =IF($C16="","",ROUND(G16*(1+$D$113),2)) -> 34.83 | K16: =IF($C16="","",ROUND(H16*(1+$D$113),2)) -> 47 | L16: =IF($C16="","",J16+K16) -> 81.83 | M16: =IF($C16="","",ROUND(J16*$F16,2)) -> 278.64 | N16: =IF($C16="","",ROUND(K16*$F16,2)) -> 376 | O16: =IF($C16="","",M16+N16) -> 654.64
A17: 1.9 | B17: CPU | C17: 9 | D17: COTOVELO 90 GRAUS DE FERRO GALVANIZADO, COM ROSCA BSP MACHO/FEMEA, DE 2 1/2" | E17: UN | F17: 20 | G17: 118.14 | H17: 37.9 | I17: =IF($C17="","",G17+H17) -> 156.04 | J17: =IF($C17="","",ROUND(G17*(1+$D$113),2)) -> 146.49 | K17: =IF($C17="","",ROUND(H17*(1+$D$113),2)) -> 47 | L17: =IF($C17="","",J17+K17) -> 193.49 | M17: =IF($C17="","",ROUND(J17*$F17,2)) -> 2929.8 | N17: =IF($C17="","",ROUND(K17*$F17,2)) -> 940 | O17: =IF($C17="","",M17+N17) -> 3869.8
A18: 1.10 | B18: CPU | C18: 10 | D18: COTOVELO 90 GRAUS DE FERRO GALVANIZADO, COM ROSCA BSP MACHO/FEMEA, DE 3" | E18: UN | F18: 5 | G18: 175.05 | H18: 37.9 | I18: =IF($C18="","",G18+H18) -> 212.95 | J18: =IF($C18="","",ROUND(G18*(1+$D$113),2)) -> 217.06 | K18: =IF($C18="","",ROUND(H18*(1+$D$113),2)) -> 47 | L18: =IF($C18="","",J18+K18) -> 264.06 | M18: =IF($C18="","",ROUND(J18*$F18,2)) -> 1085.3 | N18: =IF($C18="","",ROUND(K18*$F18,2)) -> 235 | O18: =IF($C18="","",M18+N18) -> 1320.3
A19: 1.11 | B19: SINAPI | C19: 92370 | D19: LUVA, EM FERRO GALVANIZADO, DN 25 (1"), CONEXÃO ROSQUEADA, INSTALADO EM REDE DE ALIMENTAÇÃO PARA HIDRANTE - FORNECIMENTO E INSTALAÇÃO. AF_10/2020 | E19: UN | F19: 14 | G19: 17.4 | H19: 21.3 | I19: =IF($C19="","",G19+H19) -> 38.7 | J19: =IF($C19="","",ROUND(G19*(1+$D$113),2)) -> 21.58 | K19: =IF($C19="","",ROUND(H19*(1+$D$113),2)) -> 26.41 | L19: =IF($C19="","",J19+K19) -> 47.99 | M19: =IF($C19="","",ROUND(J19*$F19,2)) -> 302.12 | N19: =IF($C19="","",ROUND(K19*$F19,2)) -> 369.74 | O19: =IF($C19="","",M19+N19) -> 671.86
A20: 1.12 | B20: CPU | C20: 11 | D20: NIPLE DE REDUCAO DE FERRO GALVANIZADO, COM ROSCA BSP, DE 3" X 2 1/2" | E20: UN | F20: 1 | G20: 8.9 | H20: 163.44 | I20: =IF($C20="","",G20+H20) -> 172.34 | J20: =IF($C20="","",ROUND(G20*(1+$D$113),2)) -> 11.04 | K20: =IF($C20="","",ROUND(H20*(1+$D$113),2)) -> 202.67 | L20: =IF($C20="","",J20+K20) -> 213.71 | M20: =IF($C20="","",ROUND(J20*$F20,2)) -> 11.04 | N20: =IF($C20="","",ROUND(K20*$F20,2)) -> 202.67 | O20: =IF($C20="","",M20+N20) -> 213.71
... A47: 1.39 | B47: SINAPI | C47: 102618 | D47: CAIXA D´ÁGUA EM POLIÉSTER REFORÇADO COM FIBRA DE VIDRO, 7000 LITROS - FORNECIMENTO E INSTALAÇÃO. AF_06/2021 | E47: UN | F47: 2 | G47: 4147.5 | H47: 135.11 | I47: =IF($C47="","",G47+H47) -> 4282.61 | J47: =IF($C47="","",ROUND(G47*(1+$D$113),2)) -> 5142.9 | K47: =IF($C47="","",ROUND(H47*(1+$D$113),2)) -> 167.54 | L47: =IF($C47="","",J47+K47) -> 5310.44 | M47: =IF($C47="","",ROUND(J47*$F47,2)) -> 10285.8 | N47: =IF($C47="","",ROUND(K47*$F47,2)) -> 335.08 | O47: =IF($C47="","",M47+N47) -> 10620.88
A48: ="TOTAL SUBITEM "&A8&" - "&B8 -> TOTAL SUBITEM 1. - PPCI | M48: =SUM(M9:M47) -> 107977.5 | N48: =SUM(N9:N47) -> 11667.08 | O48: =SUM(O9:O47) -> 119644.58
A49: 2. | B49: ALIMENTAÇÃO
A50: 2.1 | B50: SINAPI | C50: 94500 | D50: REGISTRO DE GAVETA BRUTO, LATÃO, ROSCÁVEL, 3" - FORNECIMENTO E INSTALAÇÃO. AF_08/2021 | E50: UN | F50: 2 | G50: 390.33 | H50: 24.71 | I50: =IF($C50="","",G50+H50) -> 415.04 | J50: =IF($C50="","",ROUND(G50*(1+$D$113),2)) -> 484.01 | K50: =IF($C50="","",ROUND(H50*(1+$D$113),2)) -> 30.64 | L50: =IF($C50="","",J50+K50) -> 514.65 | M50: =IF($C50="","",ROUND(J50*$F50,2)) -> 968.02 | N50: =IF($C50="","",ROUND(K50*$F50,2)) -> 61.28 | O50: =IF($C50="","",M50+N50) -> 1029.3
A51: 2.2 | B51: SINAPI | C51: 89353 | D51: REGISTRO DE GAVETA BRUTO, LATÃO, ROSCÁVEL, 3/4" - FORNECIMENTO E INSTALAÇÃO. AF_08/2021 | E51: UN | F51: 2 | G51: 41.7 | H51: 4.76 | I51: =IF($C51="","",G51+H51) -> 46.46 | J51: =IF($C51="","",ROUND(G51*(1+$D$113),2)) -> 51.71 | K51: =IF($C51="","",ROUND(H51*(1+$D$113),2)) -> 5.9 | L51: =IF($C51="","",J51+K51) -> 57.61 | M51: =IF($C51="","",ROUND(J51*$F51,2)) -> 103.42 | N51: =IF($C51="","",ROUND(K51*$F51,2)) -> 11.8 | O51: =IF($C51="","",M51+N51) -> 115.22
A52: 2.3 | B52: SINAPI | C52: 94703 | D52: ADAPTADOR COM FLANGE E ANEL DE VEDAÇÃO, PVC, SOLDÁVEL, DN 25 MM X 3/4 , INSTALADO EM RESERVAÇÃO DE ÁGUA DE EDIFICAÇÃO QUE POSSUA RESERVATÓRIO DE FIBRA/FIBROCIMENTO FORNECIMENTO E INSTALAÇÃO. AF_06/2016 | E52: UN | F52: 1 | G52: 17.12 | H52: 5.89 | I52: =IF($C52="","",G52+H52) -> 23.01 | J52: =IF($C52="","",ROUND(G52*(1+$D$113),2)) -> 21.23 | K52: =IF($C52="","",ROUND(H52*(1+$D$113),2)) -> 7.3 | L52: =IF($C52="","",J52+K52) -> 28.53 | M52: =IF($C52="","",ROUND(J52*$F52,2)) -> 21.23 | N52: =IF($C52="","",ROUND(K52*$F52,2)) -> 7.3 | O52: =IF($C52="","",M52+N52) -> 28.53
A53: 2.4 | B53: SINAPI | C53: 94704 | D53: ADAPTADOR COM FLANGE E ANEL DE VEDAÇÃO, PVC, SOLDÁVEL, DN 32 MM X 1 , INSTALADO EM RESERVAÇÃO DE ÁGUA DE EDIFICAÇÃO QUE POSSUA RESERVATÓRIO DE FIBRA/FIBROCIMENTO FORNECIMENTO E INSTALAÇÃO. AF_06/2016 | E53: UN | F53: 1 | G53: 24.08 | H53: 5.88 | I53: =IF($C53="","",G53+H53) -> 29.96 | J53: =IF($C53="","",ROUND(G53*(1+$D$113),2)) -> 29.86 | K53: =IF($C53="","",ROUND(H53*(1+$D$113),2)) -> 7.29 | L53: =IF($C53="","",J53+K53) -> 37.15 | M53: =IF($C53="","",ROUND(J53*$F53,2)) -> 29.86 | N53: =IF($C53="","",ROUND(K53*$F53,2)) -> 7.29 | O53: =IF($C53="","",M53+N53) -> 37.15
A54: 2.5 | B54: SINAPI | C54: 94658 | D54: ADAPTADOR CURTO COM BOLSA E ROSCA PARA REGISTRO, PVC, SOLDÁVEL, DN 32 MM X 1 , INSTALADO EM RESERVAÇÃO DE ÁGUA DE EDIFICAÇÃO QUE POSSUA RESERVATÓRIO DE FIBRA/FIBROCIMENTO FORNECIMENTO E INSTALAÇÃO. AF_06/2016 | E54: UN | F54: 4 | G54: 4.56 | H54: 3.47 | I54: =IF($C54="","",G54+H54) -> 8.03 | J54: =IF($C54="","",ROUND(G54*(1+$D$113),2)) -> 5.65 | K54: =IF($C54="","",ROUND(H54*(1+$D$113),2)) -> 4.3 | L54: =IF($C54="","",J54+K54) -> 9.95 | M54: =IF($C54="","",ROUND(J54*$F54,2)) -> 22.6 | N54: =IF($C54="","",ROUND(K54*$F54,2)) -> 17.2 | O54: =IF($C54="","",M54+N54) -> 39.8
A55: 2.6 | B55: SINAPI | C55: 94668 | D55: ADAPTADOR CURTO COM BOLSA E ROSCA PARA REGISTRO, PVC, SOLDÁVEL, DN 85 MM X 3 , INSTALADO EM RESERVAÇÃO DE ÁGUA DE EDIFICAÇÃO QUE POSSUA RESERVATÓRIO DE FIBRA/FIBROCIMENTO FORNECIMENTO E INSTALAÇÃO. AF_06/2016 | E55: UN | F55: 4 | G55: 46.34 | H55: 14.01 | I55: =IF($C55="","",G55+H55) -> 60.35 | J55: =IF($C55="","",ROUND(G55*(1+$D$113),2)) -> 57.46 | K55: =IF($C55="","",ROUND(H55*(1+$D$113),2)) -> 17.37 | L55: =IF($C55="","",J55+K55) -> 74.83 | M55: =IF($C55="","",ROUND(J55*$F55,2)) -> 229.84 | N55: =IF($C55="","",ROUND(K55*$F55,2)) -> 69.48 | O55: =IF($C55="","",M55+N55) -> 299.32
A56: 2.7 | B56: ORSE | C56: 1100 | D56: CAP DE PVC RÍGIDO SOLDÁVEL, MARROM, DIâMETRO 85MM | E56: UN | F56: 1 | G56: 40.25 | H56: 2.96 | I56: =G56+H56 -> 43.21 | J56: =IF($C56="","",ROUND(G56*(1+$D$113),2)) -> 49.91 | K56: =IF($C56="","",ROUND(H56*(1+$D$113),2)) -> 3.67 | L56: =IF($C56="","",J56+K56) -> 53.58 | M56: =IF($C56="","",ROUND(J56*$F56,2)) -> 49.91 | N56: =IF($C56="","",ROUND(K56*$F56,2)) -> 3.67 | O56: =IF($C56="","",M56+N56) -> 53.58
A57: 2.8 | B57: SINAPI | C57: 89408 | D57: JOELHO 90 GRAUS, PVC, SOLDÁVEL, DN 25MM, INSTALADO EM RAMAL DE DISTRIBUIÇÃO DE ÁGUA - FORNECIMENTO E INSTALAÇÃO. AF_06/2022 | E57: UN | F57: 3 | G57: 3.33 | H57: 5.94 | I57: =IF($C57="","",G57+H57) -> 9.27 | J57: =IF($C57="","",ROUND(G57*(1+$D$113),2)) -> 4.13 | K57: =IF($C57="","",ROUND(H57*(1+$D$113),2)) -> 7.37 | L57: =IF($C57="","",J57+K57) -> 11.5 | M57: =IF($C57="","",ROUND(J57*$F57,2)) -> 12.39 | N57: =IF($C57="","",ROUND(K57*$F57,2)) -> 22.11 | O57: =IF($C57="","",M57+N57) -> 34.5
A58: 2.9 | B58: SINAPI | C58: 94684 | D58: JOELHO 90 GRAUS, PVC, SOLDÁVEL, DN 85 MM INSTALADO EM RESERVAÇÃO DE ÁGUA DE EDIFICAÇÃO QUE POSSUA RESERVATÓRIO DE FIBRA/FIBROCIMENTO FORNECIMENTO E INSTALAÇÃO. AF_06/2016 | E58: UN | F58: 1 | G58: 132.04 | H58: 21.05 | I58: =IF($C58="","",G58+H58) -> 153.09 | J58: =IF($C58="","",ROUND(G58*(1+$D$113),2)) -> 163.73 | K58: =IF($C58="","",ROUND(H58*(1+$D$113),2)) -> 26.1 | L58: =IF($C58="","",J58+K58) -> 189.83 | M58: =IF($C58="","",ROUND(J58*$F58,2)) -> 163.73 | N58: =IF($C58="","",ROUND(K58*$F58,2)) -> 26.1 | O58: =IF($C58="","",M58+N58) -> 189.83
A59: 2.10 | B59: SINAPI | C59: 94648 | D59: TUBO, PVC, SOLDÁVEL, DN 25 MM, INSTALADO EM RESERVAÇÃO DE ÁGUA DE EDIFICAÇÃO QUE POSSUA RESERVATÓRIO DE FIBRA/FIBROCIMENTO FORNECIMENTO E INSTALAÇÃO. AF_06/2016 | E59: M | F59: 9.7 | G59: 6.1 | H59: 5.79 | I59: =IF($C59="","",G59+H59) -> 11.89 | J59: =IF($C59="","",ROUND(G59*(1+$D$113),2)) -> 7.56 | K59: =IF($C59="","",ROUND(H59*(1+$D$113),2)) -> 7.18 | L59: =IF($C59="","",J59+K59) -> 14.74 | M59: =IF($C59="","",ROUND(J59*$F59,2)) -> 73.33 | N59: =IF($C59="","",ROUND(K59*$F59,2)) -> 69.65 | O59: =IF($C59="","",M59+N59) -> 142.98
A60: 2.11 | B60: SINAPI | C60: 94654 | D60: TUBO, PVC, SOLDÁVEL, DN 85 MM, INSTALADO EM RESERVAÇÃO DE ÁGUA DE EDIFICAÇÃO QUE POSSUA RESERVATÓRIO DE FIBRA/FIBROCIMENTO FORNECIMENTO E INSTALAÇÃO. AF_06/2016 | E60: M | F60: 5.5 | G60: 66.9 | H60: 23.35 | I60: =IF($C60="","",G60+H60) -> 90.25 | J60: =IF($C60="","",ROUND(G60*(1+$D$113),2)) -> 82.96 | K60: =IF($C60="","",ROUND(H60*(1+$D$113),2)) -> 28.95 | L60: =IF($C60="","",J60+K60) -> 111.91 | M60: =IF($C60="","",ROUND(J60*$F60,2)) -> 456.28 | N60: =IF($C60="","",ROUND(K60*$F60,2)) -> 159.23 | O60: =IF($C60="","",M60+N60) -> 615.51
A61: 2.12 | B61: SINAPI | C61: 94688 | D61: TÊ, PVC, SOLDÁVEL, DN 25 MM INSTALADO EM RESERVAÇÃO DE ÁGUA DE EDIFICAÇÃO QUE POSSUA RESERVATÓRIO DE FIBRA/FIBROCIMENTO FORNECIMENTO E INSTALAÇÃO. AF_06/2016 | E61: UN | F61: 1 | G61: 5.51 | H61: 6.9 | I61: =IF($C61="","",G61+H61) -> 12.41 | J61: =IF($C61="","",ROUND(G61*(1+$D$113),2)) -> 6.83 | K61: =IF($C61="","",ROUND(H61*(1+$D$113),2)) -> 8.56 | L61: =IF($C61="","",J61+K61) -> 15.39 | M61: =IF($C61="","",ROUND(J61*$F61,2)) -> 6.83 | N61: =IF($C61="","",ROUND(K61*$F61,2)) -> 8.56 | O61: =IF($C61="","",M61+N61) -> 15.39
A62: 2.13 | B62: SINAPI | C62: 94699 | D62: TÊ, PVC, SOLDÁVEL, DN 85 MM INSTALADO EM RESERVAÇÃO DE ÁGUA DE EDIFICAÇÃO QUE POSSUA RESERVATÓRIO DE FIBRA/FIBROCIMENTO FORNECIMENTO E INSTALAÇÃO. AF_06/2016 | E62: UN | F62: 1 | G62: 113.54 | H62: 28.03 | I62: =IF($C62="","",G62+H62) -> 141.57 | J62: =IF($C62="","",ROUND(G62*(1+$D$113),2)) -> 140.79 | K62: =IF($C62="","",ROUND(H62*(1+$D$113),2)) -> 34.76 | L62: =IF($C62="","",J62+K62) -> 175.55 | M62: =IF($C62="","",ROUND(J62*$F62,2)) -> 140.79 | N62: =IF($C62="","",ROUND(K62*$F62,2)) -> 34.76 | O62: =IF($C62="","",M62+N62) -> 175.55
A63: ="TOTAL SUBITEM "&A49&" - "&B49 -> TOTAL SUBITEM 2. - ALIMENTAÇÃO | M63: =SUM(M50:M62) -> 2278.23 | N63: =SUM(N50:N62) -> 498.43 | O63: =SUM(O50:O62) -> 2776.66
A64: 3. | B64: RADIER E CASA DE BOMBAS
A65: 3.1 | B65: SINAPI | C65: 93358 | D65: ESCAVAÇÃO MANUAL DE VALA COM PROFUNDIDADE MENOR OU IGUAL A 1,30 M. AF_02/2021 | E65: M3 | F65: 5.5 | G65: 21.13 | H65: 65.82 | I65: =IF($C65="","",G65+H65) -> 86.95 | J65: =IF($C65="","",ROUND(G65*(1+$D$113),2)) -> 26.2 | K65: =IF($C65="","",ROUND(H65*(1+$D$113),2)) -> 81.62 | L65: =IF($C65="","",J65+K65) -> 107.82 | M65: =IF($C65="","",ROUND(J65*$F65,2)) -> 144.1 | N65: =IF($C65="","",ROUND(K65*$F65,2)) -> 448.91 | O65: =IF($C65="","",M65+N65) -> 593.01
A66: 3.2 | B66: SINAPI | C66: 97084 | D66: COMPACTAÇÃO MECÂNICA DE SOLO PARA EXECUÇÃO DE RADIER, PISO DE CONCRETO OU LAJE SOBRE SOLO, COM COMPACTADOR DE SOLOS TIPO PLACA VIBRATÓRIA. AF_09/2021 | E66: M2 | F66: 15.2 | G66: 0.16 | H66: 0.53 | I66: =IF($C66="","",G66+H66) -> 0.69 | J66: =IF($C66="","",ROUND(G66*(1+$D$113),2)) -> 0.2 | K66: =IF($C66="","",ROUND(H66*(1+$D$113),2)) -> 0.66 | L66: =IF($C66="","",J66+K66) -> 0.86 | M66: =IF($C66="","",ROUND(J66*$F66,2)) -> 3.04 | N66: =IF($C66="","",ROUND(K66*$F66,2)) -> 10.03 | O66: =IF($C66="","",M66+N66) -> 13.07
A67: 3.3 | B67: SINAPI | C67: 97086 | D67: FABRICAÇÃO, MONTAGEM E DESMONTAGEM DE FORMA PARA RADIER, PISO DE CONCRETO OU LAJE SOBRE SOLO, EM MADEIRA SERRADA, 4 UTILIZAÇÕES. AF_09/2021 | E67: M2 | F67: 3 | G67: 41.09 | H67: 75.11 | I67: =IF($C67="","",G67+H67) -> 116.2 | J67: =IF($C67="","",ROUND(G67*(1+$D$113),2)) -> 50.95 | K67: =IF($C67="","",ROUND(H67*(1+$D$113),2)) -> 93.14 | L67: =IF($C67="","",J67+K67) -> 144.09 | M67: =IF($C67="","",ROUND(J67*$F67,2)) -> 152.85 | N67: =IF($C67="","",ROUND(K67*$F67,2)) -> 279.42 | O67: =IF($C67="","",M67+N67) -> 432.27
A68: 3.4 | B68: SINAPI | C68: 100324 | D68: LASTRO COM MATERIAL GRANULAR (PEDRA BRITADA N.1 E PEDRA BRITADA N.2), APLICADO EM PISOS OU LAJES SOBRE SOLO, ESPESSURA DE *10 CM*. AF_07/2019 | E68: M3 | F68: 0.76 | G68: 89.55 | H68: 27.5 | I68: =IF($C68="","",G68+H68) -> 117.05 | J68: =IF($C68="","",ROUND(G68*(1+$D$113),2)) -> 111.04 | K68: =IF($C68="","",ROUND(H68*(1+$D$113),2)) -> 34.1 | L68: =IF($C68="","",J68+K68) -> 145.14 | M68: =IF($C68="","",ROUND(J68*$F68,2)) -> 84.39 | N68: =IF($C68="","",ROUND(K68*$F68,2)) -> 25.92 | O68: =IF($C68="","",M68+N68) -> 110.31
...

Sheet CRONOGRAMA
A1: CRONOGRAMA
A3: OBRA: PPCI GINÁSIO CLÓVIS SCHAEFFER
A4: ENDEREÇO: RUA 44 Nº 203 - BAIRRO CENTRO - SÃO JOSÉ DO HORTÊNCIO/RS
A7: ITEM | B7: DISCRIMINAÇÃO | C7: VALOR (R$) | D7: PRAZO
D8: 1º MÊS
A9: 1. | B9: PPCI | C9: =ORÇAMENTO!O48 -> 119644.58 | D9: 1
D10: =$C9*D9 -> 119644.58
A11: 2. | B11: ALIMENTAÇÃO | C11: =ORÇAMENTO!O63 -> 2776.66 | D11: 1
D12: =$C11*D11 -> 2776.66
A13: 3. | B13: RADIER E CASA DE BOMBAS | C13: =ORÇAMENTO!O78 -> 12807.46 | D13: 1
D14: =$C13*D13 -> 12807.46
A15: 4. | B15: ESCAVAÇÕES (TUBULAÇÕES E CAIXAS) | C15: =ORÇAMENTO!O82 -> 1469.3 | D15: 1
D16: =$C15*D15 -> 1469.3
A17: 5. | B17: QUADRO DE COMANDO DE INCÊNDIO | C17: =ORÇAMENTO!O85 -> 4912.76 | D17: 1
D18: =$C17*D17 -> 4912.76
A19: 6. | B19: ALARME DE INCÊNDIO | C19: =ORÇAMENTO!O101 -> 13665.65 | D19: 1
D20: =$C19*D19 -> 13665.65
A21: 7. | B21: ENTRADA DE ENERGIA (QUADRO DE COMANDO) | C21: =ORÇAMENTO!O106 -> 11816.49 | D21: 1
D22: =$C21*D21 -> 11816.49
A23: 8. | B23: PLACAS | C23: =ORÇAMENTO!O110 -> 450.6 | D23: 1
D24: =$C23*D23 -> 450.6
A25: TOTAL DO ORÇAMENTO | C25: =SUM(C9:C24) -> 167543.5 | D25: =SUMIF($A$8:$A$24,"",D$8:D$24) -> 167543.5
A26: DISTRIBUIÇÃO PERIÓDICA | C26: % | D26: =D27/$C$25 -> 1
C27: SIMPLES | D27: =D25 -> 167543.5
C28: % | D28: =D29/$C$25 -> 1
C29: ACUMULADO | D29: =D27 -> 167543.5
B32: Portão, 10 de Novembro de 2023
D33: ____________________________
D34: Eng. Jéferson R. Born
D35: CREA RS 183227

Sheet COMPOSIÇÕES CRIADAS
A2: CPU | B2: 1 | C2: Bombas Schneider ME-33250 C150 25 CV | D2: UNID | F2: =SUM(F4:F11) -> 25835.95 | G2: =SUM(G4:G11) -> 169.96 | H2: =SUM(H4:H11) -> 26005.91
A3: TIPO | B3: CÓDIGO | C3: DESCRIÇÃO | D3: UNID. | E3: CONSUMO | F3: MAT | G3: MO | H3: TOTAL
A4: INSUMO | B4: 11267 | C4: ARRUELA LISA, REDONDA, DE LATAO POLIDO, DIAMETRO NOMINAL 5/8", DIAMETRO EXTERNO = 34 MM, DIAMETRO DO FURO = 17 MM, ESPESSURA = *2,5* MM | D4: UN | E4: 4 | F4: 6.24 | G4: 0 | H4: =IF($B4="","",$F4+$G4) -> 6.24
A5: INSUMO | B5: 39996 | C5: VERGALHAO ZINCADO ROSCA TOTAL, 1/4 " (6,3 MM) | D5: M | E5: 0.2 | F5: 0.79 | G5: 0 | H5: =IF($B5="","",$F5+$G5) -> 0.79
A6: INSUMO | B6: 39997 | C6: PORCA ZINCADA, SEXTAVADA, DIAMETRO 1/4" | D6: UN | E6: 4 | F6: 1.36 | G6: 0 | H6: =IF($B6="","",$F6+$G6) -> 1.36
A7: COTAÇÃO | B7: 1 | C7: Bombas Schneider ME-33250 C150 25 CV | D7: UM | E7: 1 | F7: 25783.48 | G7: 0 | H7: =IF($B7="","",$F7+$G7) -> 25783.48
A8: COMPOSICAO | B8: 88247 | C8: AUXILIAR DE ELETRICISTA COM ENCARGOS COMPLEMENTARES | D8: H | E8: 4 | F8: 22.04 | G8: 77.96 | H8: =IF($B8="","",$F8+$G8) -> 100
A9: COMPOSICAO | B9: 88248 | C9: AUXILIAR DE ENCANADOR OU BOMBEIRO HIDRÁULICO COM ENCARGOS COMPLEMENTARES | D9: H | E9: 0 | F9: 0 | G9: 0 | H9: =IF($B9="","",$F9+$G9) -> 0
A10: COMPOSICAO | B10: 88264 | C10: ELETRICISTA COM ENCARGOS COMPLEMENTARES | D10: H | E10: 4 | F10: 22.04 | G10: 92 | H10: =IF($B10="","",$F10+$G10) -> 114.04
A11: COMPOSICAO | B11: 88267 | C11: ENCANADOR OU BOMBEIRO HIDRÁULICO COM ENCARGOS COMPLEMENTARES | D11: H | E11: 0 | F11: 0 | G11: 0 | H11: =IF($B11="","",$F11+$G11) -> 0
C12: Ref: Composição - Sinapi 102123
C13: Referência de preço Sinapi 09/2023
A16: CPU | B16: 2 | C16: BOMBA Schneider BT4-05 79mm - 1CV | D16: UNID | F16: =SUM(F18:F25) -> 3590.885 | G16: =SUM(G18:G25) -> 169.96 | H16: =SUM(H18:H25) -> 3760.845
A17: TIPO | B17: CÓDIGO | C17: DESCRIÇÃO | D17: UNID. | E17: CONSUMO | F17: MAT | G17: MO | H17: TOTAL
A18: INSUMO | B18: 11267 | C18: ARRUELA LISA, REDONDA, DE LATAO POLIDO, DIAMETRO NOMINAL 5/8", DIAMETRO EXTERNO = 34 MM, DIAMETRO DO FURO = 17 MM, ESPESSURA = *2,5* MM | D18: UN | E18: 4 | F18: 6.24 | G18: 0 | H18: =IF($B18="","",$F18+$G18) -> 6.24
A19: INSUMO | B19: 39996 | C19: VERGALHAO ZINCADO ROSCA TOTAL, 1/4 " (6,3 MM) | D19: M | E19: 0.2 | F19: 0.79 | G19: 0 | H19: =IF($B19="","",$F19+$G19) -> 0.79
A20: INSUMO | B20: 39997 | C20: PORCA ZINCADA, SEXTAVADA, DIAMETRO 1/4" | D20: UN | E20: 4 | F20: 1.36 | G20: 0 | H20: =IF($B20="","",$F20+$G20) -> 1.36
A21: COTAÇÃO | B21: 2 | C21: BOMBA Schneider BT4-05 79mm - 1CV | D21: UNID | E21: 1 | F21: 3538.415 | G21: 0 | H21: =IF($B21="","",$F21+$G21) -> 3538.415
A22: COMPOSICAO | B22: 88247 | C22: AUXILIAR DE ELETRICISTA COM ENCARGOS COMPLEMENTARES | D22: H | E22: 4 | F22: 22.04 | G22: 77.96 | H22: =IF($B22="","",$F22+$G22) -> 100
A23: COMPOSICAO | B23: 88248 | C23: AUXILIAR DE ENCANADOR OU BOMBEIRO HIDRÁULICO COM ENCARGOS COMPLEMENTARES | D23: H | E23: 0 | F23: 0 | G23: 0 | H23: =IF($B23="","",$F23+$G23) -> 0
A24: COMPOSICAO | B24: 88264 | C24: ELETRICISTA COM ENCARGOS COMPLEMENTARES | D24: H | E24: 4 | F24: 22.04 | G24: 92 | H24: =IF($B24="","",$F24+$G24) -> 114.04
A25: COMPOSICAO | B25: 88267 | C25: ENCANADOR OU BOMBEIRO HIDRÁULICO COM ENCARGOS COMPLEMENTARES | D25: H | E25: 0 | F25: 0 | G25: 0 | H25: =IF($B25="","",$F25+$G25) -> 0
C26: Ref: Composição - Sinapi 102123
C27: Referência de preço Sinapi 09/2023
A29: CPU | B29: 3 | C29: BUCHA DE REDUCAO DE FERRO GALVANIZADO, COM ROSCA BSP, DE 1 1/2" X 1" | D29: UNID | F29: =SUM(F31:F36) -> 27.99 | G29: =SUM(G31:G36) -> 37.9 | H29: =SUM(H31:H36) -> 65.89
A30: TIPO | B30: CÓDIGO | C30: DESCRIÇÃO | D30: UNID. | E30: CONSUMO | F30: MAT | G30: MO | H30: TOTAL
A31: INSUMO | B31: 3148 | C31: FITA VEDA ROSCA EM ROLOS DE 18 MM X 50 M (L X C) | D31: UN | E31: 0.017 | F31: 0.26 | G31: 0 | H31: =IF($B31="","",$F31+$G31) -> 0.26
A32: INSUMO | B32: 3446 | C32: COTOVELO 45 GRAUS DE FERRO GALVANIZADO, COM ROSCA BSP, DE 1 1/2" | D32: UN | E32: 0 | F32: 0 | G32: 0 | H32: =IF($B32="","",$F32+$G32) -> 0
A33: INSUMO | B33: 7307 | C33: FUNDO ANTICORROSIVO PARA METAIS FERROSOS (ZARCAO) | D33: L | E33: 0.004 | F33: 0.18 | G33: 0 | H33: =IF($B33="","",$F33+$G33) -> 0.18
A34: COMPOSICAO | B34: 88248 | C34: AUXILIAR DE ENCANADOR OU BOMBEIRO HIDRÁULICO COM ENCARGOS COMPLEMENTARES | D34: H | E34: 0.873 | F34: 4.23 | G34: 17.38 | H34: =IF($B34="","",$F34+$G34) -> 21.61
A35: COMPOSICAO | B35: 88267 | C35: ENCANADOR OU BOMBEIRO HIDRÁULICO COM ENCARGOS COMPLEMENTARES | D35: H | E35: 0.873 | F35: 4.23 | G35: 20.52 | H35: =IF($B35="","",$F35+$G35) -> 24.75
A36: INSUMO | B36: 791 | C36: BUCHA DE REDUCAO DE FERRO GALVANIZADO, COM ROSCA BSP, DE 1 1/2" X 1" | D36: UN | E36: 1 | F36: 19.09 | G36: 0 | H36: =IF($B36="","",$F36+$G36) -> 19.09
C37: Ref: Composição - Sinapi 92385
C38: Referência de preço Sinapi 09/2023
A40: CPU | B40: 4 | C40: BUCHA DE REDUCAO DE FERRO GALVANIZADO, COM ROSCA BSP, DE 1 1/4" X 1" | D40: UNID | F40: =SUM(F42:F47) -> 23.58 | G40: =SUM(G42:G47) -> 37.9 | H40: =SUM(H42:H47) -> 61.48
A41: TIPO | B41: CÓDIGO | C41: DESCRIÇÃO | D41: UNID. | E41: CONSUMO | F41: MAT | G41: MO | H41: TOTAL
A42: INSUMO | B42: 3148 | C42: FITA VEDA ROSCA EM ROLOS DE 18 MM X 50 M (L X C) | D42: UN | E42: 0.017 | F42: 0.26 | G42: 0 | H42: =IF($B42="","",$F42+$G42) -> 0.26
A43: INSUMO | B43: 3446 | C43: COTOVELO 45 GRAUS DE FERRO GALVANIZADO, COM ROSCA BSP, DE 1 1/2" | D43: UN | E43: 0 | F43: 0 | G43: 0 | H43: =IF($B43="","",$F43+$G43) -> 0
A44: INSUMO | B44: 7307 | C44: FUNDO ANTICORROSIVO PARA METAIS FERROSOS (ZARCAO) | D44: L | E44: 0.004 | F44: 0.18 | G44: 0 | H44: =IF($B44="","",$F44+$G44) -> 0.18
A45: COMPOSICAO | B45: 88248 | C45: AUXILIAR DE ENCANADOR OU BOMBEIRO HIDRÁULICO COM ENCARGOS COMPLEMENTARES | D45: H | E45: 0.873 | F45: 4.23 | G45: 17.38 | H45: =IF($B45="","",$F45+$G45) -> 21.61
...

Sheet Cotações 
A2: Bombas Schneider ME-33250 C150 25 CV
A3: Loja | B3: Link | C3: Acesso | D3: Valor Frete (R$) | E3: Custo Unitário (R$) | F3: Custo Total (R$)
A4: Bomba Shopping | B4: https://www.bombashopping.com.br/bomba-schneider-me-33250-c150-25cv-trifasica-60hz-220380440v-0030000001428/p?idsku=677020536&srsltid=AfmBOooA7LMu8FQGh4O5znT_gy4javGMAdUxznWVfcrIdXS8I_OlZZfnvGI | C4: Acesso em 01.10.2023 às 19:16 | D4: 240 | E4: 24682 | F4: =D4+E4 -> 24922
A5: Hidroviva | B5: https://www.hidroviva.com.br/produto/bomba-dagua-multiestagios-horizontal-me-33250-c150-25-cv-trifasico-4-voltagens/2570886 | C5: Acesso em 01.10.2023 às 19:16 | D5: 436.53 | E5: 26208.43 | F5: =D5+E5 -> 26644.96
F6: =MEDIAN(F4:F5) -> 25783.48
A9: BOMBA Schneider BT4-05 79mm - 1CV
A10: Loja | B10: Link | C10: Acesso | D10: Valor Frete (R$) | E10: Custo Unitário (R$) | F10: Custo Total (R$)
A11: Grupo das Bombas | B11: https://www.grupodasbombas.com.br/bomba-multiestagio-booster-de-aco-inox-schneider-bt4-0507e9-3-4cv-220-380v-trifasico/p | C11: Acesso em 01.10.2023 às 19:25 | D11: 158.48 | E11: 3696.42 | F11: =D11+E11 -> 3854.9
A12: RR Motors | B12: https://www.rrbombasemotores.com.br/produtos/bomba-centrifuga-multi-bt4-0510e12-1cv-trifasico-schneider/ | C12: Acesso em 01.10.2023 às 19:25 | D12: 184.93 | E12: 3037 | F12: =D12+E12 -> 3221.93
F13: =MEDIAN(F11:F12) -> 3538.415
A16: Bucha de redução sold. Longa 85x60mm
A17: Loja | B17: Link | C17: Acesso | D17: Valor Frete (R$) | E17: Custo Unitário (R$) | F17: Custo Total (R$)
A18: Aquafort | B18: https://www.acquafort.com.br/buchasoldavel85x60longa-/p?idsku=5735&gclid=Cj0KCQjw1OmoBhDXARIsAAAYGSGM4ie66ofQn9Z8ozFASdDCc9sxOUl7hxtOAHKakRuB5S4B4UuSD-gaAke5EALw_wcB | C18: Acesso em 01.10.2023 às 18:50 | D18: 0 | E18: 19.76 | F18: =D18+E18 -> 19.76
A19: Magazine Luiza | B19: https://www.magazineluiza.com.br/bucha-de-reducao-soldavel-longa-85-x-60mm-amanco/p/ceke5bjk08/cj/buhi/?seller_id=decarnetbr&utm_source=google&utm_medium=pla&utm_campaign=&partner_id=73499&gclid=Cj0KCQjw1OmoBhDXARIsAAAYGSHBwVl-htWM1kkgr66agKEzhon2TfhQwKpoBdwp2FWDai3D1EVxLEsaAhlfEALw_wcB&gclsrc=aw.ds | C19: Acesso em 01.10.2023 às 18:51 | D19: 0 | E19: 22.34 | F19: =D19+E19 -> 22.34
A20: Leroy Merlin | B20: https://www.leroymerlin.com.br/bucha-de-reducao-krona-longa-85-x-60mm_1567508683?region=outros&gclid=Cj0KCQjw1OmoBhDXARIsAAAYGSE7M2gJ_UpIH239tSi3eC64nLDGL4goWg4kNX6Nvna-tBVL6cv5sSsaAkPZEALw_wcB | C20: Acesso em 01.10.2023 às 18:51 | D20: 0 | E20: 26.87 | F20: =D20+E20 -> 26.87
F21: =MEDIAN(F18:F20) -> 22.34
A23: Quadro de comando de incêndio bomba de 25cv e jockey 3cv
A24: Loja | B24: Link | C24: Acesso | D24: Valor Frete (R$) | E24: Custo Unitário (R$) | F24: Custo Total (R$)
A25: Mercado Livre | B25: https://produto.mercadolivre.com.br/MLB-2655043253-painel-para-bomba-estrela-triangulo-25-cv-e-jockey-3-cv-220v-_JM | C25: Acesso em 08.11.2023 às 21:59 | D25: 205 | E25: 3680 | F25: =D25+E25 -> 3885
F26: =MEDIAN(F25:F25) -> 3885
A29: Central de alarme de incêndio convencional 24 setores (12V) com bateria
A30: Loja | B30: Link | C30: Acesso | D30: Valor Frete (R$) | E30: Custo Unitário (R$) | F30: Custo Total (R$)
A31: Eletrorastro | B31: https://www.eletrorastro.com.br/produto/central-de-alarme-de-incendio-convencional-24-setores-12v-com-bateria-26824-segurimax-83562?utm_source=google&utm_medium=cpc&utm_campaign=&gad_source=1&gclid=Cj0KCQiAo7KqBhDhARIsAKhZ4uiCfIR8508sq6__XZnSYFw-VOAsb10DeilcfOyBGs-8fdt5-gHT87caAnv6EALw_wcB | C31: Acesso em 09.11.2023 às 07:50 | D31: 34.72 | E31: 613.36 | F31: =D31+E31 -> 648.08
A32: Area Distribuidora | B32: https://www.eletricaarea.com.br/seguranca-e-comunicacao/central-alarme-incendio-convencional-24-setores?parceiro=1263&utm_source=google&utm_medium=cpc&utm_campaign=[CMLO]%20[Pmax]%20[Vendas]%20[%20Max%20conv]%2005/09&utm_content=&utm_term=&gad_source=1&gclid=Cj0KCQiAo7KqBhDhARIsAKhZ4ujiQ7euyA31fByB6KW0Z2g_72qiTWp7aDiC4tGis2wnr7gzoPwojm0aAo7jEALw_wcB | C32: Acesso em 09.11.2023 às 07:50 | D32: 24.53 | E32: 642.4 | F32: =D32+E32 -> 666.93
A33: Magazine Luiza | B33: https://www.magazineluiza.com.br/central-de-alarme-de-incendio-convencional-24-setores-12v-com-bateria-26824-segurimax/p/fhk3f8c280/cj/alre/?&seller_id=eletrorastrooficial&utm_source=google&utm_medium=pla&utm_campaign=&partner_id=73499&gad_source=1&gclid=Cj0KCQiAo7KqBhDhARIsAKhZ4ugsQF6Qw7fe3KJGTQLVNf3hkxkD0RHvlVKJrmUAHKHWSp0cKIMFFg8aAh3LEALw_wcB&gclsrc=aw.ds | C33: Acesso em 09.11.2023 às 07:50 | D33: 0 | E33: 870.97 | F33: =D33+E33 -> 870.97
F34: =MEDIAN(F31:F33) -> 666.93
A37: Acionador manual com sirene convencional 12/24V
A38: Loja | B38: Link | C38: Acesso | D38: Valor Frete (R$) | E38: Custo Unitário (R$) | F38: Custo Total (R$)
A39: Eletrorastro | B39: https://www.eletrorastro.com.br/produto/acionador-manual-com-sirene-convencional-12-24v-27706-segurimax-83561 | C39: Acesso em 09.11.2023 às 08:15 | D39: =ROUND(35.28/7,2) -> 5.04 | E39: 52.1 | F39: =D39+E39 -> 57.14
A40: Area Distribuidora | B40: https://www.eletricaarea.com.br/seguranca-e-comunicacao/acionador-manual-com-sirene-1224v-convencional | C40: Acesso em 09.11.2023 às 08:15 | D40: =ROUND(24.53/7,2) -> 3.5 | E40: 48.2 | F40: =D40+E40 -> 51.7
A41: Magazine Luiza | B41: https://www.magazineluiza.com.br/botoeira-acionador-manual-de-alarme-incendio-com-sirene-12v-segurimax/p/jjj932e9g5/pi/bami/ | C41: Acesso em 09.11.2023 às 08:15 | D41: =ROUND(13.85/7,2) -> 1.98 | E41: 54.9 | F41: =D41+E41 -> 56.88
F42: =MEDIAN(F39:F41) -> 56.88
A45: Sirene audiovisual
A46: Loja | B46: Link | C46: Acesso | D46: Valor Frete (R$) | E46: Custo Unitário (R$) | F46: Custo Total (R$)
A47: Mercado Livre | B47: https://www.mercadolivre.com.br/sinalizador-audiovisual-convencional-intelbras-sav-420-c/p/MLB21742617?from=gshop&matt_tool=94824937&matt_word=&matt_source=google&matt_campaign_id=14302215546&matt_ad_group_id=130580035630&matt_match_type=&matt_network=g&matt_device=c&matt_creative=542969737629&matt_keyword=&matt_ad_position=&matt_ad_type=pla&matt_merchant_id=735098660&matt_product_id=MLB21742617-product&matt_product_partition_id=1801632139836&matt_target_id=aud-2009166904988:pla-1801632139836&gad_source=1&gclid=Cj0KCQiAo7KqBhDhARIsAKhZ4uhB0rhWdxabyLlK92_8C9rvY3C18K-ftdcyXuP0vvAlqYaplro6FMAaAjl7EALw_wcB#shipping | C47: Acesso em 09.11.2023 às 20:27 | D47: =ROUND(17.29/7,2) -> 2.47 | E47: 67 | F47: =D47+E47 -> 69.47
A48: NetAlarmes | B48: https://www.netalarmes.com.br/alarme/alarme-de-incendio/sinalizador-audiovisual-convencional-intelbras-sav-420-c?parceiro=8046&parceiro=8764&gad_source=4&gclid=Cj0KCQiAo7KqBhDhARIsAKhZ4ujfRGuR5V9dIpnxZ5wjody1iUjk8L0uy6ytPyd8EZeZmOHuGduir8UaAoj0EALw_wcB | C48: Acesso em 09.11.2023 às 20:27 | D48: =ROUND(16.82/7,2) -> 2.4 | E48: 60.78 | F48: =D48+E48 -> 63.18
A49: Multiseg | B49: https://www.multiseg.com.br/2798/sinalizador-audiovisual-24v-ip20-convencional-?gclid=Cj0KCQiAo7KqBhDhARIsAKhZ4uiuoAjDDCMEGhuzVR-JU0pB1Q-wh4InkXM_7STCwLLNDH5Tr3iRwNkaAggfEALw_wcB | C49: Acesso em 09.11.2023 às 20:27 | D49: =ROUND(11.69/7,2) -> 1.67 | E49: 87.8 | F49: =D49+E49 -> 89.47
F50: =MEDIAN(F47:F49) -> 69.47
A53: Cabo para alarme/detecção incêndio 1x2x1,00mm²
A54: Loja | B54: Link | C54: Acesso | D54: Valor Frete (R$) | E54: Custo Unitário (R$) | F54: Custo Total (R$)
...
