Workbook
Name ASSIS_ASSIS_Listar: #REF!
Name BDI: [1]ORÇAMENTO!$M$9
Name IMPRIMACAO: #REF!
Name SINAPI: [1]SINAPI!$A:$E
Name TipoOrçamento: "BASE"

Sheet PLANILHA ORÇAMENTÁRIA
A1: PLANILHA ORÇAMENTÁRIA
A2: PPCI - EMEI SONHO MEU
A3: Endereço da obra: rua 33, nº 204, São José do Hortêncio/RS
A5: SINAPI - COMPOSIÇÕES SINTÉTICAS RS 02/2026 - NÃO DESONERADO
A6: ORSE - COMPOSIÇÕES 01/2026 - NÃO DESONERADO
P7: BDI | Q7: 0.2268
A8: ITEM | B8: FONTE | C8: CÓDIGO | D8: DESCRIÇÃO DOS SERVIÇOS | E8: UNIDADE | F8: QUANTIDADE | G8: % M.O. | H8: PREÇO UNITÁRIO SEM BDI | K8: PREÇO UNITÁRIO COM BDI | N8: INCIDÊNCIAS | O8: PREÇO TOTAL COM BDI
H9: M.O. | I9: MAT. | J9: TOTAL | K9: M.O. | L9: MAT. | M9: TOTAL | O9: M.O. | P9: MAT. | Q9: TOTAL
A10: 1 | B10: PROJETO DE PREVENÇÃO CONTRA INCÊNDIO - ÁREA: 1703,10 M²
A11: 1.1 | B11: ALARME DE INCÊNDIO
A12: 1.1.1 | B12: CPU | C12: ='COMPOSIÇÕES CRIADAS'!B6 -> 1 | D12: ='COMPOSIÇÕES CRIADAS'!C6 -> CENTRAL DE ALARME DE INCÊNDIO CONVENCIONAL, 6 LAÇOS, COM BATERIA - MODELO DE REFERÊNCIA INTELBRAS CIC 06 | E12: ='COMPOSIÇÕES CRIADAS'!D6 -> UN | F12: 1 | G12: =H12/J12 -> 0.049141339 | H12: ='COMPOSIÇÕES CRIADAS'!L6 -> 29.34 | I12: ='COMPOSIÇÕES CRIADAS'!K6 -> 567.71333 | J12: ='COMPOSIÇÕES CRIADAS'!M6 -> 597.05333 | K12: =ROUND(H12*(1+$Q$7),2) -> 35.99 | L12: =ROUND(I12*(1+$Q$7),2) -> 696.47 | M12: =ROUND(J12*(1+$Q$7),2) -> 732.47 | N12: =Q12*$N$27/$Q$27 -> 0.079527132 | O12: =ROUND(($K12*$F12),2) -> 35.99 | P12: =ROUND(($L12*$F12),2) -> 696.47 | Q12: =O12+P12 -> 732.46
A13: 1.1.2 | B13: CPU | C13: ='COMPOSIÇÕES CRIADAS'!B13 -> 2 | D13: ='COMPOSIÇÕES CRIADAS'!C13 -> SIRENE AUDIOVISUAL - FORNECIMENTO E INSTALAÇÃO | E13: ='COMPOSIÇÕES CRIADAS'!D13 -> UN | F13: 5 | G13: =H13/J13 -> 0.094534884 | H13: ='COMPOSIÇÕES CRIADAS'!L13 -> 10.4015 | I13: ='COMPOSIÇÕES CRIADAS'!K13 -> 99.626667 | J13: ='COMPOSIÇÕES CRIADAS'!M13 -> 110.02817 | K13: =ROUND(H13*(1+$Q$7),2) -> 12.76 | L13: =ROUND(I13*(1+$Q$7),2) -> 122.22 | M13: =ROUND(J13*(1+$Q$7),2) -> 134.98 | N13: =Q13*$N$27/$Q$27 -> 0.073277533 | O13: =ROUND(($K13*$F13),2) -> 63.8 | P13: =ROUND(($L13*$F13),2) -> 611.1 | Q13: =O13+P13 -> 674.9
A14: 1.1.3 | B14: ORSE | C14: 11979 | D14: ACIONADOR MANUAL CONVENCIONAL - FORNECIMENTO E INSTALAÇÃO | E14: =E13 -> UN | F14: 5 | G14: =H14/J14 -> 0.10772538 | H14: 8.52 | I14: =J14-H14 -> 70.57 | J14: 79.09 | K14: =ROUND(H14*(1+$Q$7),2) -> 10.45 | L14: =ROUND(I14*(1+$Q$7),2) -> 86.58 | M14: =ROUND(J14*(1+$Q$7),2) -> 97.03 | N14: =Q14*$N$27/$Q$27 -> 0.052675352 | O14: =ROUND(($K14*$F14),2) -> 52.25 | P14: =ROUND(($L14*$F14),2) -> 432.9 | Q14: =O14+P14 -> 485.15
A15: 1.1.4 | B15: SINAPI | C15: 91871 | D15: =VLOOKUP($C15,'Sinapi 02-2026'!$A$1:$E$13176,2,0) -> ELETRODUTO RÍGIDO ROSCÁVEL, PVC, DN 25 MM (3/4"), PARA CIRCUITOS TERMINAIS, INSTALADO EM PAREDE - FORNECIMENTO E INSTALAÇÃO. AF_03/2023 | E15: =VLOOKUP($C15,'Sinapi 02-2026'!$A$1:$E$13176,3,0) -> M | F15: =70+(5*2.8) -> 84 | G15: =VLOOKUP($C15,'Sinapi 02-2026'!$A$1:$E$13176,5,0) -> 0.5918 | H15: =G15*J15 -> 10.380172 | I15: =J15-H15 -> 7.159828 | J15: =VLOOKUP($C15,'Sinapi 02-2026'!$A$1:$E$13176,4,0) -> 17.54 | K15: =ROUND(H15*(1+$Q$7),2) -> 12.73 | L15: =ROUND(I15*(1+$Q$7),2) -> 8.78 | M15: =ROUND(J15*(1+$Q$7),2) -> 21.52 | N15: =Q15*$N$27/$Q$27 -> 0.19617836 | O15: =ROUND(($K15*$F15),2) -> 1069.32 | P15: =ROUND(($L15*$F15),2) -> 737.52 | Q15: =O15+P15 -> 1806.84
A16: 1.1.5 | B16: SINAPI | C16: 91884 | D16: =VLOOKUP($C16,'Sinapi 02-2026'!$A$1:$E$13176,2,0) -> LUVA PARA ELETRODUTO, PVC, ROSCÁVEL, DN 25 MM (3/4"), PARA CIRCUITOS TERMINAIS, INSTALADA EM PAREDE - FORNECIMENTO E INSTALAÇÃO. AF_03/2023 | E16: =VLOOKUP($C16,'Sinapi 02-2026'!$A$1:$E$13176,3,0) -> UN | F16: =F15/3 -> 28 | G16: =VLOOKUP($C16,'Sinapi 02-2026'!$A$1:$E$13176,5,0) -> 0.8891 | H16: =G16*J16 -> 11.549409 | I16: =J16-H16 -> 1.440591 | J16: =VLOOKUP($C16,'Sinapi 02-2026'!$A$1:$E$13176,4,0) -> 12.99 | K16: =ROUND(H16*(1+$Q$7),2) -> 14.17 | L16: =ROUND(I16*(1+$Q$7),2) -> 1.77 | M16: =ROUND(J16*(1+$Q$7),2) -> 15.94 | N16: =Q16*$N$27/$Q$27 -> 0.048459369 | O16: =ROUND(($K16*$F16),2) -> 396.76 | P16: =ROUND(($L16*$F16),2) -> 49.56 | Q16: =O16+P16 -> 446.32
A17: 1.1.6 | B17: SINAPI | C17: 104396 | D17: =VLOOKUP($C17,'Sinapi 02-2026'!$A$1:$E$13176,2,0) -> CONDULETE DE PVC, TIPO E, PARA ELETRODUTO DE PVC SOLDÁVEL DN 25 MM (3/4''), APARENTE - FORNECIMENTO E INSTALAÇÃO. AF_01/2026 | E17: =VLOOKUP($C17,'Sinapi 02-2026'!$A$1:$E$13176,3,0) -> UN | F17: 2 | G17: =VLOOKUP($C17,'Sinapi 02-2026'!$A$1:$E$13176,5,0) -> 0.4686 | H17: =G17*J17 -> 10.159248 | I17: =J17-H17 -> 11.520752 | J17: =VLOOKUP($C17,'Sinapi 02-2026'!$A$1:$E$13176,4,0) -> 21.68 | K17: =ROUND(H17*(1+$Q$7),2) -> 12.46 | L17: =ROUND(I17*(1+$Q$7),2) -> 14.13 | M17: =ROUND(J17*(1+$Q$7),2) -> 26.6 | N17: =Q17*$N$27/$Q$27 -> 0.0057740394 | O17: =ROUND(($K17*$F17),2) -> 24.92 | P17: =ROUND(($L17*$F17),2) -> 28.26 | Q17: =O17+P17 -> 53.18
A18: 1.1.7 | B18: SINAPI | C18: 95814 | D18: =VLOOKUP($C18,'Sinapi 02-2026'!$A$1:$E$13176,2,0) -> CONDULETE DE PVC, TIPO TB, PARA ELETRODUTO DE PVC SOLDÁVEL DN 25 MM (3/4''), APARENTE - FORNECIMENTO E INSTALAÇÃO. AF_01/2026 | E18: =VLOOKUP($C18,'Sinapi 02-2026'!$A$1:$E$13176,3,0) -> UN | F18: 6 | G18: =VLOOKUP($C18,'Sinapi 02-2026'!$A$1:$E$13176,5,0) -> 0.3181 | H18: =G18*J18 -> 6.810521 | I18: =J18-H18 -> 14.599479 | J18: =VLOOKUP($C18,'Sinapi 02-2026'!$A$1:$E$13176,4,0) -> 21.41 | K18: =ROUND(H18*(1+$Q$7),2) -> 8.36 | L18: =ROUND(I18*(1+$Q$7),2) -> 17.91 | M18: =ROUND(J18*(1+$Q$7),2) -> 26.27 | N18: =Q18*$N$27/$Q$27 -> 0.017113653 | O18: =ROUND(($K18*$F18),2) -> 50.16 | P18: =ROUND(($L18*$F18),2) -> 107.46 | Q18: =O18+P18 -> 157.62
A19: 1.1.8 | B19: SINAPI | C19: 104404 | D19: =VLOOKUP($C19,'Sinapi 02-2026'!$A$1:$E$13176,2,0) -> CONDULETE DE PVC, TIPO T, PARA ELETRODUTO DE PVC SOLDÁVEL DN 25 MM (3/4''), APARENTE - FORNECIMENTO E INSTALAÇÃO. AF_01/2026 | E19: =VLOOKUP($C19,'Sinapi 02-2026'!$A$1:$E$13176,3,0) -> UN | F19: 2 | G19: =VLOOKUP($C19,'Sinapi 02-2026'!$A$1:$E$13176,5,0) -> 0.5028 | H19: =G19*J19 -> 15.290148 | I19: =J19-H19 -> 15.119852 | J19: =VLOOKUP($C19,'Sinapi 02-2026'!$A$1:$E$13176,4,0) -> 30.41 | K19: =ROUND(H19*(1+$Q$7),2) -> 18.76 | L19: =ROUND(I19*(1+$Q$7),2) -> 18.55 | M19: =ROUND(J19*(1+$Q$7),2) -> 37.31 | N19: =Q19*$N$27/$Q$27 -> 0.0081018958 | O19: =ROUND(($K19*$F19),2) -> 37.52 | P19: =ROUND(($L19*$F19),2) -> 37.1 | Q19: =O19+P19 -> 74.62
A20: 1.1.9 | B20: SINAPI | C20: 95808 | D20: =VLOOKUP($C20,'Sinapi 02-2026'!$A$1:$E$13176,2,0) -> CONDULETE DE PVC, TIPO LL, PARA ELETRODUTO DE PVC SOLDÁVEL DN 25 MM (3/4''), APARENTE - FORNECIMENTO E INSTALAÇÃO. AF_01/2026 | E20: =VLOOKUP($C20,'Sinapi 02-2026'!$A$1:$E$13176,3,0) -> UN | F20: 5 | G20: =VLOOKUP($C20,'Sinapi 02-2026'!$A$1:$E$13176,5,0) -> 0.4883 | H20: =G20*J20 -> 13.569857 | I20: =J20-H20 -> 14.220143 | J20: =VLOOKUP($C20,'Sinapi 02-2026'!$A$1:$E$13176,4,0) -> 27.79 | K20: =ROUND(H20*(1+$Q$7),2) -> 16.65 | L20: =ROUND(I20*(1+$Q$7),2) -> 17.45 | M20: =ROUND(J20*(1+$Q$7),2) -> 34.09 | N20: =Q20*$N$27/$Q$27 -> 0.018512105 | O20: =ROUND(($K20*$F20),2) -> 83.25 | P20: =ROUND(($L20*$F20),2) -> 87.25 | Q20: =O20+P20 -> 170.5
A21: 1.1.10 | B21: CPU | C21: ='COMPOSIÇÕES CRIADAS'!B20 -> 3 | D21: ='COMPOSIÇÕES CRIADAS'!C20 -> CABO PARA ALARME/DETECÇÃO INCÊNDIO 1X2X1,00 MM² - FORNECIMENTO E INSTALAÇÃO | E21: ='COMPOSIÇÕES CRIADAS'!D20 -> M | F21: =F15 -> 84 | G21: =H21/J21 -> 0.62828485 | H21: ='COMPOSIÇÕES CRIADAS'!L20 -> 10.4015 | I21: ='COMPOSIÇÕES CRIADAS'!K20 -> 6.1538889 | J21: ='COMPOSIÇÕES CRIADAS'!M20 -> 16.555389 | K21: =ROUND(H21*(1+$Q$7),2) -> 12.76 | L21: =ROUND(I21*(1+$Q$7),2) -> 7.55 | M21: =ROUND(J21*(1+$Q$7),2) -> 20.31 | N21: =Q21*$N$27/$Q$27 -> 0.18523396 | O21: =ROUND(($K21*$F21),2) -> 1071.84 | P21: =ROUND(($L21*$F21),2) -> 634.2 | Q21: =O21+P21 -> 1706.04
A22: 1.1.11 | B22: CPU | C22: ='COMPOSIÇÕES CRIADAS'!B27 -> 4 | D22: ='COMPOSIÇÕES CRIADAS'!C27 -> PLACA DE SINALIZACAO DE SEGURANCA CONTRA INCENDIO, FOTOLUMINESCENTE, QUADRADA, *20 X 20* CM, EM PVC *2* MM ANTI-CHAMAS (SIMBOLOS, CORES E PICTOGRAMAS CONFORME NBR 16820) - FORNECIMENTO E INSTALAÇÃO | E22: ='COMPOSIÇÕES CRIADAS'!D27 -> UN | F22: 6 | G22: =H22/J22 -> 0.090399388 | H22: ='COMPOSIÇÕES CRIADAS'!L27 -> 2.0691667 | I22: ='COMPOSIÇÕES CRIADAS'!K27 -> 20.82 | J22: ='COMPOSIÇÕES CRIADAS'!M27 -> 22.889167 | K22: =ROUND(H22*(1+$Q$7),2) -> 2.54 | L22: =ROUND(I22*(1+$Q$7),2) -> 25.54 | M22: =ROUND(J22*(1+$Q$7),2) -> 28.08 | N22: =Q22*$N$27/$Q$27 -> 0.018292782 | O22: =ROUND(($K22*$F22),2) -> 15.24 | P22: =ROUND(($L22*$F22),2) -> 153.24 | Q22: =O22+P22 -> 168.48
A23: SUBTOTAL | O23: =SUM(O12:O22) -> 2901.05 | P23: =SUM(P12:P22) -> 3575.06 | Q23: =SUM(Q12:Q22) -> 6476.11
A24: 1.2 | B24: BARRAS ANTIPÂNICO
A25: 1.2.1 | B25: CPU | C25: ='COMPOSIÇÕES CRIADAS'!B33 -> 5 | D25: ='COMPOSIÇÕES CRIADAS'!C33 -> BARRA ANTIPANICO SIMPLES, COM FECHADURA LADO OPOSTO, COR CINZA - FORNECIMENTO E INSTALAÇÃO | E25: ='COMPOSIÇÕES CRIADAS'!D33 -> UN | F25: 2 | G25: =H25/J25 -> 0.075059903 | H25: ='COMPOSIÇÕES CRIADAS'!L33 -> 83.64 | I25: ='COMPOSIÇÕES CRIADAS'!K33 -> 1030.67 | J25: ='COMPOSIÇÕES CRIADAS'!M33 -> 1114.31 | K25: =ROUND(H25*(1+$Q$7),2) -> 102.61 | L25: =ROUND(I25*(1+$Q$7),2) -> 1264.43 | M25: =ROUND(J25*(1+$Q$7),2) -> 1367.04 | N25: =Q25*$N$27/$Q$27 -> 0.29685381 | O25: =ROUND(($K25*$F25),2) -> 205.22 | P25: =ROUND(($L25*$F25),2) -> 2528.86 | Q25: =O25+P25 -> 2734.08
A26: SUBTOTAL | O26: =SUM(O25) -> 205.22 | P26: =SUM(P25) -> 2528.86 | Q26: =SUM(Q25) -> 2734.08
A27: TOTAL | N27: 1 | O27: =SUMIF(A10:J26,"SUBTOTAL",O10:O26) -> 3106.27 | P27: =SUMIF($A$8:$J$26,"SUBTOTAL",P8:P26) -> 6103.92 | Q27: =SUMIF($A$8:$J$26,"SUBTOTAL",Q8:Q26) -> 9210.19
O29: São José do Hortêncio, 10 de abril de 2026.
H36: Ester Elisa Dill Koch | O36: Jéferson Born
H37: Prefeita | O37: Eng. Civil - CREA RS 183227

Sheet MEMÓRIA DE CALCULO
A1: Memória de Cálculo
A2: ='PLANILHA ORÇAMENTÁRIA'!A2 -> PPCI - EMEI SONHO MEU
A3: ='PLANILHA ORÇAMENTÁRIA'!A5 -> SINAPI - COMPOSIÇÕES SINTÉTICAS RS 02/2026 - NÃO DESONERADO
A4: ='PLANILHA ORÇAMENTÁRIA'!A6 -> ORSE - COMPOSIÇÕES 01/2026 - NÃO DESONERADO
A6: ITEM | B6: FONTE | C6: CÓDIGO | D6: DESCRIÇÃO DOS SERVIÇOS | E6: UNIDADE | F6: QUANTIDADE | G6: DESCRITIVO
A8: 1 | B8: ='PLANILHA ORÇAMENTÁRIA'!B10 -> PROJETO DE PREVENÇÃO CONTRA INCÊNDIO - ÁREA: 1703,10 M²
A9: ='PLANILHA ORÇAMENTÁRIA'!A11 -> 1.1 | B9: ='PLANILHA ORÇAMENTÁRIA'!B11 -> ALARME DE INCÊNDIO
A10: ='PLANILHA ORÇAMENTÁRIA'!A12 -> 1.1.1 | B10: ='PLANILHA ORÇAMENTÁRIA'!B12 -> CPU | C10: ='PLANILHA ORÇAMENTÁRIA'!C12 -> 1 | D10: ='PLANILHA ORÇAMENTÁRIA'!D12 -> CENTRAL DE ALARME DE INCÊNDIO CONVENCIONAL, 6 LAÇOS, COM BATERIA - MODELO DE REFERÊNCIA INTELBRAS CIC 06 | E10: ='PLANILHA ORÇAMENTÁRIA'!E12 -> UN | F10: ='PLANILHA ORÇAMENTÁRIA'!F12 -> 1 | G10: Conforme quantitativo do projeto
A11: ='PLANILHA ORÇAMENTÁRIA'!A13 -> 1.1.2 | B11: ='PLANILHA ORÇAMENTÁRIA'!B13 -> CPU | C11: ='PLANILHA ORÇAMENTÁRIA'!C13 -> 2 | D11: ='PLANILHA ORÇAMENTÁRIA'!D13 -> SIRENE AUDIOVISUAL - FORNECIMENTO E INSTALAÇÃO | E11: ='PLANILHA ORÇAMENTÁRIA'!E13 -> UN | F11: ='PLANILHA ORÇAMENTÁRIA'!F13 -> 5 | G11: Conforme quantitativo do projeto
A12: ='PLANILHA ORÇAMENTÁRIA'!A14 -> 1.1.3 | B12: ='PLANILHA ORÇAMENTÁRIA'!B14 -> ORSE | C12: ='PLANILHA ORÇAMENTÁRIA'!C14 -> 11979 | D12: ='PLANILHA ORÇAMENTÁRIA'!D14 -> ACIONADOR MANUAL CONVENCIONAL - FORNECIMENTO E INSTALAÇÃO | E12: ='PLANILHA ORÇAMENTÁRIA'!E14 -> UN | F12: ='PLANILHA ORÇAMENTÁRIA'!F14 -> 5 | G12: Conforme quantitativo do projeto
A13: ='PLANILHA ORÇAMENTÁRIA'!A15 -> 1.1.4 | B13: ='PLANILHA ORÇAMENTÁRIA'!B15 -> SINAPI | C13: ='PLANILHA ORÇAMENTÁRIA'!C15 -> 91871 | D13: ='PLANILHA ORÇAMENTÁRIA'!D15 -> ELETRODUTO RÍGIDO ROSCÁVEL, PVC, DN 25 MM (3/4"), PARA CIRCUITOS TERMINAIS, INSTALADO EM PAREDE - FORNECIMENTO E INSTALAÇÃO. AF_03/2023 | E13: ='PLANILHA ORÇAMENTÁRIA'!E15 -> M | F13: ='PLANILHA ORÇAMENTÁRIA'!F15 -> 84 | G13: Conforme quantitativo do projeto
A14: ='PLANILHA ORÇAMENTÁRIA'!A16 -> 1.1.5 | B14: ='PLANILHA ORÇAMENTÁRIA'!B16 -> SINAPI | C14: ='PLANILHA ORÇAMENTÁRIA'!C16 -> 91884 | D14: ='PLANILHA ORÇAMENTÁRIA'!D16 -> LUVA PARA ELETRODUTO, PVC, ROSCÁVEL, DN 25 MM (3/4"), PARA CIRCUITOS TERMINAIS, INSTALADA EM PAREDE - FORNECIMENTO E INSTALAÇÃO. AF_03/2023 | E14: ='PLANILHA ORÇAMENTÁRIA'!E16 -> UN | F14: ='PLANILHA ORÇAMENTÁRIA'!F16 -> 28 | G14: Conforme quantitativo do projeto
A15: ='PLANILHA ORÇAMENTÁRIA'!A17 -> 1.1.6 | B15: ='PLANILHA ORÇAMENTÁRIA'!B17 -> SINAPI | C15: ='PLANILHA ORÇAMENTÁRIA'!C17 -> 104396 | D15: ='PLANILHA ORÇAMENTÁRIA'!D17 -> CONDULETE DE PVC, TIPO E, PARA ELETRODUTO DE PVC SOLDÁVEL DN 25 MM (3/4''), APARENTE - FORNECIMENTO E INSTALAÇÃO. AF_01/2026 | E15: ='PLANILHA ORÇAMENTÁRIA'!E17 -> UN | F15: ='PLANILHA ORÇAMENTÁRIA'!F17 -> 2 | G15: Conforme quantitativo do projeto
A16: ='PLANILHA ORÇAMENTÁRIA'!A18 -> 1.1.7 | B16: ='PLANILHA ORÇAMENTÁRIA'!B18 -> SINAPI | C16: ='PLANILHA ORÇAMENTÁRIA'!C18 -> 95814 | D16: ='PLANILHA ORÇAMENTÁRIA'!D18 -> CONDULETE DE PVC, TIPO TB, PARA ELETRODUTO DE PVC SOLDÁVEL DN 25 MM (3/4''), APARENTE - FORNECIMENTO E INSTALAÇÃO. AF_01/2026 | E16: ='PLANILHA ORÇAMENTÁRIA'!E18 -> UN | F16: ='PLANILHA ORÇAMENTÁRIA'!F18 -> 6 | G16: Conforme quantitativo do projeto
A17: ='PLANILHA ORÇAMENTÁRIA'!A19 -> 1.1.8 | B17: ='PLANILHA ORÇAMENTÁRIA'!B19 -> SINAPI | C17: ='PLANILHA ORÇAMENTÁRIA'!C19 -> 104404 | D17: ='PLANILHA ORÇAMENTÁRIA'!D19 -> CONDULETE DE PVC, TIPO T, PARA ELETRODUTO DE PVC SOLDÁVEL DN 25 MM (3/4''), APARENTE - FORNECIMENTO E INSTALAÇÃO. AF_01/2026 | E17: ='PLANILHA ORÇAMENTÁRIA'!E19 -> UN | F17: ='PLANILHA ORÇAMENTÁRIA'!F19 -> 2 | G17: Conforme quantitativo do projeto
A18: ='PLANILHA ORÇAMENTÁRIA'!A20 -> 1.1.9 | B18: ='PLANILHA ORÇAMENTÁRIA'!B20 -> SINAPI | C18: ='PLANILHA ORÇAMENTÁRIA'!C20 -> 95808 | D18: ='PLANILHA ORÇAMENTÁRIA'!D20 -> CONDULETE DE PVC, TIPO LL, PARA ELETRODUTO DE PVC SOLDÁVEL DN 25 MM (3/4''), APARENTE - FORNECIMENTO E INSTALAÇÃO. AF_01/2026 | E18: ='PLANILHA ORÇAMENTÁRIA'!E20 -> UN | F18: ='PLANILHA ORÇAMENTÁRIA'!F20 -> 5 | G18: Conforme quantitativo do projeto
A19: ='PLANILHA ORÇAMENTÁRIA'!A21 -> 1.1.10 | B19: ='PLANILHA ORÇAMENTÁRIA'!B21 -> CPU | C19: ='PLANILHA ORÇAMENTÁRIA'!C21 -> 3 | D19: ='PLANILHA ORÇAMENTÁRIA'!D21 -> CABO PARA ALARME/DETECÇÃO INCÊNDIO 1X2X1,00 MM² - FORNECIMENTO E INSTALAÇÃO | E19: ='PLANILHA ORÇAMENTÁRIA'!E21 -> M | F19: ='PLANILHA ORÇAMENTÁRIA'!F21 -> 84 | G19: Conforme quantitativo do projeto
A20: ='PLANILHA ORÇAMENTÁRIA'!A22 -> 1.1.11 | B20: ='PLANILHA ORÇAMENTÁRIA'!B22 -> CPU | C20: ='PLANILHA ORÇAMENTÁRIA'!C22 -> 4 | D20: ='PLANILHA ORÇAMENTÁRIA'!D22 -> PLACA DE SINALIZACAO DE SEGURANCA CONTRA INCENDIO, FOTOLUMINESCENTE, QUADRADA, *20 X 20* CM, EM PVC *2* MM ANTI-CHAMAS (SIMBOLOS, CORES E PICTOGRAMAS CONFORME NBR 16820) - FORNECIMENTO E INSTALAÇÃO | E20: ='PLANILHA ORÇAMENTÁRIA'!E22 -> UN | F20: ='PLANILHA ORÇAMENTÁRIA'!F22 -> 6 | G20: Conforme quantitativo do projeto
A22: ='PLANILHA ORÇAMENTÁRIA'!A24 -> 1.2 | B22: ='PLANILHA ORÇAMENTÁRIA'!B24 -> BARRAS ANTIPÂNICO
A23: ='PLANILHA ORÇAMENTÁRIA'!A25 -> 1.2.1 | B23: ='PLANILHA ORÇAMENTÁRIA'!B25 -> CPU | C23: ='PLANILHA ORÇAMENTÁRIA'!C25 -> 5 | D23: ='PLANILHA ORÇAMENTÁRIA'!D25 -> BARRA ANTIPANICO SIMPLES, COM FECHADURA LADO OPOSTO, COR CINZA - FORNECIMENTO E INSTALAÇÃO | E23: ='PLANILHA ORÇAMENTÁRIA'!E25 -> UN | F23: ='PLANILHA ORÇAMENTÁRIA'!F25 -> 2 | G23: Conforme quantitativo do projeto
C26: Ester Elisa Dill Koch | G26: Jéferson Born
C27: Prefeita | G27: Eng. Civil - CREA RS 183227

Sheet COMPOSIÇÕES CRIADAS
A1: COMPOSIÇÕES CRIADAS
A2: PPCI - EMEI SONHO MEU
A3: Endereço da obra: rua 33, nº 204, São José do Hortêncio/RS
A6: CPU | B6: 1 | C6: CENTRAL DE ALARME DE INCÊNDIO CONVENCIONAL, 6 LAÇOS, COM BATERIA - MODELO DE REFERÊNCIA INTELBRAS CIC 06 | D6: UN | K6: =SUM(K8:K10) -> 567.71333 | L6: =SUM(L8:L10) -> 29.34 | M6: =SUM(M8:M10) -> 597.05333
A7: TIPO | B7: CÓDIGO | C7: DESCRIÇÃO | D7: UN | E7: CONSUMO | F7: % MAT | G7: MAT - unitário | H7: % MO | I7: MO - unitário | J7: VALOR UNITÁRIO | K7: MAT - total | L7: MO - total | M7: TOTAL
A8: COTAÇÃO | B8: =COTAÇÕES!A6 -> 1 | C8: =COTAÇÕES!B6 -> Central de alarme de incêndio convencional, 6 laços, com bateria - modelo de referência Intelbras CIC 06 | D8: =D6 -> UN | E8: 1 | F8: =1-H8 -> 1 | G8: =F8*J8 -> 567.71333 | H8: 0 | I8: =H8*J8 -> 0 | J8: =COTAÇÕES!F11 -> 567.71333 | K8: =E8*G8 -> 567.71333 | L8: =I8*E8 -> 0 | M8: =SUM(K8+L8) -> 567.71333
A9: COMPOSICAO | B9: 88247 | C9: =VLOOKUP($B9,'Sinapi 02-2026'!$A$1:$E$13176,2,0) -> AUXILIAR DE ELETRICISTA COM ENCARGOS COMPLEMENTARES | D9: =VLOOKUP($B9,'Sinapi 02-2026'!$A$1:$E$13176,3,0) -> H | E9: 0.5 | F9: =1-H9 -> 0 | G9: =F9*J9 -> 0 | H9: =VLOOKUP($B9,'Sinapi 02-2026'!$A$1:$E$13176,5,0) -> 1 | I9: =H9*J9 -> 26.69 | J9: =VLOOKUP($B9,'Sinapi 02-2026'!$A$1:$E$13176,4,0) -> 26.69 | K9: =E9*G9 -> 0 | L9: =I9*E9 -> 13.345 | M9: =SUM(K9+L9) -> 13.345
A10: COMPOSICAO | B10: 88264 | C10: =VLOOKUP($B10,'Sinapi 02-2026'!$A$1:$E$13176,2,0) -> ELETRICISTA COM ENCARGOS COMPLEMENTARES | D10: =VLOOKUP($B10,'Sinapi 02-2026'!$A$1:$E$13176,3,0) -> H | E10: 0.5 | F10: =1-H10 -> 0 | G10: =F10*J10 -> 0 | H10: =VLOOKUP($B10,'Sinapi 02-2026'!$A$1:$E$13176,5,0) -> 1 | I10: =H10*J10 -> 31.99 | J10: =VLOOKUP($B10,'Sinapi 02-2026'!$A$1:$E$13176,4,0) -> 31.99 | K10: =E10*G10 -> 0 | L10: =I10*E10 -> 15.995 | M10: =SUM(K10+L10) -> 15.995
C11: Referência de preço Sinapi 02/2026
A13: CPU | B13: 2 | C13: SIRENE AUDIOVISUAL - FORNECIMENTO E INSTALAÇÃO | D13: UN | K13: =SUM(K15:K17) -> 99.626667 | L13: =SUM(L15:L17) -> 10.4015 | M13: =SUM(M15:M17) -> 110.02817
A14: TIPO | B14: CÓDIGO | C14: DESCRIÇÃO | D14: UN | E14: CONSUMO | F14: % MAT | G14: MAT - unitário | H14: % MO | I14: MO - unitário | J14: VALOR UNITÁRIO | K14: MAT - total | L14: MO - total | M14: TOTAL
A15: COTAÇÃO | B15: =COTAÇÕES!A14 -> 2 | C15: =COTAÇÕES!B14 -> Sirene Audiovisual | D15: =D13 -> UN | E15: 1 | F15: =1-H15 -> 1 | G15: =F15*J15 -> 99.626667 | H15: 0 | I15: =H15*J15 -> 0 | J15: =COTAÇÕES!F19 -> 99.626667 | K15: =E15*G15 -> 99.626667 | L15: =I15*E15 -> 0 | M15: =SUM(K15+L15) -> 99.626667
A16: COMPOSICAO | B16: 88247 | C16: =VLOOKUP($B16,'Sinapi 02-2026'!$A$1:$E$13176,2,0) -> AUXILIAR DE ELETRICISTA COM ENCARGOS COMPLEMENTARES | D16: =VLOOKUP($B16,'Sinapi 02-2026'!$A$1:$E$13176,3,0) -> H | E16: 0.15 | F16: =1-H16 -> 0 | G16: =F16*J16 -> 0 | H16: =VLOOKUP($B16,'Sinapi 02-2026'!$A$1:$E$13176,5,0) -> 1 | I16: =H16*J16 -> 26.69 | J16: =VLOOKUP($B16,'Sinapi 02-2026'!$A$1:$E$13176,4,0) -> 26.69 | K16: =E16*G16 -> 0 | L16: =I16*E16 -> 4.0035 | M16: =SUM(K16+L16) -> 4.0035
A17: COMPOSICAO | B17: 88264 | C17: =VLOOKUP($B17,'Sinapi 02-2026'!$A$1:$E$13176,2,0) -> ELETRICISTA COM ENCARGOS COMPLEMENTARES | D17: =VLOOKUP($B17,'Sinapi 02-2026'!$A$1:$E$13176,3,0) -> H | E17: 0.2 | F17: =1-H17 -> 0 | G17: =F17*J17 -> 0 | H17: =VLOOKUP($B17,'Sinapi 02-2026'!$A$1:$E$13176,5,0) -> 1 | I17: =H17*J17 -> 31.99 | J17: =VLOOKUP($B17,'Sinapi 02-2026'!$A$1:$E$13176,4,0) -> 31.99 | K17: =E17*G17 -> 0 | L17: =I17*E17 -> 6.398 | M17: =SUM(K17+L17) -> 6.398
C18: Referência de preço Sinapi 02/2026
A20: CPU | B20: 3 | C20: CABO PARA ALARME/DETECÇÃO INCÊNDIO 1X2X1,00 MM² - FORNECIMENTO E INSTALAÇÃO | D20: M | K20: =SUM(K22:K24) -> 6.1538889 | L20: =SUM(L22:L24) -> 10.4015 | M20: =SUM(M22:M24) -> 16.555389
A21: TIPO | B21: CÓDIGO | C21: DESCRIÇÃO | D21: UN | E21: CONSUMO | F21: % MAT | G21: MAT - unitário | H21: % MO | I21: MO - unitário | J21: VALOR UNITÁRIO | K21: MAT - total | L21: MO - total | M21: TOTAL
A22: COTAÇÃO | B22: =COTAÇÕES!A22 -> 3 | C22: =COTAÇÕES!B22 -> Cabo para alarme/detecção incêndio 1x2x1,00mm² | D22: =D20 -> M | E22: 1 | F22: =1-H22 -> 1 | G22: =F22*J22 -> 6.1538889 | H22: 0 | I22: =H22*J22 -> 0 | J22: =COTAÇÕES!F27 -> 6.1538889 | K22: =E22*G22 -> 6.1538889 | L22: =I22*E22 -> 0 | M22: =SUM(K22+L22) -> 6.1538889
A23: COMPOSICAO | B23: 88247 | C23: =VLOOKUP($B23,'Sinapi 02-2026'!$A$1:$E$13176,2,0) -> AUXILIAR DE ELETRICISTA COM ENCARGOS COMPLEMENTARES | D23: =VLOOKUP($B23,'Sinapi 02-2026'!$A$1:$E$13176,3,0) -> H | E23: 0.15 | F23: =1-H23 -> 0 | G23: =F23*J23 -> 0 | H23: =VLOOKUP($B23,'Sinapi 02-2026'!$A$1:$E$13176,5,0) -> 1 | I23: =H23*J23 -> 26.69 | J23: =VLOOKUP($B23,'Sinapi 02-2026'!$A$1:$E$13176,4,0) -> 26.69 | K23: =E23*G23 -> 0 | L23: =I23*E23 -> 4.0035 | M23: =SUM(K23+L23) -> 4.0035
A24: COMPOSICAO | B24: 88264 | C24: =VLOOKUP($B24,'Sinapi 02-2026'!$A$1:$E$13176,2,0) -> ELETRICISTA COM ENCARGOS COMPLEMENTARES | D24: =VLOOKUP($B24,'Sinapi 02-2026'!$A$1:$E$13176,3,0) -> H | E24: 0.2 | F24: =1-H24 -> 0 | G24: =F24*J24 -> 0 | H24: =VLOOKUP($B24,'Sinapi 02-2026'!$A$1:$E$13176,5,0) -> 1 | I24: =H24*J24 -> 31.99 | J24: =VLOOKUP($B24,'Sinapi 02-2026'!$A$1:$E$13176,4,0) -> 31.99 | K24: =E24*G24 -> 0 | L24: =I24*E24 -> 6.398 | M24: =SUM(K24+L24) -> 6.398
C25: Referência de preço Sinapi 02/2026
A27: CPU | B27: 4 | C27: PLACA DE SINALIZACAO DE SEGURANCA CONTRA INCENDIO, FOTOLUMINESCENTE, QUADRADA, *20 X 20* CM, EM PVC *2* MM ANTI-CHAMAS (SIMBOLOS, CORES E PICTOGRAMAS CONFORME NBR 16820) - FORNECIMENTO E INSTALAÇÃO | D27: UN | K27: =SUM(K29:K30) -> 20.82 | L27: =SUM(L29:L30) -> 2.0691667 | M27: =SUM(M29:M30) -> 22.889167
A28: TIPO | B28: CÓDIGO | C28: DESCRIÇÃO | D28: UN | E28: CONSUMO | F28: % MAT | G28: MAT - unitário | H28: % MO | I28: MO - unitário | J28: VALOR UNITÁRIO | K28: MAT - total | L28: MO - total | M28: TOTAL
A29: INSUMO | B29: 37556 | C29: =VLOOKUP($B29,'Sinapi 02-2026'!$A$1:$E$13176,2,0) -> PLACA DE SINALIZACAO DE SEGURANCA CONTRA INCENDIO, FOTOLUMINESCENTE, QUADRADA, *20 X 20* CM, EM PVC *2* MM ANTI-CHAMAS (SIMBOLOS, CORES E PICTOGRAMAS CONFORME NBR 16820) | D29: =VLOOKUP($B29,'Sinapi 02-2026'!$A$1:$E$13176,3,0) -> UN | E29: 1 | F29: =1-H29 -> 1 | G29: =F29*J29 -> 20.82 | H29: =VLOOKUP($B29,'Sinapi 02-2026'!$A$1:$E$13176,5,0) -> 0 | I29: =H29*J29 -> 0 | J29: =VLOOKUP($B29,'Sinapi 02-2026'!$A$1:$E$13176,4,0) -> 20.82 | K29: =E29*G29 -> 20.82 | L29: =I29*E29 -> 0 | M29: =SUM(K29+L29) -> 20.82
A30: COMPOSICAO | B30: 88316 | C30: =VLOOKUP($B30,'Sinapi 02-2026'!$A$1:$E$13176,2,0) -> SERVENTE COM ENCARGOS COMPLEMENTARES | D30: =VLOOKUP($B30,'Sinapi 02-2026'!$A$1:$E$13176,3,0) -> H | E30: =5/60 -> 0.083333333 | F30: =1-H30 -> 0 | G30: =F30*J30 -> 0 | H30: =VLOOKUP($B30,'Sinapi 02-2026'!$A$1:$E$13176,5,0) -> 1 | I30: =H30*J30 -> 24.83 | J30: =VLOOKUP($B30,'Sinapi 02-2026'!$A$1:$E$13176,4,0) -> 24.83 | K30: =E30*G30 -> 0 | L30: =I30*E30 -> 2.0691667 | M30: =SUM(K30+L30) -> 2.0691667 | N30: CONSIDERADO 5 MIN POR PLACA
C31: Referência de preço Sinapi 02/2026
A33: CPU | B33: 5 | C33: BARRA ANTIPANICO SIMPLES, COM FECHADURA LADO OPOSTO, COR CINZA - FORNECIMENTO E INSTALAÇÃO | D33: UN | K33: =SUM(K35:K37) -> 1030.67 | L33: =SUM(L35:L37) -> 83.64 | M33: =SUM(M35:M37) -> 1114.31
A34: TIPO | B34: CÓDIGO | C34: DESCRIÇÃO | D34: UN | E34: CONSUMO | F34: % MAT | G34: MAT - unitário | H34: % MO | I34: MO - unitário | J34: VALOR UNITÁRIO | K34: MAT - total | L34: MO - total | M34: TOTAL
A35: INSUMO | B35: 39620 | C35: =VLOOKUP($B35,'Sinapi 02-2026'!$A$1:$E$13176,2,0) -> BARRA ANTIPANICO SIMPLES, COM FECHADURA LADO OPOSTO, COR CINZA | D35: =VLOOKUP($B35,'Sinapi 02-2026'!$A$1:$E$13176,3,0) -> UN | E35: 1 | F35: =1-H35 -> 1 | G35: =F35*J35 -> 1030.67 | H35: =VLOOKUP($B35,'Sinapi 02-2026'!$A$1:$E$13176,5,0) -> 0 | I35: =H35*J35 -> 0 | J35: =VLOOKUP($B35,'Sinapi 02-2026'!$A$1:$E$13176,4,0) -> 1030.67 | K35: =E35*G35 -> 1030.67 | L35: =I35*E35 -> 0 | M35: =SUM(K35+L35) -> 1030.67
A36: COMPOSICAO | B36: 88251 | C36: =VLOOKUP($B36,'Sinapi 02-2026'!$A$1:$E$13176,2,0) -> AUXILIAR DE SERRALHEIRO COM ENCARGOS COMPLEMENTARES | D36: =VLOOKUP($B36,'Sinapi 02-2026'!$A$1:$E$13176,3,0) -> H | E36: 1.5 | F36: =1-H36 -> 0 | G36: =F36*J36 -> 0 | H36: =VLOOKUP($B36,'Sinapi 02-2026'!$A$1:$E$13176,5,0) -> 1 | I36: =H36*J36 -> 26.1 | J36: =VLOOKUP($B36,'Sinapi 02-2026'!$A$1:$E$13176,4,0) -> 26.1 | K36: =E36*G36 -> 0 | L36: =I36*E36 -> 39.15 | M36: =SUM(K36+L36) -> 39.15
A37: COMPOSICAO | B37: 88315 | C37: =VLOOKUP($B37,'Sinapi 02-2026'!$A$1:$E$13176,2,0) -> SERRALHEIRO COM ENCARGOS COMPLEMENTARES | D37: =VLOOKUP($B37,'Sinapi 02-2026'!$A$1:$E$13176,3,0) -> H | E37: 1.5 | F37: =1-H37 -> 0 | G37: =F37*J37 -> 0 | H37: =VLOOKUP($B37,'Sinapi 02-2026'!$A$1:$E$13176,5,0) -> 1 | I37: =H37*J37 -> 29.66 | J37: =VLOOKUP($B37,'Sinapi 02-2026'!$A$1:$E$13176,4,0) -> 29.66 | K37: =E37*G37 -> 0 | L37: =I37*E37 -> 44.49 | M37: =SUM(K37+L37) -> 44.49
C38: Referência de preço Sinapi 02/2026

Sheet COTAÇÕES
A1: COTAÇÕES
A2: PPCI - EMEI SONHO MEU
A3: Endereço da obra: rua 33, nº 204, São José do Hortêncio/RS
A6: 1 | B6: Central de alarme de incêndio convencional, 6 laços, com bateria - modelo de referência Intelbras CIC 06
A7: Loja | B7: Link | C7: Acesso | D7: Valor Frete (R$) | E7: Custo Unitário (R$) | F7: Custo Total (R$)
A8: Upper Seg | B8: https://www.upperseg.com.br/deteccao-e-alarme-de-incendio/centrais/central-de-alarme-de-incendio-convencional-com-bateria-cic-06l-intelbras/?gad_source=1&gad_campaignid=17071887064&gbraid=0AAAAADtWOg9B1aHQH4VphBQA-LsOyKJx_&gclid=EAIaIQobChMI4rHxkrLAkgMViENIAB3qCAsQEAQYAiABEgIUVvD_BwE | C8: Acesso em 26.03.2026 às 14:05 | D8: 28.45 | E8: 536.9 | F8: =D8+E8 -> 565.35
A9: Net Alarmes | B9: https://www.netalarmes.com.br/central-alarme-de-incendio-intelbras-cic-06l-com-bateria?parceiro=8046&parceiro=8764&gad_source=1&gad_campaignid=23071295898&gbraid=0AAAAAD69lSQVyXV5qbZaxysnBbqAGIX_z&gclid=EAIaIQobChMI4rHxkrLAkgMViENIAB3qCAsQEAQYAyABEgK-SPD_BwE | C9: Acesso em 26.03.2026 às 14:06 | D9: 30.1 | E9: 575.69 | F9: =D9+E9 -> 605.79
A10: Magazine Luiza | B10: https://www.magazineluiza.com.br/central-de-alarme-de-incendio-cic-06l-c-bateria-intelbras/p/gd0b4cja99/pi/sise/?seller_id=visioshop | C10: Acesso em 26.03.2026 às 14:06 | D10: 0 | E10: 532 | F10: =D10+E10 -> 532
E11: MÉDIA | F11: =AVERAGE(F8:F10) -> 567.71333
A14: 2 | B14: Sirene Audiovisual
A15: Loja | B15: Link | C15: Acesso | D15: Valor Frete (R$) | E15: Custo Unitário (R$) | F15: Custo Total (R$)
A16: Net Alarmes | B16: https://www.netalarmes.com.br/alarme/alarme-de-incendio/sinalizador-audiovisual-convencional-intelbras-sav-420-c?parceiro=8046&parceiro=8764&gad_source=1&gad_campaignid=23071295898&gbraid=0AAAAAD69lSQVyXV5qbZaxysnBbqAGIX_z&gclid=EAIaIQobChMIhZuq5cDAkgMVJkxIAB1rzh8dEAQYBCABEgL1CPD_BwE | C16: Acesso em 26.03.2026 às 14:29 | D16: 19.84 | E16: 75.01 | F16: =D16+E16 -> 94.85
A17: Megathor | B17: https://www.megathor.com.br/sirene-audiovisual-convencional-intelbras-sav-420c?parceiro=2543&gad_source=1&gad_campaignid=17178546375&gbraid=0AAAAACBlDI2Z6_1RYBO6cJJFZIyCBkkR_&gclid=EAIaIQobChMIhZuq5cDAkgMVJkxIAB1rzh8dEAQYBSABEgIkxfD_BwE | C17: Acesso em 26.03.2026 às 14:30 | D17: 29 | E17: 82.85 | F17: =D17+E17 -> 111.85
A18: Upperseg | B18: https://www.upperseg.com.br/deteccao-e-alarme-de-incendio/acessorios/avisador-visual-e-sonoro-convencional-led-24vcc-slim-engesul/?gad_source=1&gad_campaignid=17071887064&gbraid=0AAAAADtWOg9B1aHQH4VphBQA-LsOyKJx_&gclid=EAIaIQobChMIhZuq5cDAkgMVJkxIAB1rzh8dEAQYBiABEgJB-_D_BwE | C18: Acesso em 26.03.2026 às 14:30 | D18: 22.28 | E18: 69.9 | F18: =D18+E18 -> 92.18
E19: MÉDIA | F19: =AVERAGE(F16:F18) -> 99.626667
A22: 3 | B22: Cabo para alarme/detecção incêndio 1x2x1,00mm²
A23: Loja | B23: Link | C23: Acesso | D23: Valor Frete (R$) | E23: Custo Unitário (R$) | F23: Custo Total (R$)
A24: CCABOS | B24: https://loja.ccabos.com.br/produtos/cabo-2x100mm-alarme-incendio-2vias-1px100mm-600v-vermelho/?variant=870733877&pf=mc&gad_source=1&gad_campaignid=22401485984&gbraid=0AAAAA-fAh9Iv6nHifMV3kJz45wKami1yy&gclid=EAIaIQobChMIv9vo-OLCkgMVDUVIAB2bFC74EAQYAiABEgJq8PD_BwE | C24: Acesso em 27.03.2026 às 13:51 | D24: 0 | E24: 4.56 | F24: =D24+E24 -> 4.56
A25: CONDUSCAMP | B25: https://loja.conduscamp.com.br/cabo-para-alarmedeteccao-incendio-1x2x100mm-vermelho-1/p?sku=6269752&utm_source=google&utm_medium=cpc&utm_campaign=ecom_pmax_incendio&utm_term=&gad_source=1&gad_campaignid=20249524932&gbraid=0AAAAADldM60XC7LI2fXGOB2T-2YCaxeSC&gclid=EAIaIQobChMIv9vo-OLCkgMVDUVIAB2bFC74EAQYASABEgIUcvD_BwE | C25: Acesso em 27.03.2026 às 13:53 | D25: =38.73/84 -> 0.46107143 | E25: =500.64/84 -> 5.96 | F25: =D25+E25 -> 6.4210714
A26: SANTIL | B26: https://www.santil.com.br/cabo-de-incendio-2x1-600v-105c-vermelho-gp-cabos/p?srsltid=AfmBOoooA_yAXSUY6XgLrwEEpljLVskzf3_4_iBL5xniTi8WpD5OoX8U | C26: Acesso em 27.03.2026 às 13:58 | D26: =152.09/84 -> 1.8105952 | E26: =476.28/84 -> 5.67 | F26: =D26+E26 -> 7.4805952
E27: MÉDIA | F27: =AVERAGE(F24:F26) -> 6.1538889

Sheet CRONOGRAMA
A1: CRONOGRAMA FÍSICO-FINANCEIRO Obra: PPCI - EMEI SONHO MEU
A2: ETAPAS DE 30 DIAS (Mensais)
A3: COD. | B3: DISCRIMINAÇÃO | C3: PREÇO | D3: PESO % | E3: Etapa 01 | F3: TOTAL
A5: 1 | B5: ='PLANILHA ORÇAMENTÁRIA'!B10 -> PROJETO DE PREVENÇÃO CONTRA INCÊNDIO - ÁREA: 1703,10 M² | C5: ='PLANILHA ORÇAMENTÁRIA'!Q27 -> 9210.19 | D5: =C5/$C$7 -> 1 | E5: =C5*E6 -> 9210.19 | F5: =SUM(E5:E5) -> 9210.19
E6: 1 | F6: =SUM(E6:E6) -> 1
B7: PREÇO GLOBAL (R$) | C7: =SUM(C5:C6) -> 9210.19 | D7: =C7/$C$7 -> 1 | E7: =E5 -> 9210.19 | F7: =SUM(E7:E7) -> 9210.19
B9: PERCENTAGENS (%) | C9: 1 | E9: =E$7/$C$7 -> 1
B10: PERCENTAGENS ACUMULADO | C10: 1 | E10: =E$7/$C$7 -> 1
D13: ='PLANILHA ORÇAMENTÁRIA'!O29 -> São José do Hortêncio, 10 de abril de 2026.
B17: Ester Elisa Dill Koch | D17: Jéferson Born
B18: Prefeita | D18: Eng. Civil - CREA RS 183227

Sheet BDI
E1: MIN | F1: MED | G1: MAX | L1: Quadro de Composição do BDI
A2: Construção e Reforma de Edifícios | B2: AC | C2: =CONCATENATE(A2,"-",B2) -> Construção e Reforma de Edifícios-AC | E2: 0.03 | F2: 0.04 | G2: 0.055
A3: =A2 -> Construção e Reforma de Edifícios | B3: SG | C3: =CONCATENATE(A3,"-",B3) -> Construção e Reforma de Edifícios-SG | E3: 0.008 | F3: 0.008 | G3: 0.01
A4: =A3 -> Construção e Reforma de Edifícios | B4: R | C4: =CONCATENATE(A4,"-",B4) -> Construção e Reforma de Edifícios-R | E4: 0.0097 | F4: 0.0127 | G4: 0.0127 | K4: PROPONENTE / TOMADOR
A5: =A4 -> Construção e Reforma de Edifícios | B5: DF | C5: =CONCATENATE(A5,"-",B5) -> Construção e Reforma de Edifícios-DF | E5: 0.0059 | F5: 0.0123 | G5: 0.0139 | K5: Prefeitura de São José do Hortêncio / RS
A6: =A5 -> Construção e Reforma de Edifícios | B6: L | C6: =CONCATENATE(A6,"-",B6) -> Construção e Reforma de Edifícios-L | E6: 0.0616 | F6: 0.074 | G6: 0.0896
A7: =A6 -> Construção e Reforma de Edifícios | B7: BDI PAD | C7: =CONCATENATE(A7,"-",B7) -> Construção e Reforma de Edifícios-BDI PAD | E7: 0.2034 | F7: 0.2212 | G7: 0.25 | I7: OBJETO
A8: Construção de Praças Urbanas, Rodovias, Ferrovias e recapeamento e pavimentação de vias urbanas | B8: AC | C8: =CONCATENATE(A8,"-",B8) -> Construção de Praças Urbanas, Rodovias, Ferrovias e recapeamento e pavimentação de vias urbanas-AC | E8: 0.038 | F8: 0.0401 | G8: 0.0467 | I8: ='PLANILHA ORÇAMENTÁRIA'!A2 -> PPCI - EMEI SONHO MEU
A9: Construção de Praças Urbanas, Rodovias, Ferrovias e recapeamento e pavimentação de vias urbanas | B9: SG | C9: =CONCATENATE(A9,"-",B9) -> Construção de Praças Urbanas, Rodovias, Ferrovias e recapeamento e pavimentação de vias urbanas-SG | E9: 0.0032 | F9: 0.004 | G9: 0.0074
A10: Construção de Praças Urbanas, Rodovias, Ferrovias e recapeamento e pavimentação de vias urbanas | B10: R | C10: =CONCATENATE(A10,"-",B10) -> Construção de Praças Urbanas, Rodovias, Ferrovias e recapeamento e pavimentação de vias urbanas-R | E10: 0.005 | F10: 0.0056 | G10: 0.0097 | I10: TIPO DE OBRA DO EMPREENDIMENTO | Q10: DESONERAÇÃO
A11: Construção de Praças Urbanas, Rodovias, Ferrovias e recapeamento e pavimentação de vias urbanas | B11: DF | C11: =CONCATENATE(A11,"-",B11) -> Construção de Praças Urbanas, Rodovias, Ferrovias e recapeamento e pavimentação de vias urbanas-DF | E11: 0.0102 | F11: 0.0111 | G11: 0.0121 | I11: Construção e Reforma de Edifícios | Q11: Não
A12: Construção de Praças Urbanas, Rodovias, Ferrovias e recapeamento e pavimentação de vias urbanas | B12: L | C12: =CONCATENATE(A12,"-",B12) -> Construção de Praças Urbanas, Rodovias, Ferrovias e recapeamento e pavimentação de vias urbanas-L | E12: 0.0664 | F12: 0.073 | G12: 0.0869
A13: Construção de Praças Urbanas, Rodovias, Ferrovias e recapeamento e pavimentação de vias urbanas | B13: BDI PAD | C13: =CONCATENATE(A13,"-",B13) -> Construção de Praças Urbanas, Rodovias, Ferrovias e recapeamento e pavimentação de vias urbanas-BDI PAD | E13: 0.196 | F13: 0.2097 | G13: 0.2423 | I13: Conforme legislação tributária municipal, definir estimativa de percentual da base de cálculo para o ISS: | Q13: 1
A14: Construção de Redes de Abastecimento de Água, Coleta de Esgoto | B14: AC | C14: =CONCATENATE(A14,"-",B14) -> Construção de Redes de Abastecimento de Água, Coleta de Esgoto-AC | E14: 0.0343 | F14: 0.0493 | G14: 0.0671 | I14: Sobre a base de cálculo, definir a respectiva alíquota do ISS (entre 2% e 5%): | Q14: 0.02
A15: =A14 -> Construção de Redes de Abastecimento de Água, Coleta de Esgoto | B15: SG | C15: =CONCATENATE(A15,"-",B15) -> Construção de Redes de Abastecimento de Água, Coleta de Esgoto-SG | E15: 0.0028 | F15: 0.0049 | G15: 0.0075
I16: Itens | M16: Siglas | N16: % Adotado | O16: Situação | P16: 1º Quartil | Q16: Médio | R16: 3º Quartil | T16: =IF(V27,"Para BDI fora do intervalo estatístico, deve ser apresentado Relatório Técnico Circunstanciado justificando a adoção do percentual de cada parcela do BDI.","")
A17: =A15 -> Construção de Redes de Abastecimento de Água, Coleta de Esgoto | B17: R | C17: =CONCATENATE(A17,"-",B17) -> Construção de Redes de Abastecimento de Água, Coleta de Esgoto-R | E17: 0.01 | F17: 0.0139 | G17: 0.0174
A18: =A17 -> Construção de Redes de Abastecimento de Água, Coleta de Esgoto | B18: DF | C18: =CONCATENATE(A18,"-",B18) -> Construção de Redes de Abastecimento de Água, Coleta de Esgoto-DF | E18: 0.0094 | F18: 0.0099 | G18: 0.0117 | I18: =IF($I$11=$A$65,"Encargos Sociais incidentes sobre a mão de obra","Administração Central") -> Administração Central | M18: =IF($I$11=$A$65,"K1","AC") -> AC | N18: 0.044 | O18: - | P18: =VLOOKUP(CONCATENATE(I$11,"-",M18),$C$2:$G$55,3,0) -> 0.03 | Q18: =VLOOKUP(CONCATENATE(I$11,"-",M18),$C$2:$G$55,4,0) -> 0.04 | R18: =VLOOKUP(CONCATENATE(I$11,"-",M18),$C$2:$G$55,5,0) -> 0.055 | S18: =IF(OR(N18<P18,N18>R18,N18=""),"Atenção","-") -> -
A19: =A18 -> Construção de Redes de Abastecimento de Água, Coleta de Esgoto | B19: L | C19: =CONCATENATE(A19,"-",B19) -> Construção de Redes de Abastecimento de Água, Coleta de Esgoto-L | E19: 0.0674 | F19: 0.0804 | G19: 0.094 | I19: =IF($I$11=$A$65,"Administração Central da empresa ou consultoria - overhead","Seguro e Garantia") -> Seguro e Garantia | M19: =IF($I$11=$A$65,"K2","SG") -> SG | N19: 0.0083 | O19: - | P19: =VLOOKUP(CONCATENATE(I$11,"-",M19),$C$2:$G$55,3,0) -> 0.008 | Q19: =VLOOKUP(CONCATENATE(I$11,"-",M19),$C$2:$G$55,4,0) -> 0.008 | R19: =VLOOKUP(CONCATENATE(I$11,"-",M19),$C$2:$G$55,5,0) -> 0.01 | S19: =IF(OR(N19<P19,N19>R19,N19=""),"Atenção","-") -> -
A20: =A19 -> Construção de Redes de Abastecimento de Água, Coleta de Esgoto | B20: BDI PAD | C20: =CONCATENATE(A20,"-",B20) -> Construção de Redes de Abastecimento de Água, Coleta de Esgoto-BDI PAD | E20: 0.2076 | F20: 0.2418 | G20: 0.2644 | I20: =IF($I$11=$A$65,"","Risco") -> Risco | M20: =IF($I$11=$A$65,"","R") -> R | N20: 0.01 | O20: - | P20: =VLOOKUP(CONCATENATE(I$11,"-",M20),$C$2:$G$55,3,0) -> 0.0097 | Q20: =VLOOKUP(CONCATENATE(I$11,"-",M20),$C$2:$G$55,4,0) -> 0.0127 | R20: =VLOOKUP(CONCATENATE(I$11,"-",M20),$C$2:$G$55,5,0) -> 0.0127 | S20: =IF(OR(N20<P20,N20>R20,N20=""),"Atenção","-") -> -
A21: Construção e Manutenção de Estações e Redes de Distribuição de Energia Elétrica | B21: AC | C21: =CONCATENATE(A21,"-",B21) -> Construção e Manutenção de Estações e Redes de Distribuição de Energia Elétrica-AC | E21: 0.0529 | F21: 0.0592 | G21: 0.0793 | I21: =IF($I$11=$A$65,"","Despesas Financeiras") -> Despesas Financeiras | M21: =IF($I$11=$A$65,"","DF") -> DF | N21: 0.0136 | O21: - | P21: =VLOOKUP(CONCATENATE(I$11,"-",M21),$C$2:$G$55,3,0) -> 0.0059 | Q21: =VLOOKUP(CONCATENATE(I$11,"-",M21),$C$2:$G$55,4,0) -> 0.0123 | R21: =VLOOKUP(CONCATENATE(I$11,"-",M21),$C$2:$G$55,5,0) -> 0.0139 | S21: =IF(OR(N21<P21,N21>R21,N21=""),"Atenção","-") -> -
A22: =A21 -> Construção e Manutenção de Estações e Redes de Distribuição de Energia Elétrica | B22: SG | C22: =CONCATENATE(A22,"-",B22) -> Construção e Manutenção de Estações e Redes de Distribuição de Energia Elétrica-SG | E22: 0.0025 | F22: 0.0051 | G22: 0.0056 | I22: =IF($I$11=$A$65,"Margem bruta da empresa de consultoria","Lucro") -> Lucro | M22: =IF($I$11=$A$65,"K3","L") -> L | N22: 0.075 | O22: - | P22: =VLOOKUP(CONCATENATE(I$11,"-",M22),$C$2:$G$55,3,0) -> 0.0616 | Q22: =VLOOKUP(CONCATENATE(I$11,"-",M22),$C$2:$G$55,4,0) -> 0.074 | R22: =VLOOKUP(CONCATENATE(I$11,"-",M22),$C$2:$G$55,5,0) -> 0.0896 | S22: =IF(OR(N22<P22,N22>R22,N22=""),"Atenção","-") -> -
A23: =A22 -> Construção e Manutenção de Estações e Redes de Distribuição de Energia Elétrica | B23: R | C23: =CONCATENATE(A23,"-",B23) -> Construção e Manutenção de Estações e Redes de Distribuição de Energia Elétrica-R | E23: 0.01 | F23: 0.0148 | G23: 0.0197 | I23: Tributos (impostos COFINS 3%, e PIS 0,65%) | M23: CP | N23: 0.0365 | O23: - | P23: =IF($I$11="fornecimento de Materiais e Equipamentos (aquisição direta)", 0,3.65%) -> 0.0365 | Q23: =IF($I$11="fornecimento de Materiais e Equipamentos (aquisição direta)", 0,3.65%) -> 0.0365 | R23: =IF($I$11="fornecimento de Materiais e Equipamentos (aquisição direta)", 0,3.65%) -> 0.0365 | S23: =IF(OR(N23<P23,N23>R23,N23=""),"Atenção","-") -> -
A24: =A23 -> Construção e Manutenção de Estações e Redes de Distribuição de Energia Elétrica | B24: DF | C24: =CONCATENATE(A24,"-",B24) -> Construção e Manutenção de Estações e Redes de Distribuição de Energia Elétrica-DF | E24: 0.0101 | F24: 0.0107 | G24: 0.0111 | I24: Tributos (ISS, variável de acordo com o município) | M24: ISS | N24: =Q14 -> 0.02 | O24: - | P24: 0 | Q24: =IF($I$11="fornecimento de Materiais e Equipamentos (aquisição direta)", 0,2.5%) -> 0.025 | R24: =IF($I$11="fornecimento de Materiais e Equipamentos (aquisição direta)", 0,5%) -> 0.05
A25: =A24 -> Construção e Manutenção de Estações e Redes de Distribuição de Energia Elétrica | B25: L | C25: =CONCATENATE(A25,"-",B25) -> Construção e Manutenção de Estações e Redes de Distribuição de Energia Elétrica-L | E25: 0.08 | F25: 0.0831 | G25: 0.0951 | I25: Tributos (Contribuição Previdenciária sobre a Receita Bruta - 0% ou 4,5% - Desoneração) | M25: CPRB | N25: 0 | O25: =IF(AND(N25>=P25, N25<=R25), "OK", "Não OK") -> OK | P25: 0 | Q25: =IF($I$11="fornecimento de Materiais e Equipamentos (aquisição direta)", 0,4.5%) -> 0.045 | R25: =IF($I$11="fornecimento de Materiais e Equipamentos (aquisição direta)", 0,4.5%) -> 0.045
A26: =A25 -> Construção e Manutenção de Estações e Redes de Distribuição de Energia Elétrica | B26: BDI PAD | C26: =CONCATENATE(A26,"-",B26) -> Construção e Manutenção de Estações e Redes de Distribuição de Energia Elétrica-BDI PAD | E26: 0.24 | F26: 0.2584 | G26: 0.2786 | I26: BDI SEM desoneração (Fórmula Acórdão 2622/2013 TCU) | M26: BDI PAD | N26: =ROUND((((1+N18+N19+N20)*(1+N21)*(1+N22)/(1-(N23+N24)))-1),4) -> 0.2268 | O26: =IF(OR($I$11=$A$65,AND(N26>=P26, N26<=R26)), "OK", "FORA DO INTERVALO") -> OK | P26: =IF($I$11=$A$64,0,VLOOKUP(CONCATENATE($I$11,"-",$M26),$C$2:$G$55,3,0)) -> 0.2034 | Q26: =IF($I$11=$A$64,0,VLOOKUP(CONCATENATE($I$11,"-",$M26),$C$2:$G$55,4,0)) -> 0.2212 | R26: =IF($I$11=$A$64,0,VLOOKUP(CONCATENATE($I$11,"-",$M26),$C$2:$G$55,5,0)) -> 0.25
A27: Obras Portuárias, Marítimas e Fluviais | B27: AC | C27: =CONCATENATE(A27,"-",B27) -> Obras Portuárias, Marítimas e Fluviais-AC | E27: 0.04 | F27: 0.0552 | G27: 0.0785 | I27: BDI COM desoneração | M27: BDI DES | N27: =IF($I$11=$A$64,0,ROUND((((1+N18+N19+N20)*(1+N21)*(1+N22)/(1-(N23+N24+N25)))-1),4)) -> 0.2268 | O27: =IF(Q11<>"Sim","",O26) | V27: =AND(COUNTA(N18:N23)=6,O26<>"ok",NOT(V29)) -> FALSE
A28: =A27 -> Obras Portuárias, Marítimas e Fluviais | B28: SG | C28: =CONCATENATE(A28,"-",B28) -> Obras Portuárias, Marítimas e Fluviais-SG | E28: 0.0081 | F28: 0.0122 | G28: 0.0199
A29: =A28 -> Obras Portuárias, Marítimas e Fluviais | B29: R | C29: =CONCATENATE(A29,"-",B29) -> Obras Portuárias, Marítimas e Fluviais-R | E29: 0.0146 | F29: 0.0232 | G29: 0.0316 | I29: =IF(V29,"X","") | J29: Anexo: Relatório Técnico Circunstanciado justificando a adoção do percentual de cada parcela do BDI. | V29: =FALSE() -> FALSE
I31: Os valores de BDI foram calculados com o emprego da fórmula:
A32: =A29 -> Obras Portuárias, Marítimas e Fluviais | B32: DF | C32: =CONCATENATE(A32,"-",B32) -> Obras Portuárias, Marítimas e Fluviais-DF | E32: 0.0094 | F32: 0.0102 | G32: 0.0133 | L32: =IF(Q11="Sim","BDI.DES =","BDI.PAD =") -> BDI.PAD = | M32: =IF($I$11=$A$65,"(1+K1+K2)*(1+K3)","(1+AC + S + R + G)*(1 + DF)*(1+L)") -> (1+AC + S + R + G)*(1 + DF)*(1+L) | P32: - 1
A33: =A32 -> Obras Portuárias, Marítimas e Fluviais | B33: L | C33: =CONCATENATE(A33,"-",B33) -> Obras Portuárias, Marítimas e Fluviais-L | E33: 0.0714 | F33: 0.084 | G33: 0.1043 | M33: =IF(Q11="Sim","(1-CP-ISS-CRPB)","(1-CP-ISS)") -> (1-CP-ISS)
A34: =A33 -> Obras Portuárias, Marítimas e Fluviais | B34: BDI PAD | C34: =CONCATENATE(A34,"-",B34) -> Obras Portuárias, Marítimas e Fluviais-BDI PAD | E34: 0.228 | F34: 0.2748 | G34: 0.3095
I35: =CONCATENATE("Declaro para os devidos fins que, conforme legislação tributária municipal, a base de cálculo para o ISS da atividade ",I11,", é de ",Q13*100,"%, com a respectiva alíquota de ",Q14*100,"%.") -> Declaro para os devidos fins que, conforme legislação tributária municipal, a base de cálculo para o ISS da atividade Construção e Reforma de Edifícios, é de 100%, com a respectiva alíquota de 2%.
I37: =CONCATENATE("Declaro para os devidos fins que o regime de Contribuição Previdenciária sobre a Receita Bruta adotado para elaboração do orçamento foi ",IF(Q11="Sim","COM","SEM")," Desoneração, e que esta é a alternativa mais adequada para a Administração Pública.") -> Declaro para os devidos fins que o regime de Contribuição Previdenciária sobre a Receita Bruta adotado para elaboração do orçamento foi SEM Desoneração, e que esta é a alternativa mais adequada para a Administração Pública.
A38: Fornecimento de Materiais e Equipamentos (aquisição indireta - em conjunto com licitação de obras) | B38: AC | C38: =CONCATENATE(A38,"-",B38) -> Fornecimento de Materiais e Equipamentos (aquisição indireta - em conjunto com licitação de obras)-AC | E38: 0.015 | F38: 0.0345 | G38: 0.0449
A39: =A38 -> Fornecimento de Materiais e Equipamentos (aquisição indireta - em conjunto com licitação de obras) | B39: SG | C39: =CONCATENATE(A39,"-",B39) -> Fornecimento de Materiais e Equipamentos (aquisição indireta - em conjunto com licitação de obras)-SG | E39: 0.003 | F39: 0.0048 | G39: 0.0082 | I39: Observações:
A40: =A39 -> Fornecimento de Materiais e Equipamentos (aquisição indireta - em conjunto com licitação de obras) | B40: R | C40: =CONCATENATE(A40,"-",B40) -> Fornecimento de Materiais e Equipamentos (aquisição indireta - em conjunto com licitação de obras)-R | E40: 0.0056 | F40: 0.0085 | G40: 0.0089
A41: =A40 -> Fornecimento de Materiais e Equipamentos (aquisição indireta - em conjunto com licitação de obras) | B41: DF | C41: =CONCATENATE(A41,"-",B41) -> Fornecimento de Materiais e Equipamentos (aquisição indireta - em conjunto com licitação de obras)-DF | E41: 0.0085 | F41: 0.0085 | G41: 0.0111
A42: =A41 -> Fornecimento de Materiais e Equipamentos (aquisição indireta - em conjunto com licitação de obras) | B42: L | C42: =CONCATENATE(A42,"-",B42) -> Fornecimento de Materiais e Equipamentos (aquisição indireta - em conjunto com licitação de obras)-L | E42: 0.035 | F42: 0.0511 | G42: 0.0622 | K42: drg | O42: =TODAY() -> 46122
...

Sheet ENCARGOS SEM DESONERAÇÃO 
B1: PPCI - EMEI SONHO MEU
B5: PREFEITURA MUNICIPAL DE SÃO JOSÉ DO HORTÊNCIO/RS
A6: OBRA: | B6: ='PLANILHA ORÇAMENTÁRIA'!A2 -> PPCI - EMEI SONHO MEU
A7: LOCAL: | B7: RUA 33, Nº 204, SEDE
A8: DATA BASE: | B8: FEVEREIRO/2026
A10: ENCARGOS SOCIAIS RS JANEIRO/2026 - SEM DESONERAÇÃO
A13: GRUPO | B13: DESCRIÇÃO | G13: MENSALISTA
A15: A | B15: GRUPO A
A16: A1 | B16: INSS | G16: 0.2
A17: A2 | B17: SESI | G17: 0.015
A18: A3 | B18: SENAI | G18: 0.01
A19: A4 | B19: INCRA | G19: 0.002
A20: A5 | B20: SEBRAE | G20: 0.006
A21: A6 | B21: Salário Educação | G21: 0.025
A22: A7 | B22: Seguro Contra Acidentes de Trabalho | G22: 0.03
A23: A8 | B23: FGTS | G23: 0.08
A24: A9 | B24: SECONCI | G24: 0
B25: TOTAL GRUPO A | G25: 0.368
A26: B | B26: GRUPO B
A27: B1 | B27: Repouso Semanal Remunerado | G27: não incide
A28: B2 | B28: Feriados | G28: não incide
A29: B3 | B29: Auxílio-Enfermidade | G29: 0.0067
A30: B4 | B30: 13º Salário | G30: 0.0829
A31: B5 | B31: Licença Paternidade | G31: 0.0005
A32: B6 | B32: Faltas Justificadas | G32: 0.0056
A33: 7030 | B33: Dias de Chuvas | G33: não incide
A34: B8 | B34: Auxilio Acidente de Trabalho | G34: 0.0002
A35: B9 | B35: Férias Gozadas | G35: 0.0838
A36: B10 | B36: Salário Maternidade | G36: 0.0003
B37: TOTAL GRUPO B | G37: 0.18
A38: C | B38: GRUPO C
A39: C1 | B39: Aviso Prévio Indenizado | G39: 0.0317
A40: C2 | B40: Aviso Prévio Trabalhado | G40: 0.0008
A41: C3 | B41: Férias Indenizadas | G41: 0.0273
A42: C4 | B42: Depósito Rescisão Sem Justa Causa | G42: 0.0135
A43: C5 | B43: Indenização Adicional | G43: 0.0026
B44: TOTAL GRUPO C | G44: 0.0759
A45: D | B45: GRUPO D
A46: D1 | B46: Reincidência de Grupo A sobre Grupo B | G46: 0.0662
A47: D2 | B47: Reincidência de Grupo A sobre Aviso Prévio Trabalhado e Reincidência do FGTS sobre Aviso Prévio Indenizado | G47: 0.0028
...

Sheet Sinapi 02-2026
A1: INSUMOS SEM DESONERAÇÃO
A2: CÓDIGO | B2: DESCRIÇÃO | C2: UNIDADE | D2: VALOR | E2: % MO
A3: 45333 | B3: ABERTURA PARA ENCAIXE DE CUBA OU LAVATORIO EM BANCADA DE MARMORE/ GRANITO OU OUTRO TIPO DE PEDRA NATURAL | C3: UN | D3: 213.23 | E3: 0
A4: 11270 | B4: ABRACADEIRA DE LATAO PARA FIXACAO DE CABO PARA-RAIO, DIMENSOES 32 X 24 X 24 MM | C4: UN | E4: 0
A5: 412 | B5: ABRACADEIRA DE NYLON PARA AMARRACAO DE CABOS, COMPRIMENTO DE *230* X *7,6* MM | C5: UN | D5: 1.13 | E5: 0
A6: 414 | B6: ABRACADEIRA DE NYLON PARA AMARRACAO DE CABOS, COMPRIMENTO DE 100 X 2,5 MM | C6: UN | D6: 0.07 | E6: 0
A7: 410 | B7: ABRACADEIRA DE NYLON PARA AMARRACAO DE CABOS, COMPRIMENTO DE 150 X *3,6* MM | C7: UN | D7: 0.17 | E7: 0
A8: 411 | B8: ABRACADEIRA DE NYLON PARA AMARRACAO DE CABOS, COMPRIMENTO DE 200 X *4,6* MM | C8: UN | D8: 0.22 | E8: 0
A9: 408 | B9: ABRACADEIRA DE NYLON PARA AMARRACAO DE CABOS, COMPRIMENTO DE 390 X *4,6* MM | C9: UN | D9: 1.09 | E9: 0
A10: 39131 | B10: ABRACADEIRA EM ACO PARA AMARRACAO DE ELETRODUTOS, TIPO D, COM 1 1/2" E CUNHA DE FIXACAO | C10: UN | D10: 4.01 | E10: 0
A11: 394 | B11: ABRACADEIRA EM ACO PARA AMARRACAO DE ELETRODUTOS, TIPO D, COM 1 1/2" E PARAFUSO DE FIXACAO | C11: UN | D11: 4.06 | E11: 0
A12: 39130 | B12: ABRACADEIRA EM ACO PARA AMARRACAO DE ELETRODUTOS, TIPO D, COM 1 1/4" E CUNHA DE FIXACAO | C12: UN | D12: 3.66 | E12: 0
A13: 395 | B13: ABRACADEIRA EM ACO PARA AMARRACAO DE ELETRODUTOS, TIPO D, COM 1 1/4" E PARAFUSO DE FIXACAO | C13: UN | D13: 3.91 | E13: 0
A14: 39129 | B14: ABRACADEIRA EM ACO PARA AMARRACAO DE ELETRODUTOS, TIPO D, COM 1" E CUNHA DE FIXACAO | C14: UN | D14: 2.25 | E14: 0
A15: 393 | B15: ABRACADEIRA EM ACO PARA AMARRACAO DE ELETRODUTOS, TIPO D, COM 1" E PARAFUSO DE FIXACAO | C15: UN | D15: 2.36 | E15: 0
A16: 39127 | B16: ABRACADEIRA EM ACO PARA AMARRACAO DE ELETRODUTOS, TIPO D, COM 1/2" E CUNHA DE FIXACAO | C16: UN | D16: 1.93 | E16: 0
... A41: 12615 | B41: ABRACADEIRA PVC, PARA CALHA PLUVIAL, DIAMETRO ENTRE *80 E 100* MM, PARA DRENAGEM PLUVIAL PREDIAL | C41: UN | D41: 14.52 | E41: 0
A42: 11927 | B42: ABRACADEIRA, GALVANIZADA/ZINCADA, ROSCA SEM FIM, PARAFUSO INOX, LARGURA FITA *12,6 A *14 MM, D = 2" A 2 1/2" | C42: UN | E42: 0
A43: 11928 | B43: ABRACADEIRA, GALVANIZADA/ZINCADA, ROSCA SEM FIM, PARAFUSO INOX, LARGURA FITA *12,6 A *14 MM, D = 3" A 3 3/4" | C43: UN | E43: 0
A44: 11929 | B44: ABRACADEIRA, GALVANIZADA/ZINCADA, ROSCA SEM FIM, PARAFUSO INOX, LARGURA FITA *12,6 A *14 MM, D = 4" A 4 3/4" | C44: UN | E44: 0
A45: 36801 | B45: ACABAMENTO DE METAL CROMADO PARA REGISTRO PEQUENO, DE PAREDE, 1/2" OU 3/4" | C45: UN | D45: 63.21 | E45: 0
A46: 36246 | B46: ACABAMENTO SIMPLES/CONVENCIONAL PARA FORRO PVC, TIPO "U" OU "C", COR BRANCA, COMPRIMENTO 6 M | C46: M | D46: 5.4 | E46: 0
A47: 37600 | B47: ACESSORIO DE LIGACAO NAO ELETRICO PARA CARGAS EXPLOSIVAS, TUBO DE 6 M | C47: UN | E47: 0
A48: 37599 | B48: ACESSORIO INICIADOR NAO ELETRICO, TUBO DE 6 M, TEMPO DE RETARDO DE *160* MS | C48: UN | E48: 0
A49: 1 | B49: ACETILENO - RECARGA DE GAS PARA CILINDRO (NAO INCLUI TROCA/MANUTENCAO DO CILINDRO) | C49: KG | D49: 110.5 | E49: 0
A50: 3 | B50: ACIDO CLORIDRICO / ACIDO MURIATICO, DILUICAO 10% A 12% PARA USO EM LIMPEZA | C50: L | D50: 20.5 | E50: 0
A51: 43054 | B51: ACO CA-25, 10,0 MM, OU 12,5 MM, OU 16,0 MM, OU 20,0 MM, OU 25,0 MM, VERGALHAO | C51: KG | D51: 8.79 | E51: 0
A52: 42402 | B52: ACO CA-25, 16,0 MM, BARRA DE TRANSFERENCIA | C52: KG | D52: 8.4 | E52: 0
A53: 42403 | B53: ACO CA-25, 20,0 MM, BARRA DE TRANSFERENCIA | C53: KG | D53: 10.78 | E53: 0
A54: 42404 | B54: ACO CA-25, 25,0 MM, BARRA DE TRANSFERENCIA | C54: KG | D54: 10.72 | E54: 0
A55: 42405 | B55: ACO CA-25, 32,0 MM, BARRA DE TRANSFERENCIA | C55: KG | D55: 11.42 | E55: 0
A56: 34341 | B56: ACO CA-25, 32,0 MM, VERGALHAO | C56: KG | D56: 9.91 | E56: 0
A57: 43053 | B57: ACO CA-25, 6,3 MM OU 8,0 MM, VERGALHAO | C57: KG | D57: 7.85 | E57: 0
A58: 43058 | B58: ACO CA-50, 10,0 MM, OU 12,5 MM, OU 16,0 MM, OU 20,0 MM, DOBRADO E CORTADO | C58: KG | D58: 8.14 | E58: 0
A59: 34 | B59: ACO CA-50, 10,0 MM, VERGALHAO | C59: KG | D59: 8.18 | E59: 0
A60: 43055 | B60: ACO CA-50, 12,5 MM OU 16,0 MM, VERGALHAO | C60: KG | D60: 7.09 | E60: 0
... A69: 43060 | B69: ACO CA-60, 8,0 MM OU 9,5 MM, VERGALHAO | C69: KG | D69: 6.75 | E69: 0
A70: 40410 | B70: ACOPLAMENTO RIGIDO EM FERRO FUNDIDO PARA SISTEMA DE TUBULACAO RANHURADA, DN 50 MM (2") | C70: UN | E70: 0
A71: 40411 | B71: ACOPLAMENTO RIGIDO EM FERRO FUNDIDO PARA SISTEMA DE TUBULACAO RANHURADA, DN 65 MM (2 1/2") | C71: UN | E71: 0
A72: 40412 | B72: ACOPLAMENTO RIGIDO EM FERRO FUNDIDO PARA SISTEMA DE TUBULACAO RANHURADA, DN 80 MM (3") | C72: UN | E72: 0
...
