Workbook

Sheet 1 - RESUMO
B2: 1. RESUMO
B4: OBJETO | C4: Contratação emergencial de empresa para a prestação de serviços de coleta domiciliar, urbana e rural, coleta conteinerizada, coleta seletiva de resíduos recicláveis, coleta de óleo saturado de cozinha e respectivos transportes até o destino final | F4: DISPENSA DE LICITAÇÃO Nº 03/2026 | H4: DATA: _____/10/2026
B7: Discriminação dos Serviços (dados referentes à contratação)
B8: A | C8: Contratante | H8: SANEP
B9: B | C9: Município/UF | H9: Pelotas/RS
B10: C | C10: Tipo de Serviço | H10: Serviço de Engenharia
B11: D | C11: Número de meses de execução contratual | H11: 6
B12: E | C12: Estimativa total de contratação para o período | H12: =I20 -> 15249467
B15: ITEM | D15: SERVIÇO | E15: QUANTIDADE MENSAL | F15: UNIDADE | G15: VALOR UNITÁRIO | H15: VALOR MENSAL ESTIMADO | I15: VALOR TOTAL ESTIMADO POR 6 MESES
B16: 1 | D16: Serviços de coleta e transporte de Resíduos Sólidos Domésticos da zona urbana e rural | E16: 4800 | F16: Tonelada | G16: =H16/E16 -> 256.06722 | H16: ='OK 2.1 - COLETA RSD'!K22 -> 1229122.6 | I16: =H16*6 -> 7374735.9
B17: 2 | D17: Serviços de coleta conteinerizada, e de transporte de resíduos sólidos domésticos | E17: 850 | F17: Contêiner | G17: =H17/E17 -> 886.50371 | H17: ='OK 3.1 - COLETA CONTEIN.'!K23 -> 753528.16 | I17: =H17*6 -> 4521168.9
B18: 3 | D18: Serviços de coleta seletiva e transporte de resíduos recicláveis | E18: 7 | F18: Equipe | G18: =H18/E18 -> 70708.302 | H18: ='OK 4.1 - COLETA SELETIVA'!K19 -> 494958.12 | I18: =H18*6 -> 2969748.7
B19: 4 | D19: Serviços de coleta e transporte de óleo saturado de cozinha. | E19: 1 | F19: Serviço | G19: =H19/E19 -> 63968.9 | H19: ='OK 5.1 - COLETA ÓLEOS'!K18 -> 63968.9 | I19: =H19*6 -> 383813.4
B20: TOTAL | H20: =SUM(H16:H19) -> 2541577.8 | I20: =SUM(I16:I19) -> 15249467

Sheet OK 2 - ADM LOCAL - RSD
B2: 2. COMPOSIÇÃO DE CUSTOS COM ADMINISTRAÇÃO LOCAL
B4: ORÇAMENTO SINTÉTICO
B5: DESCRIÇÃO DO ITEM | H5: QUANT. | I5: CUSTO UNITÁRIO MENSAL | K5: CUSTO TOTAL MENSAL
B6: 2.1. | C6: MÃO DE OBRA INDIRETA | H6: =SUM(H7:H18) -> 14 | K6: =SUM(K7:K18) -> 102202.32
B7: 2.1.1. | C7: Gerente Geral | H7: 1 | I7: =K53 -> 12578.929 | K7: =I7*H7 -> 12578.929
B8: 2.1.2. | C8: Encarregado (diurno) | H8: 1 | I8: =K74 -> 10130.566 | K8: =I8*H8 -> 10130.566
B9: 2.1.3. | C9: Encarregado (noturno) | H9: 1 | I9: =K99 -> 11102.638 | K9: =I9*H9 -> 11102.638
B10: 2.1.4. | C10: Auxiliar Administrativo | H10: 1 | I10: =K118 -> 5130.0715 | K10: =I10*H10 -> 5130.0715
B11: 2.1.5. | C11: Mecânico (diurno) | H11: 1 | I11: =K139 -> 6496.3228 | K11: =I11*H11 -> 6496.3228
B12: 2.1.6. | C12: Mecânico (noturno) | H12: 1 | I12: =K164 -> 7070.7016 | K12: =I12*H12 -> 7070.7016
B13: 2.1.7. | C13: Auxiliar de Mecânico (diurno) | H13: 1 | I13: =K185 -> 5926.7079 | K13: =I13*H13 -> 5926.7079
B14: 2.1.8. | C14: Auxiliar de Mecânico (noturno) | H14: 1 | I14: =K210 -> 6591.8172 | K14: =I14*H14 -> 6591.8172
B15: 2.1.9. | C15: Auxiliar de Serviços Gerais | H15: 1 | I15: =K232 -> 5684.6895 | K15: =I15*H15 -> 5684.6895
B16: 2.1.10. | C16: Lavador de Veículos | H16: 1 | I16: =K254 -> 5684.6895 | K16: =I16*H16 -> 5684.6895
B17: 2.1.11. | C17: Vigia (diurno) | H17: 2 | I17: =K276 -> 6121.6611 | K17: =I17*H17 -> 12243.322
B18: 2.1.12. | C18: Vigia (noturno) | H18: 2 | I18: =K302 -> 6780.9312 | K18: =I18*H18 -> 13561.862
B19: 2.2. | C19: UNIFORMES E EPIs | H19: =SUM(H20:H24) -> 14 | K19: =SUM(K20:K24) -> 1072.4033
B20: 2.2.1. | C20: Uniformes e EPIs para Gerente e Auxiliar Administrativo | H20: =H7+H10 -> 2 | I20: =K314 -> 25.710556 | K20: =I20*H20 -> 51.421111
B21: 2.2.2. | C21: Uniformes e EPIs para Encarregado | H21: 2 | I21: =K326 -> 99.687778 | K21: =I21*H21 -> 199.37556
B22: 2.2.3. | C22: Uniformes e EPIs para Mecânico e Auxiliar de Mecânico | H22: 4 | I22: =K340 -> 101.32778 | K22: =I22*H22 -> 405.31111
B23: 2.2.4. | C23: Uniformes e EPIs para Auxiliar de Serviços Gerais e Lavador de Veículos | H23: 2 | I23: =K353 -> 77.268889 | K23: =I23*H23 -> 154.53778
B24: 2.2.5. | C24: Uniformes e EPIs para Vigia | H24: 4 | I24: =K363 -> 65.439444 | K24: =I24*H24 -> 261.75778
B25: 2.3. | C25: VEÍCULOS E EQUIPAMENTOS | H25: =H26 -> 1 | K25: =K457 -> 1806.9872
B26: 2.3.1. | C26: Veículo tipo popular | H26: 1 | I26: =K391+K399+K413+I428+K438+K451 -> 1708.6495 | K26: =I26*H26 -> 1708.6495
B27: 2.4. | C27: DESPESAS ADMINISTRATIVAS | H27: 1 | K27: =K468 -> 17000
B28: 2.5. | C28: BDI | H28: 1 | K28: =K478 -> 33804.296
B29: DESPESAS MENSAIS TOTAIS COM ADMINISTRAÇÃO LOCAL | K29: =K27+K25+K19+K6+K28 -> 155886
B30: DISTRIBUIÇÃO DOS CUSTOS COM ADMINISTRAÇÃO LOCAL POR COLETA | J30: % | K30: R$/MÊS
B31: Coleta de Resíduos Sólidos Domésticos | J31: =I487 -> 0.54885366 | K31: =$K$29*J31 -> 85558.604
B32: TOTAL | J32: =SUM(J31) -> 0.54885366 | K32: =SUM(K31) -> 85558.604
B33: A proporcionalidade utilizada para distribuição dos custos com administração local por tipo de coleta foi calculado com base no histórico de custos do ano de 2025.
B36: 2.1. DETALHAMENTO MÃO DE OBRA INDIRETA
B38: 2.1.1. Gerente Geral
B39: I | C39: Grupo I - Composição da Remuneração | K39: Valor mensal/Posto
B40: I.A | C40: Salário-base mensal | K40: ='6 - DADOS CC MO'!E113 -> 6876.95
C41: TOTAL GRUPO I | K41: =K40 -> 6876.95
B42: II | C42: Grupo II - Encargos Sociais | J42: % | K42: Valor mensal/Posto
B43: II.A | C43: Obrigações Sociais | J43: ='7 - ENCARGOS SOCIAIS'!$D$13 -> 0.368 | K43: =J43*$K$40 -> 2530.7176
B44: II.B | C44: Tempo não trabalhado (reposição de profissional ausente) | J44: ='7 - ENCARGOS SOCIAIS'!$D$21 -> 0.15387245 | K44: =J44*$K$40 -> 1058.1732
B45: II.C | C45: Provisão para rescisão | J45: ='7 - ENCARGOS SOCIAIS'!$D$28 -> 0.12666582 | K45: =J45*$K$40 -> 871.07448
...

Sheet OK 2.1 - COLETA RSD
B2: 3. COMPOSIÇÃO DE CUSTOS COM COLETA DE RESÍDUOS SÓLIDOS DOMÉSTICOS
B4: ORÇAMENTO SINTÉTICO
B5: DESCRIÇÃO DO ITEM | H5: QUANT. | I5: CUSTO UNITÁRIO MENSAL | K5: CUSTO TOTAL MENSAL
B6: 3.1. | C6: MÃO DE OBRA DIRETA | H6: =SUM(H7:H10) -> 72 | K6: =SUM(K7:K10) -> 512268.99
B7: 3.1.1. | C7: Coletor (diurno) | H7: 27 | I7: =K48 -> 6465.5533 | K7: =I7*H7 -> 174569.94
B8: 3.1.2. | C8: Coletor (noturno) | H8: 27 | I8: =K74 -> 7027.8186 | K8: =I8*H8 -> 189751.1
B9: 3.1.3. | C9: Motorista (diurno) | H9: 9 | I9: =K95 -> 7554.1759 | K9: =I9*H9 -> 67987.583
B10: 3.1.4. | C10: Motorista (noturno) | H10: 9 | I10: =K120 -> 8884.4845 | K10: =I10*H10 -> 79960.361
B11: 3.2. | C11: UNIFORMES E EPIs | H11: =SUM(H12:H13) -> 72 | K11: =SUM(K12:K13) -> 16768.86
B12: 3.2.1. | C12: Uniformes e EPIs para coletores | H12: 54 | I12: =K143 -> 280.10556 | K12: =I12*H12 -> 15125.7
B13: 3.2.2. | C13: Uniformes e EPIs para motoristas | H13: 18 | I13: =K156 -> 91.286667 | K13: =I13*H13 -> 1643.16
B14: 3.3. | C14: VEÍCULOS E EQUIPAMENTOS | H14: =SUM(H15:H17) -> 12 | K14: =SUM(K15:K17) -> 310681.54
B15: 3.3.1. | C15: Veículo coletor compactador 18 m³ | H15: 2 | I15: =I166 -> 34629.934 | K15: =K166 -> 41487.476
B16: 3.3.2. | C16: Veículo coletor compactador 15 m³ | H16: 9 | I16: =I174 -> 32323.666 | K16: =K174 -> 265268.67
B17: 3.3.3. | C17: Veículo tipo caminhonete cabine simples | H17: 1 | I17: =I182 -> 3925.3982 | K17: =K182 -> 3925.3982
B18: 3.4. | C18: FERRAMENTAS E MATERIAIS DE CONSUMO | K18: =K436 -> 783.02467
B19: 3.5. | C19: DESPESAS ADMINISTRATIVAS | K19: =SUM(K20:K21) -> 388620.23
B20: 3.5.1 | C20: Despesas com administração local | H20: 1 | I20: =K445 -> 155886 | K20: =I20*H20 -> 155886
B21: 3.5.2 | C21: BDI | H21: 1 | I21: =K446 -> 232734.23 | K21: =I21*H21 -> 232734.23
B22: TOTAL ESTIMADO MENSAL | K22: =K19+K14+K11+K6+K18 -> 1229122.6
B23: TOTAL ESTIMADO (6 meses) | K23: =K22*6 -> 7374735.9
B24: TOTAL ESTIMADO MENSAL POR TONELADA | H24: 4800 | I24: TONELADA | K24: =$K$22/H24 -> 256.06722
B27: 3.1. DETALHAMENTO MÃO DE OBRA DIRETA
B29: 3.1.1. Coletor (diurno)
B30: I | C30: Grupo I - Composição da Remuneração | H30: Quantidade | I30: Unidade | J30: Custo un. | K30: Valor mensal/Posto
B31: I.A | C31: Salário-base mensal | H31: 220 | I31: h | J31: =K31/H31 -> 9.4650455 | K31: ='6 - DADOS CC MO'!E10 -> 2082.31
B32: I.B | C32: Hora extra 100% (feriados) | H32: =7+1/3 -> 7.3333333 | I32: h | J32: =J31*2 -> 18.930091 | K32: =H32*J32 -> 138.82067
B33: I.C | C33: Descanso Semanal Remunerado (DSR) - hora extra | J33: =61/304*(SUM(K32)) -> 27.855463 | K33: =J33 -> 27.855463
B34: I.D | C34: Adicional de Insalubridade | H34: 40 | I34: % | K34: =K31*40% -> 832.924
C35: TOTAL GRUPO I | K35: =SUM(K31:K34) -> 3081.9101
B36: II | C36: Grupo II - Encargos Sociais | J36: % | K36: Valor mensal/Posto
B37: II.A | C37: Obrigações Sociais | J37: ='7 - ENCARGOS SOCIAIS'!$D$13 -> 0.368 | K37: =J37*$K$35 -> 1134.1429
B38: II.B | C38: Tempo não trabalhado (reposição de profissional ausente) | J38: ='7 - ENCARGOS SOCIAIS'!$D$21 -> 0.15387245 | K38: =J38*$K$35 -> 474.22107
B39: II.C | C39: Provisão para rescisão | J39: ='7 - ENCARGOS SOCIAIS'!$D$28 -> 0.12666582 | K39: =J39*$K$35 -> 390.37266
B40: II.D | C40: Reincidências | J40: ='7 - ENCARGOS SOCIAIS'!$D$32 -> 0.059231502 | K40: =J40*$K$35 -> 182.54617
C41: TOTAL GRUPO II | J41: =SUM(J37:J40) -> 0.70776977 | K41: =SUM(K37:K40) -> 2181.2828
B42: III | C42: Grupo III - Demais Custos Relativos à Norma Coletiva ou Disposições Legais | H42: Média/Mês | I42: Custo un. | J42: Desc. (%) | K42: Valor mensal/Posto
B43: III.A | C43: Auxílio-alimentação (Desconto: cláusula 19ª CCT SEEAC-Pel) | H43: 26 | I43: 27.15 | J43: 0.19 | K43: =(H43*I43)-((H43*I43)*J43) -> 571.779
B44: III.B | C44: Vale Transporte (4 Passagens/dia; Desc: cláusula 21ª CCT) | H44: =H43*4 -> 104 | I44: 6.25 | J44: 0.06 | K44: =(H44*I44)-(K31*J44) -> 525.0614
B45: III.C | C45: Plano de Benefício Familiar | H45: 1 | I45: 25.52 | K45: =I45 -> 25.52
...

Sheet OK 3 - ADM LOCAL - CONTEIN.
B2: 2. COMPOSIÇÃO DE CUSTOS COM ADMINISTRAÇÃO LOCAL – COLETA CONTEINERIZADA
B4: ORÇAMENTO SINTÉTICO
B5: DESCRIÇÃO DO ITEM | H5: QUANT. | I5: CUSTO UNITÁRIO MENSAL | K5: CUSTO TOTAL MENSAL
B6: 2.1. | C6: MÃO DE OBRA INDIRETA | H6: =SUM(H7:H18) -> 14 | K6: =SUM(K7:K18) -> 102201.62
B7: 2.1.1. | C7: Gerente Geral | H7: 1 | I7: =K53 -> 12578.929 | K7: =I7*H7 -> 12578.929
B8: 2.1.2. | C8: Encarregado (diurno) | H8: 1 | I8: =K74 -> 10130.342 | K8: =I8*H8 -> 10130.342
B9: 2.1.3. | C9: Encarregado (noturno) | H9: 1 | I9: =K99 -> 11102.638 | K9: =I9*H9 -> 11102.638
B10: 2.1.4. | C10: Auxiliar Administrativo | H10: 1 | I10: =K118 -> 5130.0715 | K10: =I10*H10 -> 5130.0715
B11: 2.1.5. | C11: Mecânico | H11: 1 | I11: =K139 -> 6496.1906 | K11: =I11*H11 -> 6496.1906
B12: 2.1.6. | C12: Mecânico (Noturno) | H12: 1 | I12: =K165 -> 7070.7016 | K12: =I12*H12 -> 7070.7016
B13: 2.1.7. | C13: Auxiliar de Mecânico | H13: 1 | I13: =K185 -> 5926.5901 | K13: =I13*H13 -> 5926.5901
B14: 2.1.8. | C14: Auxiliar de Mecânico (Noturno) | H14: 1 | I14: =K210 -> 6591.8172 | K14: =I14*H14 -> 6591.8172
B15: 2.1.9. | C15: Auxiliar de Serviços Gerais | H15: 1 | I15: =K232 -> 5684.5798 | K15: =I15*H15 -> 5684.5798
B16: 2.1.10. | C16: Lavador de Veículos | H16: 1 | I16: =K254 -> 5684.5798 | K16: =I16*H16 -> 5684.5798
B17: 2.1.11. | C17: Vigia (diurno) | H17: 2 | I17: =K276 -> 6121.6611 | K17: =I17*H17 -> 12243.322
B18: 2.1.12. | C18: Vigia (noturno) | H18: 2 | I18: =K302 -> 6780.9312 | K18: =I18*H18 -> 13561.862
B19: 2.2. | C19: UNIFORMES E EPIs | H19: =SUM(H20:H24) -> 14 | K19: =SUM(K20:K24) -> 1043.9367
B20: 2.2.1. | C20: Uniformes e EPIs para Gerente e Auxiliar Administrativo | H20: =H7+H10 -> 2 | I20: =K314 -> 25.710556 | K20: =I20*H20 -> 51.421111
B21: 2.2.2. | C21: Uniformes e EPIs para Encarregado | H21: =H8+H9 -> 2 | I21: =K326 -> 99.687778 | K21: =I21*H21 -> 199.37556
B22: 2.2.3. | C22: Uniformes e EPIs para Mecânico e Auxiliar de Mecânico | H22: 4 | I22: =K340 -> 94.211111 | K22: =I22*H22 -> 376.84444
B23: 2.2.4. | C23: Uniformes e EPIs para Auxiliar de Serviços Gerais e Lavador de Veículos | H23: =H15+H16 -> 2 | I23: =K353 -> 77.268889 | K23: =I23*H23 -> 154.53778
B24: 2.2.5. | C24: Uniformes e EPIs para Vigia | H24: 4 | I24: =K363 -> 65.439444 | K24: =I24*H24 -> 261.75778
B25: 2.3. | C25: VEÍCULOS E EQUIPAMENTOS | H25: 1 | K25: =K439 -> 1802.8478
B26: 2.3.1. | C26: Veículo tipo popular | H26: 1 | I26: =K379+K387+K398+I413+K423+K436 -> 1802.8478 | K26: =I26*H26 -> 1802.8478
B27: 2.4. | C27: DESPESAS ADMINISTRATIVAS | H27: 1 | K27: =K448 -> 17000
B28: 2.5. | C28: BDI | H28: 1 | K28: =K457 -> 33795.075
B29: DESPESAS MENSAIS TOTAIS COM ADMINISTRAÇÃO LOCAL | K29: =K27+K25+K19+K6+K28 -> 155843.48
B30: DISTRIBUIÇÃO DOS CUSTOS COM ADMINISTRAÇÃO LOCAL POR COLETA | J30: % | K30: R$/MÊS
B31: Coleta Conteinerizada | J31: =I467 -> 0.26858195 | K31: =$K$29*J31 -> 41856.747
B32: TOTAL | J32: =SUM(J31) -> 0.26858195 | K32: =SUM(K31) -> 41856.747
B33: A proporcionalidade utilizada para distribuição dos custos com administração local por tipo de coleta foi calculado com base no histórico de custos do ano de 2025.
B36: 2.1. DETALHAMENTO MÃO DE OBRA INDIRETA
B38: 2.1.1. Gerente Geral
B39: I | C39: Grupo I - Composição da Remuneração | K39: Valor mensal/Posto
B40: I.A | C40: Salário-base mensal | K40: ='6 - DADOS CC MO'!E113 -> 6876.95
C41: TOTAL GRUPO I | K41: =K40 -> 6876.95
B42: II | C42: Grupo II - Encargos Sociais | J42: % | K42: Valor mensal/Posto
B43: II.A | C43: Obrigações Sociais | J43: ='7 - ENCARGOS SOCIAIS'!$D$13 -> 0.368 | K43: =J43*K41 -> 2530.7176
B44: II.B | C44: Tempo não trabalhado (reposição de profissional ausente) | J44: ='7 - ENCARGOS SOCIAIS'!$D$21 -> 0.15387245 | K44: =J44*K41 -> 1058.1732
B45: II.C | C45: Provisão para rescisão | J45: ='7 - ENCARGOS SOCIAIS'!$D$28 -> 0.12666582 | K45: =J45*K41 -> 871.07448
...

Sheet OK 3.1 - COLETA CONTEIN.
B2: 4. COMPOSIÇÃO DE CUSTOS COM COLETA CONTEINERIZADA
B4: ORÇAMENTO SINTÉTICO
B5: DESCRIÇÃO DO ITEM | H5: QUANT. | I5: CUSTO UNITÁRIO MENSAL | K5: CUSTO TOTAL MENSAL
B6: 4.1. | C6: MÃO DE OBRA DIRETA | H6: =SUM(H7:H10) -> 36 | K6: =SUM(K7:K10) -> 263494.17
B7: 4.1.1. | C7: Coletor (diurno) | H7: 11 | I7: =K49 -> 6465.5533 | K7: =I7*H7 -> 71121.087
B8: 4.1.2. | C8: Coletor (noturno) | H8: 11 | I8: =K75 -> 7027.6559 | K8: =I8*H8 -> 77304.215
B9: 4.1.3. | C9: Motorista (diurno) | H9: 7 | I9: =K96 -> 7554.1759 | K9: =I9*H9 -> 52879.231
B10: 4.1.4. | C10: Motorista (noturno) | H10: 7 | I10: =K121 -> 8884.2343 | K10: =I10*H10 -> 62189.64
B11: 4.2. | C11: UNIFORMES E EPIs | H11: =SUM(H12:H13) -> 36 | K11: =SUM(K12:K13) -> 7440.3356
B12: 4.2.1 | C12: Uniformes e EPIs para coletores | H12: =SUM(H7:H8) -> 22 | I12: =K143 -> 280.10556 | K12: =I12*H12 -> 6162.3222
B13: 4.2.2 | C13: Uniformes e EPIs para motoristas | H13: =SUM(H9:H10) -> 14 | I13: =K156 -> 91.286667 | K13: =I13*H13 -> 1278.0133
B14: 4.3. | C14: VEÍCULOS E EQUIPAMENTOS | H14: =SUM(H15:H18) -> 857 | K14: =SUM(K15:K18) -> 194870.33
B15: 4.3.1. | C15: Veículo coletor compactador 15 m³ | H15: 3 | I15: =I166 -> 27554.557 | K15: =K166 -> 82663.67
B16: 4.3.2. | C16: Veículo tipo lava contêiner | H16: 1 | I16: =I174 -> 21585.172 | K16: =K174 -> 21585.172
B17: 4.3.3. | C17: Veículo tipo caminhonete cabine simples | H17: 3 | I17: =I182 -> 3851.0557 | K17: =K182 -> 11553.167
B18: 4.3.4. | C18: Equipamento tipo contêiner PEAD | H18: 850 | I18: =I190 -> 7498.7637 | K18: =K190 -> 79068.318
B19: 4.4. | C19: FERRAMENTAS E MATERIAIS DE CONSUMO | K19: =K468 -> 2270.3212
B20: 4.5. | C20: DESPESAS ADMINISTRATIVAS E BDI | K20: =SUM(K21:K22) -> 285453
B21: 4.5.1. | C21: Despesas com Administração Local | H21: 1 | I21: =K477 -> 155843.48 | K21: =I21*H21 -> 155843.48
B22: 4.5.2. | C22: BDI | H22: 1 | I22: =K478 -> 129609.51 | K22: =I22*H22 -> 129609.51
B23: TOTAL ESTIMADO MENSAL | K23: =K20+K14+K11+K6+K19 -> 753528.16
B24: TOTAL ESTIMADO (6 meses) | K24: =K23*6 -> 4521168.9
B25: TOTAL ESTIMADO MENSAL POR CONTAINER | H25: 850 | I25: UNIDADE | K25: =$K$23/H25 -> 886.50371
B28: 4.1. DETALHAMENTO MÃO DE OBRA DIRETA
B30: 4.1.1. Coletor (diurno)
B31: I | C31: Grupo I - Composição da Remuneração | H31: Quantidade | I31: Unidade | J31: Custo un. | K31: Valor mensal/Posto
B32: I.A | C32: Salário-base mensal | H32: 220 | I32: h | J32: =K32/H32 -> 9.4650455 | K32: ='6 - DADOS CC MO'!E10 -> 2082.31
B33: I.B | C33: Hora extra 100% (feriados) | H33: =7+1/3 -> 7.3333333 | I33: h | J33: =J32*2 -> 18.930091 | K33: =H33*J33 -> 138.82067
B34: I.C | C34: Descanso Semanal Remunerado (DSR) - hora extra | J34: =61/304*(SUM(K33)) -> 27.855463 | K34: =J34 -> 27.855463
B35: I.D | C35: Adicional de Insalubridade | H35: 40 | I35: % | K35: =K32*40% -> 832.924
C36: TOTAL GRUPO I | K36: =SUM(K32:K35) -> 3081.9101
B37: II | C37: Grupo II - Encargos Sociais | J37: % | K37: Valor mensal/Posto
B38: II.A | C38: Obrigações Sociais | J38: ='7 - ENCARGOS SOCIAIS'!$D$13 -> 0.368 | K38: =J38*$K$36 -> 1134.1429
B39: II.B | C39: Tempo não trabalhado (reposição de profissional ausente) | J39: ='7 - ENCARGOS SOCIAIS'!$D$21 -> 0.15387245 | K39: =J39*$K$36 -> 474.22107
B40: II.C | C40: Provisão para rescisão | J40: ='7 - ENCARGOS SOCIAIS'!$D$28 -> 0.12666582 | K40: =J40*$K$36 -> 390.37266
B41: II.D | C41: Reincidências | J41: ='7 - ENCARGOS SOCIAIS'!$D$32 -> 0.059231502 | K41: =J41*$K$36 -> 182.54617
C42: TOTAL GRUPO II | J42: =SUM(J38:J41) -> 0.70776977 | K42: =SUM(K38:K41) -> 2181.2828
B43: III | C43: Grupo III - Demais Custos Relativos à Norma Coletiva ou Disposições Legais | H43: Média/Mês | I43: Custo un. | J43: Desc. (%) | K43: Valor mensal/Posto
B44: III.A | C44: Auxílio-alimentação (Desconto: cláusula 19ª CCT SEEAC-Pel) | H44: 26 | I44: 27.15 | J44: 0.19 | K44: =(H44*I44)-((H44*I44)*J44) -> 571.779
B45: III.B | C45: Vale Transporte (4 Passagens/dia; Desc: cláusula 21ª CCT) | H45: =H44*4 -> 104 | I45: 6.25 | J45: 0.06 | K45: =(H45*I45)-(K32*J45) -> 525.0614
...

Sheet OK 4 - ADM LOCAL - SELETIVA
B2: 2. COMPOSIÇÃO DE CUSTOS COM ADMINISTRAÇÃO LOCAL – COLETA SELETIVA
B4: ORÇAMENTO SINTÉTICO
B5: DESCRIÇÃO DO ITEM | H5: QUANT. | I5: CUSTO UNITÁRIO MENSAL | K5: CUSTO TOTAL MENSAL
B6: 2.1. | C6: MÃO DE OBRA INDIRETA | H6: =SUM(H7:H15) -> 11 | K6: =SUM(K7:K15) -> 77436.468
B7: 2.1.1. | C7: Gerente Geral | H7: 1 | I7: =K50 -> 12578.929 | K7: =I7*H7 -> 12578.929
B8: 2.1.2. | C8: Encarregado (diurno) | H8: 1 | I8: =K71 -> 10130.342 | K8: =I8*H8 -> 10130.342
B9: 2.1.3. | C9: Auxiliar Administrativo | H9: 1 | I9: =K90 -> 5130.0715 | K9: =I9*H9 -> 5130.0715
B10: 2.1.4. | C10: Mecânico | H10: 1 | I10: =K111 -> 6496.1906 | K10: =I10*H10 -> 6496.1906
B11: 2.1.5. | C11: Auxiliar de Mecânico | H11: 1 | I11: =K132 -> 5926.5901 | K11: =I11*H11 -> 5926.5901
B12: 2.1.6. | C12: Auxiliar de Serviços Gerais | H12: 1 | I12: =K154 -> 5684.5798 | K12: =I12*H12 -> 5684.5798
B13: 2.1.7. | C13: Lavador de Veículos | H13: 1 | I13: =K176 -> 5684.5798 | K13: =I13*H13 -> 5684.5798
B14: 2.1.8. | C14: Vigia (diurno) | H14: 2 | I14: =K198 -> 6121.6611 | K14: =I14*H14 -> 12243.322
B15: 2.1.9. | C15: Vigia (noturno) | H15: 2 | I15: =K224 -> 6780.9312 | K15: =I15*H15 -> 13561.862
B16: 2.2. | C16: UNIFORMES E EPIs | H16: =SUM(H17:H21) -> 11 | K16: =SUM(K17:K21) -> 735.84611
B17: 2.2.1. | C17: Uniformes e EPIs para Gerente e Auxiliar Administrativo | H17: =H7+H9 -> 2 | I17: =K236 -> 22.152222 | K17: =I17*H17 -> 44.304444
B18: 2.2.2. | C18: Uniformes e EPIs para Encarregado | H18: =H8 -> 1 | I18: =K248 -> 96.129444 | K18: =I18*H18 -> 96.129444
B19: 2.2.3. | C19: Uniformes e EPIs para Mecânico e Auxiliar de Mecânico | H19: 2 | I19: =K262 -> 94.691667 | K19: =I19*H19 -> 189.38333
B20: 2.2.4. | C20: Uniformes e EPIs para Auxiliar de Serviços Gerais e Lavador de Veículos | H20: =H12+H13 -> 2 | I20: =K275 -> 72.135556 | K20: =I20*H20 -> 144.27111
B21: 2.2.5. | C21: Uniformes e EPIs para Vigia | H21: 4 | I21: =K285 -> 65.439444 | K21: =I21*H21 -> 261.75778
B22: 2.3. | C22: VEÍCULOS E EQUIPAMENTOS | H22: =H23 -> 1 | K22: =K361 -> 1110.5074
B23: 2.3.1. | C23: Veículo tipo popular | H23: 1 | I23: =K301+K309+K320+I335+K345+K358 -> 1110.5074 | K23: =I23*H23 -> 1110.5074
B24: 2.4. | C24: DESPESAS ADMINISTRATIVAS | H24: 1 | K24: =K370 -> 10000
B25: 2.5. | C25: BDI | H25: 1 | K25: =K379 -> 24722.319
B26: DESPESAS MENSAIS TOTAIS COM ADMINISTRAÇÃO LOCAL | K26: =K24+K22+K16+K6+K25 -> 114005.14
B27: DISTRIBUIÇÃO DOS CUSTOS COM ADMINISTRAÇÃO LOCAL POR COLETA | J27: % | K27: R$/MÊS
B28: Coleta Seletiva | J28: =I390 -> 0.16239191 | K28: =$K$26*J28 -> 18513.513
B29: TOTAL | J29: =SUM(J28) -> 0.16239191 | K29: =SUM(K28) -> 18513.513
B30: A proporcionalidade utilizada para distribuição dos custos com administração local por tipo de coleta foi calculado com base no histórico de custos do ano de 2025.
B33: 2.1. DETALHAMENTO MÃO DE OBRA INDIRETA
B35: 2.1.1. Gerente Geral
B36: I | C36: Grupo I - Composição da Remuneração | K36: Valor mensal/Posto
B37: I.A | C37: Salário-base mensal | K37: ='6 - DADOS CC MO'!E113 -> 6876.95
C38: TOTAL GRUPO I | K38: =K37 -> 6876.95
B39: II | C39: Grupo II - Encargos Sociais | J39: % | K39: Valor mensal/Posto
B40: II.A | C40: Obrigações Sociais | J40: ='7 - ENCARGOS SOCIAIS'!$D$13 -> 0.368 | K40: =J40*K38 -> 2530.7176
B41: II.B | C41: Tempo não trabalhado (reposição de profissional ausente) | J41: ='7 - ENCARGOS SOCIAIS'!$D$21 -> 0.15387245 | K41: =J41*K38 -> 1058.1732
B42: II.C | C42: Provisão para rescisão | J42: ='7 - ENCARGOS SOCIAIS'!$D$28 -> 0.12666582 | K42: =J42*K38 -> 871.07448
B43: II.D | C43: Reincidências | J43: ='7 - ENCARGOS SOCIAIS'!$D$32 -> 0.059231502 | K43: =J43*K38 -> 407.33208
C44: TOTAL GRUPO II | J44: =SUM(J40:J43) -> 0.70776977 | K44: =SUM(K40:K43) -> 4867.2973
B45: III | C45: Grupo III - Demais Custos Relativos à Norma Coletiva ou Disposições Legais | H45: Média/Mês | I45: Custo un. | J45: Desc. (%) | K45: Valor mensal/Posto
...

Sheet OK 4.1 - COLETA SELETIVA
B2: 5. COMPOSIÇÃO DE CUSTOS COM COLETA SELETIVA DE RESÍDUOS RECICLÁVEIS
B4: ORÇAMENTO SINTÉTICO
B5: DESCRIÇÃO DO ITEM | H5: QUANT. | I5: CUSTO UNITÁRIO MENSAL | K5: CUSTO TOTAL MENSAL
B6: 5.1. | C6: MÃO DE OBRA DIRETA | H6: =SUM(H7:H8) -> 23 | K6: =SUM(K7:K8) -> 157416.71
B7: 5.1.1. | C7: Coletor (diurno) | H7: 15 | I7: =K44 -> 6465.5533 | K7: =I7*H7 -> 96983.3
B8: 5.1.2. | C8: Motorista (diurno) | H8: 8 | I8: =K65 -> 7554.1759 | K8: =I8*H8 -> 60433.407
B9: 5.2. | C9: UNIFORMES E EPIs | H9: =SUM(H10:H11) -> 23 | K9: =SUM(K10:K11) -> 5357.9267
B10: 5.2.1 | C10: Uniformes e EPIs para coletores | H10: =G88 -> 15 | I10: =K87 -> 306.61111 | K10: =I10*H10 -> 4599.1667
B11: 5.2.2 | C11: Uniformes e EPIs para motoristas | H11: =G101 -> 8 | I11: =K100 -> 94.845 | K11: =I11*H11 -> 758.76
B12: 5.3. | C12: VEÍCULOS E EQUIPAMENTOS | H12: =SUM(H13:H14) -> 7 | K12: =SUM(K13:K14) -> 133660.21
B13: 5.3.1. | C13: Veículo coletor compactador 8 m³ | H13: 6 | I13: =I110 -> 20362.441 | K13: =K110 -> 122174.64
B14: 5.3.2. | C14: Veículo tipo caminhão baú | H14: 1 | I14: =I118 -> 11485.562 | K14: =K118 -> 11485.562
B15: 5.4. | C15: FERRAMENTAS E MATERIAIS DE CONSUMO | K15: =K314 -> 1907.4672
B16: 5.5. | C16: DESPESAS ADMINISTRATIVAS E BDI | K16: =SUM(K17:K18) -> 196615.81
B17: 5.5.1. | C17: Despesas com administração local | H17: 1 | I17: =K323 -> 114005.14 | K17: =I17*H17 -> 114005.14
B18: 5.5.2. | C18: BDI | H18: 1 | I18: =K324 -> 82610.668 | K18: =I18*H18 -> 82610.668
B19: TOTAL ESTIMADO MENSAL | K19: =K16+K12+K9+K6+K15 -> 494958.12
B20: TOTAL ESTIMADO ANUAL (6 meses) | K20: =K19*6 -> 2969748.7
B21: VALOR ESTIMADO MENSAL POR EQUIPE | H21: 7 | I21: EQUIPE | K21: =K19/H21 -> 70708.302
B23: 5.1. DETALHAMENTO MÃO DE OBRA DIRETA
B25: 5.1.1. Coletor (diurno)
B26: I | C26: Grupo I - Composição da Remuneração | H26: Quantidade | I26: Unidade | J26: Custo un. | K26: Valor mensal/Posto
B27: I.A | C27: Salário-base mensal | H27: 220 | I27: h | J27: =K27/H27 -> 9.4650455 | K27: ='6 - DADOS CC MO'!E10 -> 2082.31
B28: I.A.1 | C28: Hora extra 100% (feriados) | H28: =7+1/3 -> 7.3333333 | I28: h | J28: =J27*2 -> 18.930091 | K28: =H28*J28 -> 138.82067
B29: I.A.2 | C29: Descanso Semanal Remunerado (DSR) - hora extra | J29: =61/304*(SUM(K28)) -> 27.855463 | K29: =J29 -> 27.855463
B30: I.B | C30: Adicional de Insalubridade | H30: 40 | I30: % | K30: =K27*40% -> 832.924
C31: TOTAL GRUPO I | K31: =SUM(K27:K30) -> 3081.9101
B32: II | C32: Grupo II - Encargos Sociais | J32: % | K32: Valor mensal/Posto
B33: II.A | C33: Obrigações Sociais | J33: ='7 - ENCARGOS SOCIAIS'!$D$13 -> 0.368 | K33: =J33*$K$31 -> 1134.1429
B34: II.B | C34: Tempo não trabalhado (reposição de profissional ausente) | J34: ='7 - ENCARGOS SOCIAIS'!$D$21 -> 0.15387245 | K34: =J34*$K$31 -> 474.22107
B35: II.C | C35: Provisão para rescisão | J35: ='7 - ENCARGOS SOCIAIS'!$D$28 -> 0.12666582 | K35: =J35*$K$31 -> 390.37266
B36: II.D | C36: Reincidências | J36: ='7 - ENCARGOS SOCIAIS'!$D$32 -> 0.059231502 | K36: =J36*$K$31 -> 182.54617
C37: TOTAL GRUPO II | J37: =SUM(J33:J36) -> 0.70776977 | K37: =SUM(K33:K36) -> 2181.2828
B38: III | C38: Grupo III - Demais Custos Relativos à Norma Coletiva ou Disposições Legais | H38: Média/Mês | I38: Custo un. | J38: Desc. (%) | K38: Valor mensal/Posto
B39: III.A | C39: Auxílio-alimentação (Desconto: cláusula 19ª CCT SEEAC-Pel) | H39: 26 | I39: 27.15 | J39: 0.19 | K39: =(H39*I39)-((H39*I39)*J39) -> 571.779
B40: III.B | C40: Vale Transporte (4 Passagens/dia; Desc: cláusula 21ª CCT) | H40: =H39*4 -> 104 | I40: 6.25 | J40: 0.06 | K40: =(H40*I40)-(K27*J40) -> 525.0614
B41: III.C | C41: Plano de Benefício Familiar | H41: 1 | I41: 25.52 | K41: =I41 -> 25.52
B42: III.D | C42: Assiduidade | H42: 1 | I42: 80 | K42: =I42 -> 80
C43: TOTAL GRUPO III | K43: =SUM(K39:K42) -> 1202.3604
B44: TOTAL MENSAL POR COLETOR DIURNO (GRUPO I+II+III) | K44: =K43+K37+K31 -> 6465.5533
...

Sheet OK 5 - ADM LOCAL - ÓLEOS
B2: 2. COMPOSIÇÃO DE CUSTOS COM ADMINISTRAÇÃO LOCAL – COLETA DE ÓLEO
B4: ORÇAMENTO SINTÉTICO
B5: DESCRIÇÃO DO ITEM | H5: QUANT. | I5: CUSTO UNITÁRIO MENSAL | K5: CUSTO TOTAL MENSAL
B6: 2.1. | C6: MÃO DE OBRA INDIRETA | H6: =SUM(H7) -> 1 | K6: =SUM(K7) -> 12578.929
B7: 2.1.1. | C7: Gerente Geral | H7: 1 | I7: =K36 -> 12578.929 | K7: =I7*H7 -> 12578.929
B8: 2.2. | C8: UNIFORMES E EPIs | H8: =SUM(H9) -> 1 | K8: =SUM(K9) -> 22.152222
B9: 2.2.1. | C9: Uniformes e EPIs para Gerente | H9: =H7 -> 1 | I9: =K50 -> 22.152222 | K9: =I9*H9 -> 22.152222
B10: 2.4. | C10: DESPESAS ADMINISTRATIVAS | H10: 1 | K10: =K62 -> 8000
B11: 2.5. | C11: BDI | H11: 1 | K11: =K70 -> 5704.4176
B12: DESPESAS MENSAIS TOTAIS COM ADMINISTRAÇÃO LOCAL | K12: =SUM(K6+K8+K10+K11) -> 26305.499
B13: DISTRIBUIÇÃO DOS CUSTOS COM ADMINISTRAÇÃO LOCAL POR COLETA | J13: % | K13: R$/MÊS
B14: Coleta Óleo | J14: =I82 -> 0.020172478 | K14: =$K$12*J14 -> 530.6471
B15: TOTAL | J15: =SUM(J14) -> 0.020172478 | K15: =SUM(K14) -> 530.6471
B16: A proporcionalidade utilizada para distribuição dos custos com administração local por tipo de coleta foi calculado com base no histórico de custos do ano de 2025.
B18: 2.1. DETALHAMENTO MÃO DE OBRA INDIRETA
B21: 2.1.1. Gerente Geral
B22: I | C22: Grupo I - Composição da Remuneração | K22: Valor mensal/Posto
B23: I.A | C23: Salário-base mensal | K23: ='6 - DADOS CC MO'!E113 -> 6876.95
C24: TOTAL GRUPO I | K24: =K23 -> 6876.95
B25: II | C25: Grupo II - Encargos Sociais | J25: % | K25: Valor mensal/Posto
B26: II.A | C26: Obrigações Sociais | J26: ='7 - ENCARGOS SOCIAIS'!$D$13 -> 0.368 | K26: =J26*K24 -> 2530.7176
B27: II.B | C27: Tempo não trabalhado (reposição de profissional ausente) | J27: ='7 - ENCARGOS SOCIAIS'!$D$21 -> 0.15387245 | K27: =J27*K24 -> 1058.1732
B28: II.C | C28: Provisão para rescisão | J28: ='7 - ENCARGOS SOCIAIS'!$D$28 -> 0.12666582 | K28: =J28*K24 -> 871.07448
B29: II.D | C29: Reincidências | J29: ='7 - ENCARGOS SOCIAIS'!$D$32 -> 0.059231502 | K29: =J29*K24 -> 407.33208
C30: TOTAL GRUPO II | J30: =SUM(J26:J29) -> 0.70776977 | K30: =SUM(K26:K29) -> 4867.2973
B31: III | C31: Grupo III - Demais Custos Relativos à Norma Coletiva ou Disposições Legais | H31: Média/Mês | I31: Custo un. | J31: Desc. (%) | K31: Valor mensal/Posto
B32: III.A | C32: Auxílio-alimentação | H32: 26 | I32: 27.15 | J32: 0.19 | K32: =(H32*I32)-((H32*I32)*0.19) -> 571.779
B33: III.B | C33: Vale Transporte (4 passagens diárias) | H33: =H32*4 -> 104 | I33: 6.25 | J33: 0.06 | K33: =(H33*I33)-(K23*0.06) -> 237.383
B34: III.C | C34: Plano de Benefício Familiar | H34: 1 | I34: 25.52 | K34: =I34 -> 25.52
C35: TOTAL GRUPO III | K35: =SUM(K32:K34) -> 834.682
B36: TOTAL MENSAL POR GERENTE GERAL (GRUPO I+II+III) | K36: =K35+K30+K24 -> 12578.929
B37: TOTAL MENSAL DO EFETIVO (1 POSTO) | K37: =K36*1 -> 12578.929
B41: CUSTO MENSAL TOTAL COM MÃO DE OBRA INDIRETA | K41: =K37 -> 12578.929
B44: 2.2. DETALHAMENTO UNIFORMES E EQUIPAMENTOS DE PROTEÇÃO INDIVIDUAL - MÃO DE OBRA INDIRETA
B46: 2.2.1. Uniformes e EPIs para Gerente
B47: Descrição | G47: Quant. semestral | H47: Preço médio un. | I47: Valor mensal unitário | K47: Valor mensal total
B48: Camiseta manga curta | G48: 1 | H48: ='10 - CUSTOS UN'!$J$36 -> 21.35 | I48: =H48/6 -> 3.5583333 | K48: =I48*G48 -> 3.5583333
B49: Jaqueta | G49: 1 | H49: ='10 - CUSTOS UN'!$J$63 -> 111.56333 | I49: =H49/6 -> 18.593889 | K49: =I49*G49 -> 18.593889
B50: CUSTO MENSAL TOTAL POR POSTO | K50: =SUM(K48:K49) -> 22.152222
B51: CUSTO MENSAL TOTAL (1 posto) | I51: =K50 -> 22.152222 | K51: =K50*1 -> 22.152222
...

Sheet OK 5.1 - COLETA ÓLEOS
B2: 6. COMPOSIÇÃO DE CUSTOS COM COLETA SELETIVA DE ÓLEO
B4: ORÇAMENTO SINTÉTICO
B5: DESCRIÇÃO DO ITEM | H5: QUANT. | I5: CUSTO UNITÁRIO MENSAL | K5: CUSTO TOTAL MENSAL
B6: 6.1. | C6: MÃO DE OBRA DIRETA | H6: =SUM(H7:H8) -> 3 | K6: =SUM(K7:K8) -> 20485.283
B7: 6.1.1. | C7: Coletor (diurno) | H7: 2 | I7: =K42 -> 6465.5533 | K7: =K43 -> 12931.107
B8: 6.1.2. | C8: Motorista (diurno) | H8: 1 | I8: =K63 -> 7554.1759 | K8: =K64 -> 7554.1759
B9: 6.2. | C9: UNIFORMES E EPIs | H9: =SUM(H10:H11) -> 3 | K9: =SUM(K10:K11) -> 472.37444
B10: 6.2.1. | C10: Uniformes e EPIs para coletores | H10: 2 | I10: =K85 -> 190.54389 | K10: =I10*H10 -> 381.08778
B11: 6.2.2. | C11: Uniformes e EPIs para motoristas | H11: 1 | I11: =K98 -> 91.286667 | K11: =I11*H11 -> 91.286667
B12: 6.3. | C12: VEÍCULOS E EQUIPAMENTOS | H12: =SUM(H13) -> 1 | K12: =K205 -> 8350.8267
B13: 6.3.1. | C13: Veículo tipo caminhão com carroceria aberta | H13: 1 | I13: =K202 -> 8350.8267 | K13: =K203 -> 8350.8267
B14: 6.4. | C14: FERRAMENTAS E MATERIAIS DE CONSUMO | K14: =K223 -> 187.50781
B15: 6.5. | C15: DESPESAS ADMINISTRATIVAS E BDI | K15: =K234 -> 34472.908
B16: 6.5.1. | C16: Despesas com administração local | H16: 1 | I16: =K232 -> 26305.499 | K16: =I16*H16 -> 26305.499
B17: 6.5.2. | C17: BDI | H17: 1 | I17: =K233 -> 8167.4088 | K17: =I17*H17 -> 8167.4088
B18: TOTAL ESTIMADO MENSAL | K18: =K15+K12+K9+K6+K14 -> 63968.9
B19: TOTAL ESTIMADO ANUAL (6 meses) | K19: =K18*6 -> 383813.4
B21: 6.1. DETALHAMENTO MÃO DE OBRA DIRETA
B23: 6.1.1. Coletor (diurno)
B24: I | C24: Grupo I - Composição da Remuneração | H24: Quantidade | I24: Unidade | J24: Custo un. | K24: Valor mensal/Posto
B25: I.A | C25: Salário-base mensal | H25: 220 | I25: h | J25: =K25/H25 -> 9.4650455 | K25: ='6 - DADOS CC MO'!E10 -> 2082.31
B26: I.A.1 | C26: Hora extra 100% (feriados) | H26: =7+1/3 -> 7.3333333 | I26: h | J26: =J25*2 -> 18.930091 | K26: =H26*J26 -> 138.82067
B27: I.A.2 | C27: Descanso Semanal Remunerado (DSR) - hora extra | J27: =61/304*(SUM(K26)) -> 27.855463 | K27: =J27 -> 27.855463
B28: I.B | C28: Adicional de Insalubridade | H28: 40 | I28: % | K28: =K25*40% -> 832.924
C29: TOTAL GRUPO I | K29: =SUM(K25:K28) -> 3081.9101
B30: II | C30: Grupo II - Encargos Sociais | J30: % | K30: Valor mensal/Posto
B31: II.A | C31: Obrigações Sociais | J31: ='7 - ENCARGOS SOCIAIS'!$D$13 -> 0.368 | K31: =J31*$K$29 -> 1134.1429
B32: II.B | C32: Tempo não trabalhado (reposição de profissional ausente) | J32: ='7 - ENCARGOS SOCIAIS'!$D$21 -> 0.15387245 | K32: =J32*$K$29 -> 474.22107
B33: II.C | C33: Provisão para rescisão | J33: ='7 - ENCARGOS SOCIAIS'!$D$28 -> 0.12666582 | K33: =J33*$K$29 -> 390.37266
B34: II.D | C34: Reincidências | J34: ='7 - ENCARGOS SOCIAIS'!$D$32 -> 0.059231502 | K34: =J34*$K$29 -> 182.54617
C35: TOTAL GRUPO II | J35: =SUM(J31:J34) -> 0.70776977 | K35: =SUM(K31:K34) -> 2181.2828
B36: III | C36: Grupo III - Demais Custos Relativos à Norma Coletiva ou Disposições Legais | H36: Média/Mês | I36: Custo un. | J36: Desc. (%) | K36: Valor mensal/Posto
B37: III.A | C37: Auxílio-alimentação (Desconto: cláusula 19ª CCT SEEAC-Pel) | H37: 26 | I37: 27.15 | J37: 0.19 | K37: =(H37*I37)-((H37*I37)*J37) -> 571.779
B38: III.B | C38: Vale Transporte (4 Passagens/dia; Desc: cláusula 21ª CCT) | H38: =H37*4 -> 104 | I38: 6.25 | J38: 0.06 | K38: =(H38*I38)-(K25*J38) -> 525.0614
B39: III.C | C39: Plano de Benefício Familiar | H39: 1 | I39: 25.52 | K39: =I39 -> 25.52
B40: III.D | C40: Assiduidade | H40: 1 | I40: 80 | K40: =I40 -> 80
C41: TOTAL GRUPO III | K41: =SUM(K37:K40) -> 1202.3604
B42: TOTAL MENSAL POR COLETOR DIURNO (GRUPO I+II+III) | K42: =K41+K35+K29 -> 6465.5533
B43: TOTAL MENSAL DO EFETIVO | I43: 2 | J43: posto | K43: =K42*I43 -> 12931.107
B45: 6.1.2. Motorista (diurno)
...

Sheet 6 - DADOS CC MO
C2: 7. DADOS COMPLEMENTARES PARA COMPOSIÇÃO DOS CUSTOS REFERENTE À MÃO DE OBRA
C4: A | D4: COLETOR DE LIXO DOMICILIAR
C5: 1 | D5: Classificação Brasileira de Ocupações (CBO) | E5: 5142-05
C6: 2 | D6: Sindicato representativo da categoria profissional | E6: SEEAC-PEL
C7: 3 | D7: Ano/Mês do Acordo, Convenção ou Sentença Normativa em Dissídio Coletivo | E7: 2026
C8: 4 | D8: Número de Registro no MTE | E8: RS000061/2026
C9: 5 | D9: Data-base da Categoria | E9: 46023
C10: 6 | D10: Salário normativo vigente da categoria profissional (44h/semana) | E10: 2082.31
C11: 7 | D11: Incidência de Insalubridade | E11: 0.4
C12: 8 | D12: Valor mínimo para Vale-Alimentação/dia de efetivo trabalho | E12: 27.15
C13: 9 | D13: Plano de Benefício Familiar | E13: 25.52
C14: 10 | D14: Assiduidade (cláusula 19ª CCT SEEAC-PEL) | E14: 80
C16: B | D16: MOTORISTA DE CAMINHÃO COLETOR
C17: 1 | D17: Classificação Brasileira de Ocupações (CBO) | E17: 7825-10
C18: 2 | D18: Sindicato representativo da categoria profissional | E18: STTRP
C19: 3 | D19: Ano/Mês do Acordo, Convenção ou Sentença Normativa em Dissídio Coletivo | E19: 2025
C20: 4 | D20: Número de Registro no MTE | E20: RS003048/2026
C21: 5 | D21: Data-base da Categoria | E21: 46143
C22: 6 | D22: Salário normativo vigente da categoria profissional (44h/semana) | E22: 2517.07
C23: 7 | D23: Incidência de Insalubridade (Conforme NR 15, Anexo 14, Portaria 3214 - M.T.E) | E23: 0.4
C24: 8 | D24: Adicional Noturno (cláusula 12ª CCT STTRP) | E24: 0.4
C25: 9 | D25: Valor mínimo para Vale-Alimentação/dia de efetivo trabalho (CCT SEEAC-PEL)(1) | E25: 27.15
C26: 10 | D26: Abono (Cláusula 5ª da CCT) | E26: 121.34
C28: C | D28: MECÂNICO
C29: 1 | D29: Classificação Brasileira de Ocupações (CBO) | E29: 9144-05
C30: 2 | D30: Sindicato representativo da categoria profissional | E30: STIMMMEP
C31: 3 | D31: Ano/Mês do Acordo, Convenção ou Sentença Normativa em Dissídio Coletivo | E31: 2025
C32: 4 | D32: Número de Registro no MTE | E32: RS003202/2025
C33: 5 | D33: Data-base da Categoria | E33: 45778
C34: 6 | D34: Salário normativo vigente da categoria profissional (44h/semana)(2) | E34: 2127.2
C35: 7 | D35: Incidência de Insalubridade (Conforme NR 15, Anexo 14, Portaria 1214 - M.T.E) | E35: 0.4
C36: 8 | D36: Valor mínimo para Vale-Alimentação/dia de efetivo trabalho (CCT SEEAC-PEL)(1) | E36: 27.15
C37: 9 | D37: Plano de Benefício Familiar | E37: 25.52
C39: D | D39: AUXILIAR DE MECÂNICO
C40: 1 | D40: Classificação Brasileira de Ocupações (CBO) | E40: 9144-05
C41: 2 | D41: Sindicato representativo da categoria profissional | E41: STIMMMEP
C42: 3 | D42: Ano/Mês do Acordo, Convenção ou Sentença Normativa em Dissídio Coletivo | E42: 2025
C43: 4 | D43: Número de Registro no MTE | E43: RS003202/2025
C44: 5 | D44: Data-base da Categoria | E44: 45778
C45: 6 | D45: Salário normativo vigente da categoria profissional (44h/semana)(2) | E45: 1896.36
...

Sheet 7 - ENCARGOS SOCIAIS
B2: 8. COMPOSIÇÃO DOS ENCARGOS SOCIAIS
B4: A | C4: GRUPO A - OBRIGAÇÕES SOCIAIS | D4: Incidência
B5: A1 | C5: INSS (art. 22, inc. I, da Lei 8.212/91) | D5: 0.2
B6: A2 | C6: SESI ou SESC (art. 30, da Lei 8.036/90 e art. 1º da Lei 8.154/90) | D6: 0.015
B7: A3 | C7: SENAI ou SENAC (art. 30, Decreto-Lei 2.318/86) | D7: 0.01
B8: A4 | C8: INCRA (art. 1º , inc. I do Decreto-Lei 1.146/70) | D8: 0.002
B9: A5 | C9: SEBRAE (Lei 8.029/90, alterada pela Lei 8.154/1990) | D9: 0.006
B10: A6 | C10: Salário Educação (Art. 3°, inc. I, do Decreto 87.043/1982) | D10: 0.025
B11: A7 | C11: Seguro Contra Acidentes de Trabalho (Art. 22, inc. II, Lei 8.212/91) | D11: 0.03
B12: A8 | C12: FGTS (art. 15 da Lei 8.036/90 e art. 7º, inc. III, da CF/88) | D12: 0.08
B13: A | C13: SOMA GRUPO A | D13: =SUM(D5:D12) -> 0.368
B14: B | C14: GRUPO B - TEMPO NÃO TRABALHADO
B15: B1 | C15: Férias Gozadas + 1/3 | D15: =IF('8 - CAGED'!C15>24,(1-'8 - CAGED'!C14)*('8 - CAGED'!C18+'8 - CAGED'!C17)/'8 - CAGED'!C16,('8 - CAGED'!C18+'8 - CAGED'!C17)/'8 - CAGED'!C16-'7 - ENCARGOS SOCIAIS'!D24) -> 0.042085159
B16: B2 | C16: 13º Salário | D16: ='8 - CAGED'!C19/'8 - CAGED'!C16 -> 0.083333333
B17: B3 | C17: Licença Paternidade | D17: =((5*0.8503*0.0502)/360) -> 0.00059284806
B18: B4 | C18: Faltas justificadas | D18: =2.96/360 -> 0.0082222222
B19: B5 | C19: Auxílio acidente de trabalho | D19: =(15*0.074)/360 -> 0.0030833333
B20: B6 | C20: Auxílio doença | D20: =5.96/360 -> 0.016555556
B21: B | C21: SOMA GRUPO B | D21: =SUM(D15:D20) -> 0.15387245
B22: C | C22: GRUPO C - PROVISÃO PARA RESCISÃO
B23: C1 | C23: Aviso prévio indenizado | D23: =('8 - CAGED'!C20*'8 - CAGED'!C13)/'8 - CAGED'!C16 -> 0.0325805
B24: C2 | C24: Férias indenizadas | D24: =IF('8 - CAGED'!C15>12,((12/'8 - CAGED'!C15)*('8 - CAGED'!C18+'8 - CAGED'!C17))/'8 - CAGED'!C16,('8 - CAGED'!C17+'8 - CAGED'!C18)/'8 - CAGED'!C16) -> 0.069025952
B25: C3 | C25: Férias indenizadas s/ aviso prévio indenizado | D25: =D24*D23 -> 0.0022489
B26: C4 | C26: Depósito rescisão sem justa causa | D26: =('8 - CAGED'!C16+'8 - CAGED'!C19+'8 - CAGED'!C17)/'8 - CAGED'!C14*'8 - CAGED'!C21*'8 - CAGED'!C22*'8 - CAGED'!C13/'8 - CAGED'!C16 -> 0.020342244
B27: C5 | C27: Indenização adicional | D27: =('8 - CAGED'!C18/'8 - CAGED'!C16)*'8 - CAGED'!C13/12 -> 0.0024682197
B28: C | C28: SOMA GRUPO C | D28: =SUM(D23:D27) -> 0.12666582
B29: D | C29: GRUPO D - REINCIDÊNCIAS
B30: D1 | C30: Reincidência de Grupo A sobre Grupo B | D30: =D13*D21 -> 0.056625062
B31: D2 | C31: Reincidência de FGTS sobre aviso prévio indenizado | D31: ='8 - CAGED'!C21*'7 - ENCARGOS SOCIAIS'!D23 -> 0.00260644
B32: D | C32: SOMA GRUPO D | D32: =D30+D31 -> 0.059231502
C33: SOMA (A+B+C+D) | D33: =D13+D21+D28+D32 -> 0.70776977

Sheet 8 - CAGED
B2: 9. CAGED
B4: Rio Grande do Sul - Coleta de Resíduos Não-Perigosos - CNAE 38114
B5: Admissões | C5: 4724
B6: Desligamentos | C6: 4492
B7: Dispensados sem justa causa(¹) | C7: =C6*0.5869 -> 2636.3548
B8: Indicadores
B9: Estoque recuperado início do Período 01-01-2025 | C9: 6956
B10: Estoque recuperado final do Período 31-12-2025 | C10: 7879
B11: Variação Emprego Absoluta de 01-01-2025 a 31-12-2025 | C11: =C5-C6 -> 232
B12: Estoque Médio | C12: =MEDIAN(C9:C10) -> 7417.5
B13: % Demitidos sem justa causa em relação ao estoque médio | C13: =C7/C12 -> 0.35542363
B14: Taxa de rotatividade | C14: =((C5+C6)/2)/C12 -> 0.62123357
B15: Rotatividade temporal (meses) | C15: =12/C14 -> 19.316406
B16: Dias ano | C16: 360
B17: 1/3 de férias (dias) | C17: 10
B18: Férias (dias) | C18: 30
B19: 13º Salário (dias) | C19: 30
B20: Dias de aviso prévio | C20: =30+(3*TRUNC(1,C14)) -> 33
B21: FGTS | C21: 0.08
B22: Multa FGTS | C22: 0.4
B25: Notas Explicativas
B26: (¹) Para o cálculo de percentual de demitidos sem justa causa, optou-se por realizar a proporção obtida entre o nº de dispensados sem justa causa/nº desligamentos totais dispostos na planilha modelo do TCE, que considera os dados do CAGED (2019), tendo em vista que os dados do Novo CAGED não discriminam o tipo de desligamento. Obteve-se a proporção de 58,69%, a qual foi utilizada para estimar o número de dispensados sem justa causa no ano de 2025.
B27: Referências
B28: MINISTÉRIO DO TRABALHO E EMPREGO. Painel de Informações do Novo CAGED. Junho de 2026. Disponível em: <https://app.powerbi.com/view?r=eyJrIjoiNWI5NWI0ODEtYmZiYy00Mjg3LTkzNWUtY2UyYjIwMDE1YWI2IiwidCI6IjNlYzkyOTY5LTVhNTEtNGYxOC04YWM5LWVmOThmYmFmYTk3OCJ9&pageName=ReportSectionb52b07ec3b5f3ac6c749>. Acesso em: 27 jun. 2026. RIO GRANDE DO SUL. Tribunal de Contas do Estado. Orientação Técnica – Serviços de Coleta de Resíduos Sólidos Domiciliares. 2º ed. Porto Alegre: TCE-RS, 2019. Disponível em: <https://tcers.tc.br/repo/orientacoes_gestores/Coleta-de-Residuos-S%C3%B3lidos.pdf>. Acesso em: 27 jun. 2026.

Sheet 9 - BDI
B2: 10. COMPOSIÇÃO DO BDI - BENEFÍCIOS E DESPESAS INDIRETAS
B4: Item | C4: Descrição | D4: %
B5: A | C5: Administração Central (AC)(1) | D5: 0.0508
B6: B | C6: Seguros/Riscos/Garantias (SRG) | D6: 0.0133
B7: C | C7: Lucro (L) | D7: 0.1085
B8: D | C8: Despesas Financeiras (DF)(2) | D8: =(1+D9)^(D10/252)-1 -> 0.0051255062
B9: D.1 | C9: i (Taxa Selic) | D9: 0.1375
B10: D.2 | C10: DU (nº de dias)(3) | D10: 10
B11: E | C11: Tributos (T)(4) | D11: =SUM(D12:D14) -> 0.0715
B12: E.1 | C12: ISS | D12: 0.035
B13: E.2 | C13: PIS/PASEP | D13: 0.0065
B14: E.3 | C14: COFINS | D14: 0.03
C15: TOTAL BDI(5) | D15: =(((1+D5+D6)*(1+D7)*(1+D8))/(1-D11))-1 -> 0.27689894
B16: (1) Os percentuais de Administração Central (AC), Seguros/Riscos/Garantias (SRG) e Lucro (L) foram baseados no estudo do TCE apresentado na Orientação Técnica de Serviços de Coleta de Resíduos Sólidos Domiciliares – Projeto, Contratação e Fiscalização – TCE/RS – 2ª Edição, 2019.
B17: (2) Base de cálculo para Despesas Financeiras: DF = (1 + i)DU/252 - 1
B18: (3) DU = média de dias úteis entre a data de pagamento prevista no contrato e a data final do período de adimplemento da parcela.
B19: (4) Tributos baseados no Lucro Presumido (regime de incidência cumulativa).
B20: (5) Base de Cálculo do BDI: BDI = {[(1+AC+SRG) x (1+L) x (1+DF)] / (1-T)} -1

Sheet 10 - CUSTOS UN
B2: 11. COMPOSIÇÃO DE CUSTOS
B4: 10.1. Custos com EPIs e Materiais de Consumo
B5: SEQ. | C5: DESCRIÇÃO | D5: UNIDADE | E5: FORNECEDOR | F5: CNPJ | G5: FONTE | H5: DATA DA COTAÇÃO | I5: VALOR UN. | J5: PREÇO MÉDIO UN.
B6: 10.1.1 | C6: Álcool gel 70%, embalagem 5 litros. | D6: unidade | E6: SCHUZA COMERCIO DE DESCARTAVEIS, HIGIENE E LIMPEZA LTDA | F6: 09.644.894/0001-27 | G6: PE 43/2024 PM de Boa Vista do Sul | H6: 45596 | I6: 36.15 | J6: =AVERAGE(I6:$I$8) -> 34.836667
E7: TRIADE LOG COMERCIO E SERVIÇOS EIRELI | F7: 21.589.563/0001-37 | G7: Cotação própria | H7: 45965 | I7: 38.33
E8: ADEMIR ABRAO BRUSTOLIN | F8: 32.121.534/0001-62 | G8: PE 4/2025 PM de Estação | H8: 45716 | I8: 30.03
B9: 10.1.2 | C9: Avental impermeável de vinil ou PVC | D9: unidade | E9: AD LICITAÇÕES LTDA | F9: 56.900.847/0001-87 | G9: PE 06/2025 PM de Camaquã | H9: 45741 | I9: 8.2 | J9: =AVERAGE(I9:I11) -> 8.4966667
E10: T&T INDÚSTRIA, COMÉRCIO, IMPORTAÇÃO E EXPORTAÇÃO LTDA | F10: 26.348.306/0001-27 | G10: PE 85/2024 PM de Novo Hamburgo | H10: 45581 | I10: 8.25
E11: BLUSAFE EQUIPAMENTOS DE PROTEÇÃO INDIVIDUAL LTDA | F11: 36.091.140/0001-60 | G11: PE 25/2024 PM de Tapera | H11: 45625 | I11: 9.04
B12: 10.1.3 | C12: Bag para armazenamento de material pós coleta, tipo saco de lixo, com identificação por cor. (capacidade 100 litros, pacote com 100 unidades) | D12: pacote | E12: TOK LIMP DISTRIBUIDORA DE PRODUTOS DE LIMPEZA E AUTOMOTIVA LTDA | F12: 20.476.201/0001-77 | G12: Cotação própria | H12: 45769 | I12: 89.25 | J12: =AVERAGE(I12:$I$14) -> 94.673333
E13: KM COMERCIO ATACADISTA DE EMBALAGENS - EIRELI | F13: 02.236.630/0001-95 | G13: Cotação própria | H13: 45769 | I13: 97.12
E14: HD DISTRIBUIDORA DE PRODUTOS HIGIENICOS E DESCARTAVEIS LTDA | F14: 03.868.183/0001-50 | G14: Cotação própria | H14: 45769 | I14: 97.65
B15: 10.1.4 | C15: Bermuda de brim resistente, com refletivo. | D15: unidade | E15: PETTER UNIFORMES EIRELI | F15: 16.996.110/0001-95 | G15: PE 77/2024 PM de Capão da Canoa | H15: 45490 | I15: 40.1 | J15: =AVERAGE(I15:$I$17) -> 44.393333
E16: GALERIA DOS ESPORTES LTDA | F16: 03.159.962/0001-86 | G16: PE 65/2024 PM de Panambi | H16: 45456 | I16: 48.98
E17: DU RIO UNIFORMES BRASIL | F17: 43.950.473/0001-62 | G17: Cotação própria | H17: 45750 | I17: 44.1
B18: 10.1.5 | C18: Bombona plástica com torneira, capacidade 10 litros. | D18: unidade | E18: LUMILABOR PRODUTOS PARA LABORATÓRIO | F18: 51.119.586/0001-49 | G18: Cotação própria | H18: 45758 | I18: 82.98 | J18: =AVERAGE(I18:$I$20) -> 83.66
E19: LINKLAB PRODUTOS CIENTIFICOS LTDA | F19: 48.760.622/0001-44 | G19: Cotação própria | H19: 45758 | I19: 78.75
E20: BCLAB PRODUTOS LABORATORIAIS | F20: 39.409.828/0001-33 | G20: Cotação própria | H20: 45758 | I20: 89.25
B21: 10.1.6 | C21: Boné tipo árabe, para auxílio na proteção contra radiação solar. | D21: unidade | E21: EURO MAIS INDÚSTRIA, COMÉRCIO E CONSULTORIA LTDA | F21: 44.998.858/0001-62 | G21: PE 85/2024 PM de Novo Hamburgo | H21: 45581 | I21: 9.34 | J21: =AVERAGE(I21:$I$23) -> 9.21
E22: BARÃOSEG LTDA | F22: 53.763.552/0001-18 | G22: PE 52/2024 PM de Osório | H22: 45632 | I22: 9.68
E23: EPIFORTTE - COMERCIO DE EQUIPAMENTOS DE PROTECAO INDIVIDUAL LTDA | F23: 37.596.344/0001-15 | G23: Cotação própria | H23: 45632 | I23: 8.61
B24: 10.1.7 | C24: Calça de brim ou sarja resistente, com refletivo. | D24: unidade | E24: JB PONTES COMÉRCIO LTDA | F24: 48.937.333/0001-78 | G24: PE 06/2025 PM de Camaquã | H24: 45741 | I24: 63.22 | J24: =AVERAGE(I24:$I$26) -> 55.08
E25: DANIEL RICARDO HAAS FIN | F25: 49.578.502/0001-93 | G25: PE 31/2024 PM de Igrejinha | H25: 45425 | I25: 47.76
E26: PETTER UNIFORMES LTDA | F26: 16.996.110/0001-95 | G26: PE 77/2024 PM de Capão da Canoa | H26: 45490 | I26: 54.26
B27: 10.1.8 | C27: Calça de brim ou sarja resistente. | D27: unidade | E27: FACCINA DALTORA EQUIPAMENTOS DE SEGURANÇA LTDA | F27: 04.584.756/0001-86 | G27: PE 16/2024 PM de Estação | H27: 45436 | I27: 67.5 | J27: =AVERAGE(I27:$I29) -> 67.736667
E28: EXTINSOLDA MÁQUINAS E FERRAMENTAS LTDA | F28: 90.150.376/0001-75 | G28: Cotação própria | H28: 45758 | I28: 72.72
E29: PETTER UNIFORMES LTDA | F29: 16.996.110/0001-95 | G29: PE 01/2025 CONDESUS | H29: 45699 | I29: 62.99
B30: 10.1.9 | C30: Calçado de segurança tipo botina, com biqueira de aço ou composite, solado bidensidade antiderrapante, com absorção de energia na área do salto (calcanhar); | D30: par | E30: RP COMERCIAL LTDA | F30: 20.604.417/0001-70 | G30: PE 57/2024 PM de Arroio do Tigre | H30: 45625 | I30: 80.62 | J30: =AVERAGE(I30:$I$32) -> 84.38
E31: LF COMERCIAL DE BENS LTDA | F31: 91.845.735/0004-14 | G31: Cotação própria | H31: 45754 | I31: 94.39
E32: ASTRO DISTRIBUIDORA LTDA | F32: 18.597.685/0001-60 | G32: Cotação própria | H32: 45754 | I32: 78.13
B33: 10.1.10 | C33: Camiseta de malha manga longa, com refletivo. | D33: unidade | E33: BENVENUTTI UNIFORMES LTDA | F33: 11.606.391/0001-09 | G33: Cotação própria | H33: 45777 | I33: 40.84 | J33: =AVERAGE(I33:$I$35) -> 44.47
E34: CONFECÇÃO MAPA LTDA | F34: 30.185.499/0001-10 | G34: Cotação própria | H34: 45751 | I34: 47.14
E35: ZEN UNIFORMES LTDA | F35: 22.692.670/0001-59 | G35: Cotação própria | H35: 45751 | I35: 45.43
B36: 10.1.11 | C36: Camiseta de malha, tecido 100% algodão, manga curta. | D36: unidade | E36: QUALIJU MALHAS LTDA | F36: 16.575.469/0001-99 | G36: Cotação própria | H36: 45777 | I36: 18.48 | J36: =AVERAGE(I36:$I$38) -> 21.35
E37: BRINDES TIC TAC LTDA | F37: 33.583.462/0001-38 | G37: PE 30/2024 PM de Capão do Leão | H37: 45482 | I37: 20.7
E38: MARIA ELIZABETH MOURA MORALES CONFECÇÕES EIRELI | F38: 30.577.619/0001-24 | G38: PE 57/2024 PM de Arroio do Tigre | H38: 45625 | I38: 24.87
B39: 10.1.12 | C39: Camiseta manga curta com faixa refletiva. | D39: unidade | E39: ZEN UNIFORMES LTDA | F39: 22.692.670/0001-59 | G39: Cotação própria | H39: 45751 | I39: 42 | J39: =AVERAGE(I39:$I$41) -> 42.74
E40: RUBENS GANGUCU DE OLIVEIRA FILHO CONFECÇÕES | F40: 34.993.230/0001-10 | G40: Cotação própria | H40: 45751 | I40: 46.72
E41: COPAL INDUSTRIA E COMÉRCIO DE BENS LTDA | F41: 89.580.310/0001-36 | G41: Cotação própria | H41: 45751 | I41: 39.5
B42: 10.1.13 | C42: Capa de chuva em material PVC impermeável, fechamento em botões de pressão. | D42: unidade | E42: BARÃOSEG LTDA | F42: 53.763.552/0001-18 | G42: PE 02/2025 PM de Nova Ramada | H42: 45727 | I42: 18.01 | J42: =AVERAGE(I42:$I$44) -> 16.393333
...

Sheet IPCA
A1: PERÍODO | B1: ÍNDICE IPCA | C1: VALOR NO PERÍODO | D1: VALOR ATUALIZADO
A2: 2024.01 | B2: 6801.72 | D2: =C2/B2*$B$30 -> 0
A3: 2024.02 | B3: 6858.17 | D3: =C3/B3*$B$30 -> 0
A4: 2024.03 | B4: 6869.14 | D4: =C4/B4*$B$30 -> 0
A5: 2024.04 | B5: 6895.24 | D5: =C5/B5*$B$30 -> 0
A6: 2024.05 | B6: 6926.96 | D6: =C6/B6*$B$30 -> 0
A7: 2024.06 | B7: 6941.51 | C7: 44.5 | D7: =C7/B7*$B$30 -> 48.978778
A8: 2024.07 | B8: 6967.89 | C8: 36.57 | D8: =C8/B8*$B$30 -> 40.098263
A9: 2024.08 | B9: 6966.5 | D9: =C9/B9*$B$30 -> 0
A10: 2024.09 | B10: 6997.15 | D10: =C10/B10*$B$30 -> 0
A11: 2024.10 | B11: 7036.33 | C11: 8.6 | D11: =C11/B11*$B$30 -> 9.3380058
A12: 2024.11 | B12: 7063.77 | C12: 8.36 | D12: =C12/B12*$B$30 -> 9.042148
A13: 2024.12 | B13: 7100.5 | C13: 8 | D13: =C13/B13*$B$30 -> 8.6080135
A14: 2025.01 | B14: 7111.86 | D14: =C14/B14*$B$30 -> 0
A15: 2025.02 | B15: 7205.03 | D15: =C15/B15*$B$30 -> 0
A16: 2025.03 | B16: 7245.38 | D16: =C16/B16*$B$30 -> 0
A17: 2025.04 | B17: 7276.54 | C17: 85 | D17: =C17/B17*$B$30 -> 89.247465
A18: 2025.05 | B18: 7295.46 | D18: =C18/B18*$B$30 -> 0
A19: 2025.06 | B19: 7312.97 | C19: 7.85 | D19: =C19/B19*$B$30 -> 8.2012066
A20: 2025.07 | B20: 7331.98 | D20: =C20/B20*$B$30 -> 0
A21: 2025.08 | B21: 7323.91 | D21: =C21/B21*$B$30 -> 0
A22: 2025.09 | B22: 7359.06 | D22: =C22/B22*$B$30 -> 0
A23: 2025.10 | B23: 7365.68 | D23: =C23/B23*$B$30 -> 0
A24: 2025.11 | B24: 7378.94 | C24: 37.02 | D24: =C24/B24*$B$30 -> 38.330486
A25: 2025.12 | B25: 7403.29 | D25: =C25/B25*$B$30 -> 0
A26: 2026.01 | B26: 7427.72 | D26: =C26/B26*$B$30 -> 0
A27: 2026.02 | B27: 7479.71 | D27: =C27/B27*$B$30 -> 0
A28: 2026.03 | B28: 7545.53 | D28: =C28/B28*$B$30 -> 0
A29: 2026.04 | B29: 7596.09 | D29: =C29/B29*$B$30 -> 0
A30: 2026.05 | B30: 7640.15 | D30: =C30/B30*$B$30 -> 0
