Workbook
Name _______________OR1: #REF!
Name _______________OR12: #REF!
Name _______________OR13: #REF!
Name _______________OR14: #REF!
Name _______________OR15: #REF!
Name _______________OR16: #REF!
Name _______________OR17: #REF!
Name _______________OR18: #REF!
Name _______________OR19: #REF!
Name _______________OR2: #REF!
Name _______________OR3: #REF!
Name _______________OR4: #REF!
Name _______________OR5: #REF!
Name _______________OR6: #REF!
Name _______________OR7: #REF!
Name _______________OR8: #REF!
Name _______________OR9: #REF!
Name _______________tab0198: #REF!
Name ______________OR1: #REF!
Name ______________OR12: #REF!
Name ______________OR13: #REF!
Name ______________OR14: #REF!
Name ______________OR15: #REF!
Name ______________OR16: #REF!
Name ______________OR17: #REF!
Name ______________OR18: #REF!
Name ______________OR19: #REF!
Name ______________OR2: #REF!
Name ______________OR3: #REF!
Name ______________OR4: #REF!
Name ______________OR5: #REF!
Name ______________OR6: #REF!
Name ______________OR7: #REF!
Name ______________OR8: #REF!
Name ______________OR9: #REF!
Name ______________tab0198: #REF!
Name _____________OR1: #REF!
Name _____________OR12: #REF!
Name _____________OR13: #REF!
Name _____________OR14: #REF!
Name _____________OR15: #REF!
Name _____________OR16: #REF!
Name _____________OR17: #REF!
Name _____________OR18: #REF!
Name _____________OR19: #REF!
Name _____________OR2: #REF!
Name _____________OR3: #REF!
Name _____________OR4: #REF!
Name _____________OR5: #REF!
Name _____________OR6: #REF!
Name _____________OR7: #REF!
Name _____________OR8: #REF!
Name _____________OR9: #REF!
Name _____________tab0198: #REF!
Name ____________OR1: #REF!
Name ____________OR12: #REF!
Name ____________OR13: #REF!
Name ____________OR14: #REF!
Name ____________OR15: #REF!
Name ____________OR16: #REF!

Sheet RESUMO
B2: CONTRATO | C2: Nº 85/2026 | G2: BDI Serviços: | H2: 0.2216
B3: PROJETO: | C3: PROJETOS BÁSICO E EXECUTIVO DO LOTEAMENTO NOVO HORIZONTE | G3: BDI Diferenc: | H3: 0.1528
B4: LOCALIZ: | C4: ESTRADA DA ARROZEIRA x RUA RIO GRANDE DO SUL - CENTRO NOVO - ELDORADO DO SUL/RS | G4: Enc. Sociais: | H4: Sem Deson
B5: CLIENTE: | C5: PREFEITURA MUNIC. DE ELDORADO DO SUL / RS - SECRET. MUNIC. OBRAS E INFRAESTRUT. | G5: Sinapi/RS: | H5: Maio/26
B6: OBJETO: | C6: PLANILHA RESUMO DO ORÇAMENTO - SEM DESONERAÇÃO | G6: Data Orçamento: | H6: Julho/26
B7: ITEM | C7: DESCRIÇÃO | E7: % S/ BDI | F7: TOTAL R$ S/ BDI | G7: % C/ BDI | H7: TOTAL R$ C/ BDI
B8: 1 | C8: =VLOOKUP(B8,PLAN_ORÇAM!$C$9:$L$612,4,FALSE) -> ADMINISTRAÇÃO LOCAL | E8: =F8/$F$24 -> #DIV/0! | F8: =IFERROR(VLOOKUP(B8,PLAN_ORÇAM!$C$9:$L$612,8,FALSE),0) -> 0 | G8: =H8/$H$24 -> #DIV/0! | H8: =IFERROR(VLOOKUP(B8,PLAN_ORÇAM!$C$9:$L$612,10,FALSE),0) -> 0
B9: 2 | C9: =VLOOKUP(B9,PLAN_ORÇAM!$C$9:$L$612,4,FALSE) -> INSTALAÇÕES DO CANTEIRO DE OBRAS | E9: =F9/$F$24 -> #DIV/0! | F9: =IFERROR(VLOOKUP(B9,PLAN_ORÇAM!$C$9:$L$612,8,FALSE),0) -> 0 | G9: =H9/$H$24 -> #DIV/0! | H9: =IFERROR(VLOOKUP(B9,PLAN_ORÇAM!$C$9:$L$612,10,FALSE),0) -> 0
B10: 3 | C10: =VLOOKUP(B10,PLAN_ORÇAM!$C$9:$L$612,4,FALSE) -> MOBILIZAÇÃO E DESMOBILIZAÇÃO | E10: =F10/$F$24 -> #DIV/0! | F10: =IFERROR(VLOOKUP(B10,PLAN_ORÇAM!$C$9:$L$612,8,FALSE),0) -> 0 | G10: =H10/$H$24 -> #DIV/0! | H10: =IFERROR(VLOOKUP(B10,PLAN_ORÇAM!$C$9:$L$612,10,FALSE),0) -> 0
B11: 4 | C11: =VLOOKUP(B11,PLAN_ORÇAM!$C$9:$L$612,4,FALSE) -> TERRAPLENAGEM | E11: =F11/$F$24 -> #DIV/0! | F11: =IFERROR(VLOOKUP(B11,PLAN_ORÇAM!$C$9:$L$612,8,FALSE),0) -> 0 | G11: =H11/$H$24 -> #DIV/0! | H11: =IFERROR(VLOOKUP(B11,PLAN_ORÇAM!$C$9:$L$612,10,FALSE),0) -> 0
B12: 5 | C12: =VLOOKUP(B12,PLAN_ORÇAM!$C$9:$L$612,4,FALSE) -> REDE DE DRENAGEM PLUVIAL | E12: =F12/$F$24 -> #DIV/0! | F12: =IFERROR(VLOOKUP(B12,PLAN_ORÇAM!$C$9:$L$612,8,FALSE),0) -> 0 | G12: =H12/$H$24 -> #DIV/0! | H12: =IFERROR(VLOOKUP(B12,PLAN_ORÇAM!$C$9:$L$612,10,FALSE),0) -> 0
B13: 6 | C13: =VLOOKUP(B13,PLAN_ORÇAM!$C$9:$L$612,4,FALSE) -> REDE DE ESGOTO SANITÁRIO | E13: =F13/$F$24 -> #DIV/0! | F13: =IFERROR(VLOOKUP(B13,PLAN_ORÇAM!$C$9:$L$612,8,FALSE),0) -> 0 | G13: =H13/$H$24 -> #DIV/0! | H13: =IFERROR(VLOOKUP(B13,PLAN_ORÇAM!$C$9:$L$612,10,FALSE),0) -> 0
B14: 7 | C14: =VLOOKUP(B14,PLAN_ORÇAM!$C$9:$L$612,4,FALSE) -> REDE DE ÁGUA POTÁVEL | E14: =F14/$F$24 -> #DIV/0! | F14: =IFERROR(VLOOKUP(B14,PLAN_ORÇAM!$C$9:$L$612,8,FALSE),0) -> 0 | G14: =H14/$H$24 -> #DIV/0! | H14: =IFERROR(VLOOKUP(B14,PLAN_ORÇAM!$C$9:$L$612,10,FALSE),0) -> 0
B15: 8 | C15: =VLOOKUP(B15,PLAN_ORÇAM!$C$9:$L$612,4,FALSE) -> REDE DE ENERGIA ELÉTRICA | E15: =F15/$F$24 -> #DIV/0! | F15: =IFERROR(VLOOKUP(B15,PLAN_ORÇAM!$C$9:$L$612,8,FALSE),0) -> 0 | G15: =H15/$H$24 -> #DIV/0! | H15: =IFERROR(VLOOKUP(B15,PLAN_ORÇAM!$C$9:$L$612,10,FALSE),0) -> 0
B16: 9 | C16: =VLOOKUP(B16,PLAN_ORÇAM!$C$9:$L$612,4,FALSE) -> PAVIMENTAÇÃO | E16: =F16/$F$24 -> #DIV/0! | F16: =IFERROR(VLOOKUP(B16,PLAN_ORÇAM!$C$9:$L$612,8,FALSE),0) -> 0 | G16: =H16/$H$24 -> #DIV/0! | H16: =IFERROR(VLOOKUP(B16,PLAN_ORÇAM!$C$9:$L$612,10,FALSE),0) -> 0
B17: 10 | C17: =VLOOKUP(B17,PLAN_ORÇAM!$C$9:$L$612,4,FALSE) -> MURO DE CONTENÇÃO EM CONCRETO ARMADO | E17: =F17/$F$24 -> #DIV/0! | F17: =IFERROR(VLOOKUP(B17,PLAN_ORÇAM!$C$9:$L$612,8,FALSE),0) -> 0 | G17: =H17/$H$24 -> #DIV/0! | H17: =IFERROR(VLOOKUP(B17,PLAN_ORÇAM!$C$9:$L$612,10,FALSE),0) -> 0
B18: 11 | C18: =VLOOKUP(B18,PLAN_ORÇAM!$C$9:$L$612,4,FALSE) -> SINALIZAÇÃO VIÁRIA | E18: =F18/$F$24 -> #DIV/0! | F18: =IFERROR(VLOOKUP(B18,PLAN_ORÇAM!$C$9:$L$612,8,FALSE),0) -> 0 | G18: =H18/$H$24 -> #DIV/0! | H18: =IFERROR(VLOOKUP(B18,PLAN_ORÇAM!$C$9:$L$612,10,FALSE),0) -> 0
B19: 12 | C19: =VLOOKUP(B19,PLAN_ORÇAM!$C$9:$L$612,4,FALSE) -> URBANIZAÇÃO | E19: =F19/$F$24 -> #DIV/0! | F19: =IFERROR(VLOOKUP(B19,PLAN_ORÇAM!$C$9:$L$612,8,FALSE),0) -> 0 | G19: =H19/$H$24 -> #DIV/0! | H19: =IFERROR(VLOOKUP(B19,PLAN_ORÇAM!$C$9:$L$612,10,FALSE),0) -> 0
... B22: 15 | C22: =VLOOKUP(B22,PLAN_ORÇAM!$C$9:$L$612,4,FALSE) -> LINHA DE RECALQUE DE ESGOTO | E22: =F22/$F$24 -> #DIV/0! | F22: =IFERROR(VLOOKUP(B22,PLAN_ORÇAM!$C$9:$L$612,8,FALSE),0) -> 0 | G22: =H22/$H$24 -> #DIV/0! | H22: =IFERROR(VLOOKUP(B22,PLAN_ORÇAM!$C$9:$L$612,10,FALSE),0) -> 0
C24: TOTAL DO ORÇAMENTO C/ BDI | E24: =SUBTOTAL(9,E8:E23) -> #DIV/0! | F24: =SUBTOTAL(9,F8:F23) -> 0 | G24: =SUBTOTAL(9,G8:G23) -> #DIV/0! | H24: =SUBTOTAL(9,H8:H23) -> 0

Sheet PLAN_ORÇAM
C2: CONTRATO | D2: Nº 85/2026 | K2: BDI Serviços: | L2: 0.2216
C3: PROJETO: | D3: PROJETOS BÁSICO E EXECUTIVO DO LOTEAMENTO NOVO HORIZONTE | K3: BDI Diferenc: | L3: 0.1528
C4: LOCALIZ: | D4: ESTRADA DA ARROZEIRA x RUA RIO GRANDE DO SUL - CENTRO NOVO - ELDORADO DO SUL/RS | K4: Enc. Sociais: | L4: Sem Deson
C5: CLIENTE: | D5: PREFEITURA MUNIC. DE ELDORADO DO SUL / RS - SECRET. MUNIC. OBRAS E INFRAESTRUT. | K5: Sinapi/RS: | L5: Maio/26
C6: OBJETO: | D6: PLANILHA DE QUANTIDADES E PREÇOS DO ORÇAMENTO - SEM DESONERAÇÃO | K6: Data Orçamento: | L6: Julho/26
C7: LOTEAMENTO NOVO HORIZONTE | I7: TOTAL R$ S/ BDI: | J7: =SUBTOTAL(9,J9:J612) -> 0 | K7: TOTAL R$ C/ BDI: | L7: =SUBTOTAL(9,L9:L612) -> #VALUE!
C8: ITEM | D8: REF. | E8: CÓDIGO | F8: DESCRIÇÃO | G8: UNID | H8: QUANT. | I8: PREÇO UNIT. (R$) (S/ BDI) | J8: PREÇO TOT. (R$) (S/ BDI) | K8: PREÇO UNIT. (R$) (C/ BDI) | L8: PREÇO TOTAL (R$) - (C/ BDI)
C9: 1 | F9: ADMINISTRAÇÃO LOCAL | J9: =SUBTOTAL(9,J10:J20) -> 0 | L9: =SUBTOTAL(9,L10:L20) -> #VALUE!
C10: 1.1 | F10: ADMINISTRAÇÃO DAS OBRAS | J10: =SUBTOTAL(9,J11:J20) -> 0 | L10: =SUBTOTAL(9,L11:L20) -> #VALUE!
C11: 1.1.1 | D11: SINAPI | E11: 93567 | F11: ENGENHEIRO CIVIL DE OBRA PLENO COM ENCARGOS COMPLEMENTARES | G11: MES | H11: 5 | I11: 0 | J11: =ROUND(I11*H11,2) -> 0 | K11: =IF(I11=0,"",ROUND(I11*(1+$L$2),2)) | L11: =ROUND(K11*H11,2) -> #VALUE!
C12: 1.1.2 | D12: SINAPI | E12: 93572 | F12: ENCARREGADO GERAL DE OBRAS COM ENCARGOS COMPLEMENTARES | G12: MES | H12: 10 | I12: 0 | J12: =ROUND(I12*H12,2) -> 0 | K12: =IF(I12=0,"",ROUND(I12*(1+$L$2),2)) | L12: =ROUND(K12*H12,2) -> #VALUE!
C13: 1.1.3 | D13: SINAPI | E13: 101390 | F13: AUXILIAR TÉCNICO / ASSISTENTE DE ENGENHARIA COM ENCARGOS COMPLEMENTARES | G13: MES | H13: 10 | I13: 0 | J13: =ROUND(I13*H13,2) -> 0 | K13: =IF(I13=0,"",ROUND(I13*(1+$L$2),2)) | L13: =ROUND(K13*H13,2) -> #VALUE!
C14: 1.1.4 | D14: SINAPI | E14: 100321 | F14: TÉCNICO EM SEGURANÇA DO TRABALHO COM ENCARGOS COMPLEMENTARES | G14: MES | H14: 5 | I14: 0 | J14: =ROUND(I14*H14,2) -> 0 | K14: =IF(I14=0,"",ROUND(I14*(1+$L$2),2)) | L14: =ROUND(K14*H14,2) -> #VALUE!
C15: 1.1.5 | D15: SINAPI | E15: 94296 | F15: TOPOGRAFO COM ENCARGOS COMPLEMENTARES | G15: MES | H15: 8 | I15: 0 | J15: =ROUND(I15*H15,2) -> 0 | K15: =IF(I15=0,"",ROUND(I15*(1+$L$2),2)) | L15: =ROUND(K15*H15,2) -> #VALUE!
C16: 1.1.6 | D16: SINAPI | E16: 101389 | F16: AUXILIAR DE TOPÓGRAFO COM ENCARGOS COMPLEMENTARES | G16: MES | H16: 16 | I16: 0 | J16: =ROUND(I16*H16,2) -> 0 | K16: =IF(I16=0,"",ROUND(I16*(1+$L$2),2)) | L16: =ROUND(K16*H16,2) -> #VALUE!
C17: 1.1.7 | D17: SINAPI | E17: 101456 | F17: TÉCNICO DE LABORATÓRIO E CAMPO DE CONSTRUÇÃO COM ENCARGOS COMPLEMENTARES | G17: MES | H17: 8 | I17: 0 | J17: =ROUND(I17*H17,2) -> 0 | K17: =IF(I17=0,"",ROUND(I17*(1+$L$2),2)) | L17: =ROUND(K17*H17,2) -> #VALUE!
C18: 1.1.8 | D18: SINAPI | E18: 101385 | F18: AUXILIAR DE LABORATORISTA DE SOLOS E DE CONCRETO COM ENCARGOS COMPLEMENTARES | G18: MES | H18: 8 | I18: 0 | J18: =ROUND(I18*H18,2) -> 0 | K18: =IF(I18=0,"",ROUND(I18*(1+$L$2),2)) | L18: =ROUND(K18*H18,2) -> #VALUE!
C19: 1.1.9 | D19: SINAPI | E19: 101460 | F19: VIGIA DIURNO COM ENCARGOS COMPLEMENTARES | G19: MES | H19: 10 | I19: 0 | J19: =ROUND(I19*H19,2) -> 0 | K19: =IF(I19=0,"",ROUND(I19*(1+$L$2),2)) | L19: =ROUND(K19*H19,2) -> #VALUE!
C20: 1.1.10 | D20: COMPOS | E20: COMP-001 | F20: VIGIA NOTURNO COM ENCARGOS COMPLEMENTARES | G20: MÊS | H20: 10 | I20: 0 | J20: =ROUND(I20*H20,2) -> 0 | K20: =IF(I20=0,"",ROUND(I20*(1+$L$2),2)) | L20: =ROUND(K20*H20,2) -> #VALUE!
C21: 2 | F21: INSTALAÇÕES DO CANTEIRO DE OBRAS | J21: =SUBTOTAL(9,J22:J63) -> 0 | L21: =SUBTOTAL(9,L22:L63) -> #VALUE!
C22: 2.1 | F22: SERVIÇOS INICIAIS - PREPARO DO TERRENO | J22: =SUBTOTAL(9,J23:J31) -> 0 | L22: =SUBTOTAL(9,L23:L31) -> #VALUE!
C23: 2.1.1 | D23: SINAPI | E23: 98525 | F23: LIMPEZA MECANIZADA DE CAMADA VEGETAL, VEGETAÇÃO E PEQUENAS ÁRVORES (DIÂMETRO DE TRONCO MENOR QUE 0,20 M), COM TRATOR DE ESTEIRAS. AF_03/2024 | G23: M2 | H23: 680 | I23: 0 | J23: =ROUND(I23*H23,2) -> 0 | K23: =IF(I23=0,"",ROUND(I23*(1+$L$2),2)) | L23: =ROUND(K23*H23,2) -> #VALUE!
C24: 2.1.2 | D24: SINAPI | E24: 98524 | F24: LIMPEZA MANUAL DE VEGETAÇÃO EM TERRENO COM ENXADA. AF_03/2024 | G24: M2 | H24: 120 | I24: 0 | J24: =ROUND(I24*H24,2) -> 0 | K24: =IF(I24=0,"",ROUND(I24*(1+$L$2),2)) | L24: =ROUND(K24*H24,2) -> #VALUE!
C25: 2.1.3 | D25: COMPOS | E25: COMP-002 | F25: REGULARIZAÇÃO E COMPACTAÇÃO MECÂNICA DE SUBLEITO | G25: M2 | H25: 800 | I25: 0 | J25: =ROUND(I25*H25,2) -> 0 | K25: =IF(I25=0,"",ROUND(I25*(1+$L$2),2)) | L25: =ROUND(K25*H25,2) -> #VALUE!
C26: 2.1.4 | D26: SINAPI | E26: 100975 | F26: CARGA, MANOBRA E DESCARGA DE SOLOS E MATERIAIS GRANULARES EM CAMINHÃO BASCULANTE 14 M³ (MAT PARA LASTRO DE BRITA) | G26: M3 | H26: 55.2 | I26: 0 | J26: =ROUND(I26*H26,2) -> 0 | K26: =IF(I26=0,"",ROUND(I26*(1+$L$2),2)) | L26: =ROUND(K26*H26,2) -> #VALUE!
C27: 2.1.5 | D27: SINAPI | E27: 95876 | F27: TRANSPORTE COM CAMINHÃO BASCULANTE DE 14 M³, EM VIA URBANA PAVIMENTADA, DMT ATÉ 30 KM (MAT PARA LASTRO DE BRITA) | G27: M3XKM | H27: 828 | I27: 0 | J27: =ROUND(I27*H27,2) -> 0 | K27: =IF(I27=0,"",ROUND(I27*(1+$L$2),2)) | L27: =ROUND(K27*H27,2) -> #VALUE!
C28: 2.1.6 | D28: SINAPI | E28: 96622 | F28: LASTRO COM MATERIAL GRANULAR, APLICADO EM PISOS OU LAJES SOBRE SOLO, ESPESSURA DE *5 CM*. AF_01/2024 | G28: M3 | H28: 40 | I28: 0 | J28: =ROUND(I28*H28,2) -> 0 | K28: =IF(I28=0,"",ROUND(I28*(1+$L$2),2)) | L28: =ROUND(K28*H28,2) -> #VALUE!
C29: 2.1.7 | D29: SINAPI | E29: 100975 | F29: CARGA, MANOBRA E DESCARGA DE SOLOS E MATERIAIS GRANULARES EM CAMINHÃO BASCULANTE 14 M³ - CARGA COM PÁ CARREGADEIRA (CAÇAMBA DE 1,7 A 2,8 M³ / 128 HP) E DESCARGA LIVRE (UNIDADE: M3). AF_07/2020 | G29: M3 | H29: 206.8 | I29: 0 | J29: =ROUND(I29*H29,2) -> 0 | K29: =IF(I29=0,"",ROUND(I29*(1+$L$2),2)) | L29: =ROUND(K29*H29,2) -> #VALUE!
C30: 2.1.8 | D30: SINAPI | E30: 95876 | F30: TRANSPORTE COM CAMINHÃO BASCULANTE DE 14 M³, EM VIA URBANA PAVIMENTADA, DMT ATÉ 30 KM (UNIDADE: M3XKM). AF_07/2020 | G30: M3XKM | H30: 5376.8 | I30: 0 | J30: =ROUND(I30*H30,2) -> 0 | K30: =IF(I30=0,"",ROUND(I30*(1+$L$2),2)) | L30: =ROUND(K30*H30,2) -> #VALUE!
C31: 2.1.9 | D31: SINAPI | E31: 100574 | F31: ESPALHAMENTO DE MATERIAL COM TRATOR DE ESTEIRAS. | G31: M3 | H31: 206.8 | I31: 0 | J31: =ROUND(I31*H31,2) -> 0 | K31: =IF(I31=0,"",ROUND(I31*(1+$L$2),2)) | L31: =ROUND(K31*H31,2) -> #VALUE!
C32: 2.2 | F32: CANTEIRO DE OBRAS | J32: =SUBTOTAL(9,J33:J43) -> 0 | L32: =SUBTOTAL(9,L33:L43) -> #VALUE!
C33: 2.2.1 | D33: COMPOS | E33: COMP-005 | F33: PLACA DE OBRA - PREFEITURA | G33: M2 | H33: 3.75 | I33: 0 | J33: =ROUND(I33*H33,2) -> 0 | K33: =IF(I33=0,"",ROUND(I33*(1+$L$2),2)) | L33: =ROUND(K33*H33,2) -> #VALUE!
C34: 2.2.2 | D34: COMPOS | E34: COMP-006 | F34: PLACA DE OBRA - CONSTRUTORA | G34: M2 | H34: 3.75 | I34: 0 | J34: =ROUND(I34*H34,2) -> 0 | K34: =IF(I34=0,"",ROUND(I34*(1+$L$2),2)) | L34: =ROUND(K34*H34,2) -> #VALUE!
C35: 2.2.3 | D35: COMPOS | E35: COMP-007 | F35: PLACA DE OBRA - AMBIENTAL | G35: M2 | H35: 1.5 | I35: 0 | J35: =ROUND(I35*H35,2) -> 0 | K35: =IF(I35=0,"",ROUND(I35*(1+$L$2),2)) | L35: =ROUND(K35*H35,2) -> #VALUE!
C36: 2.2.4 | D36: SINAPI-I | E36: 10776 | F36: LOCACAO DE CONTAINER 2,30 X 6,00 M, ALT. 2,50 M, PARA ESCRITORIO, SEM DIVISORIAS INTERNAS E SEM SANITARIO. | G36: MES | H36: 10 | I36: 0 | J36: =ROUND(I36*H36,2) -> 0 | K36: =IF(I36=0,"",ROUND(I36*(1+$L$2),2)) | L36: =ROUND(K36*H36,2) -> #VALUE!
C37: 2.2.5 | D37: COMPOS | E37: COMP-008 | F37: LOCACAO DE CONTAINER REFEITÓRIO 2,30 X 6,00 M, ALT. 2,50 M, COM INSTALAÇÕES BÁSICAS DE COZINHA, MESAS E ASSENTOS PARA ATE 8 PESSOAS. | G37: MES | H37: 10 | I37: 0 | J37: =ROUND(I37*H37,2) -> 0 | K37: =IF(I37=0,"",ROUND(I37*(1+$L$2),2)) | L37: =ROUND(K37*H37,2) -> #VALUE!
C38: 2.2.6 | D38: SINAPI-I | E38: 10778 | F38: LOCACAO DE CONTAINER 2,30 X 6,00 M, ALT. 2,50 M, PARA SANITARIO, COM 4 BACIAS, 8 CHUVEIROS,1 LAVATORIO E 1 MICTORIO (NAO INCLUI MOBILIZACAO/DESMOBILIZACAO) | G38: MES | H38: 10 | I38: 0 | J38: =ROUND(I38*H38,2) -> 0 | K38: =IF(I38=0,"",ROUND(I38*(1+$L$2),2)) | L38: =ROUND(K38*H38,2) -> #VALUE!
C39: 2.2.7 | D39: COMPOS | E39: COMP-009 | F39: LOCAÇÃO DE CONTAINER ALMOXARIFADO, DE *2,40* X *6,00* M, PADRAO SIMPLES, SEM REVESTIMENTO E SEM DIVISORIAS INTERNOS E SEM SANITARIO. | G39: MES | H39: 10 | I39: 0 | J39: =ROUND(I39*H39,2) -> 0 | K39: =IF(I39=0,"",ROUND(I39*(1+$L$2),2)) | L39: =ROUND(K39*H39,2) -> #VALUE!
C40: 2.2.8 | D40: COMPOS | E40: COMP-050 | F40: LOCACAO DE CONTAINER LABORATÓRIO, 2,30 X 6,00 M, ALT. 2,50 M, COM INSTALAÇÕES BÁSICAS DE LAVATÓRIO E BANCADA | G40: MES | H40: 10 | I40: 0 | J40: =ROUND(I40*H40,2) -> 0 | K40: =IF(I40=0,"",ROUND(I40*(1+$L$2),2)) | L40: =ROUND(K40*H40,2) -> #VALUE!
C41: 2.2.9 | D41: COMPOS | E41: COMP-010 | F41: EXECUÇÃO DE ÁREA COBERTA PARA CENTRAL DE FÔRMAS EM CANTEIRO DE OBRA. | G41: M2 | H41: 14.4 | I41: 0 | J41: =ROUND(I41*H41,2) -> 0 | K41: =IF(I41=0,"",ROUND(I41*(1+$L$2),2)) | L41: =ROUND(K41*H41,2) -> #VALUE!
...

Sheet CRFF
C2: PROJETOS BÁSICO E EXECUTIVO DO LOTEAMENTO NOVO HORIZONTE
C4: CRONOGRAMA FÍSICO-FINANCEIRO ESTIMATIVO | F4: Prazo exec.: 10 meses
C6: ITEM | D6: DESCRIÇÃO | E6: % ITEM | F6: TOTAL C/ BDI | G6: MÊS 1 | H6: MÊS 2 | I6: MÊS 3 | J6: MÊS 4 | K6: MÊS 5 | L6: MÊS 6 | M6: MÊS 7 | N6: MÊS 8 | O6: MÊS 9 | P6: MÊS 10 | Q6: MÊS 11 | R6: MÊS 12 | S6: TOTAIS | U6: conf
A8: # | B8: =COUNTIF(G9:R9,">0") -> 0 | C8: 1 | D8: =VLOOKUP(C8,RESUMO!$B$8:$H$23,2,FALSE) -> ADMINISTRAÇÃO LOCAL | E8: =IFERROR(F8/$F$40,"") | F8: =VLOOKUP(C8,RESUMO!$B$8:$H$23,7,FALSE) -> 0 | G8: =G86 -> 0.04059299 | H8: =H86 -> 0.08370532 | I8: =I86 -> 0.10957227 | J8: =J86 -> 0.12449822 | K8: =K86 -> 0.13009626 | L8: =L86 -> 0.12732366 | M8: =M86 -> 0.11707324 | N8: =N86 -> 0.10038963 | ... R8: =R86 -> 0.0065706313 | S8: =SUM(G8:R8) -> 1
G9: =$F8*G8 -> 0 | H9: =$F8*H8 -> 0 | I9: =$F8*I8 -> 0 | J9: =$F8*J8 -> 0 | K9: =$F8*K8 -> 0 | L9: =$F8*L8 -> 0 | M9: =$F8*M8 -> 0 | N9: =$F8*N8 -> 0 | ... R9: =$F8*R8 -> 0 | S9: =SUM(G9:R9) -> 0 | U9: =F8-S9 -> 0
A10: # | B10: =COUNTIF(G11:R11,">0") -> 0 | C10: 2 | D10: =VLOOKUP(C10,RESUMO!$B$8:$H$23,2,FALSE) -> INSTALAÇÕES DO CANTEIRO DE OBRAS | E10: =IFERROR(F10/$F$40,"") | F10: =VLOOKUP(C10,RESUMO!$B$8:$H$23,7,FALSE) -> 0 | G10: =G64 -> 1 | S10: =SUM(G10:R10) -> 1
G11: =$F10*G10 -> 0 | S11: =SUM(G11:R11) -> 0 | U11: 0
A12: # | B12: =COUNTIF(G13:R13,">0") -> 0 | C12: 3 | D12: =VLOOKUP(C12,RESUMO!$B$8:$H$23,2,FALSE) -> MOBILIZAÇÃO E DESMOBILIZAÇÃO | E12: =IFERROR(F12/$F$40,"") | F12: =VLOOKUP(C12,RESUMO!$B$8:$H$23,7,FALSE) -> 0 | G12: =G66 -> 0.61578872 | R12: =H66 -> 0.38421128 | S12: =SUM(G12:R12) -> 1
G13: =$F12*G12 -> 0 | R13: =$F12*R12 -> 0 | S13: =SUM(G13:R13) -> 0 | U13: =F12-S13 -> 0
A14: # | B14: =COUNTIF(G15:R15,">0") -> 0 | C14: 4 | D14: =VLOOKUP(C14,RESUMO!$B$8:$H$23,2,FALSE) -> TERRAPLENAGEM | E14: =IFERROR(F14/$F$40,"") | F14: =VLOOKUP(C14,RESUMO!$B$8:$H$23,7,FALSE) -> 0 | H14: =G76 -> 0.097196414 | I14: =H76 -> 0.18877183 | J14: =I76 -> 0.22104009 | K14: =J76 -> 0.21001312 | L14: =K76 -> 0.16407876 | M14: =L76 -> 0.094896259 | N14: =M76 -> 0.024003535 | S14: =SUM(G14:R14) -> 1
H15: =$F14*H14 -> 0 | I15: =$F14*I14 -> 0 | J15: =$F14*J14 -> 0 | K15: =$F14*K14 -> 0 | L15: =$F14*L14 -> 0 | M15: =$F14*M14 -> 0 | N15: =$F14*N14 -> 0 | S15: =SUM(G15:R15) -> 0 | U15: =F14-S15 -> 0
A16: # | B16: =COUNTIF(G17:R17,">0") -> 0 | C16: 5 | D16: =VLOOKUP(C16,RESUMO!$B$8:$H$23,2,FALSE) -> REDE DE DRENAGEM PLUVIAL | E16: =IFERROR(F16/$F$40,"") | F16: =VLOOKUP(C16,RESUMO!$B$8:$H$23,7,FALSE) -> 0 | J16: =G74 -> 0.12429831 | K16: =H74 -> 0.23407048 | L16: =I74 -> 0.25741992 | M16: =J74 -> 0.21746287 | N16: =K74 -> 0.13220268 | O16: =L74 -> 0.034545733 | S16: =SUM(G16:R16) -> 1
J17: =$F16*J16 -> 0 | K17: =$F16*K16 -> 0 | L17: =$F16*L16 -> 0 | M17: =$F16*M16 -> 0 | N17: =$F16*N16 -> 0 | O17: =$F16*O16 -> 0 | S17: =SUM(G17:R17) -> 0 | U17: =F16-S17 -> 0
A18: # | B18: =COUNTIF(G19:R19,">0") -> 0 | C18: 6 | D18: =VLOOKUP(C18,RESUMO!$B$8:$H$23,2,FALSE) -> REDE DE ESGOTO SANITÁRIO | E18: =IFERROR(F18/$F$40,"") | F18: =VLOOKUP(C18,RESUMO!$B$8:$H$23,7,FALSE) -> 0 | J18: =G74 -> 0.12429831 | K18: =H74 -> 0.23407048 | L18: =I74 -> 0.25741992 | M18: =J74 -> 0.21746287 | N18: =K74 -> 0.13220268 | O18: =L74 -> 0.034545733 | S18: =SUM(G18:R18) -> 1
J19: =$F18*J18 -> 0 | K19: =$F18*K18 -> 0 | L19: =$F18*L18 -> 0 | M19: =$F18*M18 -> 0 | N19: =$F18*N18 -> 0 | O19: =$F18*O18 -> 0 | S19: =SUM(G19:R19) -> 0 | U19: =F18-S19 -> 0
A20: # | B20: =COUNTIF(G21:R21,">0") -> 0 | C20: 7 | D20: =VLOOKUP(C20,RESUMO!$B$8:$H$23,2,FALSE) -> REDE DE ÁGUA POTÁVEL | E20: =IFERROR(F20/$F$40,"") | F20: =VLOOKUP(C20,RESUMO!$B$8:$H$23,7,FALSE) -> 0 | L20: =G70 -> 0.23387058 | M20: =H70 -> 0.38191814 | N20: =I70 -> 0.29608013 | O20: =J70 -> 0.088131157 | S20: =SUM(G20:R20) -> 1
L21: =$F20*L20 -> 0 | M21: =$F20*M20 -> 0 | N21: =$F20*N20 -> 0 | O21: =$F20*O20 -> 0 | S21: =SUM(G21:R21) -> 0 | U21: =F20-S21 -> 0
A22: # | B22: =COUNTIF(G23:R23,">0") -> 0 | C22: 8 | D22: =VLOOKUP(C22,RESUMO!$B$8:$H$23,2,FALSE) -> REDE DE ENERGIA ELÉTRICA | E22: =IFERROR(F22/$F$40,"") | F22: =VLOOKUP(C22,RESUMO!$B$8:$H$23,7,FALSE) -> 0 | O22: =G68 -> 0.35836879 | P22: =H68 -> 0.47488279 | Q22: =I68 -> 0.16674841 | S22: =SUM(G22:R22) -> 1
O23: =$F22*O22 -> 0 | P23: =$F22*P22 -> 0 | Q23: =$F22*Q22 -> 0 | S23: =SUM(G23:R23) -> 0 | U23: =F22-S23 -> 0
A24: # | B24: =COUNTIF(G25:R25,">0") -> 0 | C24: 9 | D24: =VLOOKUP(C24,RESUMO!$B$8:$H$23,2,FALSE) -> PAVIMENTAÇÃO | E24: =IFERROR(F24/$F$40,"") | F24: =VLOOKUP(C24,RESUMO!$B$8:$H$23,7,FALSE) -> 0 | M24: =G70 -> 0.23387058 | N24: =H70 -> 0.38191814 | O24: =I70 -> 0.29608013 | P24: =J70 -> 0.088131157 | S24: =SUM(G24:R24) -> 1
M25: =$F24*M24 -> 0 | N25: =$F24*N24 -> 0 | O25: =$F24*O24 -> 0 | P25: =$F24*P24 -> 0 | S25: =SUM(G25:R25) -> 0 | U25: =F24-S25 -> 0
A26: # | B26: =COUNTIF(G27:R27,">0") -> 0 | C26: 10 | D26: =VLOOKUP(C26,RESUMO!$B$8:$H$23,2,FALSE) -> MURO DE CONTENÇÃO EM CONCRETO ARMADO | E26: =IFERROR(F26/$F$40,"") | F26: =VLOOKUP(C26,RESUMO!$B$8:$H$23,7,FALSE) -> 0 | P26: =G66 -> 0.61578872 | Q26: =H66 -> 0.38421128 | S26: =SUM(G26:R26) -> 1
P27: =$F26*P26 -> 0 | Q27: =$F26*Q26 -> 0 | S27: =SUM(G27:R27) -> 0 | U27: =F26-S27 -> 0
A28: # | B28: =COUNTIF(G29:R29,">0") -> 0 | C28: 11 | D28: =VLOOKUP(C28,RESUMO!$B$8:$H$23,2,FALSE) -> SINALIZAÇÃO VIÁRIA | E28: =IFERROR(F28/$F$40,"") | F28: =VLOOKUP(C28,RESUMO!$B$8:$H$23,7,FALSE) -> 0 | L28: =G72 -> 0.16568806 | M28: =H72 -> 0.29672412 | N28: =I72 -> 0.292047 | O28: =J72 -> 0.19267608 | P28: =K72 -> 0.052864741 | S28: =SUM(G28:R28) -> 1
L29: =$F28*L28 -> 0 | M29: =$F28*M28 -> 0 | N29: =$F28*N28 -> 0 | O29: =$F28*O28 -> 0 | P29: =$F28*P28 -> 0 | S29: =SUM(G29:R29) -> 0 | U29: =F28-S29 -> 0
A30: # | B30: =COUNTIF(G31:R31,">0") -> 0 | C30: 12 | D30: =VLOOKUP(C30,RESUMO!$B$8:$H$23,2,FALSE) -> URBANIZAÇÃO | E30: =IFERROR(F30/$F$40,"") | F30: =VLOOKUP(C30,RESUMO!$B$8:$H$23,7,FALSE) -> 0 | Q30: =G64 -> 1 | R30: =H64 -> 0 | S30: =SUM(G30:R30) -> 1
Q31: =$F30*Q30 -> 0 | R31: =$F30*R30 -> 0 | S31: =SUM(G31:R31) -> 0 | U31: =F30-S31 -> 0
A32: # | B32: =COUNTIF(G33:R33,">0") -> 0 | C32: 13 | D32: =VLOOKUP(C32,RESUMO!$B$8:$H$23,2,FALSE) -> SERVIÇOS COMPLEMENTARES | E32: =IFERROR(F32/$F$40,"") | F32: =VLOOKUP(C32,RESUMO!$B$8:$H$23,7,FALSE) -> 0 | Q32: =G66 -> 0.61578872 | R32: =H66 -> 0.38421128 | S32: =SUM(G32:R32) -> 1
Q33: =$F32*Q32 -> 0 | R33: =$F32*R32 -> 0 | S33: =SUM(G33:R33) -> 0 | U33: =F32-S33 -> 0
A34: # | B34: =COUNTIF(G35:R35,">0") -> 0 | C34: 14 | D34: =VLOOKUP(C34,RESUMO!$B$8:$H$23,2,FALSE) -> ESTAÇÃO ELEVATÓRIA DE ESGOTO BRUTO - EEEB | E34: =IFERROR(F34/$F$40,"") | F34: =VLOOKUP(C34,RESUMO!$B$8:$H$23,7,FALSE) -> 0 | L34: =G70 -> 0.23387058 | M34: =H70 -> 0.38191814 | N34: =I70 -> 0.29608013 | O34: =J70 -> 0.088131157 | S34: =SUM(G34:R34) -> 1
L35: =$F34*L34 -> 0 | M35: =$F34*M34 -> 0 | N35: =$F34*N34 -> 0 | O35: =$F34*O34 -> 0 | S35: =SUM(G35:R35) -> 0 | U35: =F34-S35 -> 0
A36: # | B36: =COUNTIF(G37:R37,">0") -> 0 | C36: 15 | D36: =VLOOKUP(C36,RESUMO!$B$8:$H$23,2,FALSE) -> LINHA DE RECALQUE DE ESGOTO | E36: =IFERROR(F36/$F$40,"") | F36: =VLOOKUP(C36,RESUMO!$B$8:$H$23,7,FALSE) -> 0 | M36: =C66 -> 0 | N36: =G70 -> 0.23387058 | O36: =H70 -> 0.38191814 | P36: =I70 -> 0.29608013 | Q36: =J70 -> 0.088131157 | S36: =SUM(G36:R36) -> 1
M37: =$F36*M36 -> 0 | N37: =$F36*N36 -> 0 | O37: =$F36*O36 -> 0 | P37: =$F36*P36 -> 0 | Q37: =$F36*Q36 -> 0 | S37: =SUM(G37:R37) -> 0 | U37: =F36-S37 -> 0
A40: # | D40: TOTAL DO ORÇAMENTO | E40: =SUMIF(A8:A39,A40,E8:E39) -> 0 | F40: =SUMIF($A$8:$A$39,A40,F8:F39) -> 0
D43: PARCELAS MENSAIS | E43: MENSAL SIMPLES | G43: =SUM(G9,G11,G13,G15,G17,G19,G21,G23,G25,G37,G27,G29)/$F40 -> #DIV/0! | H43: =SUM(H9,H11,H13,H15,H17,H19,H21,H23,H25,H37,H27,H29,H31,H33,H35)/$F40 -> #DIV/0! | I43: =SUM(I9,I11,I13,I15,I17,I19,I21,I23,I25,I37,I27,I29,I31,I33,I35)/$F40 -> #DIV/0! | J43: =SUM(J9,J11,J13,J15,J17,J19,J21,J23,J25,J37,J27,J29,J31,J33,J35)/$F40 -> #DIV/0! | K43: =SUM(K9,K11,K13,K15,K17,K19,K21,K23,K25,K37,K27,K29,K31,K33,K35)/$F40 -> #DIV/0! | L43: =SUM(L9,L11,L13,L15,L17,L19,L21,L23,L25,L37,L27,L29,L31,L33,L35)/$F40 -> #DIV/0! | M43: =SUM(M9,M11,M13,M15,M17,M19,M21,M23,M25,M37,M27,M29,M31,M33,M35)/$F40 -> #DIV/0! | N43: =SUM(N9,N11,N13,N15,N17,N19,N21,N23,N25,N37,N27,N29,N31,N33,N35)/$F40 -> #DIV/0! | O43: =SUM(O9,O11,O13,O15,O17,O19,O21,O23,O25,O37,O27,O29,O31,O33,O35)/$F40 -> #DIV/0! | ... R43: =SUM(R9,R11,R13,R15,R17,R19,R21,R23,R25,R37,R27,R29,R31,R33,R35)/$F40 -> #DIV/0! | S43: =SUM(G43:R43) -> #DIV/0!
G44: =$F40*G43 -> #DIV/0! | H44: =$F40*H43 -> #DIV/0! | I44: =$F40*I43 -> #DIV/0! | J44: =$F40*J43 -> #DIV/0! | K44: =$F40*K43 -> #DIV/0! | L44: =$F40*L43 -> #DIV/0! | M44: =$F40*M43 -> #DIV/0! | N44: =$F40*N43 -> #DIV/0! | ... R44: =$F40*R43 -> #DIV/0! | S44: =SUM(G44:R44) -> #DIV/0!
E45: MENSAL ACUMULADO | G45: =G46/$F$40 -> #DIV/0! | H45: =H46/$F$40 -> #DIV/0! | I45: =I46/$F$40 -> #DIV/0! | J45: =J46/$F$40 -> #DIV/0! | K45: =K46/$F$40 -> #DIV/0! | L45: =L46/$F$40 -> #DIV/0! | M45: =M46/$F$40 -> #DIV/0! | N45: =N46/$F$40 -> #DIV/0! | ... R45: =R46/$F$40 -> #DIV/0!
G46: =G44 -> #DIV/0! | H46: =H44+G46 -> #DIV/0! | I46: =I44+H46 -> #DIV/0! | J46: =J44+I46 -> #DIV/0! | K46: =K44+J46 -> #DIV/0! | L46: =L44+K46 -> #DIV/0! | M46: =M44+L46 -> #DIV/0! | N46: =N44+M46 -> #DIV/0! | O46: =O44+N46 -> #DIV/0! | ... Q46: =Q44+P46 -> #DIV/0! | R46: =R44+M46 -> #DIV/0!
C49: PROJETO: | D49: Nº 85/2026 | E49: SINAPI/RS | F49: Maio/26
C50: LOCALIZ: | D50: ESTRADA DA ARROZEIRA x RUA RIO GRANDE DO SUL - CENTRO NOVO - ELDORADO DO SUL/RS | E50: BDI SERV: | F50: 0.2216
...

Sheet BDI_SERV
T1: 17.25
B2: PROJETOS BÁSICO E EXECUTIVO DO LOTEAMENTO NOVO HORIZONTE
B3: PREFEITURA MUNIC. DE ELDORADO DO SUL / RS - SECRET. MUNIC. OBRAS E INFRAESTRUT.
B4: COMPOSIÇÃO DA PARCELA DE BDI SERVIÇOS- SEM DESONERAÇÃO
B5: Utilizado como referência: ACÓRDÃO Nº 2622/2013 – TCU – Plenário
B7: Despesas Indiretas | D7: % sobre PV | E7: % sobre CD
B8: Admininstração Central | C8: Variável - f (CD) | D8: 3.8 | E8: =D8*(1+$E$21/100) -> 4.642144 | G8: =D8% -> 0.038
B9: Despesas Financeiras | C9: 0,51% sobre (PV - Lucro) | D9: 1.12 | E9: =D9*(1+$E$21/100) -> 1.3682109 | G9: =D9% -> 0.0112
B10: Seguros e Garantias Contratuais | C10: 0,25% do PV | D10: 0.32 | E10: =D10*(1+$E$21/100) -> 0.39091739 | G10: =D10% -> 0.0032
B11: Riscos | C11: 0,50% do PV | D11: 0.5 | E11: =D11*(1+$E$21/100) -> 0.61080842 | G11: =D11% -> 0.005
B12: Subtotal 1 | D12: =SUM(D8:D11) -> 5.74 | E12: =SUM(E8:E11) -> 7.0120807
B13: Benefícios | D13: % sobre PV | E13: % sobre CD
B14: Lucro | C14: Variável - f (CD) | D14: 6.64 | E14: =D14*(1+$E$21/100) -> 8.1115359 | G14: =D14% -> 0.0664
B15: Subtotal 2 | D15: =SUM(D14) -> 6.64 | E15: =SUM(E14) -> 8.1115359
B16: Tributos | D16: % sobre PV | E16: % sobre CD
B17: PIS | C17: 0,65% do PV | D17: 0.65 | E17: =D17*(1+$E$21/100) -> 0.79405095 | G17: =D17% -> 0.0065
B18: COFINS | C18: 3,00% do PV | D18: 3 | E18: =D18*(1+$E$21/100) -> 3.6648505 | G18: =D18% -> 0.03
B19: ISSQN | C19: 4,00% do PV | D19: 4 | E19: =D19*(1+$E$21/100) -> 4.8864674 | G19: =D19% -> 0.04
B20: Subtotal 3 | D20: =SUM(D17:D19) -> 7.65 | E20: =SUM(E17:E19) -> 9.3453689 | G20: =D20% -> 0.0765
B21: Total - BDI (%) | D21: =SUM(D12,D15,D20) -> 20.03 | E21: =G21 -> 22.161685 | G21: =((((1+(G8+G10+G11))*((1+G9)*(1+G14)))/(1-G20))-1)*100 -> 22.161685
B22: Custo Direto - CD | D22: =100-D21 -> 79.97
D23: =SUM(D21:D22) -> 100
B24: BDI COM IMPOSTOS (%) | D24: =D21 -> 20.03 | E24: =ROUND(E21,2) -> 22.16 | G24: =((((1+D8/100+D10/100+D11/100)*(1+D9/100)*(1+D14/100))/(1-D20/100))-1)*100 -> 22.161685
D25: =ROUND(D24%,4) -> 0.2003 | E25: =ROUND(E24%,4) -> 0.2216
B26: PV = Preço de Venda
B27: CD = Custo Direto
B28: SELIC (Junho/2025) = 14,25 % a.a.
B29: DF = [(1+SELIC)^(1/12)-1] sobre (PV - Lucro), o que resulta em DF = 1,12 % sobre (PV - Lucro)
B31: Fórmula de Cálculo do BDI
B32: BDI = { [ (1+AC/100+S/100+R/100+G/100) x (1+DF/100) x (1+L/100) / (1-I/100)] -1} x 100
B34: OBS.:
D37: Percentual de BDI direto: | E37: =E38% -> 0.2216
E38: =E24 -> 22.16

Sheet BDI_FORN
B2: PROJETOS BÁSICO E EXECUTIVO DO LOTEAMENTO NOVO HORIZONTE
B3: PREFEITURA MUNIC. DE ELDORADO DO SUL / RS - SECRET. MUNIC. OBRAS E INFRAESTRUT.
B4: COMPOSIÇÃO DA PARCELA DE BDI FORNECIMENTO- SEM DESONERAÇÃO
B5: Utilizado como referência: ACÓRDÃO Nº 2622/2013 – TCU – Plenário
B7: Despesas Indiretas | D7: % sobre PV | E7: % sobre CD
B8: Admininstração Central | C8: Variável - f (CD) | D8: 3.45 | E8: =D8*(1+$E$21/100) -> 3.9770927 | G8: =D8% -> 0.0345
B9: Despesas Financeiras | C9: 0,51% sobre (PV - Lucro) | D9: 0.85 | E9: =D9*(1+$E$21/100) -> 0.97986341 | G9: =D9% -> 0.0085
B10: Seguros e Garantias Contratuais | C10: 0,25% do PV | D10: 0.48 | E10: =D10*(1+$E$21/100) -> 0.55333463 | G10: =D10% -> 0.0048
B11: Riscos | C11: 0,50% do PV | D11: 0.85 | E11: =D11*(1+$E$21/100) -> 0.97986341 | G11: =D11% -> 0.0085
B12: Subtotal 1 | D12: =SUM(D8:D11) -> 5.63 | E12: =SUM(E8:E11) -> 6.4901541
B13: Benefícios | D13: % sobre PV | E13: % sobre CD
B14: Lucro | C14: Variável - f (CD) | D14: 5.11 | E14: =D14*(1+$E$21/100) -> 5.8907082 | G14: =D14% -> 0.0511
B15: Subtotal 2 | D15: =SUM(D14) -> 5.11 | E15: =SUM(E14) -> 5.8907082
B16: Tributos | D16: % sobre PV | E16: % sobre CD
B17: PIS | C17: 0,65% do PV | D17: 0.65 | E17: =D17*(1+$E$21/100) -> 0.74930731 | G17: =D17% -> 0.0065
B18: COFINS | C18: 3,00% do PV | D18: 3 | E18: =D18*(1+$E$21/100) -> 3.4583414 | G18: =D18% -> 0.03
B19: ISSQN | C19: 4,00% do PV | D19: 0 | E19: =D19*(1+$E$21/100) -> 0 | G19: =D19% -> 0
B20: Subtotal 3 | D20: =SUM(D17:D19) -> 3.65 | E20: =SUM(E17:E19) -> 4.2076487 | G20: =D20% -> 0.0365
B21: Total - BDI (%) | D21: =SUM(D12,D15,D20) -> 14.39 | E21: =G21 -> 15.278048 | G21: =((((1+(G8+G10+G11))*((1+G9)*(1+G14)))/(1-G20))-1)*100 -> 15.278048
B22: Custo Direto - CD | D22: =100-D21 -> 85.61
D23: =SUM(D21:D22) -> 100
B24: BDI COM IMPOSTOS (%) | D24: =D21 -> 14.39 | E24: =ROUND(E21,2) -> 15.28 | G24: =((((1+D8/100+D10/100+D11/100)*(1+D9/100)*(1+D14/100))/(1-D20/100))-1)*100 -> 15.278048
D25: =ROUND(D24%,4) -> 0.1439 | E25: =ROUND(E24%,4) -> 0.1528
B26: PV = Preço de Venda
B27: CD = Custo Direto
B28: SELIC (Junho/2025) = 14,25 % a.a.
B29: DF = [(1+SELIC)^(1/12)-1] sobre (PV - Lucro), o que resulta em DF = 1,12 % sobre (PV - Lucro)
B31: Fórmula de Cálculo do BDI
B32: BDI = { [ (1+AC/100+S/100+R/100+G/100) x (1+DF/100) x (1+L/100) / (1-I/100)] -1} x 100
B34: OBS.:
D37: Percentual de BDI direto: | E37: =E38% -> 0.1528
E38: =E24 -> 15.28
