Workbook

Sheet Orçamento Modelo
F2: INSERIR
F3: DADOS
Q6: EDITAR APENAS CÉLULAS EM AZUL
A7: PLANILHA ORÇAMENTÁRIA - PROPOSTA
P8: * UTILIZAR VALORES COM 2 CASAS DECIMAIS APÓS A VÍRGULA
A9: OBRA: PAVIMENTAÇÃO COM BLOCOS INTERTRAVADOS DE CONCRETO | J9: MODALIDADE N°: | L9: XXX/ XX
A10: END: ZONA URBANA, NOVA ESPERANÇA DO SUL/RS
A11: BDI : | B11: 0.2204 | J11: DATA:
A12: BDI DIF.: | B12: 0.14
A14: ITEM | B14: REF. | C14: COD. | D14: DESCRIÇÃO | H14: UNIDADE | I14: QUANT. | J14: VALOR UNIT. | K14: VALOR UNIT. +BDI | L14: TOTAL | M14: TOTAL + BDI | N14: BDI
A15: 1.0 | D15: ='[2]Orçamento COM PVS'!$D$15 -> RUA DALTRO LUIZ TUZI | L15: =L16+L18+L24 -> 0 | M15: =M16+M18+M24 -> 0
A16: 1.1 | D16: ='[2]Orçamento COM PVS'!$D$16 -> SERVIÇOS PRELIMINARES | L16: =SUM(L17:L17) -> 0 | M16: =SUM(M17:M17) -> 0
A17: 1.1.1 | B17: ='[2]Orçamento COM PVS'!$B$17 -> SINAPI | C17: ='[2]Orçamento COM PVS'!$C$17 -> 99064 | D17: ='[2]Orçamento COM PVS'!$D$17 -> LOCAÇÃO DE PAVIMENTAÇÃO. AF_10/2018 | H17: ='[2]Orçamento COM PVS'!$H$17 -> M | I17: ='[2]Orçamento COM PVS'!$I$17 -> 177 | K17: =ROUND(J17*(1+N17),2) -> 0 | L17: =ROUND(J17*I17,2) -> 0 | M17: =ROUND(I17*K17,2) -> 0 | N17: 0.2204
A18: 1.2 | D18: ='[2]Orçamento COM PVS'!$D$18 -> DRENAGEM PLUVIAL | L18: =SUM(L19:L23) -> 0 | M18: =SUM(M19:M23) -> 0
A19: 1.2.1 | B19: ='[2]Orçamento COM PVS'!$B$19 -> SINAPI | C19: ='[2]Orçamento COM PVS'!$C$19 -> 90105 | D19: ='[2]Orçamento COM PVS'!$D$19:$G$19 -> ESCAVAÇÃO MECANIZADA DE VALA COM PROFUNDIDADE ATÉ 1,5 M (MÉDIA MONTANTE E JUSANTE/UMA COMPOSIÇÃO POR TRECHO), RETROESCAV. (0,26 M3), LARGURA MENOR QUE 0,8 M, EM SOLO DE 1A CATEGORIA, LOCAIS COM BAIXO NÍVEL DE INTERFERÊNCIA. AF_02/2021 | H19: ='[2]Orçamento COM PVS'!$H$19 -> M3 | I19: ='[2]Orçamento COM PVS'!$I$19 -> 473 | K19: =ROUND(J19*(1+N19),2) -> 0 | L19: =ROUND(J19*I19,2) -> 0 | M19: =ROUND(I19*K19,2) -> 0 | N19: 0.2204
A20: 1.2.2 | B20: ='[2]Orçamento COM PVS'!$B$20 -> SINAPI | C20: ='[2]Orçamento COM PVS'!$C$20 -> 95568 | D20: ='[2]Orçamento COM PVS'!$D$20:$G$20 -> TUBO DE CONCRETO (SIMPLES) PARA REDES COLETORAS DE ÁGUAS PLUVIAIS, DIÂMETRO DE 400 MM, JUNTA RÍGIDA, INSTALADO EM LOCAL COM BAIXO NÍVEL DE INTERFERÊNCIAS - FORNECIMENTO E ASSENTAMENTO. AF_12/2015 | H20: ='[2]Orçamento COM PVS'!$H$20 -> M | I20: ='[2]Orçamento COM PVS'!$I$20 -> 30 | K20: =ROUND(J20*(1+N20),2) -> 0 | L20: =ROUND(J20*I20,2) -> 0 | M20: =ROUND(I20*K20,2) -> 0 | N20: 0.2204
A21: 1.2.3 | B21: ='[2]Orçamento COM PVS'!$B$21 -> SINAPI | C21: ='[2]Orçamento COM PVS'!$C$21 -> 92212 | D21: ='[2]Orçamento COM PVS'!$D$21:$G$21 -> TUBO DE CONCRETO PARA REDES COLETORAS DE ÁGUAS PLUVIAIS, DIÂMETRO DE 600 MM, JUNTA RÍGIDA, INSTALADO EM LOCAL COM BAIXO NÍVEL DE INTERFERÊNCIAS - FORNECIMENTO E ASSENTAMENTO. AF_12/2015 | H21: ='[2]Orçamento COM PVS'!$H$21 -> M | I21: ='[2]Orçamento COM PVS'!$I$21 -> 273 | K21: =ROUND(J21*(1+N21),2) -> 0 | L21: =ROUND(J21*I21,2) -> 0 | M21: =ROUND(I21*K21,2) -> 0 | N21: 0.2204
A22: 1.2.4 | B22: ='[2]Orçamento COM PVS'!$B$22 -> COMP. | C22: ='[2]Orçamento COM PVS'!$C$22 -> 1 | D22: ='[2]Orçamento COM PVS'!$D$22:$G$22 -> CX. PARA BOCA DE LOBO EM ALVENARIA DE BLOCOS DE CONCRETO 0,8X0,8X1,5m (DIM. INTERNA) | H22: ='[2]Orçamento COM PVS'!$H$22 -> UNID. | I22: ='[2]Orçamento COM PVS'!$I$22 -> 9 | K22: =ROUND(J22*(1+N22),2) -> 0 | L22: =ROUND(J22*I22,2) -> 0 | M22: =ROUND(I22*K22,2) -> 0 | N22: 0.2204
A23: 1.2.5 | B23: ='[2]Orçamento COM PVS'!$B$23 -> SINAPI | C23: ='[2]Orçamento COM PVS'!$C$23 -> 93382 | D23: ='[2]Orçamento COM PVS'!$D$23:$G$23 -> REATERRO MANUAL DE VALAS, COM COMPACTADOR DE SOLOS DE PERCUSSÃO. AF_08/2023 | H23: ='[2]Orçamento COM PVS'!$H$23 -> M3 | I23: ='[2]Orçamento COM PVS'!$I$23 -> 216 | K23: =ROUND(J23*(1+N23),2) -> 0 | L23: =ROUND(J23*I23,2) -> 0 | M23: =ROUND(I23*K23,2) -> 0 | N23: 0.2204
A24: 1.3 | D24: ='[2]Orçamento COM PVS'!$D$24:$L$24 -> PAVIMENTAÇÃO | L24: =SUM(L25:L26) -> 0 | M24: =SUM(M25:M26) -> 0
A25: 1.3.1 | B25: ='[2]Orçamento COM PVS'!$B$25 -> COMP. | C25: ='[2]Orçamento COM PVS'!$C$25 -> 3 | D25: ='[2]Orçamento COM PVS'!$D$25:$G$25 -> EXECUÇÃO DE VIA EM PISO INTERTRAVADO, COM BLOCO 16 FACES DE 22X11 CM, ESPESSURA DE 8 CM. AF_10/2022 | H25: ='[2]Orçamento COM PVS'!$H$25 -> M2 | I25: ='[2]Orçamento COM PVS'!$I$25 -> 1770 | K25: =ROUND(J25*(1+N25),2) -> 0 | L25: =ROUND(J25*I25,2) -> 0 | M25: =ROUND(I25*K25,2) -> 0 | N25: 0.2204
A26: 1.3.2 | B26: ='[2]Orçamento COM PVS'!$B$26 -> SINAPI | C26: ='[2]Orçamento COM PVS'!$C$26 -> 94273 | D26: ='[2]Orçamento COM PVS'!$D$26:$G$26 -> ASSENTAMENTO DE GUIA (MEIO-FIO) EM TRECHO RETO, CONFECCIONADA EM CONCRETO PRÉ-FABRICADO, DIMENSÕES 100X15X13X30 CM (COMPRIMENTO X BASE INFERIOR X BASE SUPERIOR X ALTURA), PARA VIAS URBANAS (USO VIÁRIO). AF_06/2016 | H26: ='[2]Orçamento COM PVS'!$H$26 -> M | I26: ='[2]Orçamento COM PVS'!$I$26 -> 327 | K26: =ROUND(J26*(1+N26),2) -> 0 | L26: =ROUND(J26*I26,2) -> 0 | M26: =ROUND(I26*K26,2) -> 0 | N26: 0.2204
A27: 2.0 | D27: ='[2]Orçamento COM PVS'!$D$27:$L$27 -> RUA ANITA TOCHETTO FRIZZO | L27: =L28+L30+L35 -> 0 | M27: =M28+M30+M35 -> 0
A28: 2.1 | D28: ='[2]Orçamento COM PVS'!$D$28:$L$28 -> SERVIÇOS PRELIMINARES | L28: =SUM(L29) -> 0 | M28: =SUM(M29) -> 0
A29: 2.1.1 | B29: ='[2]Orçamento COM PVS'!$B$29 -> SINAPI | C29: ='[2]Orçamento COM PVS'!$C$29 -> 99064 | D29: ='[2]Orçamento COM PVS'!$D$29:$G$29 -> LOCAÇÃO DE PAVIMENTAÇÃO. AF_10/2018 | H29: ='[2]Orçamento COM PVS'!$H$29 -> M | I29: ='[2]Orçamento COM PVS'!$I$29 -> 96 | K29: =ROUND(J29*(1+N29),2) -> 0 | L29: =ROUND(J29*I29,2) -> 0 | M29: =ROUND(I29*K29,2) -> 0 | N29: 0.2204
A30: 2.2 | D30: ='[2]Orçamento COM PVS'!$D$30:$L$30 -> DRENAGEM PLUVIAL | L30: =SUM(L31:L34) -> 0 | M30: =SUM(M31:M34) -> 0
A31: 2.2.1 | B31: ='[2]Orçamento COM PVS'!$B$31 -> SINAPI | C31: ='[2]Orçamento COM PVS'!$C$31 -> 90105 | D31: ='[2]Orçamento COM PVS'!$D$31:$G$31 -> ESCAVAÇÃO MECANIZADA DE VALA COM PROFUNDIDADE ATÉ 1,5 M (MÉDIA MONTANTE E JUSANTE/UMA COMPOSIÇÃO POR TRECHO), RETROESCAV. (0,26 M3), LARGURA MENOR QUE 0,8 M, EM SOLO DE 1A CATEGORIA, LOCAIS COM BAIXO NÍVEL DE INTERFERÊNCIA. AF_02/2021 | H31: ='[2]Orçamento COM PVS'!$H$31 -> M3 | I31: ='[2]Orçamento COM PVS'!$I$31 -> 103.744 | K31: =ROUND(J31*(1+N31),2) -> 0 | L31: =ROUND(J31*I31,2) -> 0 | M31: =ROUND(I31*K31,2) -> 0 | N31: 0.2204
A32: 2.2.2 | B32: ='[2]Orçamento COM PVS'!$B$32 -> SINAPI | C32: ='[2]Orçamento COM PVS'!$C$32 -> 95568 | D32: ='[2]Orçamento COM PVS'!$D$32:$G$32 -> TUBO DE CONCRETO (SIMPLES) PARA REDES COLETORAS DE ÁGUAS PLUVIAIS, DIÂMETRO DE 400 MM, JUNTA RÍGIDA, INSTALADO EM LOCAL COM BAIXO NÍVEL DE INTERFERÊNCIAS - FORNECIMENTO E ASSENTAMENTO. AF_12/2015 | H32: ='[2]Orçamento COM PVS'!$H$32 -> M | I32: ='[2]Orçamento COM PVS'!$I$32 -> 64 | K32: =ROUND(J32*(1+N32),2) -> 0 | L32: =ROUND(J32*I32,2) -> 0 | M32: =ROUND(I32*K32,2) -> 0 | N32: 0.2204
A33: 2.2.3 | B33: ='[2]Orçamento COM PVS'!$B$33 -> COMP. | C33: ='[2]Orçamento COM PVS'!$C$33 -> 1 | D33: ='[2]Orçamento COM PVS'!$D$33:$G$33 -> CX. PARA BOCA DE LOBO EM ALVENARIA DE BLOCOS DE CONCRETO 0,8X0,8X1,5m (DIM. INTERNA) | H33: ='[2]Orçamento COM PVS'!$H$33 -> UNID. | I33: ='[2]Orçamento COM PVS'!$I$33 -> 4 | K33: =ROUND(J33*(1+N33),2) -> 0 | L33: =ROUND(J33*I33,2) -> 0 | M33: =ROUND(I33*K33,2) -> 0 | N33: 0.2204
A34: 2.2.4 | B34: ='[2]Orçamento COM PVS'!$B$34 -> SINAPI | C34: ='[2]Orçamento COM PVS'!$C$34 -> 93382 | D34: ='[2]Orçamento COM PVS'!$D$34:$G$34 -> REATERRO MANUAL DE VALAS, COM COMPACTADOR DE SOLOS DE PERCUSSÃO. AF_08/2023 | H34: ='[2]Orçamento COM PVS'!$H$34 -> M3 | I34: ='[2]Orçamento COM PVS'!$I$34 -> 46.4 | K34: =ROUND(J34*(1+N34),2) -> 0 | L34: =ROUND(J34*I34,2) -> 0 | M34: =ROUND(I34*K34,2) -> 0 | N34: 0.2204
A35: 2.3 | D35: ='[2]Orçamento COM PVS'!$D$35:$L$35 -> PAVIMENTAÇÃO | L35: =SUM(L36:L37) -> 0 | M35: =SUM(M36:M37) -> 0
A36: 2.3.1 | B36: ='[2]Orçamento COM PVS'!$B$36 -> COMP. | C36: ='[2]Orçamento COM PVS'!$C$36 -> 3 | D36: ='[2]Orçamento COM PVS'!$D$36:$G$36 -> EXECUÇÃO DE VIA EM PISO INTERTRAVADO, COM BLOCO 16 FACES DE 22X11 CM, ESPESSURA DE 8 CM. AF_10/2022 | H36: ='[2]Orçamento COM PVS'!$H$36 -> M2 | I36: ='[2]Orçamento COM PVS'!$I$36 -> 864 | K36: =ROUND(J36*(1+N36),2) -> 0 | L36: =ROUND(J36*I36,2) -> 0 | M36: =ROUND(I36*K36,2) -> 0 | N36: 0.2204
A37: 2.3.2 | B37: ='[2]Orçamento COM PVS'!$B$37 -> SINAPI | C37: ='[2]Orçamento COM PVS'!$C$37 -> 94273 | D37: ='[2]Orçamento COM PVS'!$D$37:$G$37 -> ASSENTAMENTO DE GUIA (MEIO-FIO) EM TRECHO RETO, CONFECCIONADA EM CONCRETO PRÉ-FABRICADO, DIMENSÕES 100X15X13X30 CM (COMPRIMENTO X BASE INFERIOR X BASE SUPERIOR X ALTURA), PARA VIAS URBANAS (USO VIÁRIO). AF_06/2016 | H37: ='[2]Orçamento COM PVS'!$H$37 -> M | I37: ='[2]Orçamento COM PVS'!$I$37 -> 200 | K37: =ROUND(J37*(1+N37),2) -> 0 | L37: =ROUND(J37*I37,2) -> 0 | M37: =ROUND(I37*K37,2) -> 0 | N37: 0.2204
A38: 3.0 | D38: ='[2]Orçamento COM PVS'!$D$38:$L$38 -> RUA ANTONIO GUASSO | L38: =L39+L41+L46 -> 0 | M38: =M39+M41+M46 -> 0
A39: 3.1 | D39: ='[2]Orçamento COM PVS'!$D$39:$L$39 -> SERVIÇOS PRELIMINARES | L39: =L40 -> 0 | M39: =M40 -> 0
A40: 3.1.1 | B40: ='[2]Orçamento COM PVS'!$B$40 -> SINAPI | C40: ='[2]Orçamento COM PVS'!$C$40 -> 99064 | D40: ='[2]Orçamento COM PVS'!$D$40:$G$40 -> LOCAÇÃO DE PAVIMENTAÇÃO. AF_10/2018 | H40: ='[2]Orçamento COM PVS'!$H$40 -> M | I40: ='[2]Orçamento COM PVS'!$I$40 -> 93.5 | K40: =ROUND(J40*(1+N40),2) -> 0 | L40: =ROUND(J40*I40,2) -> 0 | M40: =ROUND(I40*K40,2) -> 0 | N40: 0.2204
A41: 3.2 | D41: ='[2]Orçamento COM PVS'!$D$41:$L$41 -> DRENAGEM PLUVIAL | L41: =SUM(L42:L45) -> 0 | M41: =SUM(M42:M45) -> 0
A42: 3.2.1 | B42: ='[2]Orçamento COM PVS'!$B$42 -> SINAPI | C42: ='[2]Orçamento COM PVS'!$C$42 -> 90105 | D42: ='[2]Orçamento COM PVS'!$D$42:$G$42 -> ESCAVAÇÃO MECANIZADA DE VALA COM PROFUNDIDADE ATÉ 1,5 M (MÉDIA MONTANTE E JUSANTE/UMA COMPOSIÇÃO POR TRECHO), RETROESCAV. (0,26 M3), LARGURA MENOR QUE 0,8 M, EM SOLO DE 1A CATEGORIA, LOCAIS COM BAIXO NÍVEL DE INTERFERÊNCIA. AF_02/2021 | H42: ='[2]Orçamento COM PVS'!$H$42 -> M3 | I42: ='[2]Orçamento COM PVS'!$I$42 -> 103.744 | K42: =ROUND(J42*(1+N42),2) -> 0 | L42: =ROUND(J42*I42,2) -> 0 | M42: =ROUND(K42*I42,2) -> 0 | N42: 0.2204
A43: 3.2.2 | B43: ='[2]Orçamento COM PVS'!$B$43 -> SINAPI | C43: ='[2]Orçamento COM PVS'!$C$43 -> 95568 | D43: ='[2]Orçamento COM PVS'!$D$42:$G$43 -> TUBO DE CONCRETO (SIMPLES) PARA REDES COLETORAS DE ÁGUAS PLUVIAIS, DIÂMETRO DE 400 MM, JUNTA RÍGIDA, INSTALADO EM LOCAL COM BAIXO NÍVEL DE INTERFERÊNCIAS - FORNECIMENTO E ASSENTAMENTO. AF_12/2015 | H43: ='[2]Orçamento COM PVS'!$H$43 -> M | I43: ='[2]Orçamento COM PVS'!$I$43 -> 64 | K43: =ROUND(J43*(1+N43),2) -> 0 | L43: =ROUND(J43*I43,2) -> 0 | M43: =ROUND(K43*I43,2) -> 0 | N43: 0.2204
A44: 3.2.3 | B44: ='[2]Orçamento COM PVS'!$B$44 -> COMP. | C44: ='[2]Orçamento COM PVS'!$C$44 -> 1 | D44: ='[2]Orçamento COM PVS'!$D$42:$G$44 -> CX. PARA BOCA DE LOBO EM ALVENARIA DE BLOCOS DE CONCRETO 0,8X0,8X1,5m (DIM. INTERNA) | H44: ='[2]Orçamento COM PVS'!$H$44 -> UNID. | I44: ='[2]Orçamento COM PVS'!$I$44 -> 4 | K44: =ROUND(J44*(1+N44),2) -> 0 | L44: =ROUND(J44*I44,2) -> 0 | M44: =ROUND(K44*I44,2) -> 0 | N44: 0.2204
...

Sheet Cronograma
D2: PREFEITURA MUNICIPAL DE NOVA ESPERANÇA DO SUL
D3: SECRETARIA DE OBRAS, HABITAÇÃO E SERVIÇOS URBANOS
U4: * SELECIONAR A PAGINA OU PAGINAS PARA IMPRESSÃO
V6: EDITAR APENAS CÉLULAS EM AZUL
A7: CRONOGRAMA FÍSICO FINANCEIRO
A9: OBRA: PAVIMENTAÇÃO COM BLOCOS INTERTRAVADOS DE CONCRETO | L9: MODALIDADE N°: | N9: XXX/ XX
A10: LOCAL: ZONA URBANA, NOVA ESPERANÇA DO SUL/RS
A11: DATA:
U12: PAGINA 1
H13: PREVISTO | J13: MÊS 1 | L13: MÊS 2 | N13: MÊS 3 | P13: MÊS 4
A14: ITEM | B14: DESCRIÇÃO | H14: % | I14: VALOR | J14: % | K14: VALOR | L14: % | M14: VALOR | N14: % | O14: VALOR | P14: % | Q14: VALOR
A15: 1 | B15: ='Orçamento Modelo'!D15 -> RUA DALTRO LUIZ TUZI | H15: =(I15*100)/I$35 -> #DIV/0! | I15: ='Orçamento Modelo'!M$15 -> 0 | K15: =ROUND(I15*J15/100,2) -> 0 | M15: =ROUND(I15*L15/100,2) -> 0 | O15: =ROUND(I15*N15/100,2) -> 0 | Q15: =ROUND(I15*P15/100,2) -> 0
A16: 2 | B16: ='Orçamento Modelo'!D27 -> RUA ANITA TOCHETTO FRIZZO | H16: =(I16*100)/I$35 -> #DIV/0! | I16: ='Orçamento Modelo'!M$27 -> 0 | K16: =ROUND(I16*J16/100,2) -> 0 | M16: =ROUND(I16*L16/100,2) -> 0 | O16: =ROUND(I16*N16/100,2) -> 0 | Q16: =ROUND(I16*P16/100,2) -> 0
A17: 3 | B17: ='Orçamento Modelo'!D38 -> RUA ANTONIO GUASSO | H17: =(I17*100)/I$35 -> #DIV/0! | I17: ='Orçamento Modelo'!M$38 -> 0 | K17: =ROUND(I17*J17/100,2) -> 0 | M17: =ROUND(I17*L17/100,2) -> 0 | O17: =ROUND(I17*N17/100,2) -> 0 | Q17: =ROUND(I17*P17/100,2) -> 0
A18: 4 | B18: ='Orçamento Modelo'!D49 -> RUA ALEXANDRE MANENTI | H18: =(I18*100)/I$35 -> #DIV/0! | I18: ='Orçamento Modelo'!M$49 -> 0 | K18: =ROUND(I18*J18/100,2) -> 0 | M18: =ROUND(I18*L18/100,2) -> 0 | O18: =ROUND(I18*N18/100,2) -> 0 | Q18: =ROUND(I18*P18/100,2) -> 0
A19: 5 | B19: ='Orçamento Modelo'!D61 -> RUA PIETRO ERCOLANI | H19: =(I19*100)/I$35 -> #DIV/0! | I19: ='Orçamento Modelo'!M$61 -> 0 | K19: =ROUND(I19*J19/100,2) -> 0 | M19: =ROUND(I19*L19/100,2) -> 0 | O19: =ROUND(I19*N19/100,2) -> 0 | Q19: =ROUND(I19*P19/100,2) -> 0
A20: 6 | B20: ='Orçamento Modelo'!D72 -> RUA VALDENIR VICENTE GAVIOLI | H20: =(I20*100)/I$35 -> #DIV/0! | I20: ='Orçamento Modelo'!M$72 -> 0 | K20: =ROUND(I20*J20/100,2) -> 0 | M20: =ROUND(I20*L20/100,2) -> 0 | O20: =ROUND(I20*N20/100,2) -> 0 | Q20: =ROUND(I20*P20/100,2) -> 0
A21: 7 | B21: ='Orçamento Modelo'!D84 -> RUA EMANCIPAÇÃO | H21: =(I21*100)/I$35 -> #DIV/0! | I21: ='Orçamento Modelo'!M$84 -> 0 | K21: =ROUND(I21*J21/100,2) -> 0 | M21: =ROUND(I21*L21/100,2) -> 0 | O21: =ROUND(I21*N21/100,2) -> 0 | Q21: =ROUND(I21*P21/100,2) -> 0
A22: 8 | B22: ='Orçamento Modelo'!D98 -> RUA JOÃO GIODA | H22: =(I22*100)/I$35 -> #DIV/0! | I22: ='Orçamento Modelo'!M$98 -> 0 | K22: =ROUND(I22*J22/100,2) -> 0 | M22: =ROUND(I22*L22/100,2) -> 0 | O22: =ROUND(I22*N22/100,2) -> 0 | Q22: =ROUND(I22*P22/100,2) -> 0
A23: 9 | B23: ='Orçamento Modelo'!D110 -> RUA GIOVANA LOVATO VIELMO | H23: =(I23*100)/I$35 -> #DIV/0! | I23: ='Orçamento Modelo'!M$110 -> 0 | K23: =ROUND(I23*J23/100,2) -> 0 | M23: =ROUND(I23*L23/100,2) -> 0 | O23: =ROUND(I23*N23/100,2) -> 0 | Q23: =ROUND(I23*P23/100,2) -> 0
A24: 10 | B24: ='Orçamento Modelo'!D121 -> RUA EUCLIDES DA CUNHA | H24: =(I24*100)/I$35 -> #DIV/0! | I24: ='Orçamento Modelo'!M$121 -> 0 | K24: =ROUND(I24*J24/100,2) -> 0 | M24: =ROUND(I24*L24/100,2) -> 0 | O24: =ROUND(I24*N24/100,2) -> 0 | Q24: =ROUND(I24*P24/100,2) -> 0
A25: 11 | B25: ='Orçamento Modelo'!D132 -> PEDRO DELEVATI SOBRINHO | H25: =(I25*100)/I$35 -> #DIV/0! | I25: ='Orçamento Modelo'!M$132 -> 0 | K25: =ROUND(I25*J25/100,2) -> 0 | M25: =ROUND(I25*L25/100,2) -> 0 | O25: =ROUND(I25*N25/100,2) -> 0 | Q25: =ROUND(I25*P25/100,2) -> 0
A26: 12 | B26: ='Orçamento Modelo'!D138 -> ALADINO BUZATA | H26: =(I26*100)/I$35 -> #DIV/0! | I26: ='Orçamento Modelo'!M$138 -> 0 | K26: =ROUND(I26*J26/100,2) -> 0 | M26: =ROUND(I26*L26/100,2) -> 0 | O26: =ROUND(I26*N26/100,2) -> 0 | Q26: =ROUND(I26*P26/100,2) -> 0
A27: 13 | B27: ='Orçamento Modelo'!D150 -> PEDRO MINOSSO | H27: =(I27*100)/I$35 -> #DIV/0! | I27: ='Orçamento Modelo'!M$150 -> 0 | K27: =ROUND(I27*J27/100,2) -> 0 | M27: =ROUND(I27*L27/100,2) -> 0 | O27: =ROUND(I27*N27/100,2) -> 0 | Q27: =ROUND(I27*P27/100,2) -> 0
A28: 14 | B28: ='Orçamento Modelo'!D156 -> JOÃO VIELMO | H28: =(I28*100)/I$35 -> #DIV/0! | I28: ='Orçamento Modelo'!M$156 -> 0 | K28: =ROUND(I28*J28/100,2) -> 0 | M28: =ROUND(I28*L28/100,2) -> 0 | O28: =ROUND(I28*N28/100,2) -> 0 | Q28: =ROUND(I28*P28/100,2) -> 0
A29: 15 | B29: ='Orçamento Modelo'!D167 -> JOSÉ ANGONESE | H29: =(I29*100)/I$35 -> #DIV/0! | I29: ='Orçamento Modelo'!M$167 -> 0 | K29: =ROUND(I29*J29/100,2) -> 0 | M29: =ROUND(I29*L29/100,2) -> 0 | O29: =ROUND(I29*N29/100,2) -> 0 | Q29: =ROUND(I29*P29/100,2) -> 0
A30: 16 | B30: ='Orçamento Modelo'!D178 -> ANTONIO DELEVATI | H30: =(I30*100)/I$35 -> #DIV/0! | I30: ='Orçamento Modelo'!M$178 -> 0 | K30: =ROUND(I30*J30/100,2) -> 0 | M30: =ROUND(I30*L30/100,2) -> 0 | O30: =ROUND(I30*N30/100,2) -> 0 | Q30: =ROUND(I30*P30/100,2) -> 0
A31: 17 | B31: ='Orçamento Modelo'!D189 -> VALDECI CAETANO GUASSO | H31: =(I31*100)/I$35 -> #DIV/0! | I31: ='Orçamento Modelo'!M$189 -> 0 | K31: =ROUND(I31*J31/100,2) -> 0 | M31: =ROUND(I31*L31/100,2) -> 0 | O31: =ROUND(I31*N31/100,2) -> 0 | Q31: =ROUND(I31*P31/100,2) -> 0
A32: 18 | B32: ='Orçamento Modelo'!D195 -> PIETRO ERCOLANI TRECHO 2 | H32: =(I32*100)/I$35 -> #DIV/0! | I32: ='Orçamento Modelo'!M$195 -> 0 | K32: =ROUND(I32*J32/100,2) -> 0 | M32: =ROUND(I32*L32/100,2) -> 0 | O32: =ROUND(I32*N32/100,2) -> 0 | Q32: =ROUND(I32*P32/100,2) -> 0
A33: 19 | B33: ='Orçamento Modelo'!D207 -> VALDECI CAETANO GUASSO | H33: =(I33*100)/I$35 -> #DIV/0! | I33: ='Orçamento Modelo'!M$207 -> 0 | K33: =ROUND(I33*J33/100,2) -> 0 | M33: =ROUND(I33*L33/100,2) -> 0 | O33: =ROUND(I33*N33/100,2) -> 0 | Q33: =ROUND(I33*P33/100,2) -> 0
A35: TOTAL | H35: =SUM(H15:H33) -> #DIV/0! | I35: =SUM(I15:I33) -> 0 | J35: =K35*H35/I35 -> #DIV/0! | K35: =SUM(K15:K33) -> 0 | L35: =M35*H35/I35 -> #DIV/0! | M35: =SUM(M15:M33) -> 0 | N35: =O35*H35/I35 -> #DIV/0! | O35: =SUM(O15:O33) -> 0 | P35: =Q35*H35/I35 -> #DIV/0! | Q35: =SUM(Q15:Q33) -> 0
A36: ACUMULADO | J36: =(K36*H35)/I35 -> #DIV/0! | K36: =K35 -> 0 | L36: =(M36*H35)/I35 -> #DIV/0! | M36: =K36+M35 -> 0 | N36: =(O36*H35)/I35 -> #DIV/0! | O36: =M36+O35 -> 0 | P36: =(Q36*H35)/I35 -> #DIV/0! | Q36: =O36+Q35 -> 0
K41: Resp. Téc.
K42: Cargo - n° registro
D46: PREFEITURA MUNICIPAL DE NOVA ESPERANÇA DO SUL
D47: SECRETARIA DE OBRAS, HABITAÇÃO E SERVIÇOS URBANOS
U50: PAGINA 2
A51: CRONOGRAMA FÍSICO FINANCEIRO
A53: OBRA: PAVIMENTAÇÃO COM BLOCOS INTERTRAVADOS DE CONCRETO | L53: MODALIDADE N°: | N53: XXX/ XX
A54: LOCAL: ZONA URBANA, NOVA ESPERANÇA DO SUL/RS
...

Sheet BDI - PREENCHIMENTO
B1: Município | C1: Nova Esperança do Sul
B2: Obra: | C2: Pavimentação com blocos intertravados de concreto
A4: CÁLCULO B.D.I. (NOVA REGRA) | O4: BDI | R4: ADM | U4: SEGURO E GARANTIA | X4: RISCO | AA4: DESPESAS | AD4: LUCRO
O5: 1 Q | P5: MEDIO | Q5: 3 Q | R5: 1 Q | S5: MEDIO | T5: 3 Q | U5: 1 Q | V5: MEDIO | W5: 3 Q | X5: 1 Q | Y5: MEDIO | Z5: 3 Q | AA5: 1 Q | AB5: MEDIO | AC5: 3 Q | AD5: 1 Q | AE5: MEDIO | AF5: 3 Q
A6: ONERADO | D6: x | E6: Considerada tributação integral
A7: DESONERADO | E7: Reduzido 2% da tributação para enquadrar
N8: CONSTRUÇÃO DE EDIFÍCIOS | O8: 0.2034 | P8: 0.2212 | Q8: 0.25 | R8: 0.03 | S8: 0.04 | T8: 0.055 | U8: 0.008 | V8: 0.008 | W8: 0.01 | X8: 0.0097 | Y8: 0.0127 | Z8: 0.0127 | AA8: 0.0059 | AB8: 0.0123 | AC8: 0.0139 | AD8: 0.0616 | AE8: 0.074 | AF8: 0.0896
B9: TIPO DE OBRA
B10: CONSTRUÇÃO DE EDIFÍCIOS | N10: CONSTRUÇÃO DE RODOVIAS E FERROVIAS | O10: 0.196 | P10: 0.2097 | Q10: 0.2423 | R10: 0.038 | S10: 0.0401 | T10: 0.0467 | U10: 0.0032 | V10: 0.004 | W10: 0.0074 | X10: 0.005 | Y10: 0.0056 | Z10: 0.0097 | AA10: 0.0102 | AB10: 0.0111 | AC10: 0.0121 | AD10: 0.0664 | AE10: 0.073 | AF10: 0.0869
B11: CONSTRUÇÃO DE RODOVIAS E FERROVIAS | G11: x | N11: CONSTRUÇÃO DE REDES DE ABASTECIMENTO DE ÁGUA, COLETA DE ESGOTO E CONSTRUÇÕES CORRELATAS | O11: 0.2076 | P11: 0.2418 | Q11: 0.2644 | R11: 0.0343 | S11: 0.0493 | T11: 0.0671 | U11: 0.0028 | V11: 0.0049 | W11: 0.0075 | X11: 0.01 | Y11: 0.0139 | Z11: 0.0174 | AA11: 0.0094 | AB11: 0.0099 | AC11: 0.0117 | AD11: 0.0674 | AE11: 0.0804 | AF11: 0.094
B12: CONSTRUÇÃO DE REDES DE ABASTECIMENTO DE ÁGUA, COLETA DE ESGOTO E CONSTRUÇÕES CORRELATAS | N12: CONSTRUÇÃO E MANUTENÇÃO DE ESTAÇÕES E REDES DE DISTRIBUIÇÃO DE ENERGIA ELÉTRICA | O12: 0.24 | P12: 0.2584 | Q12: 0.2786 | R12: 0.0529 | S12: 0.0592 | T12: 0.0793 | U12: 0.0025 | V12: 0.0051 | W12: 0.0056 | X12: 0.01 | Y12: 0.0148 | Z12: 0.0197 | AA12: 0.0101 | AB12: 0.0107 | AC12: 0.0111 | AD12: 0.08 | AE12: 0.0831 | AF12: 0.0951
B13: CONSTRUÇÃO E MANUTENÇÃO DE ESTAÇÕES E REDES DE DISTRIBUIÇÃO DE ENERGIA ELÉTRICA | N13: OBRAS PORTUÁRIAS, MARÍTIMAS E FLUVIAIS | O13: 0.228 | P13: 0.2748 | Q13: 0.3095 | R13: 0.04 | S13: 0.0552 | T13: 0.0785 | U13: 0.0081 | V13: 0.0122 | W13: 0.0199 | X13: 0.0146 | Y13: 0.0232 | Z13: 0.0316 | AA13: 0.0094 | AB13: 0.0102 | AC13: 0.0133 | AD13: 0.0714 | AE13: 0.084 | AF13: 0.1043
B14: OBRAS PORTUÁRIAS, MARÍTIMAS E FLUVIAIS | N14: FORNECIMENTO DE MATERIAIS E EQUIPAMENTOS | O14: 0.111 | P14: 0.1402 | Q14: 0.168 | R14: 0.015 | S14: 0.0345 | T14: 0.0449 | U14: 0.003 | V14: 0.0048 | W14: 0.0082 | X14: 0.0056 | Y14: 0.0085 | Z14: 0.0089 | AA14: 0.0085 | AB14: 0.0085 | AC14: 0.0111 | AD14: 0.035 | AE14: 0.0511 | AF14: 0.0622
B15: FORNECIMENTO DE MATERIAIS E EQUIPAMENTOS
B18: CÁLCULO DO BDI | E18: VALORES BASE
E19: 1 QUARTIL | F19: MÉDIO | G19: 3 QUARTIL
B20: Administração Central | D20: 0.04 | E20: =IF($C$30="","",(VLOOKUP($C$30,$N$8:$AF$14,5,0))) -> 0.038 | F20: =IF($C$30="","",VLOOKUP($C$30,$N$8:$AF$14,6,0)) -> 0.0401 | G20: =IF($C$30="","",VLOOKUP($C$30,$N$8:$AF$14,7,0)) -> 0.0467 | N20: =IF(D20<E20,1,IF(D20>G20,1,0)) -> 0
B21: Seguro e Garantia | D21: 0.0052 | E21: =IF($C$30="","",VLOOKUP($C$30,$N$8:$AF$14,8,0)) -> 0.0032 | F21: =IF($C$30="","",VLOOKUP($C$30,$N$8:$AF$14,9,0)) -> 0.004 | G21: =IF($C$30="","",VLOOKUP($C$30,$N$8:$AF$14,10,0)) -> 0.0074 | N21: =IF(D21<E21,1,IF(D21>G21,1,0)) -> 0 | AK21: TRIBUTOS
B22: Risco | D22: 0.005 | E22: =IF($C$30="","",VLOOKUP($C$30,$N$8:$AF$14,11,0)) -> 0.005 | F22: =IF($C$30="","",VLOOKUP($C$30,$N$8:$AF$14,12,0)) -> 0.0056 | G22: =IF($C$30="","",VLOOKUP($C$30,$N$8:$AF$14,13,0)) -> 0.0097 | N22: =IF(D22<E22,1,IF(D22>G22,1,0)) -> 0 | AK22: PIS | AL22: 0.65
B23: Despesas Financeiras | D23: 0.011 | E23: =IF($C$30="","",VLOOKUP($C$30,$N$8:$AF$14,14,0)) -> 0.0102 | F23: =IF($C$30="","",VLOOKUP($C$30,$N$8:$AF$14,15,0)) -> 0.0111 | G23: =IF($C$30="","",VLOOKUP($C$30,$N$8:$AF$14,16,0)) -> 0.0121 | N23: =IF(D23<E23,1,IF(D23>G23,1,0)) -> 0 | AK23: COFINS | AL23: 3
B24: Lucro | D24: 0.0785 | E24: =IF($C$30="","",VLOOKUP($C$30,$N$8:$AF$14,17,0)) -> 0.0664 | F24: =IF($C$30="","",VLOOKUP($C$30,$N$8:$AF$14,18,0)) -> 0.073 | G24: =IF($C$30="","",VLOOKUP($C$30,$N$8:$AF$14,19,0)) -> 0.0869 | N24: =IF(D24<E24,1,IF(D24>G24,1,0)) -> 0 | AK24: ISSQN Lei Municipal 811/2003 (Código Tributário Municipal) | AL24: 4
B25: Tributos (Preencher quadro ao lado) | D25: =AL27 -> 0.0765 | E25: =IF(D7="X","Tributos -2%","") | G25: =IF(D7="X",D25-0.02,"") | N25: =SUM(N20:N24) -> 0 | AK25: Sobre receita bruta (caso da desoneração) | AL25: =IF(D7="X",2,0) -> 0
B26: BDI | D26: =((((1+$D$20+$D$21+$D$22)*(1+$D$23)*(1+$D$24))/(1-$D$25))-1) -> 0.23995641 | E26: =IF(D7="X","BDI de enquadramento","") | G26: =IF(D7="X",((((1+$D$20+$D$21+$D$22)*(1+$D$23)*(1+$D$24))/(1-$G$25))-1),"")
AK27: TOTAL | AL27: =(AL25+AL24+AL23+AL22)/100 -> 0.0765
B29: VERIFICAÇÃO
B30: TIPO DE OBRA | C30: =IF(G10="x",B10,IF(G11="x",B11,IF(G12="x",B12,IF(G13="x",B13,IF(G14="x",B14,IF(G15="x",B15,"")))))) -> CONSTRUÇÃO DE RODOVIAS E FERROVIAS
B31: LIMITE MÍNIMO BDI | C31: =J31 -> 0.196 | J31: =IF($C$30="","",VLOOKUP($C$30,N8:Q14,2,0)) -> 0.196
B32: LIMITE MÁXIMO BDI | C32: =IF($C$30="","",VLOOKUP($C$30,N8:Q14,4,0)) -> 0.2423 | J32: =IF($C$30="","",VLOOKUP($C$30,N8:Q14,4,0)) -> 0.2423
B33: BDI CALCULADO | C33: =D26 -> 0.23995641 | N33: =IF(AND(C33>=C31,C33<=C32),"BDI ACEITO","BDI NÃO ACEITO") -> BDI ACEITO
B34: VERIFICAÇÃO | C34: =IF(D6="x",N33,IF(D7="x",N34,"")) -> BDI ACEITO | N34: =IF(AND(G26>=C31,G26<=C32),"BDI ACEITO","BDI NÃO ACEITO") -> BDI NÃO ACEITO
B37: PLANILHA NÃO HOMOLOGADA PELA CAIXA ECONÔMICA FEDERAL

Sheet BDI - Declaração modelo - imp.
A5: Declaramos, para devidos fins, que a composição analítica do BDI utilizada na
A6: Planilha Orçamentária proposta para a obra | C6: ='BDI - PREENCHIMENTO'!C2:G2 -> Pavimentação com blocos intertravados de concreto
A7: na cidade de | B7: ='BDI - PREENCHIMENTO'!C1 -> Nova Esperança do Sul | C7: / RS, foi:
B10: Composição Analítica BDI
B11: Administração Central (AC) | D11: ='BDI - PREENCHIMENTO'!D20 -> 0.04
B12: Seguro e Garantia (S + G) | D12: ='BDI - PREENCHIMENTO'!D21 -> 0.0052
B13: Risco (R) | D13: ='BDI - PREENCHIMENTO'!D22 -> 0.005
B14: Despesas Financeiras (DF) | D14: ='BDI - PREENCHIMENTO'!D23 -> 0.011
B15: Lucro (L) | D15: ='BDI - PREENCHIMENTO'!D24 -> 0.0785
B16: Tributos ( I ) | D16: ='BDI - PREENCHIMENTO'!AL27 -> 0.0765
B17: PIS | C17: ='BDI - PREENCHIMENTO'!AL22 -> 0.65
B18: COFINS | C18: ='BDI - PREENCHIMENTO'!AL23 -> 3
B19: =[1]Verificação!AK24 -> ISSQN Lei Municipal 811/2003 (Código Tributário Municipal) | C19: ='BDI - PREENCHIMENTO'!AL24 -> 4
B20: Sobre receita bruta (caso da desoneração) | C20: ='BDI - PREENCHIMENTO'!AL25 -> 0
B21: BDI total | D21: ='BDI - PREENCHIMENTO'!C33 -> 0.23995641
B24: Fórmula Acórdão 2622/2013 – TCU:
A30: OBS: | B30: O detalhamento de encargos sociais atende ao estabelecido no SINAPI - RS para mão-de-obra horista e mensalista
