Workbook

Sheet Orçamento Modelo 
N6: EDITAR APENAS CÉLULAS EM AZUL
A7: PLANILHA ORÇAMENTÁRIA - PROPOSTA
M8: * UTILIZAR VALORES COM 2 CASAS DECIMAIS APÓS A VÍRGULA
A9: PROJETO: REFORMA DOS SANITÁRIOS DA PRAÇA | G9: MODALIDADE N°: | I9: XXX/ XX
A11: LOCAL: PRAÇA MAURO LOVATO, BAIRRO CENTRO
A12: BDI : | B12: 0.24
A13: BDI DIF.:
A14: DATA:
A16: ITEM | B16: REF. | C16: COD. | D16: DESCRIÇÃO | E16: UNIDADE | F16: QUANT. | G16: VALOR UNIT. | H16: VALOR UNIT. +BDI | I16: TOTAL | J16: TOTAL + BDI | K16: BDI
A17: 1.0 | D17: MOBILIZAÇÃO E DESMOBILIZAÇÃO | I17: =I18 -> 0 | J17: =J18 -> 0
A18: 1.1 | B18: COMP. | C18: 1 | D18: MOBILIZAÇÃO E DESMOBILIZAÇÃO | E18: UNID | F18: 1 | H18: =ROUND(G18*(1+K18),2) -> 0 | I18: =ROUND(G18*F18,2) -> 0 | J18: =ROUND(F18*H18,2) -> 0 | K18: 0.24
A19: 2.0 | D19: ADMINISTRAÇÃO LOCAL | I19: =SUM(I20:I21) -> 0 | J19: =SUM(J20:J21) -> 0
A20: 2.1 | B20: SINAPI | C20: 90780 | D20: MESTRE DE OBRAS COM ENCARGOS COMPLEMENTARES | E20: H | F20: 80 | H20: =ROUND(G20*(1+K20),2) -> 0 | I20: =ROUND(G20*F20,2) -> 0 | J20: =ROUND(F20*H20,2) -> 0 | K20: 0.24
A21: 2.2 | B21: SINAPI | C21: 90778 | D21: ENGENHEIRO CIVIL DE OBRA PLENO COM ENCARGOS COMPLEMENTARES | E21: H | F21: 16 | H21: =ROUND(G21*(1+K21),2) -> 0 | I21: =ROUND(G21*F21,2) -> 0 | J21: =ROUND(F21*H21,2) -> 0 | K21: 0.24
A22: 3.0 | D22: SERVIÇOS PRELIMINARES | I22: =SUM(I23:I23) -> 0 | J22: =SUM(J23:J23) -> 0
A23: 3.1 | B23: SINAPI | C23: 99059 | D23: LOCAÇÃO CONVENCIONAL DE OBRA, UTILIZANDO GABARITO DE TÁBUAS CORRIDAS PONTALETADAS A CADA 2,00M - 2 UTILIZAÇÕES. AF_03/2024 | E23: M | F23: 26.4 | H23: =ROUND(G23*(1+K23),2) -> 0 | I23: =ROUND(G23*F23,2) -> 0 | J23: =ROUND(F23*H23,2) -> 0 | K23: 0.24
A24: 4.0 | D24: FUNDAÇÕES (ESTACAS E VIGA BALDRAME) | I24: =SUM(I25:I33) -> 0 | J24: =SUM(J25:J33) -> 0
A25: 4.1 | B25: SINAPI | C25: 100899 | D25: ESTACA ESCAVADA MECANICAMENTE, SEM FLUIDO ESTABILIZANTE, COM 25CM DE DIÂMETRO, CONCRETO LANÇADO MANUALMENTE (EXCLUSIVE MOBILIZAÇÃO E DESMOBILIZAÇÃO). AF_01/2020 | E25: M | F25: 20 | H25: =ROUND(G25*(1+K25),2) -> 0 | I25: =ROUND(G25*F25,2) -> 0 | J25: =ROUND(F25*H25,2) -> 0 | K25: 0.24
A26: 4.2 | B26: SINAPI | C26: 96527 | D26: ESCAVAÇÃO MANUAL PARA VIGA BALDRAME OU SAPATA CORRIDA (INCLUINDO ESCAVAÇÃO PARA COLOCAÇÃO DE FÔRMAS). AF_01/2024 | E26: M3 | F26: 1.7 | H26: =ROUND(G26*(1+K26),2) -> 0 | I26: =ROUND(G26*F26,2) -> 0 | J26: =ROUND(F26*H26,2) -> 0 | K26: 0.24
A27: 4.3 | B27: SINAPI | C27: 94965 | D27: CONCRETO FCK = 25MPA, TRAÇO 1:2,3:2,7 (EM MASSA SECA DE CIMENTO/ AREIA MÉDIA/ BRITA 1) - PREPARO MECÂNICO COM BETONEIRA 400 L. AF_05/2021 | E27: M3 | F27: 1.53 | H27: =ROUND(G27*(1+K27),2) -> 0 | I27: =ROUND(G27*F27,2) -> 0 | J27: =ROUND(F27*H27,2) -> 0 | K27: 0.24
A28: 4.4 | B28: SINAPI | C28: 103670 | D28: LANÇAMENTO COM USO DE BALDES, ADENSAMENTO E ACABAMENTO DE CONCRETO EM ESTRUTURAS. AF_02/2022 | E28: M3 | F28: 1.53 | H28: =ROUND(G28*(1+K28),2) -> 0 | I28: =ROUND(G28*F28,2) -> 0 | J28: =ROUND(F28*H28,2) -> 0 | K28: 0.24
A29: 4.5 | B29: SINAPI | C29: 96530 | D29: FABRICAÇÃO, MONTAGEM E DESMONTAGEM DE FÔRMA PARA VIGA BALDRAME, EM MADEIRA SERRADA, E=25 MM, 1 UTILIZAÇÃO. AF_01/2024 | E29: M2 | F29: 15.24 | H29: =ROUND(G29*(1+K29),2) -> 0 | I29: =ROUND(G29*F29,2) -> 0 | J29: =ROUND(F29*H29,2) -> 0 | K29: 0.24
A30: 4.6 | B30: SINAPI | C30: 104916 | D30: ARMAÇÃO DE SAPATA ISOLADA, VIGA BALDRAME E SAPATA CORRIDA UTILIZANDO AÇO CA-60 DE 5 MM - MONTAGEM. AF_01/2024 | E30: KG | F30: 43 | H30: =ROUND(G30*(1+K30),2) -> 0 | I30: =ROUND(G30*F30,2) -> 0 | J30: =ROUND(F30*H30,2) -> 0 | K30: 0.24
A31: 4.7 | B31: SINAPI | C31: 104919 | D31: ARMAÇÃO DE SAPATA ISOLADA, VIGA BALDRAME E SAPATA CORRIDA UTILIZANDO AÇO CA-50 DE 10 MM - MONTAGEM. AF_01/2024 | E31: KG | F31: 148 | H31: =ROUND(G31*(1+K31),2) -> 0 | I31: =ROUND(G31*F31,2) -> 0 | J31: =ROUND(F31*H31,2) -> 0 | K31: 0.24
A32: 4.8 | B32: SINAPI | C32: 93382 | D32: REATERRO MANUAL DE VALAS, COM COMPACTADOR DE SOLOS DE PERCUSSÃO. AF_08/2023 | E32: M3 | F32: 8.55 | H32: =ROUND(G32*(1+K32),2) -> 0 | I32: =ROUND(G32*F32,2) -> 0 | J32: =ROUND(F32*H32,2) -> 0 | K32: 0.24
A33: 4.9 | B33: SINAPI | C33: 98557 | D33: IMPERMEABILIZAÇÃO DE SUPERFÍCIE COM EMULSÃO ASFÁLTICA, 2 DEMÃOS. AF_09/2023 | E33: M2 | F33: 20 | H33: =ROUND(G33*(1+K33),2) -> 0 | I33: =ROUND(G33*F33,2) -> 0 | J33: =ROUND(F33*H33,2) -> 0 | K33: 0.24
A34: 5.0 | D34: ESTRUTURAS (PILARES, VIGAS E LAJE) | I34: =SUM(I35:I41) -> 0 | J34: =SUM(J35:J41) -> 0
A35: 5.1 | B35: SINAPI | C35: 94965 | D35: CONCRETO FCK = 25MPA, TRAÇO 1:2,3:2,7 (EM MASSA SECA DE CIMENTO/ AREIA MÉDIA/ BRITA 1) - PREPARO MECÂNICO COM BETONEIRA 400 L. AF_05/2021 | E35: M3 | F35: 2 | H35: =ROUND(G35*(1+K35),2) -> 0 | I35: =ROUND(G35*F35,2) -> 0 | J35: =ROUND(F35*H35,2) -> 0 | K35: 0.24
A36: 5.2 | B36: SINAPI | C36: 103670 | D36: LANÇAMENTO COM USO DE BALDES, ADENSAMENTO E ACABAMENTO DE CONCRETO EM ESTRUTURAS. AF_02/2022 | E36: M3 | F36: 2 | H36: =ROUND(G36*(1+K36),2) -> 0 | I36: =ROUND(G36*F36,2) -> 0 | J36: =ROUND(F36*H36,2) -> 0 | K36: 0.24
A37: 5.3 | B37: SINAPI | C37: 96530 | D37: FABRICAÇÃO, MONTAGEM E DESMONTAGEM DE FÔRMA PARA VIGA BALDRAME, EM MADEIRA SERRADA, E=25 MM, 1 UTILIZAÇÃO. AF_01/2024 | E37: M2 | F37: 18.9 | H37: =ROUND(G37*(1+K37),2) -> 0 | I37: =ROUND(G37*F37,2) -> 0 | J37: =ROUND(F37*H37,2) -> 0 | K37: 0.24
A38: 5.4 | B38: SINAPI | C38: 92759 | D38: ARMAÇÃO DE PILAR OU VIGA DE ESTRUTURA CONVENCIONAL DE CONCRETO ARMADO UTILIZANDO AÇO CA-60 DE 5,0 MM - MONTAGEM. AF_06/2022 | E38: KG | F38: 49 | H38: =ROUND(G38*(1+K38),2) -> 0 | I38: =ROUND(G38*F38,2) -> 0 | J38: =ROUND(F38*H38,2) -> 0 | K38: 0.24
A39: 5.5 | B39: SINAPI | C39: 92761 | D39: ARMAÇÃO DE PILAR OU VIGA DE ESTRUTURA CONVENCIONAL DE CONCRETO ARMADO UTILIZANDO AÇO CA-50 DE 8,0 MM - MONTAGEM. AF_06/2022 | E39: KG | F39: 79 | H39: =ROUND(G39*(1+K39),2) -> 0 | I39: =ROUND(G39*F39,2) -> 0 | J39: =ROUND(F39*H39,2) -> 0 | K39: 0.24
A40: 5.6 | B40: SINAPI | C40: 92762 | D40: ARMAÇÃO DE PILAR OU VIGA DE ESTRUTURA CONVENCIONAL DE CONCRETO ARMADO UTILIZANDO AÇO CA-50 DE 10,0 MM - MONTAGEM. AF_06/2022 | E40: KG | F40: 52 | H40: =ROUND(G40*(1+K40),2) -> 0 | I40: =ROUND(G40*F40,2) -> 0 | J40: =ROUND(F40*H40,2) -> 0 | K40: 0.24
A41: 5.7 | B41: SINAPI | C41: 101964 | D41: LAJE PRÉ-MOLDADA UNIDIRECIONAL, BIAPOIADA, PARA FORRO, ENCHIMENTO EM CERÂMICA, VIGOTA CONVENCIONAL, ALTURA TOTAL DA LAJE "LT" = 12 CM (ENCHIMENTO+CAPA) = (8+4). AF_08/2025 | E41: M2 | F41: 42 | H41: =ROUND(G41*(1+K41),2) -> 0 | I41: =ROUND(G41*F41,2) -> 0 | J41: =ROUND(F41*H41,2) -> 0 | K41: 0.24
A42: 6.0 | D42: ALVENARIAS | I42: =SUM(I43:I46) -> 0 | J42: =SUM(J43:J46) -> 0
A43: 6.1 | B43: SINAPI | C43: 103368 | D43: ALVENARIA DE VEDAÇÃO DE BLOCOS CERÂMICOS FURADOS NA HORIZONTAL DE 14X19X39 CM (ESPESSURA 14 CM) E ARGAMASSA DE ASSENTAMENTO COM PREPARO EM BETONEIRA. AF_12/2021 | E43: M2 | F43: 90 | H43: =ROUND(G43*(1+K43),2) -> 0 | I43: =ROUND(G43*F43,2) -> 0 | J43: =ROUND(H43*F43,2) -> 0 | K43: 0.24
A44: 6.2 | B44: SINAPI | C44: 101159 | D44: ALVENARIA DE VEDAÇÃO DE BLOCOS CERÂMICOS MACIÇOS DE 5X10X20CM (ESPESSURA 10CM) E ARGAMASSA DE ASSENTAMENTO COM PREPARO EM BETONEIRA. AF_05/2020 | E44: M2 | F44: 30 | H44: =ROUND(G44*(1+K44),2) -> 0 | I44: =ROUND(G44*F44,2) -> 0 | J44: =ROUND(H44*F44,2) -> 0 | K44: 0.24
A45: 6.3 | B45: SINAPI | C45: 105024 | D45: VERGA MOLDADA IN LOCO EM CONCRETO, ESPESSURA DE *10* CM. AF_03/2024 | E45: M | F45: 12 | H45: =ROUND(G45*(1+K45),2) -> 0 | I45: =ROUND(G45*F45,2) -> 0 | J45: =ROUND(H45*F45,2) -> 0 | K45: 0.24
A46: 6.4 | B46: SINAPI | C46: 105030 | D46: CONTRAVERGA MOLDADA IN LOCO EM CONCRETO, ESPESSURA DE *10* CM. AF_03/2024 | E46: M | F46: 9 | H46: =ROUND(G46*(1+K46),2) -> 0 | I46: =ROUND(G46*F46,2) -> 0 | J46: =ROUND(H46*F46,2) -> 0 | K46: 0.24
A47: 7.0 | D47: PISO | I47: =SUM(I48:I54) -> 0 | J47: =SUM(J48:J54) -> 0
...

Sheet Cronograma Modelo
U4: * SELECIONAR A PAGINA OU PAGINAS PARA IMPRESSÃO
V6: EDITAR APENAS CÉLULAS EM AZUL
A7: CRONOGRAMA FÍSICO FINANCEIRO
A9: ='Orçamento Modelo '!A9:F10 -> PROJETO: REFORMA DOS SANITÁRIOS DA PRAÇA | L9: MODALIDADE N°: | N9: XXX/ XX
A10: ='Orçamento Modelo '!A11 -> LOCAL: PRAÇA MAURO LOVATO, BAIRRO CENTRO
A11: DATA:
U12: PAGINA 1
H13: PREVISTO | J13: MÊS 1 | L13: MÊS 2 | N13: MÊS 3 | P13: MÊS 4
A14: ITEM | B14: DESCRIÇÃO | H14: % | I14: VALOR | J14: % | K14: VALOR | L14: % | M14: VALOR | N14: % | O14: VALOR | P14: % | Q14: VALOR
A15: 1 | B15: ='Orçamento Modelo '!D17 -> MOBILIZAÇÃO E DESMOBILIZAÇÃO | H15: =(I15*100)/I$31 -> #DIV/0! | I15: ='Orçamento Modelo '!J17 -> 0 | K15: =ROUND(I15*J15/100,2) -> 0 | M15: =ROUND(I15*L15/100,2) -> 0 | O15: =ROUND(I15*N15/100,2) -> 0 | Q15: =ROUND(I15*P15/100,2) -> 0
A16: 2 | B16: ='Orçamento Modelo '!D19 -> ADMINISTRAÇÃO LOCAL | H16: =(I16*100)/I$31 -> #DIV/0! | I16: ='Orçamento Modelo '!J19 -> 0 | K16: =ROUND(I16*J16/100,2) -> 0 | M16: =ROUND(I16*L16/100,2) -> 0 | O16: =ROUND(I16*N16/100,2) -> 0 | Q16: =ROUND(I16*P16/100,2) -> 0
A17: 3 | B17: ='Orçamento Modelo '!D22 -> SERVIÇOS PRELIMINARES | H17: =(I17*100)/I$31 -> #DIV/0! | I17: ='Orçamento Modelo '!J22 -> 0 | K17: =ROUND(I17*J17/100,2) -> 0 | M17: =ROUND(I17*L17/100,2) -> 0 | O17: =ROUND(I17*N17/100,2) -> 0 | Q17: =ROUND(I17*P17/100,2) -> 0
A18: 4 | B18: ='Orçamento Modelo '!D24 -> FUNDAÇÕES (ESTACAS E VIGA BALDRAME) | H18: =(I18*100)/I$31 -> #DIV/0! | I18: ='Orçamento Modelo '!J24 -> 0 | K18: =ROUND(I18*J18/100,2) -> 0 | M18: =ROUND(I18*L18/100,2) -> 0 | O18: =ROUND(I18*N18/100,2) -> 0 | Q18: =ROUND(I18*P18/100,2) -> 0
A19: 5 | B19: ='Orçamento Modelo '!D34 -> ESTRUTURAS (PILARES, VIGAS E LAJE) | H19: =(I19*100)/I$31 -> #DIV/0! | I19: ='Orçamento Modelo '!J34 -> 0 | K19: =ROUND(I19*J19/100,2) -> 0 | M19: =ROUND(I19*L19/100,2) -> 0 | O19: =ROUND(I19*N19/100,2) -> 0 | Q19: =ROUND(I19*P19/100,2) -> 0
A20: 6 | B20: ='Orçamento Modelo '!D42 -> ALVENARIAS | H20: =(I20*100)/I$31 -> #DIV/0! | I20: ='Orçamento Modelo '!J42 -> 0 | K20: =ROUND(I20*J20/100,2) -> 0 | M20: =ROUND(I20*L20/100,2) -> 0 | O20: =ROUND(I20*N20/100,2) -> 0 | Q20: =ROUND(I20*P20/100,2) -> 0
A21: 7 | B21: ='Orçamento Modelo '!D47 -> PISO | H21: =(I21*100)/I$31 -> #DIV/0! | I21: ='Orçamento Modelo '!J47 -> 0 | K21: =ROUND(I21*J21/100,2) -> 0 | M21: =ROUND(I21*L21/100,2) -> 0 | O21: =ROUND(I21*N21/100,2) -> 0 | Q21: =ROUND(I21*P21/100,2) -> 0
A22: 8 | B22: ='Orçamento Modelo '!D55 -> REVESTIMENTOS | H22: =(I22*100)/I$31 -> #DIV/0! | I22: ='Orçamento Modelo '!J55 -> 0 | K22: =ROUND(I22*J22/100,2) -> 0 | M22: =ROUND(I22*L22/100,2) -> 0 | O22: =ROUND(I22*N22/100,2) -> 0 | Q22: =ROUND(I22*P22/100,2) -> 0
A23: 9 | B23: ='Orçamento Modelo '!D62 -> COBERTURA E FORRO | H23: =(I23*100)/I$31 -> #DIV/0! | I23: ='Orçamento Modelo '!J62 -> 0 | K23: =ROUND(I23*J23/100,2) -> 0 | M23: =ROUND(I23*L23/100,2) -> 0 | O23: =ROUND(I23*N23/100,2) -> 0 | Q23: =ROUND(I23*P23/100,2) -> 0
A24: 10 | B24: ='Orçamento Modelo '!D69 -> ESQUADRIAS E VIDROS | H24: =(I24*100)/I$31 -> #DIV/0! | I24: ='Orçamento Modelo '!J69 -> 0 | K24: =ROUND(I24*J24/100,2) -> 0 | M24: =ROUND(I24*L24/100,2) -> 0 | O24: =ROUND(I24*N24/100,2) -> 0 | Q24: =ROUND(I24*P24/100,2) -> 0
A25: 11 | B25: ='Orçamento Modelo '!D76 -> INSTALAÇÕES ELÉTRICAS | H25: =(I25*100)/I$31 -> #DIV/0! | I25: ='Orçamento Modelo '!J76 -> 0 | K25: =ROUND(I25*J25/100,2) -> 0 | M25: =ROUND(I25*L25/100,2) -> 0 | O25: =ROUND(I25*N25/100,2) -> 0 | Q25: =ROUND(I25*P25/100,2) -> 0
A26: 12 | B26: ='Orçamento Modelo '!D86 -> INSTALAÇÕES HIDRÁULICAS | H26: =(I26*100)/I$31 -> #DIV/0! | I26: ='Orçamento Modelo '!J86 -> 0 | K26: =ROUND(I26*J26/100,2) -> 0 | M26: =ROUND(I26*L26/100,2) -> 0 | O26: =ROUND(I26*N26/100,2) -> 0 | Q26: =ROUND(I26*P26/100,2) -> 0
A27: 13 | B27: ='Orçamento Modelo '!D111 -> LOUÇAS E METAIS | H27: =(I27*100)/I$31 -> #DIV/0! | I27: ='Orçamento Modelo '!J111 -> 0 | K27: =ROUND(I27*J27/100,2) -> 0 | M27: =ROUND(I27*L27/100,2) -> 0 | O27: =ROUND(I27*N27/100,2) -> 0 | Q27: =ROUND(I27*P27/100,2) -> 0
A28: 14 | B28: ='Orçamento Modelo '!D126 -> PINTURA | H28: =(I28*100)/I$31 -> #DIV/0! | I28: ='Orçamento Modelo '!J126 -> 0 | K28: =ROUND(I28*J28/100,2) -> 0 | M28: =ROUND(I28*L28/100,2) -> 0 | O28: =ROUND(I28*N28/100,2) -> 0 | Q28: =ROUND(I28*P28/100,2) -> 0
A29: 15 | B29: ='Orçamento Modelo '!D131 -> SERVIÇOS COMPLEMENTARES | H29: =(I29*100)/I$31 -> #DIV/0! | I29: ='Orçamento Modelo '!J131 -> 0 | K29: =ROUND(I29*J29/100,2) -> 0 | M29: =ROUND(I29*L29/100,2) -> 0 | O29: =ROUND(I29*N29/100,2) -> 0 | Q29: =ROUND(I29*P29/100,2) -> 0
A31: TOTAL | H31: =SUM(H15:H29) -> #DIV/0! | I31: =SUM(I15:I29) -> 0 | J31: =K31*H31/I31 -> #DIV/0! | K31: =SUM(K15:K29) -> 0 | L31: =M31*H31/I31 -> #DIV/0! | M31: =SUM(M15:M29) -> 0 | N31: =O31*H31/I31 -> #DIV/0! | O31: =SUM(O15:O29) -> 0 | P31: =Q31*H31/I31 -> #DIV/0! | Q31: =SUM(Q15:Q29) -> 0
A32: ACUMULADO | J32: =(K32*H31)/I31 -> #DIV/0! | K32: =K31 -> 0 | L32: =(M32*H31)/I31 -> #DIV/0! | M32: =K32+M31 -> 0 | N32: =(O32*H31)/I31 -> #DIV/0! | O32: =M32+O31 -> 0 | P32: =(Q32*H31)/I31 -> #DIV/0! | Q32: =O32+Q31 -> 0
K37: Resp. Téc.
K38: Cargo - n° registro
U46: PAGINA 2
A47: CRONOGRAMA FÍSICO FINANCEIRO
A49: =A9 -> PROJETO: REFORMA DOS SANITÁRIOS DA PRAÇA | L49: MODALIDADE N°: | N49: XXX/ XX
A50: =A10 -> LOCAL: PRAÇA MAURO LOVATO, BAIRRO CENTRO
A51: DATA:
H53: PREVISTO | J53: MÊS 5 | L53: MÊS 6 | N53: MÊS 7 | P53: MÊS 8
A54: ITEM | B54: DESCRIÇÃO | H54: % | I54: VALOR | J54: % | K54: VALOR | L54: % | M54: VALOR | N54: % | O54: VALOR | P54: % | Q54: VALOR
A55: 1 | B55: ='Orçamento Modelo '!D17 -> MOBILIZAÇÃO E DESMOBILIZAÇÃO | H55: =(I55*100)/I$71 -> #DIV/0! | I55: ='Orçamento Modelo '!J17 -> 0 | K55: =ROUND(I55*J55/100,2) -> 0 | M55: =ROUND(I55*L55/100,2) -> 0 | O55: =ROUND(I55*N55/100,2) -> 0 | Q55: =ROUND(I55*P55/100,2) -> 0
A56: 2 | B56: ='Orçamento Modelo '!D19 -> ADMINISTRAÇÃO LOCAL | H56: =(I56*100)/I$71 -> #DIV/0! | I56: ='Orçamento Modelo '!J19 -> 0 | K56: =ROUND(I56*J56/100,2) -> 0 | M56: =ROUND(I56*L56/100,2) -> 0 | O56: =ROUND(I56*N56/100,2) -> 0 | Q56: =ROUND(I56*P56/100,2) -> 0
A57: 3 | B57: ='Orçamento Modelo '!D22 -> SERVIÇOS PRELIMINARES | H57: =(I57*100)/I$71 -> #DIV/0! | I57: ='Orçamento Modelo '!J22 -> 0 | K57: =ROUND(I57*J57/100,2) -> 0 | M57: =ROUND(I57*L57/100,2) -> 0 | O57: =ROUND(I57*N57/100,2) -> 0 | Q57: =ROUND(I57*P57/100,2) -> 0
A58: 4 | B58: ='Orçamento Modelo '!D24 -> FUNDAÇÕES (ESTACAS E VIGA BALDRAME) | H58: =(I58*100)/I$71 -> #DIV/0! | I58: ='Orçamento Modelo '!J24 -> 0 | K58: =ROUND(I58*J58/100,2) -> 0 | M58: =ROUND(I58*L58/100,2) -> 0 | O58: =ROUND(I58*N58/100,2) -> 0 | Q58: =ROUND(I58*P58/100,2) -> 0
A59: 5 | B59: ='Orçamento Modelo '!D34 -> ESTRUTURAS (PILARES, VIGAS E LAJE) | H59: =(I59*100)/I$71 -> #DIV/0! | I59: ='Orçamento Modelo '!J34 -> 0 | K59: =ROUND(I59*J59/100,2) -> 0 | M59: =ROUND(I59*L59/100,2) -> 0 | O59: =ROUND(I59*N59/100,2) -> 0 | Q59: =ROUND(I59*P59/100,2) -> 0
...

Sheet BDI - PREENCHIMENTO
B1: Município | C1: Nova Esperança do Sul
B2: Obra: | C2: REFORMA DOS SANITÁRIOS DA PRAÇA
A4: CÁLCULO B.D.I. (NOVA REGRA) | O4: BDI | R4: ADM | U4: SEGURO E GARANTIA | X4: RISCO | AA4: DESPESAS | AD4: LUCRO
O5: 1 Q | P5: MEDIO | Q5: 3 Q | R5: 1 Q | S5: MEDIO | T5: 3 Q | U5: 1 Q | V5: MEDIO | W5: 3 Q | X5: 1 Q | Y5: MEDIO | Z5: 3 Q | AA5: 1 Q | AB5: MEDIO | AC5: 3 Q | AD5: 1 Q | AE5: MEDIO | AF5: 3 Q
A6: ONERADO | D6: x | E6: Considerada tributação integral
A7: DESONERADO | E7: Reduzido 2% da tributação para enquadrar
N8: CONSTRUÇÃO DE EDIFÍCIOS | O8: 0.2034 | P8: 0.2212 | Q8: 0.25 | R8: 0.03 | S8: 0.04 | T8: 0.055 | U8: 0.008 | V8: 0.008 | W8: 0.01 | X8: 0.0097 | Y8: 0.0127 | Z8: 0.0127 | AA8: 0.0059 | AB8: 0.0123 | AC8: 0.0139 | AD8: 0.0616 | AE8: 0.074 | AF8: 0.0896
B9: TIPO DE OBRA
B10: CONSTRUÇÃO DE EDIFÍCIOS | G10: X | N10: CONSTRUÇÃO DE RODOVIAS E FERROVIAS | O10: 0.196 | P10: 0.2097 | Q10: 0.2423 | R10: 0.038 | S10: 0.0401 | T10: 0.0467 | U10: 0.0032 | V10: 0.004 | W10: 0.0074 | X10: 0.005 | Y10: 0.0056 | Z10: 0.0097 | AA10: 0.0102 | AB10: 0.0111 | AC10: 0.0121 | AD10: 0.0664 | AE10: 0.073 | AF10: 0.0869
B11: CONSTRUÇÃO DE RODOVIAS E FERROVIAS | N11: CONSTRUÇÃO DE REDES DE ABASTECIMENTO DE ÁGUA, COLETA DE ESGOTO E CONSTRUÇÕES CORRELATAS | O11: 0.2076 | P11: 0.2418 | Q11: 0.2644 | R11: 0.0343 | S11: 0.0493 | T11: 0.0671 | U11: 0.0028 | V11: 0.0049 | W11: 0.0075 | X11: 0.01 | Y11: 0.0139 | Z11: 0.0174 | AA11: 0.0094 | AB11: 0.0099 | AC11: 0.0117 | AD11: 0.0674 | AE11: 0.0804 | AF11: 0.094
B12: CONSTRUÇÃO DE REDES DE ABASTECIMENTO DE ÁGUA, COLETA DE ESGOTO E CONSTRUÇÕES CORRELATAS | N12: CONSTRUÇÃO E MANUTENÇÃO DE ESTAÇÕES E REDES DE DISTRIBUIÇÃO DE ENERGIA ELÉTRICA | O12: 0.24 | P12: 0.2584 | Q12: 0.2786 | R12: 0.0529 | S12: 0.0592 | T12: 0.0793 | U12: 0.0025 | V12: 0.0051 | W12: 0.0056 | X12: 0.01 | Y12: 0.0148 | Z12: 0.0197 | AA12: 0.0101 | AB12: 0.0107 | AC12: 0.0111 | AD12: 0.08 | AE12: 0.0831 | AF12: 0.0951
B13: CONSTRUÇÃO E MANUTENÇÃO DE ESTAÇÕES E REDES DE DISTRIBUIÇÃO DE ENERGIA ELÉTRICA | N13: OBRAS PORTUÁRIAS, MARÍTIMAS E FLUVIAIS | O13: 0.228 | P13: 0.2748 | Q13: 0.3095 | R13: 0.04 | S13: 0.0552 | T13: 0.0785 | U13: 0.0081 | V13: 0.0122 | W13: 0.0199 | X13: 0.0146 | Y13: 0.0232 | Z13: 0.0316 | AA13: 0.0094 | AB13: 0.0102 | AC13: 0.0133 | AD13: 0.0714 | AE13: 0.084 | AF13: 0.1043
B14: OBRAS PORTUÁRIAS, MARÍTIMAS E FLUVIAIS | N14: FORNECIMENTO DE MATERIAIS E EQUIPAMENTOS | O14: 0.111 | P14: 0.1402 | Q14: 0.168 | R14: 0.015 | S14: 0.0345 | T14: 0.0449 | U14: 0.003 | V14: 0.0048 | W14: 0.0082 | X14: 0.0056 | Y14: 0.0085 | Z14: 0.0089 | AA14: 0.0085 | AB14: 0.0085 | AC14: 0.0111 | AD14: 0.035 | AE14: 0.0511 | AF14: 0.0622
B15: FORNECIMENTO DE MATERIAIS E EQUIPAMENTOS
B18: CÁLCULO DO BDI | E18: VALORES BASE
E19: 1 QUARTIL | F19: MÉDIO | G19: 3 QUARTIL
B20: Administração Central | E20: =IF($C$30="","",(VLOOKUP($C$30,$N$8:$AF$14,5,0))) -> 0.03 | F20: =IF($C$30="","",VLOOKUP($C$30,$N$8:$AF$14,6,0)) -> 0.04 | G20: =IF($C$30="","",VLOOKUP($C$30,$N$8:$AF$14,7,0)) -> 0.055 | N20: =IF(D20<E20,1,IF(D20>G20,1,0)) -> 1
B21: Seguro e Garantia | E21: =IF($C$30="","",VLOOKUP($C$30,$N$8:$AF$14,8,0)) -> 0.008 | F21: =IF($C$30="","",VLOOKUP($C$30,$N$8:$AF$14,9,0)) -> 0.008 | G21: =IF($C$30="","",VLOOKUP($C$30,$N$8:$AF$14,10,0)) -> 0.01 | N21: =IF(D21<E21,1,IF(D21>G21,1,0)) -> 1 | AK21: TRIBUTOS
B22: Risco | E22: =IF($C$30="","",VLOOKUP($C$30,$N$8:$AF$14,11,0)) -> 0.0097 | F22: =IF($C$30="","",VLOOKUP($C$30,$N$8:$AF$14,12,0)) -> 0.0127 | G22: =IF($C$30="","",VLOOKUP($C$30,$N$8:$AF$14,13,0)) -> 0.0127 | N22: =IF(D22<E22,1,IF(D22>G22,1,0)) -> 1 | AK22: PIS | AL22: 0.65
B23: Despesas Financeiras | E23: =IF($C$30="","",VLOOKUP($C$30,$N$8:$AF$14,14,0)) -> 0.0059 | F23: =IF($C$30="","",VLOOKUP($C$30,$N$8:$AF$14,15,0)) -> 0.0123 | G23: =IF($C$30="","",VLOOKUP($C$30,$N$8:$AF$14,16,0)) -> 0.0139 | N23: =IF(D23<E23,1,IF(D23>G23,1,0)) -> 1 | AK23: COFINS | AL23: 3
B24: Lucro | E24: =IF($C$30="","",VLOOKUP($C$30,$N$8:$AF$14,17,0)) -> 0.0616 | F24: =IF($C$30="","",VLOOKUP($C$30,$N$8:$AF$14,18,0)) -> 0.074 | G24: =IF($C$30="","",VLOOKUP($C$30,$N$8:$AF$14,19,0)) -> 0.0896 | N24: =IF(D24<E24,1,IF(D24>G24,1,0)) -> 1 | AK24: ISSQN Lei Municipal 811/2003 (Código Tributário Municipal) | AL24: 4
B25: Tributos (Preencher quadro ao lado) | D25: =AL27 -> 0.0765 | E25: =IF(D7="X","Tributos -2%","") | G25: =IF(D7="X",D25-0.02,"") | N25: =SUM(N20:N24) -> 5 | AK25: Sobre receita bruta (caso da desoneração) | AL25: =IF(D7="X",2,0) -> 0
B26: BDI | D26: =((((1+$D$20+$D$21+$D$22)*(1+$D$23)*(1+$D$24))/(1-$D$25))-1) -> 0.082837033 | E26: =IF(D7="X","BDI de enquadramento","") | G26: =IF(D7="X",((((1+$D$20+$D$21+$D$22)*(1+$D$23)*(1+$D$24))/(1-$G$25))-1),"")
AK27: TOTAL | AL27: =(AL25+AL24+AL23+AL22)/100 -> 0.0765
B29: VERIFICAÇÃO
B30: TIPO DE OBRA | C30: =IF(G10="x",B10,IF(G11="x",B11,IF(G12="x",B12,IF(G13="x",B13,IF(G14="x",B14,IF(G15="x",B15,"")))))) -> CONSTRUÇÃO DE EDIFÍCIOS
B31: LIMITE MÍNIMO BDI | C31: =J31 -> 0.2034 | J31: =IF($C$30="","",VLOOKUP($C$30,N8:Q14,2,0)) -> 0.2034
B32: LIMITE MÁXIMO BDI | C32: =IF($C$30="","",VLOOKUP($C$30,N8:Q14,4,0)) -> 0.25 | J32: =IF($C$30="","",VLOOKUP($C$30,N8:Q14,4,0)) -> 0.25
B33: BDI CALCULADO | C33: =D26 -> 0.082837033 | N33: =IF(AND(C33>=C31,C33<=C32),"BDI ACEITO","BDI NÃO ACEITO") -> BDI NÃO ACEITO
B34: VERIFICAÇÃO | C34: =IF(D6="x",N33,IF(D7="x",N34,"")) -> BDI NÃO ACEITO | N34: =IF(AND(G26>=C31,G26<=C32),"BDI ACEITO","BDI NÃO ACEITO") -> BDI NÃO ACEITO
B37: PLANILHA NÃO HOMOLOGADA PELA CAIXA ECONÔMICA FEDERAL

Sheet BDI - Declaração modelo - imp.
A5: Declaramos, para devidos fins, que a composição analítica do BDI utilizada na
A6: Planilha Orçamentária proposta para a obra | C6: ='BDI - PREENCHIMENTO'!C2:G2 -> REFORMA DOS SANITÁRIOS DA PRAÇA
A7: na cidade de | B7: ='BDI - PREENCHIMENTO'!C1 -> Nova Esperança do Sul | C7: / RS, foi:
B10: Composição Analítica BDI
B11: Administração Central (AC) | D11: ='BDI - PREENCHIMENTO'!D20 -> 0
B12: Seguro e Garantia (S + G) | D12: ='BDI - PREENCHIMENTO'!D21 -> 0
B13: Risco (R) | D13: ='BDI - PREENCHIMENTO'!D22 -> 0
B14: Despesas Financeiras (DF) | D14: ='BDI - PREENCHIMENTO'!D23 -> 0
B15: Lucro (L) | D15: ='BDI - PREENCHIMENTO'!D24 -> 0
B16: Tributos ( I ) | D16: ='BDI - PREENCHIMENTO'!AL27 -> 0.0765
B17: PIS | C17: ='BDI - PREENCHIMENTO'!AL22 -> 0.65
B18: COFINS | C18: ='BDI - PREENCHIMENTO'!AL23 -> 3
B19: =[1]Verificação!AK24 -> ISSQN Lei Municipal 811/2003 (Código Tributário Municipal) | C19: ='BDI - PREENCHIMENTO'!AL24 -> 4
B20: Sobre receita bruta (caso da desoneração) | C20: ='BDI - PREENCHIMENTO'!AL25 -> 0
B21: BDI total | D21: ='BDI - PREENCHIMENTO'!C33 -> 0.082837033
B24: Fórmula Acórdão 2622/2013 – TCU:
A30: OBS: | B30: O detalhamento de encargos sociais atende ao estabelecido no SINAPI - RS para mão-de-obra horista e mensalista
