Workbook
Name Auxiliar: #REF!
Name Auxiliar: #REF!
Name Auxiliar: #REF!
Name Auxiliar: #REF!
Name Auxiliar: #REF!
Name CUSTO_VALE_TRANSPORTE: #REF!
Name CUSTO_VALE_TRANSPORTE: #REF!
Name CUSTO_VALE_TRANSPORTE: #REF!
Name CUSTO_VALE_TRANSPORTE: #REF!
Name CUSTO_VALE_TRANSPORTE: #REF!
Name ecwece4c: #REF!
Name ecwece4c: #REF!
Name ecwece4c: #REF!
Name ecwece4c: #REF!
Name ecwece4c: #REF!
Name MOMB4: '[1]SERVENTE MANUTENCAO'!$I$144
Name MONA1: #REF!
Name MONA1: #REF!
Name MONA1: #REF!
Name MONA1: #REF!
Name MONA1: #REF!
Name MONA2: #REF!
Name MONA2: #REF!
Name MONA2: #REF!
Name MONA2: #REF!
Name MONA2: #REF!
Name MONA3: [2]HIDRAULICO!$I$138
Name MONA4: '[2]SERVENTE (AUX PRODUCAO)'!$I$138
Name MONA5: #REF!
Name MONA5: #REF!
Name MONA5: #REF!
Name MONA5: #REF!
Name MONA5: #REF!
Name MONA6: #REF!
Name MONA6: #REF!
Name MONA6: #REF!
Name MONA6: #REF!
Name MONA6: #REF!
Name MONA7: #REF!
Name MONA7: #REF!
Name MONA7: #REF!
Name MONA7: #REF!
Name MONA7: #REF!
Name MONA8: [2]MECANICO_REFRIGERACAO!$I$138
Name MONB1: #REF!
Name MONB1: #REF!
Name MONB1: #REF!
Name MONB1: #REF!
Name MONB1: #REF!
Name MONB2: #REF!
Name MONB2: #REF!
Name MONB2: #REF!
Name MONB2: #REF!
Name MONB2: #REF!
Name MONB3: [2]HIDRAULICO!$I$144
Name MONB4: '[2]SERVENTE (AUX PRODUCAO)'!$I$144
Name MONB5: #REF!
Name MONB5: #REF!
Name MONB5: #REF!
Name MONB5: #REF!

Sheet líder 12x36 diurno POA
A1: PLANILHA DE CUSTOS E FORMAÇÃO DE PREÇOS DE SERVIÇOS CONTINUADOS COM DEDICAÇÃO EXCLUSIVA DE MÃO DE OBRA
A2: PROCESSO: | C2: 25/0435-0021818-8 | E2: REGIME DE TRIBUTAÇÃO: LUCRO REAL e PRESUMIDO (*)
A3: Dispensa de Licitação n° | C3: 002/2026 | E3: Data de apresentação da proposta:
A5: Cargo/Função: | D5: VIGILANTE ARMADO LÍDER (DIURNO) | G5: =IF(D6="12x36","Regime de trabalho:","Quantidade de HORAS/MÊS") -> Regime de trabalho: | I5: =IF(D6="12x36",D6,5*D6) -> 12x36
A6: =IF(D6="12x36","Regime de trabalho:","Regime de trabalho (horas semanais):") -> Regime de trabalho: | D6: 12x36
A7: Convenção Coletiva de Trabalho: | G7: INSALUBRIDADE (10%, 20%, 40%) | I7: Não aplicável
A8: Origem do salário:
A9: Cidade: | D9: Porto Alegre/RS | G9: PERICULOSIDADE (30%) | I9: 0.3
A10: Salário Normativo | G10: Vlr. do salário e nº de horas correspondentes | H10: 220
A11: ISS | H11: Alíquota
A12: Adicional Troca de Uniforme (somente para postos de vigilantes que prevêm pagamento para troca de uniforme na CCT) | G12: CCT | H12: Valor
A13: Quantidade de dias trabalhados no mês | I13: 15
A14: Tarifa Transporte | G14: CCT | H14: Vr. Unitário
H15: Dias | I15: =I13 -> 15
H16: Desconto
A17: Auxílio Alimentação | G17: CCT | H17: Vr. Unitário
H18: Dias | I18: =I13 -> 15
H19: Desconto
A20: Auxílio Lanche | G20: CCT | H20: Vr. Unitário
H21: Dias | I21: 0
H22: Desconto
A23: Outros benefícios que refletem na planilha de custos, caso constem na CCT | G23: CCT | H23: Valor mensal
A24: Adicional de Supervisor (35%) TR | H24: Porcentagem | I24: 0.35
A25: Base de cálculo da insalubridade | H25: Valor | I25: Não aplicável
A26: Hora Intervalar | H26: Horas por mês | I26: 15
A27: Sem fornecimento de materiais ou apenas fornecimento de EPIs ou uniformes, utilizar 10%. Com fornecimento de materiais ou equipamentos, utilizar 20%. | H27: Porcentagem | I27: 0.2
A29: MONTANTE A
A30: I | B30: Remuneração - Grupo I | H30: % | I30: Valor Mensal/unidade de serviço (R$)
A31: 1 | B31: Salário | H31: =I31/$I$41 -> #DIV/0! | I31: =IF(D6="12x36",I10,I10/H10*I5) -> 0
A32: =A31+1 -> 2 | B32: Adicional Periculosidade 30% | H32: =I32/$I$41 -> #DIV/0! | I32: =IF(I9=30%,(I31+I38+I39)*I9,0) -> 0
A33: =A32+1 -> 3 | B33: Adicional Insalubridade 10% (Ver súmula 228 e 139 TST) | H33: =I33/$I$41 -> #DIV/0! | I33: =IF(I7=10%,I25*I7,0) -> 0
A34: =A33+1 -> 4 | B34: Adicional Insalubridade 20% (Ver súmula 228 e 139 TST) | H34: =I34/$I$41 -> #DIV/0! | I34: =IF(I7=20%,I25*I7,0) -> 0
A35: =A34+1 -> 5 | B35: Adicional Insalubridade 40% (Ver súmula 228 e 139 TST) | H35: =I35/$I$41 -> #DIV/0! | I35: =IF(I7=40%,I25*I7,0) -> 0
A36: =A35+1 -> 6 | B36: Adicional de Supervisor (IN 02/2008 MPOG SLTI) | H36: =I36/$I$41 -> #DIV/0! | I36: =IF(I24="Não aplicável",0,I31*I24) -> 0
A37: =A36+1 -> 7 | B37: DSR - Descanso Semanal Remunerado | H37: =I37/$I$41 -> #DIV/0! | I37: 0
A38: =A37+1 -> 8 | B38: Adicional Troca de Uniforme | H38: =I38/$I$41 -> #DIV/0! | I38: =I12*I13 -> 0
A39: =A38+1 -> 9 | B39: Integração RSF (20% sobre Ad.Troca de Uniforme - somente para vigilantes) | H39: =I39/$I$41 -> #DIV/0! | I39: =I38*20% -> 0
A40: =A39+1 -> 10 | B40: =IF(D6="12x36","Para postos 12x36 os feriados são considerados compensados, conforme parágrafo único, Art. 59-A da CLT","Outros") -> Para postos 12x36 os feriados são considerados compensados, conforme parágrafo único, Art. 59-A da CLT | H40: =I40/$I$41 -> #DIV/0! | I40: 0
A41: Total de Remuneração | H41: =SUM(H31:H40) -> #DIV/0! | I41: =SUM(I31:I40) -> 0
A43: II | B43: Encargos Sociais - Grupo II: Obrigações Sociais | H43: % | I43: Valor Mensal/unidade de serviço (R$)
...

Sheet líder 12x36 noturno POA
A1: PLANILHA DE CUSTOS E FORMAÇÃO DE PREÇOS DE SERVIÇOS CONTINUADOS COM DEDICAÇÃO EXCLUSIVA DE MÃO DE OBRA
A2: PROCESSO: | C2: 25/0435-0021818-8 | E2: REGIME DE TRIBUTAÇÃO: LUCRO REAL e PRESUMIDO (*)
A3: Dispensa de Licitação n° | C3: 002/2026 | E3: Data de apresentação da proposta:
A5: Cargo/Função: | D5: VIGILANTE ARMADO LÍDER (NOTURNO) | G5: =IF(D6="12x36","Regime de trabalho:","Quantidade de HORAS/MÊS") -> Regime de trabalho: | I5: =IF(D6="12x36",D6,5*D6) -> 12x36
A6: =IF(D6="12x36","Regime de trabalho:","Regime de trabalho (horas semanais):") -> Regime de trabalho: | D6: 12x36
A7: Convenção Coletiva de Trabalho: | G7: INSALUBRIDADE (10%, 20%, 40%) | I7: Não aplicável
A8: Origem do salário:
A9: Cidade: | D9: Porto Alegre/RS | G9: PERICULOSIDADE (30%) | I9: 0.3
A10: Salário Normativo (INPC ACUMULADO +0,76366% - CLAUSULA QUINTA CCT | G10: Vlr. do salário e nº de horas correspondentes | H10: 220
A11: ISS | G11: =D9 -> Porto Alegre/RS | H11: Alíquota
A12: Adicional Troca de Uniforme (somente para postos de vigilantes que prevêm pagamento para troca de uniforme na CCT) | G12: CCT | H12: Valor
A13: Quantidade de dias trabalhados no mês | I13: 15
A14: Tarifa Transporte | G14: CCT | H14: Vr. Unitário
H15: Dias | I15: =I13 -> 15
H16: Desconto
A17: Vale Alimentação | G17: CCT | H17: Vr. Unitário
H18: Dias | I18: =I13 -> 15
H19: Desconto
A20: Auxílio Lanche | G20: CCT | H20: Vr. Unitário
H21: Dias | I21: =I13 -> 15
H22: Desconto
A23: Outros benefícios que refletem na planilha de custos, caso constem na CCT | G23: CCT | H23: Valor mensal
A24: Adicional de Supervisor (35%) TR | H24: Porcentagem | I24: 0.35
A25: Base de cálculo da insalubridade | H25: Valor | I25: Não aplicável
A26: Hora Intervalar | H26: Horas por mês | I26: 15
A27: Sem fornecimento de materiais ou apenas fornecimento de EPIs ou uniformes, utilizar 10%. Com fornecimento de materiais ou equipamentos, utilizar 20%. | H27: Porcentagem | I27: 0.2
A28: Adicional Noturno: Horas: [(60/52,5) x Nº de horas noturnas diárias] x Nº de dias trabalhados com hora noturna Valor hora: (vlr. do salário/nº de horas correspondente do salário) x 20% (noturno) | G28: CCT | H28: Nº horas
H29: Vr. Hora | I29: =I10/H10*20% -> 0
A30: Reduzida Noturna Horas Reduzidas: 60/52,5=1,143 x 7h noturnas = 8h noturnas 5h diurnas + 8h noturnas = 13h X 15 dias = 195 horas mensais 195h - 190,67 = 4,33 horas Valor hora: (vlr. do salário/nº de horas correspondente do salário) x 150% (H.Extra) | G30: CCT | H30: Nº horas | I30: =((5+7+1)*15)-190.67 -> 4.33
H31: Vr. Hora | I31: =(I10/H10)*1.5 -> 0
A33: MONTANTE A
A34: I | B34: Remuneração - Grupo I | H34: % | I34: Valor Mensal/unidade de serviço (R$)
A35: 1 | B35: Salário | H35: =I35/$I$48 -> #DIV/0! | I35: =IF(D6="12x36",I10,I10/H10*I5) -> 0
A36: =A35+1 -> 2 | B36: Adicional Noturno 20% (Ver súmula 60 TST) | H36: =I36/$I$48 -> #DIV/0! | I36: 0
A37: =A36+1 -> 3 | B37: Adicional Periculosidade 30% | H37: =I37/$I$48 -> #DIV/0! | I37: =IF(I9=30%,(I35+I45+I42+I43+I44+I46)*I9,0) -> 0
A38: =A37+1 -> 4 | B38: Adicional Insalubridade 10% (Ver súmula 228 e 139 TST) | H38: =I38/$I$48 -> #DIV/0! | I38: =IF(I7=10%,I25*I7,0) -> 0
A39: =A38+1 -> 5 | B39: Adicional Insalubridade 20% (Ver súmula 228 e 139 TST) | H39: =I39/$I$48 -> #DIV/0! | I39: =IF(I7=20%,I25*I7,0) -> 0
A40: =A39+1 -> 6 | B40: Adicional Insalubridade 40% (Ver súmula 228 e 139 TST) | H40: =I40/$I$48 -> #DIV/0! | I40: =IF(I7=40%,I25*I7,0) -> 0
A41: =A40+1 -> 7 | B41: Adicional de Supervisor (IN 02/2008 MPOG SLTI) | H41: =I41/$I$48 -> #DIV/0! | I41: =IF(I24="Não aplicável",0,I35*I24) -> 0
A42: =A41+1 -> 8 | B42: Reduzida Noturna | H42: =I42/$I$48 -> #DIV/0! | I42: =I30*I31 -> 0
...

Sheet 12x36 diurno POA
A1: PLANILHA DE CUSTOS E FORMAÇÃO DE PREÇOS DE SERVIÇOS CONTINUADOS COM DEDICAÇÃO EXCLUSIVA DE MÃO DE OBRA
A2: PROCESSO: | C2: 25/0435-0021818-8 | E2: REGIME DE TRIBUTAÇÃO: LUCRO REAL e PRESUMIDO (*)
A3: Dispensa de Licitação n° | C3: 002/2026 | E3: Data de apresentação da proposta:
A5: Cargo/Função: | D5: VIGILANTE ARMADO | G5: =IF(D6="12x36","Regime de trabalho:","Quantidade de HORAS/MÊS") -> Regime de trabalho: | I5: =IF(D6="12x36",D6,5*D6) -> 12x36
A6: =IF(D6="12x36","Regime de trabalho:","Regime de trabalho (horas semanais):") -> Regime de trabalho: | D6: 12x36
A7: Convenção Coletiva de Trabalho: | G7: INSALUBRIDADE (10%, 20%, 40%) | I7: Não aplicável
A8: Origem do salário:
A9: Cidade: | D9: Porto Alegre/RS | G9: PERICULOSIDADE (30%) | I9: 0.3
A10: Salário Normativo | G10: Vlr. do salário e nº de horas correspondentes | H10: 220
A11: ISS | H11: Alíquota
A12: Adicional Troca de Uniforme (somente para postos de vigilantes que prevêm pagamento para troca de uniforme na CCT) | G12: CCT | H12: Valor
A13: Quantidade de dias trabalhados no mês | I13: 15
A14: Tarifa Transporte | G14: CCT | H14: Vr. Unitário
H15: Dias | I15: =I13 -> 15
H16: Desconto
A17: Auxílio Alimentação | G17: CCT | H17: Vr. Unitário
H18: Dias | I18: =I13 -> 15
H19: Desconto
A20: Auxílio Lanche | G20: CCT | H20: Vr. Unitário
H21: Dias
H22: Desconto
A23: Outros benefícios que refletem na planilha de custos, caso constem na CCT | G23: CCT | H23: Valor mensal
A24: Adicional de Supervisor | H24: Porcentagem | I24: Não aplicável
A25: Base de cálculo da insalubridade | H25: Valor | I25: Não aplicável
A26: Hora Intervalar | H26: Horas por mês | I26: 15
A27: Sem fornecimento de materiais ou apenas fornecimento de EPIs ou uniformes, utilizar 10%. Com fornecimento de materiais ou equipamentos, utilizar 20%. | H27: Porcentagem | I27: 0.2
A29: MONTANTE A
A30: I | B30: Remuneração - Grupo I | H30: % | I30: Valor Mensal/unidade de serviço (R$)
A31: 1 | B31: Salário | H31: =I31/$I$41 -> #DIV/0! | I31: =IF(D6="12x36",I10,I10/H10*I5) -> 0
A32: =A31+1 -> 2 | B32: Adicional Periculosidade 30% | H32: =I32/$I$41 -> #DIV/0! | I32: =IF(I9=30%,(I31+I38+I39)*I9,0) -> 0
A33: =A32+1 -> 3 | B33: Adicional Insalubridade 10% (Ver súmula 228 e 139 TST) | H33: =I33/$I$41 -> #DIV/0! | I33: =IF(I7=10%,I25*I7,0) -> 0
A34: =A33+1 -> 4 | B34: Adicional Insalubridade 20% (Ver súmula 228 e 139 TST) | H34: =I34/$I$41 -> #DIV/0! | I34: =IF(I7=20%,I25*I7,0) -> 0
A35: =A34+1 -> 5 | B35: Adicional Insalubridade 40% (Ver súmula 228 e 139 TST) | H35: =I35/$I$41 -> #DIV/0! | I35: =IF(I7=40%,I25*I7,0) -> 0
A36: =A35+1 -> 6 | B36: Adicional de Supervisor (IN 02/2008 MPOG SLTI) | H36: =I36/$I$41 -> #DIV/0! | I36: =IF(I24="Não aplicável",0,I31*I24) -> 0
A37: =A36+1 -> 7 | B37: DSR - Descanso Semanal Remunerado | H37: =I37/$I$41 -> #DIV/0! | I37: 0
A38: =A37+1 -> 8 | B38: Adicional Troca de Uniforme | H38: =I38/$I$41 -> #DIV/0! | I38: =I12*I13 -> 0
A39: =A38+1 -> 9 | B39: Integração RSF (20% sobre Ad.Troca de Uniforme - somente para vigilantes) | H39: =I39/$I$41 -> #DIV/0! | I39: =I38*20% -> 0
A40: =A39+1 -> 10 | B40: =IF(D6="12x36","Para postos 12x36 os feriados são considerados compensados, conforme parágrafo único, Art. 59-A da CLT","Outros") -> Para postos 12x36 os feriados são considerados compensados, conforme parágrafo único, Art. 59-A da CLT | H40: =I40/$I$41 -> #DIV/0! | I40: 0
A41: Total de Remuneração | H41: =SUM(H31:H40) -> #DIV/0! | I41: =SUM(I31:I40) -> 0
A43: II | B43: Encargos Sociais - Grupo II: Obrigações Sociais | H43: % | I43: Valor Mensal/unidade de serviço (R$)
...

Sheet 12x36 noturno POA
A1: PLANILHA DE CUSTOS E FORMAÇÃO DE PREÇOS DE SERVIÇOS CONTINUADOS COM DEDICAÇÃO EXCLUSIVA DE MÃO DE OBRA
A2: PROCESSO: | C2: 25/0435-0021818-8 | E2: REGIME DE TRIBUTAÇÃO: LUCRO REAL e PRESUMIDO (*)
A3: Dispensa de Licitação n° | C3: 002/2026 | E3: Data de apresentação da proposta:
A5: Cargo/Função: | D5: VIGILANTE ARMADO | G5: =IF(D6="12x36","Regime de trabalho:","Quantidade de HORAS/MÊS") -> Regime de trabalho: | I5: =IF(D6="12x36",D6,5*D6) -> 12x36
A6: =IF(D6="12x36","Regime de trabalho:","Regime de trabalho (horas semanais):") -> Regime de trabalho: | D6: 12x36
A7: Convenção Coletiva de Trabalho: | G7: INSALUBRIDADE (10%, 20%, 40%) | I7: Não aplicável
A8: Origem do salário:
A9: Cidade: | D9: Porto Alegre/RS | G9: PERICULOSIDADE (30%) | I9: 0.3
A10: Salário Normativo | G10: Vlr. do salário e nº de horas correspondentes | H10: 220
A11: ISS | G11: =D9 -> Porto Alegre/RS | H11: Alíquota
A12: Adicional Troca de Uniforme (somente para postos de vigilantes que prevêm pagamento para troca de uniforme na CCT) | G12: CCT | H12: Valor
A13: Quantidade de dias trabalhados no mês | I13: 15
A14: Tarifa Transporte | G14: CCT | H14: Vr. Unitário
H15: Dias | I15: =I13 -> 15
H16: Desconto
A17: Vale Alimentação | G17: CCT | H17: Vr. Unitário
H18: Dias | I18: =I13 -> 15
H19: Desconto
A20: Auxílio Lanche | G20: CCT | H20: Vr. Unitário
H21: Dias
H22: Desconto
A23: Outros benefícios que refletem na planilha de custos, caso constem na CCT | G23: CCT | H23: Valor mensal
A24: Adicional de Supervisor | H24: Porcentagem | I24: Não aplicável
A25: Base de cálculo da insalubridade | H25: Valor | I25: Não aplicável
A26: Hora Intervalar | H26: Horas por mês | I26: 15
A27: Sem fornecimento de materiais ou apenas fornecimento de EPIs ou uniformes, utilizar 10%. Com fornecimento de materiais ou equipamentos, utilizar 20%. | H27: Porcentagem | I27: 0.2
A28: Adicional Noturno: Horas: [(60/52,5) x Nº de horas noturnas diárias] x Nº de dias trabalhados com hora noturna Valor hora: (vlr. do salário/nº de horas correspondente do salário) x 20% (noturno) | G28: CCT | H28: Nº horas | I28: =((60/52.5)*7)*15 -> 120
H29: Vr. Hora | I29: =I10/H10*20% -> 0
A30: Reduzida Noturna Horas Reduzidas: 60/52,5=1,143 x 7h noturnas = 8h noturnas 5h diurnas + 8h noturnas = 13h X 15 dias = 195 horas mensais 195h - 190,67 = 4,33 horas Valor hora: (vlr. do salário/nº de horas correspondente do salário) x 150% (H.Extra) | G30: CCT | H30: Nº horas | I30: =((5+7+1)*15)-190.67 -> 4.33
H31: Vr. Hora | I31: =(I10/H10)*1.5 -> 0
A33: MONTANTE A
A34: I | B34: Remuneração - Grupo I | H34: % | I34: Valor Mensal/unidade de serviço (R$)
A35: 1 | B35: Salário | H35: =I35/$I$48 -> #DIV/0! | I35: =IF(D6="12x36",I10,I10/H10*I5) -> 0
A36: =A35+1 -> 2 | B36: Adicional Noturno 20% (Ver súmula 60 TST) | H36: =I36/$I$48 -> #DIV/0! | I36: 0
A37: =A36+1 -> 3 | B37: Adicional Periculosidade 30% | H37: =I37/$I$48 -> #DIV/0! | I37: =IF(I9=30%,(I35+I45+I42+I43+I44+I46)*I9,0) -> 0
A38: =A37+1 -> 4 | B38: Adicional Insalubridade 10% (Ver súmula 228 e 139 TST) | H38: =I38/$I$48 -> #DIV/0! | I38: =IF(I7=10%,I25*I7,0) -> 0
A39: =A38+1 -> 5 | B39: Adicional Insalubridade 20% (Ver súmula 228 e 139 TST) | H39: =I39/$I$48 -> #DIV/0! | I39: =IF(I7=20%,I25*I7,0) -> 0
A40: =A39+1 -> 6 | B40: Adicional Insalubridade 40% (Ver súmula 228 e 139 TST) | H40: =I40/$I$48 -> #DIV/0! | I40: =IF(I7=40%,I25*I7,0) -> 0
A41: =A40+1 -> 7 | B41: Adicional de Supervisor (IN 02/2008 MPOG SLTI) | H41: =I41/$I$48 -> #DIV/0! | I41: =IF(I24="Não aplicável",0,I35*I24) -> 0
A42: =A41+1 -> 8 | B42: Reduzida Noturna | H42: =I42/$I$48 -> #DIV/0! | I42: =I30*I31 -> 0
...

Sheet 12x36 diurno Guaiba
A1: PLANILHA DE CUSTOS E FORMAÇÃO DE PREÇOS DE SERVIÇOS CONTINUADOS COM DEDICAÇÃO EXCLUSIVA DE MÃO DE OBRA
A2: PROCESSO: | C2: 25/0435-0021818-8 | E2: REGIME DE TRIBUTAÇÃO: LUCRO REAL e PRESUMIDO (*)
A3: Dispensa de Licitação n° | C3: 002/2026 | E3: Data de apresentação da proposta:
A5: Cargo/Função: | D5: VIGILANTE ARMADO | G5: =IF(D6="12x36","Regime de trabalho:","Quantidade de HORAS/MÊS") -> Regime de trabalho: | I5: =IF(D6="12x36",D6,5*D6) -> 12x36
A6: =IF(D6="12x36","Regime de trabalho:","Regime de trabalho (horas semanais):") -> Regime de trabalho: | D6: 12x36
A7: Convenção Coletiva de Trabalho: | G7: INSALUBRIDADE (10%, 20%, 40%) | I7: Não aplicável
A8: Origem do salário:
A9: Cidade: | D9: Guaíba/RS | G9: PERICULOSIDADE (30%) | I9: 0.3
A10: Salário Normativo | G10: Vlr. do salário e nº de horas correspondentes | H10: 220
A11: ISS | H11: Alíquota
A12: Adicional Troca de Uniforme (somente para postos de vigilantes que prevêm pagamento para troca de uniforme na CCT) | G12: CCT | H12: Valor
A13: Quantidade de dias trabalhados no mês | I13: 15
A14: Tarifa Transporte | G14: CCT | H14: Vr. Unitário
H15: Dias | I15: =I13 -> 15
H16: Desconto
A17: Auxílio Alimentação | G17: CCT | H17: Vr. Unitário
H18: Dias | I18: =I13 -> 15
H19: Desconto
A20: Auxílio Lanche | G20: CCT | H20: Vr. Unitário
H21: Dias
H22: Desconto
A23: Outros benefícios que refletem na planilha de custos, caso constem na CCT | G23: CCT | H23: Valor mensal
A24: Adicional de Supervisor | H24: Porcentagem | I24: Não aplicável
A25: Base de cálculo da insalubridade | H25: Valor | I25: Não aplicável
A26: Hora Intervalar | H26: Horas por mês | I26: 15
A27: Sem fornecimento de materiais ou apenas fornecimento de EPIs ou uniformes, utilizar 10%. Com fornecimento de materiais ou equipamentos, utilizar 20%. (Decreto 52.768/2015, alterado pelo Decreto 53.424/2017) | H27: Porcentagem | I27: 0.2
A29: MONTANTE A
A30: I | B30: Remuneração - Grupo I | H30: % | I30: Valor Mensal/unidade de serviço (R$)
A31: 1 | B31: Salário | H31: =I31/$I$41 -> #DIV/0! | I31: =IF(D6="12x36",I10,I10/H10*I5) -> 0
A32: =A31+1 -> 2 | B32: Adicional Periculosidade 30% | H32: =I32/$I$41 -> #DIV/0! | I32: =IF(I9=30%,(I31+I38+I39)*I9,0) -> 0
A33: =A32+1 -> 3 | B33: Adicional Insalubridade 10% (Ver súmula 228 e 139 TST) | H33: =I33/$I$41 -> #DIV/0! | I33: =IF(I7=10%,I25*I7,0) -> 0
A34: =A33+1 -> 4 | B34: Adicional Insalubridade 20% (Ver súmula 228 e 139 TST) | H34: =I34/$I$41 -> #DIV/0! | I34: =IF(I7=20%,I25*I7,0) -> 0
A35: =A34+1 -> 5 | B35: Adicional Insalubridade 40% (Ver súmula 228 e 139 TST) | H35: =I35/$I$41 -> #DIV/0! | I35: =IF(I7=40%,I25*I7,0) -> 0
A36: =A35+1 -> 6 | B36: Adicional de Supervisor (IN 02/2008 MPOG SLTI) | H36: =I36/$I$41 -> #DIV/0! | I36: =IF(I24="Não aplicável",0,I31*I24) -> 0
A37: =A36+1 -> 7 | B37: DSR - Descanso Semanal Remunerado | H37: =I37/$I$41 -> #DIV/0! | I37: 0
A38: =A37+1 -> 8 | B38: Adicional Troca de Uniforme | H38: =I38/$I$41 -> #DIV/0! | I38: =I12*I13 -> 0
A39: =A38+1 -> 9 | B39: Integração RSF (20% sobre Ad.Troca de Uniforme - somente para vigilantes) | H39: =I39/$I$41 -> #DIV/0! | I39: =I38*20% -> 0
A40: =A39+1 -> 10 | B40: =IF(D6="12x36","Para postos 12x36 os feriados são considerados compensados, conforme parágrafo único, Art. 59-A da CLT","Outros") -> Para postos 12x36 os feriados são considerados compensados, conforme parágrafo único, Art. 59-A da CLT | H40: =I40/$I$41 -> #DIV/0! | I40: 0
A41: Total de Remuneração | H41: =SUM(H31:H40) -> #DIV/0! | I41: =SUM(I31:I40) -> 0
A43: II | B43: Encargos Sociais - Grupo II: Obrigações Sociais | H43: % | I43: Valor Mensal/unidade de serviço (R$)
...

Sheet 12x36 noturno Guaiba
A1: PLANILHA DE CUSTOS E FORMAÇÃO DE PREÇOS DE SERVIÇOS CONTINUADOS COM DEDICAÇÃO EXCLUSIVA DE MÃO DE OBRA
A2: PROCESSO: | C2: 25/0435-0021818-8 | E2: REGIME DE TRIBUTAÇÃO: LUCRO REAL e PRESUMIDO (*)
A3: Dispensa de Licitação n° | C3: 002/2026 | E3: Data de apresentação da proposta:
A5: Cargo/Função: | D5: VIGILANTE ARMADO | G5: =IF(D6="12x36","Regime de trabalho:","Quantidade de HORAS/MÊS") -> Regime de trabalho: | I5: =IF(D6="12x36",D6,5*D6) -> 12x36
A6: =IF(D6="12x36","Regime de trabalho:","Regime de trabalho (horas semanais):") -> Regime de trabalho: | D6: 12x36
A7: Convenção Coletiva de Trabalho: | G7: INSALUBRIDADE (10%, 20%, 40%) | I7: Não aplicável
A8: Origem do salário:
A9: Cidade: | D9: Guaíba/RS | G9: PERICULOSIDADE (30%) | I9: 0.3
A10: Salário Normativo | G10: Vlr. do salário e nº de horas correspondentes | H10: 220
A11: ISS | G11: =D9 -> Guaíba/RS | H11: Alíquota
A12: Adicional Troca de Uniforme (somente para postos de vigilantes que prevêm pagamento para troca de uniforme na CCT) | G12: CCT | H12: Valor
A13: Quantidade de dias trabalhados no mês | I13: 15
A14: Tarifa Transporte | G14: CCT | H14: Vr. Unitário
H15: Dias | I15: =I13 -> 15
H16: Desconto
A17: Vale Alimentação | G17: CCT | H17: Vr. Unitário
H18: Dias | I18: =I13 -> 15
H19: Desconto
A20: Auxílio Lanche | G20: CCT | H20: Vr. Unitário
H21: Dias
H22: Desconto
A23: Outros benefícios que refletem na planilha de custos, caso constem na CCT | G23: CCT | H23: Valor mensal
A24: Adicional de Supervisor | H24: Porcentagem | I24: Não aplicável
A25: Base de cálculo da insalubridade | H25: Valor | I25: Não aplicável
A26: Hora Intervalar | H26: Horas por mês | I26: 15
A27: Sem fornecimento de materiais ou apenas fornecimento de EPIs ou uniformes, utilizar 10%. Com fornecimento de materiais ou equipamentos, utilizar 20%. | H27: Porcentagem | I27: 0.2
A28: Adicional Noturno: Horas: [(60/52,5) x Nº de horas noturnas diárias] x Nº de dias trabalhados com hora noturna Valor hora: (vlr. do salário/nº de horas correspondente do salário) x 20% (noturno) | G28: CCT | H28: Nº horas | I28: =((60/52.5)*7)*15 -> 120
H29: Vr. Hora | I29: =I10/H10*20% -> 0
A30: Reduzida Noturna Horas Reduzidas: 60/52,5=1,143 x 7h noturnas = 8h noturnas 5h diurnas + 8h noturnas = 13h X 15 dias = 195 horas mensais 195h - 190,67 = 4,33 horas Valor hora: (vlr. do salário/nº de horas correspondente do salário) x 150% (H.Extra) | G30: CCT | H30: Nº horas | I30: =((5+7+1)*15)-190.67 -> 4.33
H31: Vr. Hora | I31: =(I10/H10)*1.5 -> 0
A33: MONTANTE A
A34: I | B34: Remuneração - Grupo I | H34: % | I34: Valor Mensal/unidade de serviço (R$)
A35: 1 | B35: Salário | H35: =I35/$I$48 -> #DIV/0! | I35: =IF(D6="12x36",I10,I10/H10*I5) -> 0
A36: =A35+1 -> 2 | B36: Adicional Noturno 20% (Ver súmula 60 TST) | H36: =I36/$I$48 -> #DIV/0! | I36: 0
A37: =A36+1 -> 3 | B37: Adicional Periculosidade 30% | H37: =I37/$I$48 -> #DIV/0! | I37: =IF(I9=30%,(I35+I45+I42+I43+I44+I46)*I9,0) -> 0
A38: =A37+1 -> 4 | B38: Adicional Insalubridade 10% (Ver súmula 228 e 139 TST) | H38: =I38/$I$48 -> #DIV/0! | I38: =IF(I7=10%,I25*I7,0) -> 0
A39: =A38+1 -> 5 | B39: Adicional Insalubridade 20% (Ver súmula 228 e 139 TST) | H39: =I39/$I$48 -> #DIV/0! | I39: =IF(I7=20%,I25*I7,0) -> 0
A40: =A39+1 -> 6 | B40: Adicional Insalubridade 40% (Ver súmula 228 e 139 TST) | H40: =I40/$I$48 -> #DIV/0! | I40: =IF(I7=40%,I25*I7,0) -> 0
A41: =A40+1 -> 7 | B41: Adicional de Supervisor (IN 02/2008 MPOG SLTI) | H41: =I41/$I$48 -> #DIV/0! | I41: =IF(I24="Não aplicável",0,I35*I24) -> 0
A42: =A41+1 -> 8 | B42: Reduzida Noturna | H42: =I42/$I$48 -> #DIV/0! | I42: =I30*I31 -> 0
...

Sheet 12x36 diurno Esteio
A1: PLANILHA DE CUSTOS E FORMAÇÃO DE PREÇOS DE SERVIÇOS CONTINUADOS COM DEDICAÇÃO EXCLUSIVA DE MÃO DE OBRA
A2: PROCESSO: | C2: 25/0435-0021818-8 | E2: REGIME DE TRIBUTAÇÃO: LUCRO REAL e PRESUMIDO (*)
A3: Dispensa de Licitação n° | C3: 002/2026 | E3: Data de apresentação da proposta:
A5: Cargo/Função: | D5: VIGILANTE ARMADO | G5: =IF(D6="12x36","Regime de trabalho:","Quantidade de HORAS/MÊS") -> Regime de trabalho: | I5: =IF(D6="12x36",D6,5*D6) -> 12x36
A6: =IF(D6="12x36","Regime de trabalho:","Regime de trabalho (horas semanais):") -> Regime de trabalho: | D6: 12x36
A7: Convenção Coletiva de Trabalho: | G7: INSALUBRIDADE (10%, 20%, 40%) | I7: Não aplicável
A8: Origem do salário:
A9: Cidade: | D9: Esteio/RS | G9: PERICULOSIDADE (30%) | I9: 0.3
A10: Salário Normativo | G10: Vlr. do salário e nº de horas correspondentes | H10: 220
A11: ISS | H11: Alíquota
A12: Adicional Troca de Uniforme (somente para postos de vigilantes que prevêm pagamento para troca de uniforme na CCT) | G12: CCT | H12: Valor
A13: Quantidade de dias trabalhados no mês | I13: 15
A14: Tarifa Transporte | G14: CCT | H14: Vr. Unitário
H15: Dias | I15: =I13 -> 15
H16: Desconto
A17: Auxílio Alimentação | G17: CCT | H17: Vr. Unitário
H18: Dias | I18: =I13 -> 15
H19: Desconto
A20: Auxílio Lanche | G20: CCT | H20: Vr. Unitário
H21: Dias
H22: Desconto
A23: Outros benefícios que refletem na planilha de custos, caso constem na CCT | G23: CCT | H23: Valor mensal
A24: Adicional de Supervisor | H24: Porcentagem | I24: Não aplicável
A25: Base de cálculo da insalubridade | H25: Valor | I25: Não aplicável
A26: Hora Intervalar | H26: Horas por mês | I26: 15
A27: Sem fornecimento de materiais ou apenas fornecimento de EPIs ou uniformes, utilizar 10%. Com fornecimento de materiais ou equipamentos, utilizar 20%. | H27: Porcentagem | I27: 0.2
A29: MONTANTE A
A30: I | B30: Remuneração - Grupo I | H30: % | I30: Valor Mensal/unidade de serviço (R$)
A31: 1 | B31: Salário | H31: =I31/$I$41 -> #DIV/0! | I31: =IF(D6="12x36",I10,I10/H10*I5) -> 0
A32: =A31+1 -> 2 | B32: Adicional Periculosidade 30% | H32: =I32/$I$41 -> #DIV/0! | I32: =IF(I9=30%,(I31+I38+I39)*I9,0) -> 0
A33: =A32+1 -> 3 | B33: Adicional Insalubridade 10% (Ver súmula 228 e 139 TST) | H33: =I33/$I$41 -> #DIV/0! | I33: =IF(I7=10%,I25*I7,0) -> 0
A34: =A33+1 -> 4 | B34: Adicional Insalubridade 20% (Ver súmula 228 e 139 TST) | H34: =I34/$I$41 -> #DIV/0! | I34: =IF(I7=20%,I25*I7,0) -> 0
A35: =A34+1 -> 5 | B35: Adicional Insalubridade 40% (Ver súmula 228 e 139 TST) | H35: =I35/$I$41 -> #DIV/0! | I35: =IF(I7=40%,I25*I7,0) -> 0
A36: =A35+1 -> 6 | B36: Adicional de Supervisor (IN 02/2008 MPOG SLTI) | H36: =I36/$I$41 -> #DIV/0! | I36: =IF(I24="Não aplicável",0,I31*I24) -> 0
A37: =A36+1 -> 7 | B37: DSR - Descanso Semanal Remunerado | H37: =I37/$I$41 -> #DIV/0! | I37: 0
A38: =A37+1 -> 8 | B38: Adicional Troca de Uniforme | H38: =I38/$I$41 -> #DIV/0! | I38: =I12*I13 -> 0
A39: =A38+1 -> 9 | B39: Integração RSF (20% sobre Ad.Troca de Uniforme - somente para vigilantes) | H39: =I39/$I$41 -> #DIV/0! | I39: =I38*20% -> 0
A40: =A39+1 -> 10 | B40: =IF(D6="12x36","Para postos 12x36 os feriados são considerados compensados, conforme parágrafo único, Art. 59-A da CLT","Outros") -> Para postos 12x36 os feriados são considerados compensados, conforme parágrafo único, Art. 59-A da CLT | H40: =I40/$I$41 -> #DIV/0! | I40: 0
A41: Total de Remuneração | H41: =SUM(H31:H40) -> #DIV/0! | I41: =SUM(I31:I40) -> 0
A43: II | B43: Encargos Sociais - Grupo II: Obrigações Sociais | H43: % | I43: Valor Mensal/unidade de serviço (R$)
...

Sheet 12x36 noturno Esteio
A1: PLANILHA DE CUSTOS E FORMAÇÃO DE PREÇOS DE SERVIÇOS CONTINUADOS COM DEDICAÇÃO EXCLUSIVA DE MÃO DE OBRA
A2: PROCESSO: | C2: 25/0435-0021818-8 | E2: REGIME DE TRIBUTAÇÃO: LUCRO REAL e PRESUMIDO (*)
A3: Dispensa de Licitação n° | C3: 002/2026 | E3: Data de apresentação da proposta:
A5: Cargo/Função: | D5: Vigilantes | G5: =IF(D6="12x36","Regime de trabalho:","Quantidade de HORAS/MÊS") -> Regime de trabalho: | I5: =IF(D6="12x36",D6,5*D6) -> 12x36
A6: =IF(D6="12x36","Regime de trabalho:","Regime de trabalho (horas semanais):") -> Regime de trabalho: | D6: 12x36
A7: Convenção Coletiva de Trabalho: | G7: INSALUBRIDADE (10%, 20%, 40%) | I7: Não aplicável
A8: Origem do salário:
A9: Cidade: | D9: Esteio/RS | G9: PERICULOSIDADE (30%) | I9: 0.3
A10: Salário Normativo | G10: Vlr. do salário e nº de horas correspondentes | H10: 220
A11: ISS | G11: =D9 -> Esteio/RS | H11: Alíquota
A12: Adicional Troca de Uniforme (somente para postos de vigilantes que prevêm pagamento para troca de uniforme na CCT) | G12: CCT | H12: Valor
A13: Quantidade de dias trabalhados no mês | I13: 15
A14: Tarifa Transporte | G14: CCT | H14: Vr. Unitário
H15: Dias | I15: =I13 -> 15
H16: Desconto
A17: Vale Alimentação | G17: CCT | H17: Vr. Unitário
H18: Dias | I18: =I13 -> 15
H19: Desconto
A20: Auxílio Lanche | G20: CCT | H20: Vr. Unitário
H21: Dias | I21: =I13 -> 15
H22: Desconto
A23: Outros benefícios que refletem na planilha de custos, caso constem na CCT | G23: CCT | H23: Valor mensal | I23: Não aplicável
A24: Adicional de Supervisor | H24: Porcentagem | I24: Não aplicável
A25: Base de cálculo da insalubridade | H25: Valor | I25: Não aplicável
A26: Hora Intervalar | H26: Horas por mês | I26: 15
A27: Sem fornecimento de materiais ou apenas fornecimento de EPIs ou uniformes, utilizar 10%. Com fornecimento de materiais ou equipamentos, utilizar 20%. | H27: Porcentagem | I27: 0.2
A28: Adicional Noturno: Horas: [(60/52,5) x Nº de horas noturnas diárias] x Nº de dias trabalhados com hora noturna Valor hora: (vlr. do salário/nº de horas correspondente do salário) x 20% (noturno) | G28: CCT | H28: Nº horas | I28: =((60/52.5)*7)*15 -> 120
H29: Vr. Hora | I29: =I10/H10*20% -> 0
A30: Reduzida Noturna Horas Reduzidas: 60/52,5=1,143 x 7h noturnas = 8h noturnas 5h diurnas + 8h noturnas = 13h X 15 dias = 195 horas mensais 195h - 190,67 = 4,33 horas Valor hora: (vlr. do salário/nº de horas correspondente do salário) x 150% (H.Extra) | G30: CCT | H30: Nº horas | I30: =((5+7+1)*15)-190.67 -> 4.33
H31: Vr. Hora | I31: =(I10/H10)*1.5 -> 0
A33: MONTANTE A
A34: I | B34: Remuneração - Grupo I | H34: % | I34: Valor Mensal/unidade de serviço (R$)
A35: 1 | B35: Salário | H35: =I35/$I$48 -> #DIV/0! | I35: =IF(D6="12x36",I10,I10/H10*I5) -> 0
A36: =A35+1 -> 2 | B36: Adicional Noturno 20% (Ver súmula 60 TST) | H36: =I36/$I$48 -> #DIV/0! | I36: 0
A37: =A36+1 -> 3 | B37: Adicional Periculosidade 30% | H37: =I37/$I$48 -> #DIV/0! | I37: =IF(I9=30%,(I35+I45+I42+I43+I44+I46)*I9,0) -> 0
A38: =A37+1 -> 4 | B38: Adicional Insalubridade 10% (Ver súmula 228 e 139 TST) | H38: =I38/$I$48 -> #DIV/0! | I38: =IF(I7=10%,I25*I7,0) -> 0
A39: =A38+1 -> 5 | B39: Adicional Insalubridade 20% (Ver súmula 228 e 139 TST) | H39: =I39/$I$48 -> #DIV/0! | I39: =IF(I7=20%,I25*I7,0) -> 0
A40: =A39+1 -> 6 | B40: Adicional Insalubridade 40% (Ver súmula 228 e 139 TST) | H40: =I40/$I$48 -> #DIV/0! | I40: =IF(I7=40%,I25*I7,0) -> 0
A41: =A40+1 -> 7 | B41: Adicional de Supervisor (IN 02/2008 MPOG SLTI) | H41: =I41/$I$48 -> #DIV/0! | I41: =IF(I24="Não aplicável",0,I35*I24) -> 0
A42: =A41+1 -> 8 | B42: Reduzida Noturna | H42: =I42/$I$48 -> #DIV/0! | I42: =I30*I31 -> 0
...

Sheet Resumo
A1: QUADRO RESUMO
A2: LOCAL | B2: Função | C2: Cidade | D2: Carga Horária | E2: Dias da semana | F2: Valor Unitário | G2: Nº de Postos | H2: Valor Total
A3: SEDE | B3: Vigilante Armado líder | C3: Porto Alegre | D3: 24hs | E3: Seg-dom | F3: ='líder 12x36 diurno POA'!I172+'líder 12x36 noturno POA'!I179 -> 0 | G3: 1 | H3: =G3*F3 -> 0
A4: SEDE | B4: Vigilante Armado | C4: Porto Alegre | D4: 24hs | E4: Seg-dom | F4: ='12x36 diurno POA'!I172+'12x36 noturno POA'!I179 -> 0 | G4: 2 | H4: =G4*F4 -> 0
A5: SEDE | B5: Vigilante Armado | C5: Porto Alegre | D5: 12hs | E5: Seg-dom | F5: ='12x36 diurno POA'!I172 -> 0 | G5: 3 | H5: =G5*F5 -> 0
A6: LAB | B6: Vigilante Armado | C6: Porto Alegre | D6: 24hs | E6: Seg-dom | F6: ='12x36 diurno POA'!I172+'12x36 noturno POA'!I179 -> 0 | G6: 2 | H6: =G6*F6 -> 0
A7: ARQ | B7: Vigilante Armado | C7: Porto Alegre | D7: 24hs | E7: Seg-dom | F7: ='12x36 diurno POA'!I172+'12x36 noturno POA'!I179 -> 0 | G7: 1 | H7: =G7*F7 -> 0
A8: OFC | B8: Vigilante Armado | C8: Guaiba | D8: 24hs | E8: Seg-dom | F8: ='12x36 diurno Guaiba'!I172+'12x36 noturno Guaiba'!I180 -> 0 | G8: 1 | H8: =G8*F8 -> 0
A9: SEOR | B9: Vigilante Armado | C9: Esterio | D9: 24hs | E9: Seg-dom | F9: ='12x36 diurno Esteio'!I172+'12x36 noturno Esteio'!I179 -> 0 | G9: 1 | H9: =G9*F9 -> 0
A10: Total | G10: =SUM(G3:G9) -> 11 | H10: =SUM(H3:H9) -> 0
A12: OBSERVAÇÃO: É de inteira responsabilidade do participante do processo licitatório o correto preenchimento das planilhas, a conferência dos índices e das fórmulas utilizadas, bem como a juntada das respectivas Declarações de ISS, nos estritos termos do modelo disponibilizado no Anexo VI do Edital.
