Workbook
Name familias_equipamentos: 'Apoio - Notas Explicativas'!#REF!
Name familias_equipamentos: '[1]Base Apoio - etapa 1'!#REF!
Name familias_equipamentos: '[2]Base Apoio - etapa 1'!#REF!
Name familias_equipamentos: '[1]Base Apoio - etapa 1'!#REF!
Name materiais: [1]Fontes!$F$3:$F$9
Name percentuais: [3]Fontes!$C$1:$C$3
Name percentuais: [2]Fontes!$C$1:$C$3
Name percentuais: [1]Fontes!$C$1:$C$3
Name Sim_não: [3]Fontes!$A$1:$A$2
Name Sim_não: [2]Fontes!$A$1:$A$2
Name Sim_não: [1]Fontes!$A$1:$A$2
Name tributaçao: 'Apoio - Notas Explicativas'!#REF!
Name tributaçao: '[2]Base Apoio - etapa 1'!$F$20:$H$20
Name tributaçao: '[1]Base Apoio - etapa 1'!$F$20:$H$20
Name Tributação: #REF!
Name Tributação: #REF!
Name Tributação: #REF!
Name Tributação: #REF!

Sheet Mão de Obra
A2: =CONCATENATE("PREFEITURA MUNICIPAL DE PORTO ALEGRE ",D5," FORMAÇÃO DE PREÇOS DE REFERÊNCIA - CESSÃO DE MÃO DE OBRA") -> PREFEITURA MUNICIPAL DE PORTO ALEGRE SECRETARIA DE SAÚDE FORMAÇÃO DE PREÇOS DE REFERÊNCIA - CESSÃO DE MÃO DE OBRA
B5: A | C5: Órgão Demandante | D5: SECRETARIA DE SAÚDE | H5: 3 | I5: 4 | J5: 5 | K5: 6 | L5: 7 | M5: 8 | N5: 9
B6: B | C6: Pregão Eletrônico nº:
B7: C | C7: Processo SEI nº: | D7: 23.0.000099907-5
B8: D | C8: Objeto: | D8: Locação Veículos DVS
B9: E | C9: Responsável | D9: Viviane M.Demoly
B10: F | C10: Data de conclusão | D10: 45470
B11: G | C11: Pagamento do Contrato: | D11: Mês
B12: H | C12: Duração do Contrato em meses: | D12: 12
B13: I | C13: Regime Tributário | D13: Lucro Presumido
B14: J | C14: Receita Bruta
B15: K | C15: Salário Mínimo | D15: 1412
C17: DADOS REFERENTES À CONTRATAÇÃO | E17: Posto A | F17: Posto B | G17: Posto C | H17: Posto D | I17: Posto E | J17: Posto F | K17: Posto G | L17: Posto H | M17: Posto I | N17: Posto J
B18: A | C18: Função do Posto | E18: Motorista Veículos Leves
B19: B | C19: Classificação Brasileira de Ocupações (CBO) | E19: =IFERROR(VLOOKUP(E$18,'Apoio - Posto'!$A:$J,2,FALSE),"") -> 7823 | F19: =IFERROR(VLOOKUP(F$18,'Apoio - Posto'!$A:$J,2,FALSE),"") | G19: =IFERROR(VLOOKUP(G$18,'Apoio - Posto'!$A:$J,2,FALSE),"") | H19: =IFERROR(VLOOKUP(H$18,'Apoio - Posto'!$A:$J,2,FALSE),"") | I19: =IFERROR(VLOOKUP(I$18,'Apoio - Posto'!$A:$J,2,FALSE),"") | J19: =IFERROR(VLOOKUP(J$18,'Apoio - Posto'!$A:$J,2,FALSE),"") | K19: =IFERROR(VLOOKUP(K$18,'Apoio - Posto'!$A:$J,2,FALSE),"") | L19: =IFERROR(VLOOKUP(L$18,'Apoio - Posto'!$A:$J,2,FALSE),"") | ... N19: =IFERROR(VLOOKUP(N$18,'Apoio - Posto'!$A:$J,2,FALSE),"")
B20: C | C20: Valor do Piso normativo da Categoria | E20: =IFERROR(VLOOKUP(E$18,'Apoio - Posto'!$A:$AA,7,FALSE),"") -> 1799.88 | F20: =IFERROR(VLOOKUP(F$18,'Apoio - Posto'!$A:$AA,7,FALSE),"") | G20: =IFERROR(VLOOKUP(G$18,'Apoio - Posto'!$A:$AA,7,FALSE),"") | H20: =IFERROR(VLOOKUP(H$18,'Apoio - Posto'!$A:$AA,7,FALSE),"") | I20: =IFERROR(VLOOKUP(I$18,'Apoio - Posto'!$A:$AA,7,FALSE),"") | J20: =IFERROR(VLOOKUP(J$18,'Apoio - Posto'!$A:$AA,7,FALSE),"") | K20: =IFERROR(VLOOKUP(K$18,'Apoio - Posto'!$A:$AA,7,FALSE),"") | L20: =IFERROR(VLOOKUP(L$18,'Apoio - Posto'!$A:$AA,7,FALSE),"") | ... N20: =IFERROR(VLOOKUP(N$18,'Apoio - Posto'!$A:$AA,7,FALSE),"")
B21: D | C21: Regime de trabalho da convenção coletiva (mensal) | E21: =IFERROR(VLOOKUP(E$18,'Apoio - Posto'!$A:$AA,8,FALSE),"") -> 220 | F21: =IFERROR(VLOOKUP(F$18,'Apoio - Posto'!$A:$AA,8,FALSE),"") | G21: =IFERROR(VLOOKUP(G$18,'Apoio - Posto'!$A:$AA,8,FALSE),"") | H21: =IFERROR(VLOOKUP(H$18,'Apoio - Posto'!$A:$AA,8,FALSE),"") | I21: =IFERROR(VLOOKUP(I$18,'Apoio - Posto'!$A:$AA,8,FALSE),"") | J21: =IFERROR(VLOOKUP(J$18,'Apoio - Posto'!$A:$AA,8,FALSE),"") | K21: =IFERROR(VLOOKUP(K$18,'Apoio - Posto'!$A:$AA,8,FALSE),"") | L21: =IFERROR(VLOOKUP(L$18,'Apoio - Posto'!$A:$AA,8,FALSE),"") | ... N21: =IFERROR(VLOOKUP(N$18,'Apoio - Posto'!$A:$AA,8,FALSE),"")
B22: E | C22: Sindicato representativo da categoria profissional | E22: =IFERROR(VLOOKUP(E$18,'Apoio - Posto'!$A:$J,3,FALSE),"") -> SINDIELV | F22: =IFERROR(VLOOKUP(F$18,'Apoio - Posto'!$A:$J,3,FALSE),"") | G22: =IFERROR(VLOOKUP(G$18,'Apoio - Posto'!$A:$J,3,FALSE),"") | H22: =IFERROR(VLOOKUP(H$18,'Apoio - Posto'!$A:$J,3,FALSE),"") | I22: =IFERROR(VLOOKUP(I$18,'Apoio - Posto'!$A:$J,3,FALSE),"") | J22: =IFERROR(VLOOKUP(J$18,'Apoio - Posto'!$A:$J,3,FALSE),"") | K22: =IFERROR(VLOOKUP(K$18,'Apoio - Posto'!$A:$J,3,FALSE),"") | L22: =IFERROR(VLOOKUP(L$18,'Apoio - Posto'!$A:$J,3,FALSE),"") | ... N22: =IFERROR(VLOOKUP(N$18,'Apoio - Posto'!$A:$J,3,FALSE),"")
B23: F | C23: Data base da categoria | E23: =IFERROR(VLOOKUP(E$18,'Apoio - Posto'!$A:$J,5,FALSE),"") -> 44470 | F23: =IFERROR(VLOOKUP(F$18,'Apoio - Posto'!$A:$J,5,FALSE),"") | G23: =IFERROR(VLOOKUP(G$18,'Apoio - Posto'!$A:$J,5,FALSE),"") | H23: =IFERROR(VLOOKUP(H$18,'Apoio - Posto'!$A:$J,5,FALSE),"") | I23: =IFERROR(VLOOKUP(I$18,'Apoio - Posto'!$A:$J,5,FALSE),"") | J23: =IFERROR(VLOOKUP(J$18,'Apoio - Posto'!$A:$J,5,FALSE),"") | K23: =IFERROR(VLOOKUP(K$18,'Apoio - Posto'!$A:$J,5,FALSE),"") | L23: =IFERROR(VLOOKUP(L$18,'Apoio - Posto'!$A:$J,5,FALSE),"") | ... N23: =IFERROR(VLOOKUP(N$18,'Apoio - Posto'!$A:$J,5,FALSE),"")
B24: G | C24: Registro no MTE | E24: =IFERROR(VLOOKUP(E$18,'Apoio - Posto'!$A:$J,4,FALSE),"") -> RS003831/2021 | F24: =IFERROR(VLOOKUP(F$18,'Apoio - Posto'!$A:$J,4,FALSE),"") | G24: =IFERROR(VLOOKUP(G$18,'Apoio - Posto'!$A:$J,4,FALSE),"") | H24: =IFERROR(VLOOKUP(H$18,'Apoio - Posto'!$A:$J,4,FALSE),"") | I24: =IFERROR(VLOOKUP(I$18,'Apoio - Posto'!$A:$J,4,FALSE),"") | J24: =IFERROR(VLOOKUP(J$18,'Apoio - Posto'!$A:$J,4,FALSE),"") | K24: =IFERROR(VLOOKUP(K$18,'Apoio - Posto'!$A:$J,4,FALSE),"") | L24: =IFERROR(VLOOKUP(L$18,'Apoio - Posto'!$A:$J,4,FALSE),"") | ... N24: =IFERROR(VLOOKUP(N$18,'Apoio - Posto'!$A:$J,4,FALSE),"")
B25: H | C25: Local de trabalho | E25: DVS
B26: I | C26: Regime de trabalho do Contrato (semanal) | E26: 40h (5 dia/sem)
B27: J | C27: Quantidade de postos/diárias | E27: 1
B28: K | C28: Quantidade de profissional por posto | E28: =IFERROR(VLOOKUP(E26,'Apoio - Regime de Trabalho'!$A:$I,2,FALSE),"") -> 1 | F28: =IFERROR(VLOOKUP(F26,'Apoio - Regime de Trabalho'!$A:$I,2,FALSE),"") | G28: =IFERROR(VLOOKUP(G26,'Apoio - Regime de Trabalho'!$A:$I,2,FALSE),"") | H28: =IFERROR(VLOOKUP(H26,'Apoio - Regime de Trabalho'!$A:$I,2,FALSE),"") | I28: =IFERROR(VLOOKUP(I26,'Apoio - Regime de Trabalho'!$A:$I,2,FALSE),"") | J28: =IFERROR(VLOOKUP(J26,'Apoio - Regime de Trabalho'!$A:$I,2,FALSE),"") | K28: =IFERROR(VLOOKUP(K26,'Apoio - Regime de Trabalho'!$A:$I,2,FALSE),"") | L28: =IFERROR(VLOOKUP(L26,'Apoio - Regime de Trabalho'!$A:$I,2,FALSE),"") | ... N28: =IFERROR(VLOOKUP(N26,'Apoio - Regime de Trabalho'!$A:$I,2,FALSE),"")
B29: L | C29: Quantidade total de profissionais/diárias | E29: =IFERROR(IF(E18="","",E28*E27),"") -> 1 | F29: =IFERROR(IF(F18="","",F28*F27),"") | G29: =IFERROR(IF(G18="","",G28*G27),"") | H29: =IFERROR(IF(H18="","",H28*H27),"") | I29: =IFERROR(IF(I18="","",I28*I27),"") | J29: =IFERROR(IF(J18="","",J28*J27),"") | K29: =IFERROR(IF(K18="","",K28*K27),"") | L29: =IFERROR(IF(L18="","",L28*L27),"") | ... N29: =IFERROR(IF(N18="","",N28*N27),"")
C31: MÓDULO 1: COMPOSIÇÃO DA REMUNERAÇÃO
B32: A | C32: Salário-Base | E32: =IFERROR(E20*VLOOKUP(E26,'Apoio - Regime de Trabalho'!$A:$I,8,FALSE)/(E21),"") -> 1636.2545 | F32: =IFERROR(F20*VLOOKUP(F26,'Apoio - Regime de Trabalho'!$A:$I,8,FALSE)/(F21),"") | G32: =IFERROR(G20*VLOOKUP(G26,'Apoio - Regime de Trabalho'!$A:$I,8,FALSE)/(G21),"") | H32: =IFERROR(H20*VLOOKUP(H26,'Apoio - Regime de Trabalho'!$A:$I,8,FALSE)/(H21),"") | I32: =IFERROR(I20*VLOOKUP(I26,'Apoio - Regime de Trabalho'!$A:$I,8,FALSE)/(I21),"") | J32: =IFERROR(J20*VLOOKUP(J26,'Apoio - Regime de Trabalho'!$A:$I,8,FALSE)/(J21),"") | K32: =IFERROR(K20*VLOOKUP(K26,'Apoio - Regime de Trabalho'!$A:$I,8,FALSE)/(K21),"") | L32: =IFERROR(L20*VLOOKUP(L26,'Apoio - Regime de Trabalho'!$A:$I,8,FALSE)/(L21),"") | ... N32: =IFERROR(N20*VLOOKUP(N26,'Apoio - Regime de Trabalho'!$A:$I,8,FALSE)/(N21),"")
B33: B | C33: Adicional de Periculosidade
C34: Incidência | E34: =IFERROR(VLOOKUP(E$18,'Apoio - Posto'!$A:$AA,15,FALSE),"") -> 0 | F34: =IFERROR(VLOOKUP(F$18,'Apoio - Posto'!$A:$AA,15,FALSE),"") | G34: =IFERROR(VLOOKUP(G$18,'Apoio - Posto'!$A:$AA,15,FALSE),"") | H34: =IFERROR(VLOOKUP(H$18,'Apoio - Posto'!$A:$AA,15,FALSE),"") | I34: =IFERROR(VLOOKUP(I$18,'Apoio - Posto'!$A:$AA,15,FALSE),"") | J34: =IFERROR(VLOOKUP(J$18,'Apoio - Posto'!$A:$AA,15,FALSE),"") | K34: =IFERROR(VLOOKUP(K$18,'Apoio - Posto'!$A:$AA,15,FALSE),"") | L34: =IFERROR(VLOOKUP(L$18,'Apoio - Posto'!$A:$AA,15,FALSE),"") | ... N34: =IFERROR(VLOOKUP(N$18,'Apoio - Posto'!$A:$AA,15,FALSE),"")
D35: Valor (R$) | E35: =IFERROR((E32)*E34,"") -> 0 | F35: =IFERROR((F32)*F34,"") | G35: =IFERROR((G32)*G34,"") | H35: =IFERROR((H32)*H34,"") | I35: =IFERROR((I32)*I34,"") | J35: =IFERROR((J32)*J34,"") | K35: =IFERROR((K32)*K34,"") | L35: =IFERROR((L32)*L34,"") | ... N35: =IFERROR((N32)*N34,"")
B36: C | C36: Adicional de Insalubridade
C37: Base de incindência | E37: =IFERROR(VLOOKUP(E$18,'Apoio - Posto'!$A:$AA,14,FALSE),"") -> Salário Mínimo | F37: =IFERROR(VLOOKUP(F$18,'Apoio - Posto'!$A:$AA,14,FALSE),"") | G37: =IFERROR(VLOOKUP(G$18,'Apoio - Posto'!$A:$AA,14,FALSE),"") | H37: =IFERROR(VLOOKUP(H$18,'Apoio - Posto'!$A:$AA,14,FALSE),"") | I37: =IFERROR(VLOOKUP(I$18,'Apoio - Posto'!$A:$AA,14,FALSE),"") | J37: =IFERROR(VLOOKUP(J$18,'Apoio - Posto'!$A:$AA,14,FALSE),"") | K37: =IFERROR(VLOOKUP(K$18,'Apoio - Posto'!$A:$AA,14,FALSE),"") | L37: =IFERROR(VLOOKUP(L$18,'Apoio - Posto'!$A:$AA,14,FALSE),"") | ... N37: =IFERROR(VLOOKUP(N$18,'Apoio - Posto'!$A:$AA,14,FALSE),"")
C38: Percentual de incidência
D39: Valor (R$) | E39: =IF(E20="","",IFERROR(IF(E37="Salário Base",E$32,IF(E37="Salário Mínimo",$D$15,0))*E38,"")) -> 0 | F39: =IF(F20="","",IFERROR(IF(F37="Salário Base",F$32,IF(F37="Salário Mínimo",$D$15,0))*F38,"")) | G39: =IF(G20="","",IFERROR(IF(G37="Salário Base",G$32,IF(G37="Salário Mínimo",$D$15,0))*G38,"")) | H39: =IF(H20="","",IFERROR(IF(H37="Salário Base",H$32,IF(H37="Salário Mínimo",$D$15,0))*H38,"")) | I39: =IF(I20="","",IFERROR(IF(I37="Salário Base",I$32,IF(I37="Salário Mínimo",$D$15,0))*I38,"")) | J39: =IF(J20="","",IFERROR(IF(J37="Salário Base",J$32,IF(J37="Salário Mínimo",$D$15,0))*J38,"")) | K39: =IF(K20="","",IFERROR(IF(K37="Salário Base",K$32,IF(K37="Salário Mínimo",$D$15,0))*K38,"")) | L39: =IF(L20="","",IFERROR(IF(L37="Salário Base",L$32,IF(L37="Salário Mínimo",$D$15,0))*L38,"")) | ... N39: =IF(N20="","",IFERROR(IF(N37="Salário Base",N$32,IF(N37="Salário Mínimo",$D$15,0))*N38,""))
B40: D | C40: Gratificação de Função
C41: Percentual de incidência
D42: Valor (R$) | E42: =IFERROR(E41*E$32,"") -> 0 | F42: =IFERROR(F41*F$32,"") | G42: =IFERROR(G41*G$32,"") | H42: =IFERROR(H41*H$32,"") | I42: =IFERROR(I41*I$32,"") | J42: =IFERROR(J41*J$32,"") | K42: =IFERROR(K41*K$32,"") | L42: =IFERROR(L41*L$32,"") | ... N42: =IFERROR(N41*N$32,"")
B43: E | C43: Adicional Noturno
C44: Número de horas noturnas por dia | E44: =IF(AND(E19=5173,E26="12x36 Noturno"),8,"") | F44: =IF(AND(F19=5173,F26="12x36 Noturno"),8,"") | G44: =IF(AND(G19=5173,G26="12x36 Noturno"),8,"") | H44: =IF(AND(H19=5173,H26="12x36 Noturno"),8,"") | I44: =IF(AND(I19=5173,I26="12x36 Noturno"),8,"") | J44: =IF(AND(J19=5173,J26="12x36 Noturno"),8,"") | K44: =IF(AND(K19=5173,K26="12x36 Noturno"),8,"") | L44: =IF(AND(L19=5173,L26="12x36 Noturno"),8,"") | ... N44: =IF(AND(N19=5173,N26="12x36 Noturno"),8,"")
C45: Número de dias laborados a noite | E45: =IF(E44="","",VLOOKUP(E26,'Apoio - Regime de Trabalho'!$A:$I,7,FALSE)) | F45: =IF(F44="","",VLOOKUP(F26,'Apoio - Regime de Trabalho'!$A:$I,7,FALSE)) | G45: =IF(G44="","",VLOOKUP(G26,'Apoio - Regime de Trabalho'!$A:$I,7,FALSE)) | H45: =IF(H44="","",VLOOKUP(H26,'Apoio - Regime de Trabalho'!$A:$I,7,FALSE)) | I45: =IF(I44="","",VLOOKUP(I26,'Apoio - Regime de Trabalho'!$A:$I,7,FALSE)) | J45: =IF(J44="","",VLOOKUP(J26,'Apoio - Regime de Trabalho'!$A:$I,7,FALSE)) | K45: =IF(K44="","",VLOOKUP(K26,'Apoio - Regime de Trabalho'!$A:$I,7,FALSE)) | L45: =IF(L44="","",VLOOKUP(L26,'Apoio - Regime de Trabalho'!$A:$I,7,FALSE)) | ... N45: =IF(N44="","",VLOOKUP(N26,'Apoio - Regime de Trabalho'!$A:$I,7,FALSE))
...

Sheet Veículos
C2: DADOS REFERENTES À CONTRATAÇÃO | E2: Veículo A | F2: Veículo B | G2: Veículo C | H2: Veículo D | I2: Veículo E
C3: Tipo de Veículo | E3: Furgão baú
C4: Quantidade de veículos | E4: 1
C5: Quilômetros por mês | E5: 1250
C7: DETALHAMENTO ITEM A SUBMOD 5.2.1 - MANUTENÇÃO MENSAL DO VEÍCULO
B8: A.1 | C8: Custos com Combustível
C9: Quilometragem/litro | E9: 12
C10: Tipo de Combustível | E10: Gasolina
C11: Preço por litro | E11: 5.75
D12: Valor (R$) | E12: =IFERROR(E5*E11/E9,"") -> 598.95833 | F12: =IFERROR(F5*F11/F9,"") | G12: =IFERROR(G5*G11/G9,"") | H12: =IFERROR(H5*H11/H9,"") | I12: =IFERROR(I5*I11/I9,"")
B13: A.2 | C13: Custos com Óleo
C14: Litros por troca | E14: 12
C15: Frequência da troca | E15: 10000
C16: Preço por Litro - Óleo Motor | E16: 30
D17: Valor (R$) | E17: =IFERROR(IF(E3="","",E16*E14*E5/E15),"") -> 45 | F17: =IFERROR(IF(F3="","",F16*F14*F5/F15),"") | G17: =IFERROR(IF(G3="","",G16*G14*G5/G15),"") | H17: =IFERROR(IF(H3="","",H16*H14*H5/H15),"") | I17: =IFERROR(IF(I3="","",I16*I14*I5/I15),"")
B18: A.3 | C18: Custos com Filtro Óleo
C19: Frequência da troca | E19: 10000
C20: Preço Filtro de óleo | E20: 30
D21: Valor (R$) | E21: =IFERROR(IF(E3="","",E20*E5/E19),"") -> 3.75 | F21: =IFERROR(IF(F3="","",F20*F5/F19),"") | G21: =IFERROR(IF(G3="","",G20*G5/G19),"") | H21: =IFERROR(IF(H3="","",H20*H5/H19),"") | I21: =IFERROR(IF(I3="","",I20*I5/I19),"")
B22: A.4 | C22: Custo com Pneu jogo de pneus
C23: Custo do pneu | E23: 1000
C24: Quantidade | E24: 4
C25: Durabilidade (em Km) | E25: 50000
D26: Valor (R$) | E26: =IFERROR((E23*E24*E5/E25),"") -> 100 | F26: =IFERROR((F23*F24*F5/F25),"") | G26: =IFERROR((G23*G24*G5/G25),"") | H26: =IFERROR((H23*H24*H5/H25),"") | I26: =IFERROR((I23*I24*I5/I25),"")
B27: A.5 | C27: Custo estimado com manutenção
C28: Taxa de manutenção anual | E28: 0.03
C29: Custo de aquisição do veículo | E29: 159394.67
C30: Outros custos (especificar)
C31: Outros custos (especificar)
C32: Custo de aquisição do veículo (total) | E32: =IF(E3="","",SUM(E29:E31)) -> 159394.67 | F32: =IF(F3="","",SUM(F29:F31)) | G32: =IF(G3="","",SUM(G29:G31)) | H32: =IF(H3="","",SUM(H29:H31)) | I32: =IF(I3="","",SUM(I29:I31))
D33: Valor (R$) | E33: =IF(E3="","",E28*E32/12) -> 398.48668 | F33: =IF(F3="","",F28*F32/12) | G33: =IF(G3="","",G28*G32/12) | H33: =IF(H3="","",H28*H32/12) | I33: =IF(I3="","",I28*I32/12)
C34: SUBTOTAL ITEM A SUBMOD 5.2.1 | E34: =IF(E3="","",SUM(E12,E17,E21,E26,E33)) -> 1146.195 | F34: =IF(F3="","",SUM(F12,F17,F21,F26,F33)) | G34: =IF(G3="","",SUM(G12,G17,G21,G26,G33)) | H34: =IF(H3="","",SUM(H12,H17,H21,H26,H33)) | I34: =IF(I3="","",SUM(I12,I17,I21,I26,I33))
C36: DETALHAMENTO ITEM B SUBMOD 5.2.2 - CUSTOS OBRIGATÓRIOS MENSAIS DO VEÍCULO
B37: B.1 | C37: IPVA | D37: 0.01 | E37: =IF(E3="","",E29*$D$37/Proposta!$J$6) -> 132.82889 | F37: =IF(F3="","",F29*$D$37/Proposta!$J$6) | G37: =IF(G3="","",G29*$D$37/Proposta!$J$6) | H37: =IF(H3="","",H29*$D$37/Proposta!$J$6) | I37: =IF(I3="","",I29*$D$37/Proposta!$J$6)
B38: B.2 | C38: Licenciamento | D38: 286.94 | E38: =IF(E$3="","",$D$38/Proposta!$J$6) -> 23.911667 | F38: =IF(F$3="","",$D$38/Proposta!$J$6) | G38: =IF(G$3="","",$D$38/Proposta!$J$6) | H38: =IF(H$3="","",$D$38/Proposta!$J$6) | I38: =IF(I$3="","",$D$38/Proposta!$J$6)
B39: B.3 | C39: Vistoria EPTC
C40: Quantidade de vistorias no período contratual | E40: 2
C41: Valor da vistoria | D41: 77.88 | E41: =IF(E3="","",$D$41) -> 77.88 | F41: =IF(F3="","",$D$41) | G41: =IF(G3="","",$D$41) | H41: =IF(H3="","",$D$41) | I41: =IF(I3="","",$D$41)
D42: Valor (R$) | E42: =IF(E$3="","",E40*E41/Proposta!$J$6) -> 12.98 | F42: =IF(F$3="","",F40*F41/Proposta!$J$6) | G42: =IF(G$3="","",G40*G41/Proposta!$J$6) | H42: =IF(H$3="","",H40*H41/Proposta!$J$6) | I42: =IF(I$3="","",I40*I41/Proposta!$J$6)
B43: B.4 | C43: Seguro contra terceiros | D43: 0.02 | E43: =IF(E3="","",E32*$D$43/Proposta!$J$6) -> 265.65778 | F43: =IF(F3="","",F32*$D$43/Proposta!$J$6) | G43: =IF(G3="","",G32*$D$43/Proposta!$J$6) | H43: =IF(H3="","",H32*$D$43/Proposta!$J$6) | I43: =IF(I3="","",I32*$D$43/Proposta!$J$6)
...

Sheet Mat Individual e Uniformes func
B2: UNIFORMES, MATERIAIS DE USO INDIVIDUAL, CURSOS E TREINAMENTOS | H2: QUANTIDADE CONTRATUAL POR PROFISSIONAL
B3: Nº | C3: GMAT | D3: Material | E3: Und Medida | F3: Valor (R$) | H3: =IF(IFERROR(SUM(#REF!)>0,FALSE()),#REF!,'Mão de Obra'!E17) -> Posto A | I3: =IF(IFERROR(SUM(#REF!)>0,FALSE()),#REF!,'Mão de Obra'!F17) -> Posto B | J3: =IF(IFERROR(SUM(#REF!)>0,FALSE()),#REF!,'Mão de Obra'!G17) -> Posto C | K3: =IF(IFERROR(SUM(#REF!)>0,FALSE()),#REF!,'Mão de Obra'!H17) -> Posto D | L3: =IF(IFERROR(SUM(#REF!)>0,FALSE()),#REF!,'Mão de Obra'!I17) -> Posto E
B5: 1
B6: 2
B7: 3
B8: 4
B9: 5
B10: 6
B11: 7
B12: 8
B13: 9
B14: 10
B15: 11
B16: 12
... B24: 20
F26: TOTAL CONTRATUAL | H26: =IFERROR(ROUND(SUMPRODUCT(H4:H25,$F$4:$F$25),2),"") -> 0 | I26: =IFERROR(ROUND(SUMPRODUCT(I4:I25,$F$4:$F$25),2),"") -> 0 | J26: =IFERROR(ROUND(SUMPRODUCT(J4:J25,$F$4:$F$25),2),"") -> 0 | K26: =IFERROR(ROUND(SUMPRODUCT(K4:K25,$F$4:$F$25),2),"") -> 0 | L26: =IFERROR(ROUND(SUMPRODUCT(L4:L25,$F$4:$F$25),2),"") -> 0

Sheet Mat Coletivo e Equipamentos
B2: MATERIAIS NÃO DEPRECIÁVEIS DE USO COLETIVO E EQUIPAMENTOS DEPRECIÁVEIS
B3: Nº | C3: Código | D3: Material | E3: Posto | F3: Local | G3: Unidade de fornecimento | H3: Quantidade contratual | I3: Valor de Aquisição | J3: Taxa de depreciação mensal | K3: Custo mensal | L3: Custo contratual
K4: =SUM(K5:K250) -> 139.43644 | L4: =SUM(L5:L250) -> 1673.2372
B6: 1 | D6: Smartphones com acesso à internet 4G, tela de 5" polegadas ou superior, câmera fotográfica com resolução mínima de 5 megapixels e função posição geográfica (GPS), cartão | G6: unid | H6: 1 | I6: 568.46 | J6: 0.0166 | K6: =IFERROR(L6/'Mão de Obra'!$D$12,"") -> 9.436436 | L6: =IFERROR(IF(ISNUMBER(J6),J6*'Mão de Obra'!$D$12,1)*I6*H6,"") -> 113.23723
B7: 2 | D7: Pacote de dados e ligações | G7: unid | H7: 12 | I7: 126.25 | K7: =IFERROR(L7/'Mão de Obra'!$D$12,"") -> 126.25 | L7: =IFERROR(IF(ISNUMBER(J7),J7*'Mão de Obra'!$D$12,1)*I7*H7,"") -> 1515
B8: 3 | D8: Relógio ponto biométrico e/ou controle de ponto digital | G8: unid | H8: 12 | I8: 3.75 | K8: =IFERROR(L8/'Mão de Obra'!$D$12,"") -> 3.75 | L8: =IFERROR(IF(ISNUMBER(J8),J8*'Mão de Obra'!$D$12,1)*I8*H8,"") -> 45
B9: 4 | K9: =IFERROR(L9/'Mão de Obra'!$D$12,"") -> 0 | L9: =IFERROR(IF(ISNUMBER(J9),J9*'Mão de Obra'!$D$12,1)*I9*H9,"") -> 0
B10: 5 | K10: =IFERROR(L10/'Mão de Obra'!$D$12,"") -> 0 | L10: =IFERROR(IF(ISNUMBER(J10),J10*'Mão de Obra'!$D$12,1)*I10*H10,"") -> 0
B11: 6 | K11: =IFERROR(L11/'Mão de Obra'!$D$12,"") -> 0 | L11: =IFERROR(IF(ISNUMBER(J11),J11*'Mão de Obra'!$D$12,1)*I11*H11,"") -> 0
B12: 7 | K12: =IFERROR(L12/'Mão de Obra'!$D$12,"") -> 0 | L12: =IFERROR(IF(ISNUMBER(J12),J12*'Mão de Obra'!$D$12,1)*I12*H12,"") -> 0
B13: 8 | K13: =IFERROR(L13/'Mão de Obra'!$D$12,"") -> 0 | L13: =IFERROR(IF(ISNUMBER(J13),J13*'Mão de Obra'!$D$12,1)*I13*H13,"") -> 0
B14: 9 | K14: =IFERROR(L14/'Mão de Obra'!$D$12,"") -> 0 | L14: =IFERROR(IF(ISNUMBER(J14),J14*'Mão de Obra'!$D$12,1)*I14*H14,"") -> 0
B15: 10 | K15: =IFERROR(L15/'Mão de Obra'!$D$12,"") -> 0 | L15: =IFERROR(IF(ISNUMBER(J15),J15*'Mão de Obra'!$D$12,1)*I15*H15,"") -> 0
B16: 11 | K16: =IFERROR(L16/'Mão de Obra'!$D$12,"") -> 0 | L16: =IFERROR(IF(ISNUMBER(J16),J16*'Mão de Obra'!$D$12,1)*I16*H16,"") -> 0
B17: 12 | K17: =IFERROR(L17/'Mão de Obra'!$D$12,"") -> 0 | L17: =IFERROR(IF(ISNUMBER(J17),J17*'Mão de Obra'!$D$12,1)*I17*H17,"") -> 0
B18: 13 | K18: =IFERROR(L18/'Mão de Obra'!$D$12,"") -> 0 | L18: =IFERROR(IF(ISNUMBER(J18),J18*'Mão de Obra'!$D$12,1)*I18*H18,"") -> 0
B19: 14 | K19: =IFERROR(L19/'Mão de Obra'!$D$12,"") -> 0 | L19: =IFERROR(IF(ISNUMBER(J19),J19*'Mão de Obra'!$D$12,1)*I19*H19,"") -> 0
B20: 15 | K20: =IFERROR(L20/'Mão de Obra'!$D$12,"") -> 0 | L20: =IFERROR(IF(ISNUMBER(J20),J20*'Mão de Obra'!$D$12,1)*I20*H20,"") -> 0
... B25: 20 | K25: =IFERROR(L25/'Mão de Obra'!$D$12,"") -> 0 | L25: =IFERROR(IF(ISNUMBER(J25),J25*'Mão de Obra'!$D$12,1)*I25*H25,"") -> 0

Sheet Proposta
B2: PREFEITURA MUNICIPAL DE PORTO ALEGRE
B3: =IF(IFERROR(SUM(#REF!)>0,FALSE()),#REF!, IF(IFERROR(Veículos!$E$3<>"",FALSE()),'Mão de Obra'!D5,'Mão de Obra'!D5)) -> SECRETARIA DE SAÚDE
B4: PLANILHA DE CUSTOS E FORMAÇÃO DE PREÇOS
B6: Pregão Eletrônico Nº: | C6: =IF(IFERROR(SUM(#REF!)>0,FALSE()),#REF!, IF(IFERROR(Veículos!$E$3<>"",FALSE()),'Mão de Obra'!D6, 'Mão de Obra'!D6)) -> 0 | G6: Tempo de Duração do Contrato: | J6: =IF(IFERROR(SUM(#REF!)>0,FALSE()),#REF!, IF(IFERROR(Veículos!$E$3<>"",FALSE()),'Mão de Obra'!D12, 'Mão de Obra'!D12)) -> 12
B7: Processo SEI Nº: | C7: =IF(IFERROR(SUM(#REF!)>0,FALSE()),#REF!, IF(IFERROR(Veículos!$E$3<>"",FALSE()),'Mão de Obra'!D7, 'Mão de Obra'!D7)) -> 23.0.000099907-5 | G7: Forma de Pagamento do Contrato: | J7: =IF(IFERROR(SUM(#REF!)>0,FALSE()),#REF!, IF(IFERROR(Veículos!$E$3<>"",FALSE()),'Mão de Obra'!D11, 'Mão de Obra'!D11)) -> Mês
B8: =CONCATENATE("OBJETO: ", IF(IFERROR(SUM(#REF!)>0,FALSE()),#REF!, IF(IFERROR(Veículos!$E$3<>"",FALSE()),'Mão de Obra'!D8, 'Mão de Obra'!D8))) -> OBJETO: Locação Veículos DVS
B9: Nome da Empresa: | G9: Regime Tributário: | J9: =IF(IFERROR(SUM(#REF!)>0,FALSE()),#REF!, IF(IFERROR(Veículos!$E$3<>"",FALSE()),'Mão de Obra'!D13, 'Mão de Obra'!D13)) -> Lucro Presumido
B10: CNPJ Matriz: | G10: Receita Bruta Anual: | J10: =IF(IFERROR(SUM(#REF!)>0,FALSE()),#REF!, IF(IFERROR(Veículos!$E$3<>"",FALSE()),'Mão de Obra'!D14, 'Mão de Obra'!D14)) -> 0
B11: Endereço da Empresa: | G11: Telefone:
B12: Nome do Responsável: | G12: CPF Responsável:
B13: Endereço eletrônico: | G13: Dados Bancários:
B15: DEMONSTRATIVO DE CUSTOS COM MÃO DE OBRA POR POSTO
B16: Posto | C16: Local | D16: Regime | E16: Qnt. de Postos | F16: Qnt. de Profissionais | G16: Custo hora | H16: Custo dia | I16: Custo mês | J16: Total mensal | K16: Total contratual
B17: =IF( INDEX('Mão de Obra'!$E$18:$AM$18,1,ROW()-ROW($B$16))<>0, INDEX('Mão de Obra'!$E$18:$AM$18,1,ROW()-ROW($B$16)), "EXCLUIR ESTA LINHA" ) -> Motorista Veículos Leves | C17: =INDEX('Mão de Obra'!$E$25:$AM$25,1,ROW()-ROW($C$16)) -> DVS | D17: =INDEX('Mão de Obra'!$E$26:$AM$26,1,ROW()-ROW($D$16)) -> 40h (5 dia/sem) | E17: =INDEX('Mão de Obra'!$E$27:$AM$27,1,ROW()-ROW($E$16)) -> 1 | F17: =INDEX('Mão de Obra'!$E$29:$AM$29,1,ROW()-ROW($F$16)) -> 1 | G17: =INDEX('Mão de Obra'!$E$173:$AR$173,1,ROW()-ROW($G$16)) -> 25.27 | H17: =INDEX('Mão de Obra'!$E$174:$AQ$174,1,ROW()-ROW($I$16)) -> 211.36 | I17: =INDEX('Mão de Obra'!$E$176:$AQ$176,1,ROW()-ROW($I$16)) -> 4649.86 | J17: =INDEX('Mão de Obra'!$E$182:$AQ$182,1,ROW()-ROW($I$16)) -> 4649.86 | K17: =INDEX('Mão de Obra'!$E$190:$AQ$190,1,ROW()-ROW($I$16)) -> 55798.32
E18: =SUM(E17:E17) -> 1 | F18: =SUM(F17:F17) -> 1 | J18: =SUM(J17:J17) -> 4649.86 | K18: =SUM(K17:K17) -> 55798.32
B20: DEMONSTRATIVO DE CUSTOS COM LOCAÇÃO DE VEÍCULOS
B21: Veículo | D21: Qnt. | E21: Qnt Horas | F21: Km/mês | G21: Custo hora | H21: Custo km rodado | I21: Custo mês | J21: Total mensal | K21: Total contratual
B22: =IF( INDEX(Veículos!$E$3:$AR$3,1,ROW()-ROW(B$21))<>"", INDEX(Veículos!$E$3:$AR$3,1,ROW()-ROW(B$21)), "EXCLUIR ESTA LINHA") -> Furgão baú | D22: =INDEX(Veículos!$E$4:$CS$4,1,ROW()-ROW(D$21)) -> 1 | E22: =INDEX(Veículos!$E$84:$CS$84,1,ROW()-ROW(E$21)) -> 200 | F22: =INDEX(Veículos!$E$5:$AR$5,1,ROW()-ROW(F$21)) -> 1250 | G22: =INDEX(Veículos!$E$85:$CS$85,1,ROW()-ROW(G$21)) -> 17.45685 | H22: =INDEX(Veículos!$E$82:$CS$82,1,ROW()-ROW(H$21)) -> 1.128488 | I22: =INDEX(Veículos!$E$90:$CS$90,1,ROW()-ROW(I$21)) -> 4901.98 | J22: =INDEX(Veículos!$E$95:$CS$95,1,ROW()-ROW(J$21)) -> 4901.98 | K22: =INDEX(Veículos!$E$96:$CS$96,1,ROW()-ROW(K$21)) -> 58823.76
J23: =SUM(J22:J22) -> 4901.98 | K23: =SUM(K22:K22) -> 58823.76
B26: DEMONSTRATIVO DOS CUSTOS DIRETOS E INDIRETOS
B27: Custos Diretos | J27: Custo mensal | K27: Custo total
B28: Custos com mão de obra | J28: =SUM( IFERROR(SUM(#REF!),0), IFERROR(SUMPRODUCT('Mão de Obra'!$E$179:$XFD$179,'Mão de Obra'!$E$185:$XFD$185),0) ) -> 3638.82 | K28: =SUM( IFERROR(SUM('Mão de Obra'!E187:XS187),0), IFERROR(SUM(#REF!),0)) -> 43665.84
B29: Custos com uniformes e material individuais | J29: =SUM( IFERROR(SUMPRODUCT(#REF!,#REF!),0), IFERROR(SUMPRODUCT('Mão de Obra'!E148:XFD148,'Mão de Obra'!$E$29:$XFD$29,'Mão de Obra'!$E$185:$XFD$185),0) ) -> 0 | K29: =IFERROR(SUM( IFERROR(SUMPRODUCT('Mão de Obra'!E148:XFD148,'Mão de Obra'!$E$29:$XFD$29,'Mão de Obra'!$E$186:$XFD$186),0), IFERROR(SUMPRODUCT(#REF!,#REF!,#REF!),0) ),"") -> 0
B30: Custos material e equipamentos de uso coletivo | J30: =SUM( IFERROR(SUMPRODUCT(#REF!,#REF!),0), IFERROR(SUMPRODUCT('Mão de Obra'!E149:XFD149,'Mão de Obra'!$E$29:$XFD$29,'Mão de Obra'!$E$185:$XFD$185),0) ) -> 139.44 | K30: =IFERROR(SUM( IFERROR(SUMPRODUCT('Mão de Obra'!E149:XFD149,'Mão de Obra'!$E$29:$XFD$29,'Mão de Obra'!$E$186:$XFD$186),0), IFERROR(SUMPRODUCT(#REF!,#REF!,#REF!),0) ),"") -> 1673.28
B31: Custos com veículos | J31: =IFERROR(SUM(Veículos!E93:DG93),0) -> 3983.12 | K31: =IFERROR(J31*$J$6,0) -> 47797.44
B32: Subtotal | J32: =IFERROR(SUM(J28:J31),0) -> 7761.38 | K32: =SUM(K28:K31) -> 93136.56
B33: Custos Indiretos
B34: Custos Administrativos | J34: =SUM( IFERROR(SUMPRODUCT('Mão de Obra'!E155:XFD155,'Mão de Obra'!$E$29:$XFD$29,'Mão de Obra'!$E$185:$XFD$185),0), IFERROR(SUMPRODUCT(#REF!,#REF!,#REF!),0), IFERROR(SUMPRODUCT(Veículos!E64:XFD64,Veículos!$E$4:$XFD$4),0) ) -> 388.07 | K34: =IFERROR(SUM( IFERROR(SUMPRODUCT('Mão de Obra'!E155:XFD155,'Mão de Obra'!$E$29:$XFD$29,'Mão de Obra'!$E$186:$XFD$186),0), IFERROR(SUMPRODUCT(#REF!,#REF!,#REF!),0), IFERROR(SUMPRODUCT(Veículos!E64:XFD64,Veículos!$E$4:$XFD$4)*$J$6,0) ),"") -> 4656.84
B35: Lucros | J35: =SUM( IFERROR(SUMPRODUCT('Mão de Obra'!E156:XFD156,'Mão de Obra'!$E$29:$XFD$29,'Mão de Obra'!$E$185:$XFD$185),0), IFERROR(SUMPRODUCT(#REF!,#REF!,#REF!),0), IFERROR(SUMPRODUCT(Veículos!E65:XFD65,Veículos!$E$4:$XFD$4),0) ) -> 814.95 | K35: =IFERROR(SUM( IFERROR(SUMPRODUCT('Mão de Obra'!E156:XFD156,'Mão de Obra'!$E$29:$XFD$29,'Mão de Obra'!$E$186:$XFD$186),0), IFERROR(SUMPRODUCT(#REF!,#REF!,#REF!),0), IFERROR(SUMPRODUCT(Veículos!E65:XFD65,Veículos!$E$4:$XFD$4)*$J$6,0) ),"") -> 9779.4
B36: Tributos
B37: COFINS | J37: =SUM( IFERROR(SUMPRODUCT('Mão de Obra'!E160:XFD160,'Mão de Obra'!$E$29:$XFD$29,'Mão de Obra'!$E$185:$XFD$185),0), IFERROR(SUMPRODUCT(#REF!,#REF!,#REF!),0), IFERROR(SUMPRODUCT(Veículos!E69:XFD69,Veículos!$E$4:$XFD$4),0) ) -> 286.56 | K37: =IFERROR(SUM( IFERROR(SUMPRODUCT('Mão de Obra'!E160:XFD160,'Mão de Obra'!$E$29:$XFD$29,'Mão de Obra'!$E$186:$XFD$186),0), IFERROR(SUMPRODUCT(#REF!,#REF!,#REF!),0), IFERROR(SUMPRODUCT(Veículos!E69:XFD69,Veículos!$E$4:$XFD$4)*$J$6,0) ),"") -> 3438.72
B38: PIS/PASEP | J38: =SUM( IFERROR(SUMPRODUCT('Mão de Obra'!E161:XFD161,'Mão de Obra'!$E$29:$XFD$29,'Mão de Obra'!$E$185:$XFD$185),0), IFERROR(SUMPRODUCT(#REF!,#REF!,#REF!),0), IFERROR(SUMPRODUCT(Veículos!E70:XFD70,Veículos!$E$4:$XFD$4),0) ) -> 62.08 | K38: =SUM( IFERROR(SUMPRODUCT('Mão de Obra'!E161:XFD161,'Mão de Obra'!$E$29:$XFD$29,'Mão de Obra'!$E$186:$XFD$186),0), IFERROR(SUMPRODUCT(#REF!,#REF!,#REF!),0), IFERROR(SUMPRODUCT(Veículos!E70:XFD70,Veículos!$E$4:$XFD$4)*$J$6,0)) -> 744.96
B39: ISSQN | J39: =SUM( IFERROR(SUMPRODUCT('Mão de Obra'!E164:XFD164,'Mão de Obra'!$E$29:$XFD$29,'Mão de Obra'!$E$185:$XFD$185),0), IFERROR(SUMPRODUCT(#REF!,#REF!,#REF!),0), IFERROR(SUMPRODUCT(Veículos!E73:XFD73,Veículos!$E$4:$XFD$4),0) ) -> 238.8 | K39: =SUM( IFERROR(SUMPRODUCT('Mão de Obra'!E164:XFD164,'Mão de Obra'!$E$29:$XFD$29,'Mão de Obra'!$E$186:$XFD$186),0), IFERROR(SUMPRODUCT(#REF!,#REF!,#REF!),0), IFERROR(SUMPRODUCT(Veículos!E73:XFD73,Veículos!$E$4:$XFD$4)*$J$6,0)) -> 2865.6
B40: Outros | J40: =SUM( IFERROR(SUMPRODUCT('Mão de Obra'!E165:XFD165,'Mão de Obra'!$E$29:$XFD$29,'Mão de Obra'!$E$185:$XFD$185),0), IFERROR(SUMPRODUCT(#REF!,#REF!,#REF!),0), IFERROR(SUMPRODUCT(Veículos!E74:XFD74,Veículos!$E$4:$XFD$4),0) ) -> 0 | K40: =SUM( IFERROR(SUMPRODUCT('Mão de Obra'!E165:XFD165,'Mão de Obra'!$E$29:$XFD$29,'Mão de Obra'!$E$186:$XFD$186),0), IFERROR(SUMPRODUCT(#REF!,#REF!,#REF!),0), IFERROR(SUMPRODUCT(Veículos!E74:XFD74,Veículos!$E$4:$XFD$4)*$J$6,0)) -> 0
B41: Subtotal | J41: =SUM(J34:J40) -> 1790.46 | K41: =SUM(K34:K40) -> 21485.52
B42: VALOR TOTAL ESTIMADO DO CONTRATO | J42: =SUM(J32,J41) -> 9551.84 | K42: =SUM(K32,K41) -> 114622.08
D45: .................................., ...... de ................ de 2024.
D49: NOME DO REPRESENTANTE
D51: Carimbo com CNPJ da empresa abaixo

Sheet Apoio - Regime de Trabalho
A1: Regime | B1: Funcionários por posto | C1: Contratação | D1: Horas noturnas Máximas | E1: Dias Semana | F1: Horas Semana | G1: Dias Mês | H1: Horas mês remuneradas | I1: Horas mês trabalhadas
A3: 12x36 Diurno | B3: 2 | C3: Mensal | D3: 7 | E3: - | G3: 15 | H3: 220 | I3: =G3*12 -> 180
A4: 12x36 Noturno | B4: 2 | C4: Mensal | D4: 7 | E4: - | G4: 15 | H4: 220 | I4: =G4*12 -> 180
A5: 4h (1 dia/sem) | B5: 1 | C5: Mensal | E5: 1 | F5: 4 | G5: =E5*4 -> 4 | H5: =F5*30/6 -> 20 | I5: =F5*4 -> 16
A6: 6h (1 dia/sem) | B6: 1 | C6: Mensal | E6: 1 | F6: 6 | G6: =E6*4 -> 4 | H6: =F6*30/6 -> 30 | I6: =F6*4 -> 24
A7: 8h (1 dia/sem) | B7: 1 | C7: Mensal | E7: 1 | F7: 8 | G7: =E7*4 -> 4 | H7: =F7*30/6 -> 40 | I7: =F7*4 -> 32
A8: 12h (2 dia/sem) | B8: 1 | C8: Mensal | E8: 2 | F8: 12 | G8: =E8*4 -> 8 | H8: =F8*30/6 -> 60 | I8: =F8*4 -> 48
A9: 16h (2 dia/sem) | B9: 1 | C9: Mensal | E9: 2 | F9: 16 | G9: =E9*4 -> 8 | H9: =F9*30/6 -> 80 | I9: =F9*4 -> 64
A10: 20h (5 dia/sem) | B10: 1 | C10: Mensal | D10: 10 | E10: 5 | F10: 20 | G10: =E10*4+2 -> 22 | H10: =F10*30/6 -> 100 | I10: =F10*4+2*4 -> 88
A11: 30h (5 dia/sem) | B11: 1 | C11: Mensal | D11: 10 | E11: 5 | F11: 30 | G11: =E11*4+2 -> 22 | H11: =F11*30/6 -> 150 | I11: =F11*4+2*6 -> 132
A12: 35h (5 dia/sem) | B12: 1 | C12: Mensal | E12: 5 | F12: 35 | G12: =E12*4+2 -> 22 | H12: 175 | I12: =F12*4+2*7 -> 154
A13: 36h (6 dia/sem) | B13: 1 | C13: Mensal | D13: 10 | E13: 6 | F13: 36 | G13: =E13*4+2 -> 26 | H13: =F13*30/6 -> 180 | I13: =F13*4+2*6 -> 156
A14: 40h (5 dia/sem) | B14: 1 | C14: Mensal | D14: 10 | E14: 5 | F14: 40 | G14: =E14*4+2 -> 22 | H14: =F14*30/6 -> 200 | I14: =F14*4+2*8 -> 176
A15: 44h (5 dia/sem) | B15: 1 | C15: Mensal | D15: 10 | E15: 5 | F15: 44 | G15: =E15*4+2 -> 22 | H15: =F15*30/6 -> 220 | I15: =F15*4+2*8 -> 192
A16: 44h (6 dia/sem) | B16: 1 | C16: Mensal | D16: 10 | E16: 6 | F16: 44 | G16: =E16*4+2 -> 26 | H16: =F16*30/6 -> 220 | I16: =F16*4+2*8 -> 192

Sheet Apoio - Notas Explicativas
C2: Composição da Remuneração
B3: A | C3: Dias na Semana | D3: 7
B4: B | C4: Dias no Ano | D4: 365
B5: C | C5: Dias no Mês | D5: 30
B6: D | C6: Semanas no Mês | D6: =D7/D8 -> 4.3333333 | F6: =""
B7: E | C7: Semanas no Ano | D7: 52
B8: F | C8: Meses no Ano | D8: 12
B9: G | C9: Hora Normal (em minutos) | D9: 60
B10: H | C10: Hora Noturna (em minutos) | D10: 52.5
D12: MEMÓRIA DE CÁLCULO | E12: FUNDAMENTO | F12: OBSERVAÇÕES | H12: Regime tributário
H13: Lucro Presumido | I13: Lucro Real | J13: Cooperativa | K13: Simples | L13: Simples | M13: Simples | N13: Simples | O13: Simples | P13: Simples | Q13: Considerado
K14: Faixa 1 | L14: Faixa 2 | M14: Faixa 3 | N14: Faixa 4 | O14: Faixa 5 | P14: Faixa 6
C15: Faturamento máximo | K15: 180000 | L15: 360000 | M15: 720000 | N15: 1800000 | O15: 3600000 | P15: 4800000 | Q15: =IF(IFERROR(SUM(#REF!)>0,FALSE()),#REF!, IF(IFERROR(Veículos!$E$3<>"",FALSE()),'Mão de Obra'!D13,'Mão de Obra'!D13)) -> Lucro Presumido
C16: Valor a Deduzir | K16: 0 | L16: 9360 | M16: 17640 | N16: 35640 | O16: 125640 | P16: 648000 | Q16: =IF(Q15="Simples", IF(IFERROR(SUM(#REF!)>0,FALSE()),#REF!, IF(IFERROR(Veículos!$E$3<>"",FALSE()),'Mão de Obra'!D14,'Mão de Obra'!D14)),"")
C17: Percentual da faixa | K17: 0.06 | L17: 0.112 | M17: 0.135 | N17: 0.16 | O17: 0.21 | P17: 0.33
C19: MÓDULO 1: COMPOSIÇÃO DA REMUNERAÇÃO
B20: A | C20: Salário Base Mensal | E20: Artigo 457 e 458 da CLT. | F20: Salário mensal definido em acordo, dissídio ou convenção coletiva de trabalho no momento da publicação do edital; quando houver necessidade de afastar o risco de selecionar colaboradores com capacitação inferior à necessária para a execução dos serviços, por meio de pesquisas de mercado, de dados obtidos junto a associações e sindicatos de cada categoria profissional e de informações divulgadas por outros órgãos públicos que tenham recentemente contratado o mesmo tipo de serviço. De acordo com o TCU, a fixação de remuneração mínima no edital somente é cabível, com restrições, nos casos de terceirização de mão de obra com alocação de postos de trabalho. Importante ainda que, como a planilha de custos é baseada em empregados mensalistas, consideram-se já remunerados os dias de repouso semanal no salário mensal nos termos do § 2º do art. 7º da Lei 605/1949.
B21: B | C21: Adicional Periculosidade | D21: Salário Base x 30% | E21: Súmula 132 TST. Artigo 193 a 197 da CLT. Artigo 7º, inciso XXIII da CF. NR 16 do MTE. | F21: O percentual definido pelo art. 193 da CLT, deve ser calculados sobre salário base sem os acréscimos resultantes de gratificações, prêmios ou participações nos lucros da empresa, com exceção à categoria dos eletricitários, em que o cálculo deverá ser feito sobre a totalidade das parcelas de natureza salarial. A caracterização e a classificação da periculosidade far-se-ão por meio de perícia a cargo de Médico do Trabalho ou Engenheiro do Trabalho registrados no Ministério do Trabalho. A Norma Regulamentadora nº 16 estabelece em seus anexos as atividades e as operações perigosas que acarretam ao recebimento do adicional de periculosidade pelo empregado. As Leis Lei nºs 12.740/2012 e 12.997/2014 estenderam o adicional de periculosidade, respectivamente, às atividades profissionais de segurança pessoal ou patrimonial e trabalhador em motocicleta.
B22: C | C22: Adicional Insalubridade | D22: Salário Mínimo ou Base estipulado em instrumento coletivo x (10%, 20% ou 40%) | E22: Regras do instrumento coletivo da categoria, se houver. Artigo 189 a 192 da CLT (10%, 20% ou 40%). NR 15 do MTE. Súmula nº. 139 do TST. | F22: Os percentuais definidos pelo art. 192 da CLT, segundo as classificações nos graus máximo, médio e mínimo, devem ser calculados com base no salário mínimo, salvo critério mais vantajoso estabelecido em lei ou em instrumento coletivo de trabalho (Súmula Vinculante n. 4). O direito ao recebimento do adicional somente pode ser reconhecido mediante laudo pericial que aponte estar a atividade insalubre prevista na relação oficial elaborada pelo Ministério do Trabalho, tal como definido pela NR-15 da Portaria n. 3.214 de 1978.
B23: D | C23: Gratificação de Função | D23: Salário Base x % de incidência | E23: Informada na Convenção Coletiva de Trabalho da categoria profissional a ser contratada.
B24: E | C24: Adicional Noturno | D24: (Salário base + adicionais periculosidade/insalubridade) ÷ total de horas mensais (conforme jornada de trabalho da categoria) x 20% x qtde. de horas noturnas x qtde de dias laborados a noite). | E24: Artigo 73 da CLT e artigo 7º, inciso IX da CF. Súmula nº 60 do TST e OJ-SDI1-259 do TST. | F24: A jornada noturna é compreendida entre 22h da noite e 05h da manhã seguinte (considerando que a hora noturna corresponde a 52,5min) , com remuneração adicional de 20%, de acordo com o Art.73 da CLT.
B25: F | C25: Adicional de Hora Noturna Reduzida | D25: Qtde. de horas noturnas x qtde de dias laborados a noite x 0,142857 x (Salário base + adicionais periculosidade/insalubridade) ÷ total de horas mensais x 120%
B26: G | C26: Horas Extras (com adicionais) | D26: (Salário base + adicionais periculosidade/insalubridade/noturno ) ÷ total de horas mensais (conforme jornada de trabalho da categoria) x %de incidência x qtde. de horas extras mensal). | E26: Artigo 7º, inciso XVI, da CF/88. Artigo 59 da CLT. Súmulas 60 e 132 TST.
B27: H | C27: Descanso Semanal Remunerado | D27: (Adicional noturmo + Adicional de hora reduzida+Horas extras+ Adicional de troca de uniforme) x 20% | E27: Artigos 1º e 6º Lei nº 605/1949 | F27: Pagamento de 20% sobre as variáveis, conforme Cláusula 32ª da CCT 2018/2020 (adicional noturno, adicional de hora noturna reduzida e adicional para troca de uniforme).
B28: I | C28: Adicional de Troca de Uniforme | D28: (Salário base + adicionais periculosidade) ÷ (total de horas mensais (conforme jornada de trabalho da categoria) ÷ 6) x qtde de dias | E28: Súmula nº 366 do TST | F28: O tempo despreendido para a troca de uniforme será remunerado (5 minutos para colocar e 5 minutos para retirar) na proporção de 1/6 do valor da hora normal de trabalho.
B29: J | C29: Outras remunerações (especificar)
C31: MÓDULO 2 - ENCARGOS E BENEFÍCIOS ANUAIS, MENSAIS E DIÁRIOS
C33: SUBMÓDULO 2.1 - 13º Salário, Férias e Adicional de Férias
B34: A | C34: 13º salário | D34: ((1÷12) x 100) ≅ 8,33% | E34: Art. 7º, VIII, CF/88. Decreto n. 57.155, de 3/11/1965 | F34: Gratificação de Natal, instituída pela Lei nº 4.090, de 13 de julho de 1962. O percentual dessa rubrica pode ser obtido pelo cálculo: ((1/12) x 100) = 8,33%. | H34: =(1/12) -> 0.083333333 | I34: =(1/12) -> 0.083333333 | J34: =(1/12) -> 0.083333333 | K34: =(1/12) -> 0.083333333 | L34: =(1/12) -> 0.083333333 | M34: =(1/12) -> 0.083333333 | N34: =(1/12) -> 0.083333333 | O34: =(1/12) -> 0.083333333 | P34: =(1/12) -> 0.083333333 | Q34: =IFERROR(ROUND(IF($Q$15="Simples", INDEX(H34:P34,MATCH($Q$16,$H$16:$P$16,1)), INDEX(H34:P34,MATCH($Q$15,$H$13:$P$13,0)) ),4),"") -> 0.0833
B35: B | C35: Férias e Adicional de Férias | D35: ((1÷12) x 100) + ((1÷3) x (1÷12) x 100) ≅ 11,11% | E35: Art. 7º, XVII, CF/88; | F35: A Constituição Federal, em seu art. 7º, inciso XVII, prevê que as férias sejam pagas com adicional de, pelo menos, 1/3 (um terço) da remuneração do mês. Assim, a provisão para atender as despesas relativas as férias e adicional de férias corresponde a: ((1/12) x 100) + ((1/3) x (1/12) x 100) ≅ 11,11% | H35: =(1/12) +( 1/3)/12 -> 0.11111111 | I35: =(1/12) +( 1/3)/12 -> 0.11111111 | J35: =(1/12) +( 1/3)/12 -> 0.11111111 | K35: =(1/12) +( 1/3)/12 -> 0.11111111 | L35: =(1/12) +( 1/3)/12 -> 0.11111111 | M35: =(1/12) +( 1/3)/12 -> 0.11111111 | N35: =(1/12) +( 1/3)/12 -> 0.11111111 | O35: =(1/12) +( 1/3)/12 -> 0.11111111 | P35: =(1/12) +( 1/3)/12 -> 0.11111111 | Q35: =IFERROR(ROUND(IF($Q$15="Simples", INDEX(H35:P35,MATCH($Q$16,$H$16:$P$16,1)), INDEX(H35:P35,MATCH($Q$15,$H$13:$P$13,0)) ),4),"") -> 0.1111
B36: C | C36: Incidência no Submódulo 2.2 sobre 13º salário e Férias | D36: ((1÷12) x 100) + ((1÷12) x 100) + ((1÷3) x (1÷12) x 100) x Submódulo 2.2 | H36: =(H34+H35)*H49 -> 0.071555556 | I36: =(I34+I35)*I49 -> 0.071555556 | J36: =(J34+J35)*J49 -> 0.060277778 | K36: =(K34+K35)*K49 -> 0.060277778 | L36: =(L34+L35)*L49 -> 0.060277778 | M36: =(M34+M35)*M49 -> 0.060277778 | N36: =(N34+N35)*N49 -> 0.060277778 | O36: =(O34+O35)*O49 -> 0.060277778 | P36: =(P34+P35)*P49 -> 0.060277778 | Q36: =IFERROR(ROUND(IF($Q$15="Simples", INDEX(H36:P36,MATCH($Q$16,$H$16:$P$16,1)), INDEX(H36:P36,MATCH($Q$15,$H$13:$P$13,0)) ),4),"") -> 0.0716
C38: SUBMÓDULO 2.2- Encargos Previdenciários (GPS) e FGTS
B39: A | C39: INSS | E39: Art. 22, Inciso I, da Lei nº 8.212/91. (3) Lei 13.161/2015 - Contribuição Previdenciária sobre a Receita Bruta (CPRB) | H39: 0.2 | I39: 0.2 | J39: 0.2 | K39: 0.2 | L39: 0.2 | M39: 0.2 | N39: 0.2 | O39: 0.2 | P39: 0.2 | Q39: =IFERROR(ROUND(IF($Q$15="Simples", INDEX(H39:P39,MATCH($Q$16,$H$16:$P$16,1)), INDEX(H39:P39,MATCH($Q$15,$H$13:$P$13,0)) ),4),"") -> 0.2
B40: B | C40: SESI OU SESC | E40: Anexo II da IN RFB n. 971/09; art. 30 da Lei n° 8.036/90; art. 1°da Lei n° 8.154/90; art. 240 da Constituição Federal. | H40: 0.015 | I40: 0.015 | Q40: =IFERROR(ROUND(IF($Q$15="Simples", INDEX(H40:P40,MATCH($Q$16,$H$16:$P$16,1)), INDEX(H40:P40,MATCH($Q$15,$H$13:$P$13,0)) ),4),"") -> 0.015
B41: C | C41: SENAI OU SENAC | E41: Anexo II da IN RFB n. 971/09; Decreto n.º 2.318/86 | H41: 0.01 | I41: 0.01 | Q41: =IFERROR(ROUND(IF($Q$15="Simples", INDEX(H41:P41,MATCH($Q$16,$H$16:$P$16,1)), INDEX(H41:P41,MATCH($Q$15,$H$13:$P$13,0)) ),4),"") -> 0.01
B42: D | C42: INCRA | E42: Anexo II da IN RFB n. 971/09; Lei n.º 7.787/89; DL n.º 1.146/70; Lei Complementar nº 11/71. | H42: 0.002 | I42: 0.002 | Q42: =IFERROR(ROUND(IF($Q$15="Simples", INDEX(H42:P42,MATCH($Q$16,$H$16:$P$16,1)), INDEX(H42:P42,MATCH($Q$15,$H$13:$P$13,0)) ),4),"") -> 0.002
B43: E | C43: Salário educação | E43: Anexo II da IN RFB n. 971/09; art. 3°, inciso I do Decreto n° 87.043/1982; art. 15 – Lei nº 9.424/96; art. 1º § 1º - Decreto Nº 6.003/2006; art. 212 § 5º da Constituição Federal; Súmula Nº 732 do STF. | H43: 0.025 | I43: 0.025 | Q43: =IFERROR(ROUND(IF($Q$15="Simples", INDEX(H43:P43,MATCH($Q$16,$H$16:$P$16,1)), INDEX(H43:P43,MATCH($Q$15,$H$13:$P$13,0)) ),4),"") -> 0.025
B44: F | C44: FGTS | E44: Art. 15, Lei nº 8.036/90 e Art. 7º, III | H44: 0.08 | I44: 0.08 | J44: 0.08 | K44: 0.08 | L44: 0.08 | M44: 0.08 | N44: 0.08 | O44: 0.08 | P44: 0.08 | Q44: =IFERROR(ROUND(IF($Q$15="Simples", INDEX(H44:P44,MATCH($Q$16,$H$16:$P$16,1)), INDEX(H44:P44,MATCH($Q$15,$H$13:$P$13,0)) ),4),"") -> 0.08
B45: G | C45: =CONCATENATE("GILL/RAT (RAT ",H46," x FAP ",H47,")") -> GILL/RAT (RAT 0,03 x FAP 1) | D45: RAT 3% x FAP 1 | E45: Anexo V do Regulamento da Previdência Social – RPS (Decreto n. 3.048/1999) e regras de enquadramento dispostas na Instrução Normativa RFB n. 971/2009 e/ou legislação superveniente. Súmula 351 do STJ. | F45: GILL/RAT é a sigla correspondente à Contribuição do Grau de Incidência de Incapacidade Laborativa decorrente dos Riscos Ambientais do Trabalho (o antigo Seguro de Acidente de Trabalho - SAT). A contribuição GILL/RAT é apurada por meio de um indicador criado pela Receita Federal: o RAT Ajustado. Sendo assim, em regra, considera-se para fins de definição da planilha modelo que GILL/RAT = SAT = RAT Ajustado. O cálculo do RAT ajustado é feito mediante aplicação da fórmula: RAT ajustado = RAT x FAP. A aplicação mínima ou máxima do FAP (0,5 a 2,00) sobre as alíquotas do RAT (1% a 3%) levará o percentual ajustado do RAT a uma variação entre 0,5% a 6%. A licitante deve preencher o item G do Submódulo 2.2 das planilhas analíticas de custos e formação de preços com o valor de seu RAT ajustado comprovando o percentual indicado no momento da apresentação da proposta na forma prescrita no edital e nestas notas explicativas. RAT (Riscos Ambientais do Trabalho) contém as alíquotas de 1%, 2% ou 3%, apurada com base na atividade preponderante da empresa (CNAE), deverá ser esclarecida e comprovada quando solicitado pelo pregoeiro, conforme Anexo V do Regulamento da Previdência Social – RPS (Decreto n. 3.048/1999) e regras de enquadramento dispostas na Instrução Normativa RFB n. 971/2009 e/ou legislação superveniente. FAP (Fator Acidentário de Prevenção) multiplicador variável num intervalo de 0,5 a 2,00 calculado anualmente pelo INSS considerando o número de acidentes do trabalho e doenças profissionais de cada empresa (Decreto nº 6.957/2009). Essa alíquota deverá ser comprovada mediante a apresentação do multiplicador FAP (FapWeb) vigente no momento da contratação, cujo valor é obtido no site da previdência social por meio de acesso individual da proponente. | H45: =ROUND(H46*H47,2) -> 0.03 | I45: =ROUND(I46*I47,2) -> 0.03 | J45: =ROUND(J46*J47,2) -> 0.03 | K45: =ROUND(K46*K47,2) -> 0.03 | L45: =ROUND(L46*L47,2) -> 0.03 | M45: =ROUND(M46*M47,2) -> 0.03 | N45: =ROUND(N46*N47,2) -> 0.03 | O45: =ROUND(O46*O47,2) -> 0.03 | P45: =ROUND(P46*P47,2) -> 0.03 | Q45: =IFERROR(ROUND(IF($Q$15="Simples", INDEX(H45:P45,MATCH($Q$16,$H$16:$P$16,1)), INDEX(H45:P45,MATCH($Q$15,$H$13:$P$13,0)) ),4),"") -> 0.03
C46: RAT | H46: 0.03 | I46: =H46 -> 0.03 | J46: =I46 -> 0.03 | K46: =I46 -> 0.03 | L46: =K46 -> 0.03 | M46: =L46 -> 0.03 | N46: =M46 -> 0.03 | O46: =N46 -> 0.03 | P46: =O46 -> 0.03 | Q46: =IFERROR(ROUND(IF($Q$15="Simples", INDEX(H46:P46,MATCH($Q$16,$H$16:$P$16,1)), INDEX(H46:P46,MATCH($Q$15,$H$13:$P$13,0)) ),4),"") -> 0.03
...

Sheet Apoio - Posto
A1: POSTO | B1: CBO | C1: SINDICATO | D1: REGISTRO M.T.E. | E1: DATA BASE | F1: VIGÊNCA CCT | G1: PISO NORMATIVO | H1: REGIME MENSAL CONVENÇÃO | I1: AUXÍLIO ALIMENTAÇÃO (DIA) | J1: AUXÍLIO LANCHE | K1: % Incidência = 50% | L1: Adicional Troca Uniformes | M1: Insalubridade sobre Piso | N1: Incidência salário | O1: Periculosidade Adic. 30% | P1: Participação do empregado no custo Vale transporte | Q1: Participação do empregado no custo Vale refeição | R1: Plano Benefício Familiar | S1: Seguro de Vida | T1: ISSQN
A3: Auxiliar de Almoxarifado | B3: 4141 | C3: SINDASSEIO | D3: RS004917/2023 | E3: 45292 | F3: 45657 | G3: 1540.51 | H3: 220 | I3: 23.68 | J3: =I3/2 -> 11.84 | N3: Salário Base | P3: 0.06 | Q3: 0.19 | R3: 19.42 | T3: 0.05
A4: Auxiliar de Escritório | B4: 4110 | C4: SINDASSEIO | D4: RS004917/2023 | E4: 45292 | F4: 45657 | G4: 2013.31 | H4: 220 | I4: 23.68 | J4: =I4/2 -> 11.84 | N4: Salário Base | P4: 0.06 | Q4: 0.19 | R4: 19.42 | T4: 0.05
A5: Auxiliar de Manutenção Predial | B5: 5143 | C5: SINDASSEIO | D5: RS004917/2023 | E5: 45292 | F5: 45657 | G5: 1540.51 | H5: 220 | I5: 23.68 | J5: =I5/2 -> 11.84 | N5: Salário Base | P5: 0.06 | Q5: 0.19 | R5: 19.42 | T5: 0.05
A6: Auxiliar de Cozinha | B6: 5135 | C6: SINDASSEIO | D6: RS004917/2023 | E6: 45292 | F6: 45657 | G6: 1540.51 | H6: 220 | I6: 23.68 | J6: =I6/2 -> 11.84 | M6: 0.2 | N6: Salário Base | P6: 0.06 | Q6: 0.19 | R6: 19.42 | T6: 0.05
A7: Coletor, lixeiro | B7: 5142 | C7: SINDASSEIO | D7: RS004917/2023 | E7: 45292 | F7: 45657 | G7: 1816.57 | H7: 220 | I7: 23.68 | J7: =I7/2 -> 11.84 | M7: 0.4 | N7: Salário Base | P7: 0.06 | Q7: 0.19 | R7: 19.42 | T7: 0.05
A8: Copeiro | B8: 5134 | C8: SINDASSEIO | D8: RS004917/2023 | E8: 45292 | F8: 45657 | G8: 1540.51 | H8: 220 | I8: 23.68 | J8: =I8/2 -> 11.84 | M8: 0.2 | N8: Salário Base | P8: 0.06 | Q8: 0.19 | R8: 19.42 | T8: 0.05
A9: Cozinheiro | B9: 5132 | C9: SINDASSEIO | D9: RS004917/2023 | E9: 45292 | F9: 45657 | G9: 1617.44 | H9: 220 | I9: 23.68 | J9: =I9/2 -> 11.84 | M9: 0.2 | N9: Salário Base | P9: 0.06 | Q9: 0.19 | R9: 19.42 | T9: 0.05
A10: Aux. Limpeza, Serv. Gerais | B10: 5143 | C10: SINDASSEIO | D10: RS004917/2023 | E10: 45292 | F10: 45657 | G10: 1540.51 | H10: 220 | I10: 23.68 | J10: =I10/2 -> 11.84 | M10: 0.4 | N10: Salário Base | P10: 0.06 | Q10: 0.19 | R10: 19.42 | T10: 0.025
A11: Porteiro | B11: 5174 | C11: SINDASSEIO | D11: RS004917/2023 | E11: 45292 | F11: 45657 | G11: 1854.91 | H11: 220 | I11: 23.68 | J11: =I11/2 -> 11.84 | N11: Salário Base | P11: 0.06 | Q11: 0.19 | R11: 19.42 | T11: 0.025
A12: Recepcionista | B12: 4221 | C12: SINDASSEIO | D12: RS004917/2023 | E12: 45292 | F12: 45657 | G12: 1741.66 | H12: 220 | I12: 23.68 | J12: =I12/2 -> 11.84 | N12: Salário Base | P12: 0.06 | Q12: 0.19 | R12: 19.42 | T12: 0.025
A13: Varredor - Limpeza Urbana | B13: 5142 | C13: SINDASSEIO | D13: RS004917/2023 | E13: 45292 | F13: 45657 | G13: 1570.01 | H13: 220 | I13: 23.68 | J13: =I13/2 -> 11.84 | M13: 0.2 | N13: Salário Base | P13: 0.06 | Q13: 0.19 | R13: 19.42 | T13: 0.025
A14: Limpador Alpinista | B14: 5143 | C14: SINDASSEIO | D14: RS004917/2023 | E14: 45292 | F14: 45657 | G14: 1957.46 | H14: 220 | I14: 23.68 | J14: =I14/2 -> 11.84 | N14: Salário Base | O14: 0.3 | P14: 0.06 | Q14: 0.19 | R14: 19.42 | T14: 0.025
A15: Operador de Rádio Chamada | B15: 4227 | C15: SINDASSEIO | D15: RS004917/2023 | E15: 45292 | F15: 45657 | G15: 1854.91 | H15: 220 | I15: 23.68 | J15: =I15/2 -> 11.84 | N15: Salário Base | P15: 0.06 | Q15: 0.19 | R15: 19.42 | T15: 0.05
A16: Telefonista terceirizada 180hs | B16: 4222 | C16: SINDASSEIO | D16: RS004917/2023 | E16: 45292 | F16: 45657 | G16: 1741.66 | H16: 180 | J16: 11.84 | N16: Salário Base | P16: 0.06 | Q16: 0.19 | R16: 19.42 | T16: 0.05
A17: Vigilante | B17: 5173 | C17: SINDIVIGILANTES | D17: RS000303/2024 | E17: 45323 | F17: 45688 | G17: 1977.8 | H17: 220 | I17: 27 | L17: =G17/H17*1.3/6 -> 1.9478333 | N17: Salário Mínimo | O17: 0.3 | P17: 0.06 | Q17: 0.2 | S17: 19.42 | T17: 0.025
A18: Motorista Veículos Leves | B18: 7823 | C18: SINDIELV | D18: RS003831/2021 | E18: 44470 | F18: 44834 | G18: =1698*1.06 -> 1799.88 | H18: 220 | I18: =21.1*1.06 -> 22.366 | N18: Salário Mínimo | P18: 0.06 | Q18: 0.2 | S18: 19.42 | T18: 0.025
A19: Motorista Van | B19: 7823 | C19: SINDIELV | D19: RS003831/2021 | E19: 44470 | F19: 44834 | G19: =1753*1.06 -> 1858.18 | H19: 220 | I19: =21.1*1.06 -> 22.366 | N19: Salário Mínimo | P19: 0.06 | Q19: 0.2 | S19: 19.42 | T19: 0.025
A20: Motorista Caminhão | B20: 7825 | C20: SINDIELV | D20: RS003831/2021 | E20: 44470 | F20: 44834 | G20: =1724*1.06 -> 1827.44 | H20: 220 | I20: =21.1*1.06 -> 22.366 | N20: Salário Mínimo | P20: 0.06 | Q20: 0.2 | S20: 19.42 | T20: 0.025
A21: Motorista Operador Caminhão | B21: 7825 | C21: SINDIELV | D21: RS003831/2021 | E21: 44470 | F21: 44834 | G21: =1767*1.06 -> 1873.02 | H21: 220 | I21: =21.1*1.06 -> 22.366 | N21: Salário Mínimo | P21: 0.06 | Q21: 0.2 | S21: 19.42 | T21: 0.025

Sheet Apoio - Dados
A2: SECRETARIA DE PLANEJAMENTO E ASSUNTOS ESTRATÉGICOS | D2: =IF(AND(G2>0,ISNUMBER(G2)),ROW(),"") | E2: =#REF! -> #REF! | G2: =IFERROR(INDEX(#REF!,MATCH(E2,#REF!,0)),"") | I2: =IFERROR(SMALL(D:D,ROW()-1),"") | J2: =IF($I2="","",INDEX(E:E,MATCH($I2,$D:$D,0)))
A3: SECRETARIA DE ADMINISTRAÇÃO E PATRIMÔNIO | D3: =IF(AND(G3>0,ISNUMBER(G3)),ROW(),"") | E3: =#REF! -> #REF! | F3: Interna | G3: =IFERROR(INDEX(#REF!,MATCH(E3,#REF!,0)),"") | I3: =IFERROR(SMALL(D:D,ROW()-1),"") | J3: =IF($I3="","",INDEX(E:E,MATCH($I3,$D:$D,0)))
A4: SECRETARIA DA TRANSPARÊNCIA E CONTROLADORIA | D4: =IF(AND(G4>0,ISNUMBER(G4)),ROW(),"") | E4: =#REF! -> #REF! | F4: Interna | G4: =IFERROR(INDEX(#REF!,MATCH(E4,#REF!,0)),"") | I4: =IFERROR(SMALL(D:D,ROW()-1),"") | J4: =IF($I4="","",INDEX(E:E,MATCH($I4,$D:$D,0)))
A5: SECRETARIA DE GOVERNANÇA LOCAL E COORDENAÇÃO POLÍTICA | D5: =IF(AND(G5>0,ISNUMBER(G5)),ROW(),"") | E5: =#REF! -> #REF! | F5: Interna | G5: =IFERROR(INDEX(#REF!,MATCH(E5,#REF!,0)),"") | I5: =IFERROR(SMALL(D:D,ROW()-1),"") | J5: =IF($I5="","",INDEX(E:E,MATCH($I5,$D:$D,0)))
A6: SECRETARIA DA FAZENDA | D6: =IF(AND(G6>0,ISNUMBER(G6)),ROW(),"") | E6: =#REF! -> #REF! | F6: Interna | G6: =IFERROR(INDEX(#REF!,MATCH(E6,#REF!,0)),"") | I6: =IFERROR(SMALL(D:D,ROW()-1),"") | J6: =IF($I6="","",INDEX(E:E,MATCH($I6,$D:$D,0)))
A7: SECRETARIA DE PARCERIAS | D7: =IF(AND(G7>0,ISNUMBER(G7)),ROW(),"") | E7: =#REF! -> #REF! | F7: Interna | G7: =IFERROR(INDEX(#REF!,MATCH(E7,#REF!,0)),"") | I7: =IFERROR(SMALL(D:D,ROW()-1),"") | J7: =IF($I7="","",INDEX(E:E,MATCH($I7,$D:$D,0)))
A8: PROCURADORIA-GERAL DO MUNICÍPIO | D8: =IF(AND(G8>0,ISNUMBER(G8)),ROW(),"") | E8: =#REF! -> #REF! | F8: Interna | G8: =IFERROR(INDEX(#REF!,MATCH(E8,#REF!,0)),"") | I8: =IFERROR(SMALL(D:D,ROW()-1),"") | J8: =IF($I8="","",INDEX(E:E,MATCH($I8,$D:$D,0)))
A9: SECRETARIA DE SERVIÇOS URBANOS | D9: =IF(AND(G9>0,ISNUMBER(G9)),ROW(),"") | E9: =#REF! -> #REF! | F9: Interna | G9: =IFERROR(INDEX(#REF!,MATCH(E9,#REF!,0)),"") | I9: =IFERROR(SMALL(D:D,ROW()-1),"") | J9: =IF($I9="","",INDEX(E:E,MATCH($I9,$D:$D,0)))
A10: SECRETARIA DE OBRAS E INFRAESTRUTURA | D10: =IF(AND(G10>0,ISNUMBER(G10)),ROW(),"") | E10: =#REF! -> #REF! | G10: =IFERROR(INDEX(#REF!,MATCH(E10,#REF!,0)),"") | I10: =IFERROR(SMALL(D:D,ROW()-1),"") | J10: =IF($I10="","",INDEX(E:E,MATCH($I10,$D:$D,0)))
A11: SECRETARIA DE MOBILIDADE URBANA | D11: =IF(AND(G11>0,ISNUMBER(G11)),ROW(),"") | E11: =#REF! -> #REF! | G11: =IFERROR(INDEX(#REF!,MATCH(E11,#REF!,0)),"") | I11: =IFERROR(SMALL(D:D,ROW()-1),"") | J11: =IF($I11="","",INDEX(E:E,MATCH($I11,$D:$D,0)))
A12: SECRETARIA DE DESENVOLVIMENTO ECONÔMICO E TURISMO | D12: =IF(AND(G12>0,ISNUMBER(G12)),ROW(),"") | E12: =#REF! -> #REF! | F12: Externa | G12: =IFERROR(INDEX(#REF!,MATCH(E12,#REF!,0)),"") | I12: =IFERROR(SMALL(D:D,ROW()-1),"") | J12: =IF($I12="","",INDEX(E:E,MATCH($I12,$D:$D,0)))
A13: SECRETARIA DE MEIO AMBIENTE, URBANISMO E SUSTENTABILIDADE | D13: =IF(AND(G13>0,ISNUMBER(G13)),ROW(),"") | E13: =#REF! -> #REF! | F13: Externa | G13: =IFERROR(INDEX(#REF!,MATCH(E13,#REF!,0)),"") | I13: =IFERROR(SMALL(D:D,ROW()-1),"") | J13: =IF($I13="","",INDEX(E:E,MATCH($I13,$D:$D,0)))
A14: SECRETARIA DA CULTURA | D14: =IF(AND(G14>0,ISNUMBER(G14)),ROW(),"") | E14: =#REF! -> #REF! | F14: Externa | G14: =IFERROR(INDEX(#REF!,MATCH(E14,#REF!,0)),"") | I14: =IFERROR(SMALL(D:D,ROW()-1),"") | J14: =IF($I14="","",INDEX(E:E,MATCH($I14,$D:$D,0)))
A15: SECRETARIA DE SAÚDE | D15: =IF(AND(G15>0,ISNUMBER(G15)),ROW(),"") | E15: =#REF! -> #REF! | F15: Externa | G15: =IFERROR(INDEX(#REF!,MATCH(E15,#REF!,0)),"") | I15: =IFERROR(SMALL(D:D,ROW()-1),"") | J15: =IF($I15="","",INDEX(E:E,MATCH($I15,$D:$D,0)))
A16: SECRETARIA DE SEGURANÇA | D16: =IF(AND(G16>0,ISNUMBER(G16)),ROW(),"") | E16: =#REF! -> #REF! | F16: Externa | G16: =IFERROR(INDEX(#REF!,MATCH(E16,#REF!,0)),"") | I16: =IFERROR(SMALL(D:D,ROW()-1),"") | J16: =IF($I16="","",INDEX(E:E,MATCH($I16,$D:$D,0)))
A17: SECRETARIA DE EDUCAÇÃO | D17: =IF(AND(G17>0,ISNUMBER(G17)),ROW(),"") | E17: =#REF! -> #REF! | F17: Externa | G17: =IFERROR(INDEX(#REF!,MATCH(E17,#REF!,0)),"") | I17: =IFERROR(SMALL(D:D,ROW()-1),"") | J17: =IF($I17="","",INDEX(E:E,MATCH($I17,$D:$D,0)))
A18: SECRETARIA DE DESENVOLVIMENTO SOCIAL | D18: =IF(AND(G18>0,ISNUMBER(G18)),ROW(),"") | E18: =#REF! -> #REF! | G18: =IFERROR(INDEX(#REF!,MATCH(E18,#REF!,0)),"") | I18: =IFERROR(SMALL(D:D,ROW()-1),"") | J18: =IF($I18="","",INDEX(E:E,MATCH($I18,$D:$D,0)))
A19: SECRETARIA DE ESPORTE, LAZER E JUVENTUDE | D19: =IF(AND(G19>0,ISNUMBER(G19)),ROW(),"") | E19: =#REF! -> #REF! | G19: =IFERROR(INDEX(#REF!,MATCH(E19,#REF!,0)),"") | I19: =IFERROR(SMALL(D:D,ROW()-1),"") | J19: =IF($I19="","",INDEX(E:E,MATCH($I19,$D:$D,0)))
A20: SECRETARIA DE HABITAÇÃO E REGULARIZAÇÃO FUNDIÁRIA | D20: =IF(AND(G20>0,ISNUMBER(G20)),ROW(),"") | E20: =#REF! -> #REF! | F20: Esquadrias | G20: =IFERROR(INDEX(#REF!,MATCH(E20,#REF!,0)),"") | I20: =IFERROR(SMALL(D:D,ROW()-1),"") | J20: =IF($I20="","",INDEX(E:E,MATCH($I20,$D:$D,0)))
A21: SECRETARIA EXTRAORDINÁRIA DE ENFRENTAMENTO AO CORONAVÍRUS | D21: =IF(AND(G21>0,ISNUMBER(G21)),ROW(),"") | E21: =#REF! -> #REF! | F21: Esquadrias | G21: =IFERROR(INDEX(#REF!,MATCH(E21,#REF!,0)),"") | I21: =IFERROR(SMALL(D:D,ROW()-1),"") | J21: =IF($I21="","",INDEX(E:E,MATCH($I21,$D:$D,0)))
A22: SECRETARIA EXTRAORDINÁRIA DOS 250 ANOS | D22: =IF(AND(G22>0,ISNUMBER(G22)),ROW(),"") | E22: =#REF! -> #REF! | F22: Esquadrias | G22: =IFERROR(INDEX(#REF!,MATCH(E22,#REF!,0)),"") | I22: =IFERROR(SMALL(D:D,ROW()-1),"") | J22: =IF($I22="","",INDEX(E:E,MATCH($I22,$D:$D,0)))
A23: CARRIS | D23: =IF(AND(G23>0,ISNUMBER(G23)),ROW(),"") | E23: =#REF! -> #REF! | G23: =IFERROR(INDEX(#REF!,MATCH(E23,#REF!,0)),"") | I23: =IFERROR(SMALL(D:D,ROW()-1),"") | J23: =IF($I23="","",INDEX(E:E,MATCH($I23,$D:$D,0)))
A24: DMAE | D24: =IF(AND(G24>0,ISNUMBER(G24)),ROW(),"") | E24: =#REF! -> #REF! | G24: =IFERROR(INDEX(#REF!,MATCH(E24,#REF!,0)),"") | I24: =IFERROR(SMALL(D:D,ROW()-1),"") | J24: =IF($I24="","",INDEX(E:E,MATCH($I24,$D:$D,0)))
A25: DEMHAB | D25: =IF(AND(G25>0,ISNUMBER(G25)),ROW(),"") | E25: =#REF! -> #REF! | F25: Fachada | G25: =IFERROR(INDEX(#REF!,MATCH(E25,#REF!,0)),"") | I25: =IFERROR(SMALL(D:D,ROW()-1),"") | J25: =IF($I25="","",INDEX(E:E,MATCH($I25,$D:$D,0)))
A26: DMLU | D26: =IF(AND(G26>0,ISNUMBER(G26)),ROW(),"") | E26: =#REF! -> #REF! | G26: =IFERROR(INDEX(#REF!,MATCH(E26,#REF!,0)),"") | I26: =IFERROR(SMALL(D:D,ROW()-1),"") | J26: =IF($I26="","",INDEX(E:E,MATCH($I26,$D:$D,0)))
A27: DEFESA CIVIL | D27: =IF(AND(G27>0,ISNUMBER(G27)),ROW(),"") | E27: =#REF! -> #REF! | G27: =IFERROR(INDEX(#REF!,MATCH(E27,#REF!,0)),"") | I27: =IFERROR(SMALL(D:D,ROW()-1),"") | J27: =IF($I27="","",INDEX(E:E,MATCH($I27,$D:$D,0)))
A28: EPTC | D28: =IF(AND(G28>0,ISNUMBER(G28)),ROW(),"") | E28: =#REF! -> #REF! | F28: Hospitalar | G28: =IFERROR(INDEX(#REF!,MATCH(E28,#REF!,0)),"") | I28: =IFERROR(SMALL(D:D,ROW()-1),"") | J28: =IF($I28="","",INDEX(E:E,MATCH($I28,$D:$D,0)))
A29: FASC | D29: =IF(AND(G29>0,ISNUMBER(G29)),ROW(),"") | E29: =#REF! -> #REF! | G29: =IFERROR(INDEX(#REF!,MATCH(E29,#REF!,0)),"") | I29: =IFERROR(SMALL(D:D,ROW()-1),"") | J29: =IF($I29="","",INDEX(E:E,MATCH($I29,$D:$D,0)))
A30: PREVIMPA
A31: PROCEMPA
A32: PROCON
