Workbook
Name familias_equipamentos: 'Apoio - Notas Explicativas'!#REF!
Name familias_equipamentos: '[1]Base Apoio - etapa 1'!#REF!
Name familias_equipamentos: '[1]Base Apoio - etapa 1'!#REF!
Name familias_equipamentos: '[2]Base Apoio - etapa 1'!#REF!
Name familias_equipamentos: '[1]Base Apoio - etapa 1'!#REF!
Name materiais: [1]Fontes!$F$3:$F$9
Name percentuais: [3]Fontes!$C$1:$C$3
Name percentuais: [2]Fontes!$C$1:$C$3
Name percentuais: [1]Fontes!$C$1:$C$3
Name Sim_não: [3]Fontes!$A$1:$A$2
Name Sim_não: [2]Fontes!$A$1:$A$2
Name Sim_não: [1]Fontes!$A$1:$A$2
Name tributaçao: 'Apoio - Notas Explicativas'!#REF!
Name tributaçao: '[2]Base Apoio - etapa 1'!$F$20:$H$20
Name tributaçao: '[1]Base Apoio - etapa 1'!$F$20:$H$20
Name Tributação: #REF!
Name Tributação: #REF!
Name Tributação: #REF!
Name Tributação: #REF!
Name Tributação: #REF!

Sheet Mão de Obra
A2: =CONCATENATE("PREFEITURA MUNICIPAL DE PORTO ALEGRE ",D5," FORMAÇÃO DE PREÇOS DE REFERÊNCIA - CESSÃO DE MÃO DE OBRA") -> PREFEITURA MUNICIPAL DE PORTO ALEGRE SECRETARIA DE DESENVOLVIMENTO SOCIAL FORMAÇÃO DE PREÇOS DE REFERÊNCIA - CESSÃO DE MÃO DE OBRA
B5: A | C5: Órgão Demandante | D5: SECRETARIA DE DESENVOLVIMENTO SOCIAL | H5: 3 | I5: 4 | J5: 5 | K5: 6 | L5: 7 | M5: 8 | N5: 9
B6: B | C6: Pregão Eletrônico nº:
B7: C | C7: Processo SEI nº: | D7: 24.0.000061841-8
B8: D | C8: Objeto: | D8: Contratação de empresa para fornecimento de mão-de-obra para prestação de serviços de manutenção predial com transporte, equipamentos, ferramentas e EPI´s para atender instalações prediais de responsabilidade da Secretaria Municipal de Desenvolvimento
B9: E | C9: Responsável | D9: Luciano do Valle
B10: F | C10: Data de conclusão | D10: 45505
B11: G | C11: Pagamento do Contrato: | D11: Mês
B12: H | C12: Duração do Contrato em meses: | D12: 12
B13: I | C13: Regime Tributário | D13: Lucro Presumido
B14: J | C14: Receita Bruta
B15: K | C15: Salário Mínimo | D15: 1412
C17: DADOS REFERENTES À CONTRATAÇÃO | E17: Posto A | F17: Posto B | G17: Posto C | H17: Posto D | I17: Posto E | J17: Posto F | K17: Posto G | L17: Posto H | M17: Posto I | N17: Posto J
B18: A | C18: Função do Posto | E18: Oficial - Eletricista (manutenção predial) | F18: Oficial - Manutenção Predial | G18: Meio Oficial - Manutenção Predial
B19: B | C19: Classificação Brasileira de Ocupações (CBO) | E19: 7156 | F19: 5143 | G19: 5143 | H19: =IFERROR(VLOOKUP(H$18,'Apoio - Posto'!$A:$J,2,FALSE),"") | I19: =IFERROR(VLOOKUP(I$18,'Apoio - Posto'!$A:$J,2,FALSE),"") | J19: =IFERROR(VLOOKUP(J$18,'Apoio - Posto'!$A:$J,2,FALSE),"") | K19: =IFERROR(VLOOKUP(K$18,'Apoio - Posto'!$A:$J,2,FALSE),"") | L19: =IFERROR(VLOOKUP(L$18,'Apoio - Posto'!$A:$J,2,FALSE),"") | M19: =IFERROR(VLOOKUP(M$18,'Apoio - Posto'!$A:$J,2,FALSE),"") | N19: =IFERROR(VLOOKUP(N$18,'Apoio - Posto'!$A:$J,2,FALSE),"")
B20: C | C20: Valor do Piso normativo da Categoria | E20: 2162.6 | F20: 2162.6 | G20: 1830.4 | H20: =IFERROR(VLOOKUP(H$18,'Apoio - Posto'!$A:$AA,7,FALSE),"") | I20: =IFERROR(VLOOKUP(I$18,'Apoio - Posto'!$A:$AA,7,FALSE),"") | J20: =IFERROR(VLOOKUP(J$18,'Apoio - Posto'!$A:$AA,7,FALSE),"") | K20: =IFERROR(VLOOKUP(K$18,'Apoio - Posto'!$A:$AA,7,FALSE),"") | L20: =IFERROR(VLOOKUP(L$18,'Apoio - Posto'!$A:$AA,7,FALSE),"") | M20: =IFERROR(VLOOKUP(M$18,'Apoio - Posto'!$A:$AA,7,FALSE),"") | N20: =IFERROR(VLOOKUP(N$18,'Apoio - Posto'!$A:$AA,7,FALSE),"")
B21: D | C21: Regime de trabalho da convenção coletiva (mensal) | E21: 220 | F21: 220 | G21: 220 | H21: =IFERROR(VLOOKUP(H$18,'Apoio - Posto'!$A:$AA,8,FALSE),"") | I21: =IFERROR(VLOOKUP(I$18,'Apoio - Posto'!$A:$AA,8,FALSE),"") | J21: =IFERROR(VLOOKUP(J$18,'Apoio - Posto'!$A:$AA,8,FALSE),"") | K21: =IFERROR(VLOOKUP(K$18,'Apoio - Posto'!$A:$AA,8,FALSE),"") | L21: =IFERROR(VLOOKUP(L$18,'Apoio - Posto'!$A:$AA,8,FALSE),"") | M21: =IFERROR(VLOOKUP(M$18,'Apoio - Posto'!$A:$AA,8,FALSE),"") | N21: =IFERROR(VLOOKUP(N$18,'Apoio - Posto'!$A:$AA,8,FALSE),"")
B22: E | C22: Sindicato representativo da categoria profissional | E22: SINDELETRI | F22: SINDUSCON | G22: SINDUSCON | H22: =IFERROR(VLOOKUP(H$18,'Apoio - Posto'!$A:$J,3,FALSE),"") | I22: =IFERROR(VLOOKUP(I$18,'Apoio - Posto'!$A:$J,3,FALSE),"") | J22: =IFERROR(VLOOKUP(J$18,'Apoio - Posto'!$A:$J,3,FALSE),"") | K22: =IFERROR(VLOOKUP(K$18,'Apoio - Posto'!$A:$J,3,FALSE),"") | L22: =IFERROR(VLOOKUP(L$18,'Apoio - Posto'!$A:$J,3,FALSE),"") | M22: =IFERROR(VLOOKUP(M$18,'Apoio - Posto'!$A:$J,3,FALSE),"") | N22: =IFERROR(VLOOKUP(N$18,'Apoio - Posto'!$A:$J,3,FALSE),"")
B23: F | C23: Data base da categoria | E23: 45444 | F23: 45444 | G23: 45444 | H23: =IFERROR(VLOOKUP(H$18,'Apoio - Posto'!$A:$J,5,FALSE),"") | I23: =IFERROR(VLOOKUP(I$18,'Apoio - Posto'!$A:$J,5,FALSE),"") | J23: =IFERROR(VLOOKUP(J$18,'Apoio - Posto'!$A:$J,5,FALSE),"") | K23: =IFERROR(VLOOKUP(K$18,'Apoio - Posto'!$A:$J,5,FALSE),"") | L23: =IFERROR(VLOOKUP(L$18,'Apoio - Posto'!$A:$J,5,FALSE),"") | M23: =IFERROR(VLOOKUP(M$18,'Apoio - Posto'!$A:$J,5,FALSE),"") | N23: =IFERROR(VLOOKUP(N$18,'Apoio - Posto'!$A:$J,5,FALSE),"")
B24: G | C24: Registro no MTE | E24: RS003360/2023 | F24: RS003085/2023 | G24: RS003085/2023 | H24: =IFERROR(VLOOKUP(H$18,'Apoio - Posto'!$A:$J,4,FALSE),"") | I24: =IFERROR(VLOOKUP(I$18,'Apoio - Posto'!$A:$J,4,FALSE),"") | J24: =IFERROR(VLOOKUP(J$18,'Apoio - Posto'!$A:$J,4,FALSE),"") | K24: =IFERROR(VLOOKUP(K$18,'Apoio - Posto'!$A:$J,4,FALSE),"") | L24: =IFERROR(VLOOKUP(L$18,'Apoio - Posto'!$A:$J,4,FALSE),"") | M24: =IFERROR(VLOOKUP(M$18,'Apoio - Posto'!$A:$J,4,FALSE),"") | N24: =IFERROR(VLOOKUP(N$18,'Apoio - Posto'!$A:$J,4,FALSE),"")
B25: H | C25: Local de trabalho | E25: SMDS | F25: SMDS | G25: SMDS
B26: I | C26: Regime de trabalho do Contrato (semanal) | E26: 44h (5 dia/sem) | F26: 44h (5 dia/sem) | G26: 44h (5 dia/sem)
B27: J | C27: Quantidade de postos/diárias | E27: 1 | F27: 1 | G27: 1
B28: K | C28: Quantidade de profissional por posto | E28: =IFERROR(VLOOKUP(E26,'Apoio - Regime de Trabalho'!$A:$I,2,FALSE),"") -> 1 | F28: =IFERROR(VLOOKUP(F26,'Apoio - Regime de Trabalho'!$A:$I,2,FALSE),"") -> 1 | G28: =IFERROR(VLOOKUP(G26,'Apoio - Regime de Trabalho'!$A:$I,2,FALSE),"") -> 1 | H28: =IFERROR(VLOOKUP(H26,'Apoio - Regime de Trabalho'!$A:$I,2,FALSE),"") | I28: =IFERROR(VLOOKUP(I26,'Apoio - Regime de Trabalho'!$A:$I,2,FALSE),"") | J28: =IFERROR(VLOOKUP(J26,'Apoio - Regime de Trabalho'!$A:$I,2,FALSE),"") | K28: =IFERROR(VLOOKUP(K26,'Apoio - Regime de Trabalho'!$A:$I,2,FALSE),"") | L28: =IFERROR(VLOOKUP(L26,'Apoio - Regime de Trabalho'!$A:$I,2,FALSE),"") | ... N28: =IFERROR(VLOOKUP(N26,'Apoio - Regime de Trabalho'!$A:$I,2,FALSE),"")
B29: L | C29: Quantidade total de profissionais/diárias | E29: =IFERROR(IF(E18="","",E28*E27),"") -> 1 | F29: =IFERROR(IF(F18="","",F28*F27),"") -> 1 | G29: =IFERROR(IF(G18="","",G28*G27),"") -> 1 | H29: =IFERROR(IF(H18="","",H28*H27),"") | I29: =IFERROR(IF(I18="","",I28*I27),"") | J29: =IFERROR(IF(J18="","",J28*J27),"") | K29: =IFERROR(IF(K18="","",K28*K27),"") | L29: =IFERROR(IF(L18="","",L28*L27),"") | ... N29: =IFERROR(IF(N18="","",N28*N27),"")
C31: MÓDULO 1: COMPOSIÇÃO DA REMUNERAÇÃO
B32: A | C32: Salário-Base | E32: =IFERROR(E20*VLOOKUP(E26,'Apoio - Regime de Trabalho'!$A:$I,8,FALSE)/(E21),"") -> 2162.6 | F32: =IFERROR(F20*VLOOKUP(F26,'Apoio - Regime de Trabalho'!$A:$I,8,FALSE)/(F21),"") -> 2162.6 | G32: =IFERROR(G20*VLOOKUP(G26,'Apoio - Regime de Trabalho'!$A:$I,8,FALSE)/(G21),"") -> 1830.4 | H32: =IFERROR(H20*VLOOKUP(H26,'Apoio - Regime de Trabalho'!$A:$I,8,FALSE)/(H21),"") | I32: =IFERROR(I20*VLOOKUP(I26,'Apoio - Regime de Trabalho'!$A:$I,8,FALSE)/(I21),"") | J32: =IFERROR(J20*VLOOKUP(J26,'Apoio - Regime de Trabalho'!$A:$I,8,FALSE)/(J21),"") | K32: =IFERROR(K20*VLOOKUP(K26,'Apoio - Regime de Trabalho'!$A:$I,8,FALSE)/(K21),"") | L32: =IFERROR(L20*VLOOKUP(L26,'Apoio - Regime de Trabalho'!$A:$I,8,FALSE)/(L21),"") | ... N32: =IFERROR(N20*VLOOKUP(N26,'Apoio - Regime de Trabalho'!$A:$I,8,FALSE)/(N21),"")
B33: B | C33: Adicional de Periculosidade
C34: Incidência | E34: 0.3 | F34: =IFERROR(VLOOKUP(F$18,'Apoio - Posto'!$A:$AA,15,FALSE),"") | G34: =IFERROR(VLOOKUP(G$18,'Apoio - Posto'!$A:$AA,15,FALSE),"") | H34: =IFERROR(VLOOKUP(H$18,'Apoio - Posto'!$A:$AA,15,FALSE),"") | I34: =IFERROR(VLOOKUP(I$18,'Apoio - Posto'!$A:$AA,15,FALSE),"") | J34: =IFERROR(VLOOKUP(J$18,'Apoio - Posto'!$A:$AA,15,FALSE),"") | K34: =IFERROR(VLOOKUP(K$18,'Apoio - Posto'!$A:$AA,15,FALSE),"") | L34: =IFERROR(VLOOKUP(L$18,'Apoio - Posto'!$A:$AA,15,FALSE),"") | M34: =IFERROR(VLOOKUP(M$18,'Apoio - Posto'!$A:$AA,15,FALSE),"") | N34: =IFERROR(VLOOKUP(N$18,'Apoio - Posto'!$A:$AA,15,FALSE),"")
D35: Valor (R$) | E35: =IFERROR((E32)*E34,"") -> 648.78 | F35: =IFERROR((F32)*F34,"") | G35: =IFERROR((G32)*G34,"") | H35: =IFERROR((H32)*H34,"") | I35: =IFERROR((I32)*I34,"") | J35: =IFERROR((J32)*J34,"") | K35: =IFERROR((K32)*K34,"") | L35: =IFERROR((L32)*L34,"") | ... N35: =IFERROR((N32)*N34,"")
B36: C | C36: Adicional de Insalubridade
C37: Base de incindência | E37: =IFERROR(VLOOKUP(E$18,'Apoio - Posto'!$A:$AA,14,FALSE),"") | F37: Salário Mínimo | G37: Salário Mínimo | H37: =IFERROR(VLOOKUP(H$18,'Apoio - Posto'!$A:$AA,14,FALSE),"") | I37: =IFERROR(VLOOKUP(I$18,'Apoio - Posto'!$A:$AA,14,FALSE),"") | J37: =IFERROR(VLOOKUP(J$18,'Apoio - Posto'!$A:$AA,14,FALSE),"") | K37: =IFERROR(VLOOKUP(K$18,'Apoio - Posto'!$A:$AA,14,FALSE),"") | L37: =IFERROR(VLOOKUP(L$18,'Apoio - Posto'!$A:$AA,14,FALSE),"") | M37: =IFERROR(VLOOKUP(M$18,'Apoio - Posto'!$A:$AA,14,FALSE),"") | N37: =IFERROR(VLOOKUP(N$18,'Apoio - Posto'!$A:$AA,14,FALSE),"")
C38: Percentual de incidência | F38: 0.4 | G38: 0.4
D39: Valor (R$) | E39: =IF(E20="","",IFERROR(IF(E37="Salário Base",E$32,IF(E37="Salário Mínimo",$D$15,0))*E38,"")) -> 0 | F39: =IF(F20="","",IFERROR(IF(F37="Salário Base",F$32,IF(F37="Salário Mínimo",$D$15,0))*F38,"")) -> 564.8 | G39: =IF(G20="","",IFERROR(IF(G37="Salário Base",G$32,IF(G37="Salário Mínimo",$D$15,0))*G38,"")) -> 564.8 | H39: =IF(H20="","",IFERROR(IF(H37="Salário Base",H$32,IF(H37="Salário Mínimo",$D$15,0))*H38,"")) | I39: =IF(I20="","",IFERROR(IF(I37="Salário Base",I$32,IF(I37="Salário Mínimo",$D$15,0))*I38,"")) | J39: =IF(J20="","",IFERROR(IF(J37="Salário Base",J$32,IF(J37="Salário Mínimo",$D$15,0))*J38,"")) | K39: =IF(K20="","",IFERROR(IF(K37="Salário Base",K$32,IF(K37="Salário Mínimo",$D$15,0))*K38,"")) | L39: =IF(L20="","",IFERROR(IF(L37="Salário Base",L$32,IF(L37="Salário Mínimo",$D$15,0))*L38,"")) | ... N39: =IF(N20="","",IFERROR(IF(N37="Salário Base",N$32,IF(N37="Salário Mínimo",$D$15,0))*N38,""))
B40: D | C40: Gratificação de Função
C41: Percentual de incidência
D42: Valor (R$) | E42: =IFERROR(E41*E$32,"") -> 0 | F42: =IFERROR(F41*F$32,"") -> 0 | G42: =IFERROR(G41*G$32,"") -> 0 | H42: =IFERROR(H41*H$32,"") | I42: =IFERROR(I41*I$32,"") | J42: =IFERROR(J41*J$32,"") | K42: =IFERROR(K41*K$32,"") | L42: =IFERROR(L41*L$32,"") | ... N42: =IFERROR(N41*N$32,"")
B43: E | C43: Adicional Noturno
C44: Número de horas noturnas por dia | E44: =IF(AND(E19=5173,E26="12x36 Noturno"),8,"") | F44: =IF(AND(F19=5173,F26="12x36 Noturno"),8,"") | G44: =IF(AND(G19=5173,G26="12x36 Noturno"),8,"") | H44: =IF(AND(H19=5173,H26="12x36 Noturno"),8,"") | I44: =IF(AND(I19=5173,I26="12x36 Noturno"),8,"") | J44: =IF(AND(J19=5173,J26="12x36 Noturno"),8,"") | K44: =IF(AND(K19=5173,K26="12x36 Noturno"),8,"") | L44: =IF(AND(L19=5173,L26="12x36 Noturno"),8,"") | ... N44: =IF(AND(N19=5173,N26="12x36 Noturno"),8,"")
C45: Número de dias laborados a noite | E45: =IF(E44="","",VLOOKUP(E26,'Apoio - Regime de Trabalho'!$A:$I,7,FALSE)) | F45: =IF(F44="","",VLOOKUP(F26,'Apoio - Regime de Trabalho'!$A:$I,7,FALSE)) | G45: =IF(G44="","",VLOOKUP(G26,'Apoio - Regime de Trabalho'!$A:$I,7,FALSE)) | H45: =IF(H44="","",VLOOKUP(H26,'Apoio - Regime de Trabalho'!$A:$I,7,FALSE)) | I45: =IF(I44="","",VLOOKUP(I26,'Apoio - Regime de Trabalho'!$A:$I,7,FALSE)) | J45: =IF(J44="","",VLOOKUP(J26,'Apoio - Regime de Trabalho'!$A:$I,7,FALSE)) | K45: =IF(K44="","",VLOOKUP(K26,'Apoio - Regime de Trabalho'!$A:$I,7,FALSE)) | L45: =IF(L44="","",VLOOKUP(L26,'Apoio - Regime de Trabalho'!$A:$I,7,FALSE)) | ... N45: =IF(N44="","",VLOOKUP(N26,'Apoio - Regime de Trabalho'!$A:$I,7,FALSE))
...

Sheet Produtividade
A2: =CONCATENATE("PREFEITURA MUNICIPAL DE PORTO ALEGRE ",D5," FORMAÇÃO DE PREÇOS DE REFERÊNCIA - CESSÃO DE MÃO DE OBRA") -> PREFEITURA MUNICIPAL DE PORTO ALEGRE FORMAÇÃO DE PREÇOS DE REFERÊNCIA - CESSÃO DE MÃO DE OBRA
B5: A | C5: Órgão Demandante | H5: 3
B6: B | C6: Pregão Eletrônico nº:
B7: C | C7: Processo SEI nº:
B8: D | C8: Objeto:
B9: E | C9: Responsável
B10: F | C10: Data de conclusão
B11: G | C11: Pagamento do Contrato: | D11: Mês
B12: H | C12: Duração do Contrato em meses: | D12: 12
B13: I | C13: Regime Tributário | D13: Lucro Presumido
B14: J | C14: Receita Bruta
B15: K | C15: Salário Mínimo | D15: ='Mão de Obra'!D15:E15 -> 1412
C17: DADOS REFERENTES À CONTRATAÇÃO | E17: Posto A | F17: Posto B | G17: Posto C | I17: =CONCATENATE("Posto ",CHAR(COLUMN()+60)) -> Posto E
B18: A | C18: Função do Posto
B19: B | C19: Classificação Brasileira de Ocupações (CBO) | I19: =IFERROR(VLOOKUP(I$18,'Apoio - Posto'!$A:$J,2,FALSE),"")
B20: C | C20: Valor do Piso normativo da Categoria | I20: =IFERROR(VLOOKUP(I$18,'Apoio - Posto'!$A:$AA,7,FALSE),"")
B21: D | C21: Regime de trabalho da convenção coletiva (mensal) | I21: =IFERROR(VLOOKUP(I$18,'Apoio - Posto'!$A:$AA,8,FALSE),"")
B22: E | C22: Sindicato representativo da categoria profissional | I22: =IFERROR(VLOOKUP(I$18,'Apoio - Posto'!$A:$J,3,FALSE),"")
B23: F | C23: Data base da categoria | I23: =IFERROR(VLOOKUP(I$18,'Apoio - Posto'!$A:$J,5,FALSE),"")
B24: G | C24: Registro no MTE | I24: =IFERROR(VLOOKUP(I$18,'Apoio - Posto'!$A:$J,4,FALSE),"")
B25: H | C25: Local de trabalho
B26: I | C26: Regime de trabalho do Contrato (semanal)
B27: J | C27: Quantidade de postos/diárias | E27: =SUMPRODUCT(K195:K220,L195:L220)-G27 -> 0 | F27: =1/30*E27 -> 0 | G27: =SUM(IFERROR(L212/D212,0),IFERROR(L217/D217,0)) -> 0 | H27: =1/4*G27 -> 0
B28: K | C28: Quantidade de profissional por posto | E28: =IFERROR(VLOOKUP(E26,'Apoio - Regime de Trabalho'!$A:$I,2,FALSE),"") | F28: =IFERROR(VLOOKUP(F26,'Apoio - Regime de Trabalho'!$A:$I,2,FALSE),"") | G28: =IFERROR(VLOOKUP(G26,'Apoio - Regime de Trabalho'!$A:$I,2,FALSE),"") | H28: =IFERROR(VLOOKUP(H26,'Apoio - Regime de Trabalho'!$A:$I,2,FALSE),"") | I28: =IFERROR(VLOOKUP(I26,'Apoio - Regime de Trabalho'!$A:$I,10,FALSE),"")
B29: L | C29: Quantidade total de profissionais/diárias | E29: =IFERROR(IF(E18="","",E28*E27),"") | F29: =IFERROR(IF(F18="","",F28*F27),"") | G29: =IFERROR(IF(G18="","",G28*G27),"") | H29: =IFERROR(IF(H18="","",H28*H27),"") | I29: =IFERROR(IF(I18="","",I28*I27),"")
C31: MÓDULO 1: COMPOSIÇÃO DA REMUNERAÇÃO
B32: A | C32: Salário-Base | E32: =IFERROR(E20*VLOOKUP(E26,'Apoio - Regime de Trabalho'!$A:$I,8,FALSE)/(E21),"") | F32: =IFERROR(F20*VLOOKUP(F26,'Apoio - Regime de Trabalho'!$A:$I,8,FALSE)/(F21),"") | G32: =IFERROR(G20*VLOOKUP(G26,'Apoio - Regime de Trabalho'!$A:$I,8,FALSE)/(G21),"") | H32: =IFERROR(H20*VLOOKUP(H26,'Apoio - Regime de Trabalho'!$A:$I,8,FALSE)/(H21),"") | I32: =IFERROR(ROUND(I20*VLOOKUP(I26,'Apoio - Regime de Trabalho'!$A:$I,8,FALSE)/(I21),2),"")
B33: B | C33: Adicional de Periculosidade
C34: Incidência | E34: 0.3 | F34: =IFERROR(VLOOKUP(F$18,'Apoio - Posto'!$A:$AA,15,FALSE),"") | G34: =IFERROR(VLOOKUP(G$18,'Apoio - Posto'!$A:$AA,15,FALSE),"") | H34: =IFERROR(VLOOKUP(H$18,'Apoio - Posto'!$A:$AA,15,FALSE),"") | I34: =IFERROR(VLOOKUP(I$18,'Apoio - Posto'!$A:$AA,15,FALSE),"")
D35: Valor (R$) | E35: =IFERROR((E32)*E34,"") | F35: =IFERROR((F32)*F34,"") | G35: =IFERROR((G32)*G34,"") | H35: =IFERROR((H32)*H34,"") | I35: =IFERROR(ROUND((I32)*I34,2),"")
B36: C | C36: Adicional de Insalubridade
C37: Base de incindência | E37: =IFERROR(VLOOKUP(E$18,'Apoio - Posto'!$A:$AA,14,FALSE),"") | F37: Salário Mínimo | G37: Salário Mínimo | H37: =IFERROR(VLOOKUP(H$18,'Apoio - Posto'!$A:$AA,14,FALSE),"") | I37: =IFERROR(VLOOKUP(I$18,'Apoio - Posto'!$A:$AA,14,FALSE),"")
C38: Percentual de incidência | F38: 0.4 | G38: 0.4 | I38: =IFERROR(VLOOKUP(I$18,'Apoio - Posto'!$A:$AA,13,FALSE),"")
D39: Valor (R$) | E39: =IF(E20="","",IFERROR(IF(E37="Salário Base",E$32,IF(E37="Salário Mínimo",$D$15,0))*E38,"")) | F39: =IF(F20="","",IFERROR(IF(F37="Salário Base",F$32,IF(F37="Salário Mínimo",$D$15,0))*F38,"")) | G39: =IF(G20="","",IFERROR(IF(G37="Salário Base",G$32,IF(G37="Salário Mínimo",$D$15,0))*G38,"")) | H39: =IF(H20="","",IFERROR(IF(H37="Salário Base",H$32,IF(H37="Salário Mínimo",$D$15,0))*H38,"")) | I39: =IF(I20="","",IFERROR(ROUND(IF(I37="Salário Base",I$32,IF(I37="Salário Mínimo",$D$15,0))*I38,2),""))
B40: D | C40: Gratificação de Função
C41: Percentual de incidência
D42: Valor (R$) | E42: =IFERROR(E41*E$32,"") | F42: =IFERROR(F41*F$32,"") | G42: =IFERROR(G41*G$32,"") | H42: =IFERROR(H41*H$32,"") | I42: =IFERROR(ROUND(I41*I$32,2),"")
B43: E | C43: Adicional Noturno
C44: Número de horas noturnas por dia | E44: =IF(AND(E19=5173,E26="12x36 Noturno"),8,"") | F44: =IF(AND(F19=5173,F26="12x36 Noturno"),8,"") | G44: =IF(AND(G19=5173,G26="12x36 Noturno"),8,"") | H44: =IF(AND(H19=5173,H26="12x36 Noturno"),8,"") | I44: =IF(AND(I19=5173,I26="12x36 Noturno"),8,"")
C45: Número de dias laborados a noite | E45: =IF(E44="","",VLOOKUP(E26,'Apoio - Regime de Trabalho'!$A:$I,7,FALSE)) | F45: =IF(F44="","",VLOOKUP(F26,'Apoio - Regime de Trabalho'!$A:$I,7,FALSE)) | G45: =IF(G44="","",VLOOKUP(G26,'Apoio - Regime de Trabalho'!$A:$I,7,FALSE)) | H45: =IF(H44="","",VLOOKUP(H26,'Apoio - Regime de Trabalho'!$A:$I,7,FALSE)) | I45: =IF(I44="","",VLOOKUP(I26,'Apoio - Regime de Trabalho'!$A:$I,7,FALSE))
...

Sheet Veículos
C2: DADOS REFERENTES À CONTRATAÇÃO | E2: Veículo A | F2: Veículo B | G2: Veículo C | H2: Veículo D | I2: Veículo E
C3: Tipo de Veículo | E3: Pick up cabine dupla
C4: Quantidade de veículos | E4: 1
C5: Quilômetros por mês | E5: 1000
C7: DETALHAMENTO ITEM A SUBMOD 5.2.1 - MANUTENÇÃO MENSAL DO VEÍCULO
B8: A.1 | C8: Custos com Combustível
C9: Quilometragem/litro | E9: 9.5
C10: Tipo de Combustível | E10: Diesel
C11: Preço por litro | E11: 5.75
D12: Valor (R$) | E12: =IFERROR(E5*E11/E9,"") -> 605.26316 | F12: =IFERROR(F5*F11/F9,"") | G12: =IFERROR(G5*G11/G9,"") | H12: =IFERROR(H5*H11/H9,"") | I12: =IFERROR(I5*I11/I9,"")
B13: A.2 | C13: Custos com Óleo
C14: Litros por troca | E14: 4
C15: Frequência da troca | E15: 10000
C16: Preço por Litro - Óleo Motor | E16: 35
D17: Valor (R$) | E17: =IFERROR(IF(E3="","",E16*E14*E5/E15),"") -> 14 | F17: =IFERROR(IF(F3="","",F16*F14*F5/F15),"") | G17: =IFERROR(IF(G3="","",G16*G14*G5/G15),"") | H17: =IFERROR(IF(H3="","",H16*H14*H5/H15),"") | I17: =IFERROR(IF(I3="","",I16*I14*I5/I15),"")
B18: A.3 | C18: Custos com Filtro Óleo
C19: Frequência da troca | E19: 10000
C20: Preço Filtro de óleo | E20: 40
D21: Valor (R$) | E21: =IFERROR(IF(E3="","",E20*E5/E19),"") -> 4 | F21: =IFERROR(IF(F3="","",F20*F5/F19),"") | G21: =IFERROR(IF(G3="","",G20*G5/G19),"") | H21: =IFERROR(IF(H3="","",H20*H5/H19),"") | I21: =IFERROR(IF(I3="","",I20*I5/I19),"")
B22: A.4 | C22: Custo com Pneu jogo de pneus
C23: Custo do pneu | E23: 900
C24: Quantidade | E24: 4
C25: Durabilidade (em Km) | E25: 50000
D26: Valor (R$) | E26: =IFERROR((E23*E24*E5/E25),"") -> 72 | F26: =IFERROR((F23*F24*F5/F25),"") | G26: =IFERROR((G23*G24*G5/G25),"") | H26: =IFERROR((H23*H24*H5/H25),"") | I26: =IFERROR((I23*I24*I5/I25),"")
B27: A.5 | C27: Custo estimado com manutenção
C28: Taxa de manutenção anual | E28: 0.03
C29: Custo de aquisição do veículo | E29: 131782
C30: Outros custos (especificar)
C31: Outros custos (especificar)
C32: Custo de aquisição do veículo (total) | E32: =IF(E3="","",SUM(E29:E31)) -> 131782 | F32: =IF(F3="","",SUM(F29:F31)) | G32: =IF(G3="","",SUM(G29:G31)) | H32: =IF(H3="","",SUM(H29:H31)) | I32: =IF(I3="","",SUM(I29:I31))
D33: Valor (R$) | E33: =IF(E3="","",E28*E32/12) -> 329.455 | F33: =IF(F3="","",F28*F32/12) | G33: =IF(G3="","",G28*G32/12) | H33: =IF(H3="","",H28*H32/12) | I33: =IF(I3="","",I28*I32/12)
C34: SUBTOTAL ITEM A SUBMOD 5.2.1 | E34: =IF(E3="","",SUM(E12,E17,E21,E26,E33)) -> 1024.7182 | F34: =IF(F3="","",SUM(F12,F17,F21,F26,F33)) | G34: =IF(G3="","",SUM(G12,G17,G21,G26,G33)) | H34: =IF(H3="","",SUM(H12,H17,H21,H26,H33)) | I34: =IF(I3="","",SUM(I12,I17,I21,I26,I33))
C36: DETALHAMENTO ITEM B SUBMOD 5.2.2 - CUSTOS OBRIGATÓRIOS MENSAIS DO VEÍCULO
B37: B.1 | C37: IPVA | D37: 0.01 | E37: =IF(E3="","",E29*$D$37/Proposta!$J$6) -> 109.81833 | F37: =IF(F3="","",F29*$D$37/Proposta!$J$6) | G37: =IF(G3="","",G29*$D$37/Proposta!$J$6) | H37: =IF(H3="","",H29*$D$37/Proposta!$J$6) | I37: =IF(I3="","",I29*$D$37/Proposta!$J$6)
B38: B.2 | C38: Licenciamento | D38: 286.94 | E38: =IF(E$3="","",$D$38/Proposta!$J$6) -> 23.911667 | F38: =IF(F$3="","",$D$38/Proposta!$J$6) | G38: =IF(G$3="","",$D$38/Proposta!$J$6) | H38: =IF(H$3="","",$D$38/Proposta!$J$6) | I38: =IF(I$3="","",$D$38/Proposta!$J$6)
B39: B.3 | C39: Vistoria EPTC
C40: Quantidade de vistorias no período contratual | E40: 2
C41: Valor da vistoria | D41: 73.44 | E41: =IF(E3="","",$D$41) -> 73.44 | F41: =IF(F3="","",$D$41) | G41: =IF(G3="","",$D$41) | H41: =IF(H3="","",$D$41) | I41: =IF(I3="","",$D$41)
D42: Valor (R$) | E42: =IF(E$3="","",E40*E41/Proposta!$J$6) -> 12.24 | F42: =IF(F$3="","",F40*F41/Proposta!$J$6) | G42: =IF(G$3="","",G40*G41/Proposta!$J$6) | H42: =IF(H$3="","",H40*H41/Proposta!$J$6) | I42: =IF(I$3="","",I40*I41/Proposta!$J$6)
B43: B.4 | C43: Seguro contra terceiros | D43: 0.02 | E43: =IF(E3="","",E32*$D$43/Proposta!$J$6) -> 219.63667 | F43: =IF(F3="","",F32*$D$43/Proposta!$J$6) | G43: =IF(G3="","",G32*$D$43/Proposta!$J$6) | H43: =IF(H3="","",H32*$D$43/Proposta!$J$6) | I43: =IF(I3="","",I32*$D$43/Proposta!$J$6)
...

Sheet Mat Individual e Uniformes func
B2: UNIFORMES, MATERIAIS DE USO INDIVIDUAL, CURSOS E TREINAMENTOS | H2: QUANTIDADE CONTRATUAL POR PROFISSIONAL
B3: Nº | C3: GMAT | D3: Material | E3: Und Medida | F3: Valor (R$) | H3: =IF(IFERROR(SUM(Produtividade!$L$195:$L$220)>0,FALSE()),Produtividade!E17,'Mão de Obra'!E17) -> Posto A | I3: =IF(IFERROR(SUM(Produtividade!$L$195:$L$220)>0,FALSE()),Produtividade!F17,'Mão de Obra'!F17) -> Posto B | J3: =IF(IFERROR(SUM(Produtividade!$L$195:$L$220)>0,FALSE()),Produtividade!G17,'Mão de Obra'!G17) -> Posto C | K3: =IF(IFERROR(SUM(Produtividade!$L$195:$L$220)>0,FALSE()),Produtividade!H17,'Mão de Obra'!H17) -> Posto D | L3: =IF(IFERROR(SUM(Produtividade!$L$195:$L$220)>0,FALSE()),Produtividade!I17,'Mão de Obra'!I17) -> Posto E
B5: 1 | D5: Botina de segurança (par) | E5: unidade | F5: 49.7 | H5: 2 | I5: 2 | J5: 2
B6: 2 | D6: Calça comprida | E6: unidade | F6: 82.14 | H6: 2 | I6: 2 | J6: 2
B7: 3 | D7: Capacete de segurança, aba frontal com supensão em polietileno (classe B) | E7: unidade | F7: 17.26 | H7: 1 | I7: 1 | J7: 1
B8: 4 | D8: Crachá de identificação | E8: unidade | F8: 1.36 | H8: 1 | I8: 1 | J8: 1
B9: 5 | D9: Camiseta manga curta, com identificação da empresa | E9: unidade | F9: 27.33 | H9: 3 | I9: 3 | J9: 3
B10: 6 | D10: Camiseta manga longa, com identificação da empresa | E10: unidade | F10: 35.27 | H10: 2 | I10: 2 | J10: 2
B11: 7 | D11: Luvas de poliamida com banho nitrílico (par) | E11: unidade | F11: 8.4 | H11: 3 | I11: 6 | J11: 6
B12: 8 | D12: Óculos de segurança contra impactos com lente incolor, armação nylon, com proteção UVA e UVB | E12: unidade | F12: 12.92 | H12: 2 | I12: 2 | J12: 2
B13: 9 | D13: Protetor auricular tipo concha | E13: unidade | F13: 52.57 | H13: 1 | I13: 1 | J13: 1
B14: 10 | D14: Moletom, com identificação da empresa | E14: unidade | F14: 84.64 | H14: 2 | I14: 2 | J14: 2
B15: 11 | D15: Jaqueta cor preta, em tecido nylon, 100% poliéster, forrada, impermeável, com fecho central, com identificação da empresa | E15: unidade | F15: 142.6 | H15: 1 | I15: 1 | J15: 1
B16: 12 | D16: Cinturão de segurança com talabarte para trabalho em altura | E16: unidade | F16: 285.25 | H16: 1 | I16: 1 | J16: 1
B17: 13 | D17: Luva de PVC forrada (par) | E17: unidade | F17: 15.73 | I17: 2 | J17: 2
B18: 14 | D18: Respirador semifacial (máscara) com filtro combinado para poeiras de madeira oriundas de corte e lixamento, e vapores de hidrocarbonetos aromáticos (colas e solventes) | E18: unidade | F18: 110.87 | I18: 1 | J18: 1
B19: 15 | D19: Luva de borracha alta tensão 2,5KV (par) | E19: unidade | F19: 304.83 | H19: 1
B20: 16 | D20: Luva de vaqueta (par) | E20: unidade | F20: 27.74 | H20: 1
B21: 17 | D21: Protetor facial - faceshiel | E21: unidade | F21: 42.06 | H21: 1 | I21: 1 | J21: 1
B22: 18 | D22: NR-12 Segurança no trabalho em máquinas e equipamentos - treinamento mínimo de 08 (oito) horas | E22: unidade | F22: 145.67 | H22: 1 | I22: 1 | J22: 1
B23: 19 | D23: NR-18 Condições e meio ambiente de trabalho na indústria da construção - treinamento mínimo de (oito) horas | E23: unidade | F23: 69.63 | H23: 1 | I23: 1 | J23: 1
B24: 20 | D24: NR-10 Segurança em instalações e serviços em eletricidade (somente posto A) - treinamento mínimo de 40 (quarenta) horas | E24: unidade | F24: 270 | H24: 1
B25: 21 | D25: NR-35 Trabalho em altura - treinamento mínimo de 8 (oito) horas | E25: unidade | F25: 148.3 | H25: 1 | I25: 1 | J25: 1
F28: TOTAL CONTRATUAL | H28: =IFERROR(ROUND(SUMPRODUCT(H4:H27,$F$4:$F$27),2),"") -> 2143.8 | I28: =IFERROR(ROUND(SUMPRODUCT(I4:I27,$F$4:$F$27),2),"") -> 1708.76 | J28: =IFERROR(ROUND(SUMPRODUCT(J4:J27,$F$4:$F$27),2),"") -> 1708.76 | K28: =IFERROR(ROUND(SUMPRODUCT(K4:K27,$F$4:$F$27),2),"") -> 0 | L28: =IFERROR(ROUND(SUMPRODUCT(L4:L27,$F$4:$F$27),2),"") -> 0

Sheet Mat Coletivo e Equipamentos
B2: MATERIAIS NÃO DEPRECIÁVEIS DE USO COLETIVO E EQUIPAMENTOS DEPRECIÁVEIS
B3: Nº | C3: Código | D3: Material | E3: Posto | F3: Local | G3: Unidade de fornecimento | H3: Quantidade contratual | I3: Valor de Aquisição | J3: Taxa de depreciação mensal | K3: Custo mensal | L3: Custo contratual
K4: =SUM(K5:K260) -> 1207.9574 | L4: =SUM(L5:L260) -> 14495.489
B6: 1 | C6: COT 18 | D6: Alicate bomba d'água 10" | G6: unidade | H6: 1 | I6: 55.84 | K6: =IFERROR(L6/'Mão de Obra'!$D$12,"") -> 4.6533333 | L6: =IFERROR(IF(ISNUMBER(J6),J6*'Mão de Obra'!$D$12,1)*I6*H6,"") -> 55.84
B7: 2 | C7: COT 19 | D7: Alicate de bico reto 8" | G7: unidade | H7: 2 | I7: 59.9 | K7: =IFERROR(L7/'Mão de Obra'!$D$12,"") -> 9.9833333 | L7: =IFERROR(IF(ISNUMBER(J7),J7*'Mão de Obra'!$D$12,1)*I7*H7,"") -> 119.8
B8: 3 | C8: COT 20 | D8: Alicate de corte com alívio de esforço 6,5" | G8: unidade | H8: 2 | I8: 60.39 | K8: =IFERROR(L8/'Mão de Obra'!$D$12,"") -> 10.065 | L8: =IFERROR(IF(ISNUMBER(J8),J8*'Mão de Obra'!$D$12,1)*I8*H8,"") -> 120.78
B9: 4 | C9: COT 21 | D9: Alicate de pressão 11" para solda, tipo C | G9: unidade | H9: 2 | I9: 95.59 | K9: =IFERROR(L9/'Mão de Obra'!$D$12,"") -> 15.931667 | L9: =IFERROR(IF(ISNUMBER(J9),J9*'Mão de Obra'!$D$12,1)*I9*H9,"") -> 191.18
B10: 5 | C10: COT 22 | D10: Alicate descascador (para terminais) | G10: unidade | H10: 1 | I10: 66.49 | K10: =IFERROR(L10/'Mão de Obra'!$D$12,"") -> 5.5408333 | L10: =IFERROR(IF(ISNUMBER(J10),J10*'Mão de Obra'!$D$12,1)*I10*H10,"") -> 66.49
B11: 6 | C11: COT 23 | D11: Alicate para terminal pré isolado 0,5 a 0,6mm | G11: unidade | H11: 1 | I11: 125.92 | K11: =IFERROR(L11/'Mão de Obra'!$D$12,"") -> 10.493333 | L11: =IFERROR(IF(ISNUMBER(J11),J11*'Mão de Obra'!$D$12,1)*I11*H11,"") -> 125.92
B12: 7 | C12: COT 24 | D12: Alicate universal 8" | G12: unidade | H12: 2 | I12: 43.9 | K12: =IFERROR(L12/'Mão de Obra'!$D$12,"") -> 7.3166667 | L12: =IFERROR(IF(ISNUMBER(J12),J12*'Mão de Obra'!$D$12,1)*I12*H12,"") -> 87.8
B13: 8 | C13: COT 25 | D13: Alicate voltímetro - amperímetro digital 750/1000V, ref. Minipa et-3200 digital | G13: unidade | H13: 1 | I13: 153.09 | K13: =IFERROR(L13/'Mão de Obra'!$D$12,"") -> 12.7575 | L13: =IFERROR(IF(ISNUMBER(J13),J13*'Mão de Obra'!$D$12,1)*I13*H13,"") -> 153.09
B14: 9 | C14: COT 26 | D14: Aplicador manual de silicone tipo pistola | G14: unidade | H14: 1 | I14: 49.16 | K14: =IFERROR(L14/'Mão de Obra'!$D$12,"") -> 4.0966667 | L14: =IFERROR(IF(ISNUMBER(J14),J14*'Mão de Obra'!$D$12,1)*I14*H14,"") -> 49.16
B15: 10 | C15: COT 27 | D15: Arco de serra com regulagem 12" | G15: unidade | H15: 2 | I15: 52.26 | K15: =IFERROR(L15/'Mão de Obra'!$D$12,"") -> 8.71 | L15: =IFERROR(IF(ISNUMBER(J15),J15*'Mão de Obra'!$D$12,1)*I15*H15,"") -> 104.52
B16: 11 | C16: COT 28 | D16: Caixa metálica para ferramentas, sanfonada, com cadeado | G16: unidade | H16: 2 | I16: 138.49 | K16: =IFERROR(L16/'Mão de Obra'!$D$12,"") -> 23.081667 | L16: =IFERROR(IF(ISNUMBER(J16),J16*'Mão de Obra'!$D$12,1)*I16*H16,"") -> 276.98
B17: 12 | C17: COT 29 | D17: Cabo rolo de pintura tipo extensor 2,7m | G17: unidade | H17: 2 | I17: 72.86 | K17: =IFERROR(L17/'Mão de Obra'!$D$12,"") -> 12.143333 | L17: =IFERROR(IF(ISNUMBER(J17),J17*'Mão de Obra'!$D$12,1)*I17*H17,"") -> 145.72
... B80: 75 | C80: COT 92 | D80: Pincel largura 4" | G80: unidade | H80: 3 | I80: 15.03 | K80: =IFERROR(L80/'Mão de Obra'!$D$12,"") -> 3.7575 | L80: =IFERROR(IF(ISNUMBER(J80),J80*'Mão de Obra'!$D$12,1)*I80*H80,"") -> 45.09
B81: 76 | C81: COT 93 | D81: Trava-quedas em aço para corda 12mm, extensor de 25x300mm, com mosquetão tipo gancho trava dupla | G81: unidade | H81: 3 | I81: 202.8 | J81: 0.0167 | K81: =IFERROR(L81/'Mão de Obra'!$D$12,"") -> 10.16028 | L81: =IFERROR(IF(ISNUMBER(J81),J81*'Mão de Obra'!$D$12,1)*I81*H81,"") -> 121.92336
B82: 77 | C82: COT 94 | D82: Andaime módulo 1,0 x 1,5m | G82: unidade | H82: 8 | I82: 179.48 | J82: 0.0167 | K82: =IFERROR(L82/'Mão de Obra'!$D$12,"") -> 23.978528 | L82: =IFERROR(IF(ISNUMBER(J82),J82*'Mão de Obra'!$D$12,1)*I82*H82,"") -> 287.74234
B83: 78 | C83: COT 95 | D83: Carro de mão extraforte 65l, com pneu maciço | G83: unidade | H83: 1 | I83: 413.99 | J83: 0.0167 | K83: =IFERROR(L83/'Mão de Obra'!$D$12,"") -> 6.913633 | L83: =IFERROR(IF(ISNUMBER(J83),J83*'Mão de Obra'!$D$12,1)*I83*H83,"") -> 82.963596
B84: 79 | C84: COT 96 | D84: Cortador de cerâmica 90cm | G84: unidade | H84: 1 | I84: 356.41 | J84: 0.0167 | K84: =IFERROR(L84/'Mão de Obra'!$D$12,"") -> 5.952047 | L84: =IFERROR(IF(ISNUMBER(J84),J84*'Mão de Obra'!$D$12,1)*I84*H84,"") -> 71.424564
B85: 80 | C85: COT 97 | D85: Esmerilhadeira angular 2400W | G85: unidade | H85: 1 | I85: 1188.23 | J85: 0.0167 | K85: =IFERROR(L85/'Mão de Obra'!$D$12,"") -> 19.843441 | L85: =IFERROR(IF(ISNUMBER(J85),J85*'Mão de Obra'!$D$12,1)*I85*H85,"") -> 238.12129
B86: 81 | C86: COT 98 | D86: Escada de abrir em fibra de vidro tipo tesoura, duplo acesso, 6 degraus | G86: unidade | H86: 1 | I86: 714.82 | J86: 0.0167 | K86: =IFERROR(L86/'Mão de Obra'!$D$12,"") -> 11.937494 | L86: =IFERROR(IF(ISNUMBER(J86),J86*'Mão de Obra'!$D$12,1)*I86*H86,"") -> 143.24993
B87: 82 | C87: COT 99 | D87: Escada extensível em alumínio, 6m estendida | G87: unidade | H87: 1 | I87: 1186.37 | J87: 0.0167 | K87: =IFERROR(L87/'Mão de Obra'!$D$12,"") -> 19.812379 | L87: =IFERROR(IF(ISNUMBER(J87),J87*'Mão de Obra'!$D$12,1)*I87*H87,"") -> 237.74855
B88: 83 | C88: COT 100 | D88: Enxada estreita 25x23cm com cabo | G88: unidade | H88: 1 | I88: 47.97 | J88: 0.0167 | K88: =IFERROR(L88/'Mão de Obra'!$D$12,"") -> 0.801099 | L88: =IFERROR(IF(ISNUMBER(J88),J88*'Mão de Obra'!$D$12,1)*I88*H88,"") -> 9.613188
B89: 84 | C89: COT 101 | D89: Furadeira de impacto, 750W | G89: unidade | H89: 1 | I89: 256.07 | J89: 0.0167 | K89: =IFERROR(L89/'Mão de Obra'!$D$12,"") -> 4.276369 | L89: =IFERROR(IF(ISNUMBER(J89),J89*'Mão de Obra'!$D$12,1)*I89*H89,"") -> 51.316428
B90: 85 | C90: COT 102 | D90: Jogo de ponteiras - 10 peças | G90: unidade | H90: 2 | I90: 15.99 | J90: 0.0167 | K90: =IFERROR(L90/'Mão de Obra'!$D$12,"") -> 0.534066 | L90: =IFERROR(IF(ISNUMBER(J90),J90*'Mão de Obra'!$D$12,1)*I90*H90,"") -> 6.408792
B91: 86 | C91: COT 103 | D91: Lavadora lava jato 220V, 1400 - 1900lbs | G91: unidade | H91: 1 | I91: 2699 | J91: 0.0167 | K91: =IFERROR(L91/'Mão de Obra'!$D$12,"") -> 45.0733 | L91: =IFERROR(IF(ISNUMBER(J91),J91*'Mão de Obra'!$D$12,1)*I91*H91,"") -> 540.8796
B92: 87 | C92: COT 104 | D92: Lixadeira angular, disco 7", 220W, 220V | G92: unidade | H92: 1 | I92: 779.87 | J92: 0.0167 | K92: =IFERROR(L92/'Mão de Obra'!$D$12,"") -> 13.023829 | L92: =IFERROR(IF(ISNUMBER(J92),J92*'Mão de Obra'!$D$12,1)*I92*H92,"") -> 156.28595
... B107: 102 | C107: COT 119 | D107: Tupia elétrica 1650QW, 220V | G107: unidade | H107: 1 | I107: 1492.14 | J107: 0.0167 | K107: =IFERROR(L107/'Mão de Obra'!$D$12,"") -> 24.918738 | L107: =IFERROR(IF(ISNUMBER(J107),J107*'Mão de Obra'!$D$12,1)*I107*H107,"") -> 299.02486

Sheet Proposta
B2: PREFEITURA MUNICIPAL DE PORTO ALEGRE
B3: =IF(IFERROR(SUM(Produtividade!L195:L220)>0,FALSE()),Produtividade!D5, IF(IFERROR(Veículos!$E$3<>"",FALSE()),'Mão de Obra'!D5,'Mão de Obra'!D5)) -> SECRETARIA DE DESENVOLVIMENTO SOCIAL
B4: PLANILHA DE CUSTOS E FORMAÇÃO DE PREÇOS
B6: Pregão Eletrônico Nº: | C6: =IF(IFERROR(SUM(Produtividade!L195:L220)>0,FALSE()),Produtividade!D6, IF(IFERROR(Veículos!$E$3<>"",FALSE()),'Mão de Obra'!D6, 'Mão de Obra'!D6)) -> 0 | G6: Tempo de Duração do Contrato: | J6: =IF(IFERROR(SUM(Produtividade!L195:L220)>0,FALSE()),Produtividade!D12, IF(IFERROR(Veículos!$E$3<>"",FALSE()),'Mão de Obra'!D12, 'Mão de Obra'!D12)) -> 12
B7: Processo SEI Nº: | C7: =IF(IFERROR(SUM(Produtividade!L195:L220)>0,FALSE()),Produtividade!D7, IF(IFERROR(Veículos!$E$3<>"",FALSE()),'Mão de Obra'!D7, 'Mão de Obra'!D7)) -> 24.0.000061841-8 | G7: Forma de Pagamento do Contrato: | J7: =IF(IFERROR(SUM(Produtividade!L195:L220)>0,FALSE()),Produtividade!D11, IF(IFERROR(Veículos!$E$3<>"",FALSE()),'Mão de Obra'!D11, 'Mão de Obra'!D11)) -> Mês
B8: =CONCATENATE("OBJETO: ", IF(IFERROR(SUM(Produtividade!L195:L220)>0,FALSE()),Produtividade!D8, IF(IFERROR(Veículos!$E$3<>"",FALSE()),'Mão de Obra'!D8, 'Mão de Obra'!D8))) -> OBJETO: Contratação de empresa para fornecimento de mão-de-obra para prestação de serviços de manutenção predial com transporte, equipamentos, ferramentas e EPI´s para atender instalações prediais de responsabilidade da Secretaria Municipal de Desenvolvimento
B9: Nome da Empresa: | G9: Regime Tributário: | J9: =IF(IFERROR(SUM(Produtividade!L195:L220)>0,FALSE()),Produtividade!D13, IF(IFERROR(Veículos!$E$3<>"",FALSE()),'Mão de Obra'!D13, 'Mão de Obra'!D13)) -> Lucro Presumido
B10: CNPJ Matriz: | G10: Receita Bruta Anual: | J10: =IF(IFERROR(SUM(Produtividade!L195:L220)>0,FALSE()),Produtividade!D14, IF(IFERROR(Veículos!$E$3<>"",FALSE()),'Mão de Obra'!D14, 'Mão de Obra'!D14)) -> 0
B11: Endereço da Empresa: | G11: Telefone:
B12: Nome do Responsável: | G12: CPF Responsável:
B13: Endereço eletrônico: | G13: Dados Bancários:
B15: DEMONSTRATIVO DE CUSTOS COM MÃO DE OBRA POR POSTO
B16: Posto | C16: Local | D16: Regime | E16: Qnt. de Postos | F16: Qnt. de Profissionais | G16: Custo hora | H16: Custo dia | I16: Custo mês | J16: Total mensal | K16: Total contratual
B17: =IF( INDEX('Mão de Obra'!$E$18:$AM$18,1,ROW()-ROW($B$16))<>0, INDEX('Mão de Obra'!$E$18:$AM$18,1,ROW()-ROW($B$16)), "EXCLUIR ESTA LINHA" ) -> Oficial - Eletricista (manutenção predial) | C17: =INDEX('Mão de Obra'!$E$25:$AM$25,1,ROW()-ROW($C$16)) -> SMDS | D17: =INDEX('Mão de Obra'!$E$26:$AM$26,1,ROW()-ROW($D$16)) -> 44h (5 dia/sem) | E17: =INDEX('Mão de Obra'!$E$27:$AM$27,1,ROW()-ROW($E$16)) -> 1 | F17: =INDEX('Mão de Obra'!$E$29:$AM$29,1,ROW()-ROW($F$16)) -> 1 | G17: =INDEX('Mão de Obra'!$E$173:$AR$173,1,ROW()-ROW($G$16)) -> 40.71 | H17: =INDEX('Mão de Obra'!$E$174:$AQ$174,1,ROW()-ROW($I$16)) -> 355.28 | I17: =INDEX('Mão de Obra'!$E$176:$AQ$176,1,ROW()-ROW($I$16)) -> 7816.24 | J17: =INDEX('Mão de Obra'!$E$182:$AQ$182,1,ROW()-ROW($I$16)) -> 7816.24 | K17: =INDEX('Mão de Obra'!$E$190:$AQ$190,1,ROW()-ROW($I$16)) -> 93794.88
B18: =IF( INDEX('Mão de Obra'!$E$18:$AM$18,1,ROW()-ROW($B$16))<>0, INDEX('Mão de Obra'!$E$18:$AM$18,1,ROW()-ROW($B$16)), "EXCLUIR ESTA LINHA" ) -> Oficial - Manutenção Predial | C18: =INDEX('Mão de Obra'!$E$25:$AM$25,1,ROW()-ROW($C$16)) -> SMDS | D18: =INDEX('Mão de Obra'!$E$26:$AM$26,1,ROW()-ROW($D$16)) -> 44h (5 dia/sem) | E18: =INDEX('Mão de Obra'!$E$27:$AM$27,1,ROW()-ROW($E$16)) -> 1 | F18: =INDEX('Mão de Obra'!$E$29:$AM$29,1,ROW()-ROW($F$16)) -> 1 | G18: =INDEX('Mão de Obra'!$E$173:$AR$173,1,ROW()-ROW($G$16)) -> 39.49 | H18: =INDEX('Mão de Obra'!$E$174:$AQ$174,1,ROW()-ROW($I$16)) -> 344.64 | I18: =INDEX('Mão de Obra'!$E$176:$AQ$176,1,ROW()-ROW($I$16)) -> 7582.1 | J18: =INDEX('Mão de Obra'!$E$182:$AQ$182,1,ROW()-ROW($I$16)) -> 7582.1 | K18: =INDEX('Mão de Obra'!$E$190:$AQ$190,1,ROW()-ROW($I$16)) -> 90985.2
B19: =IF( INDEX('Mão de Obra'!$E$18:$AM$18,1,ROW()-ROW($B$16))<>0, INDEX('Mão de Obra'!$E$18:$AM$18,1,ROW()-ROW($B$16)), "EXCLUIR ESTA LINHA" ) -> Meio Oficial - Manutenção Predial | C19: =INDEX('Mão de Obra'!$E$25:$AM$25,1,ROW()-ROW($C$16)) -> SMDS | D19: =INDEX('Mão de Obra'!$E$26:$AM$26,1,ROW()-ROW($D$16)) -> 44h (5 dia/sem) | E19: =INDEX('Mão de Obra'!$E$27:$AM$27,1,ROW()-ROW($E$16)) -> 1 | F19: =INDEX('Mão de Obra'!$E$29:$AM$29,1,ROW()-ROW($F$16)) -> 1 | G19: =INDEX('Mão de Obra'!$E$173:$AR$173,1,ROW()-ROW($G$16)) -> 35.74 | H19: =INDEX('Mão de Obra'!$E$174:$AQ$174,1,ROW()-ROW($I$16)) -> 311.93 | I19: =INDEX('Mão de Obra'!$E$176:$AQ$176,1,ROW()-ROW($I$16)) -> 6862.43 | J19: =INDEX('Mão de Obra'!$E$182:$AQ$182,1,ROW()-ROW($I$16)) -> 6862.43 | K19: =INDEX('Mão de Obra'!$E$190:$AQ$190,1,ROW()-ROW($I$16)) -> 82349.16
E20: =SUM(E17:E19) -> 3 | F20: =SUM(F17:F19) -> 3 | J20: =SUM(J17:J19) -> 22260.77 | K20: =SUM(K17:K19) -> 267129.24
B22: DEMONSTRATIVO DE CUSTOS COM LOCAÇÃO DE VEÍCULOS
B23: Veículo | D23: Qnt. | E23: Qnt Horas | F23: Km/mês | G23: Custo hora | H23: Custo km rodado | I23: Custo mês | J23: Total mensal | K23: Total contratual
B24: =IF( INDEX(Veículos!$E$3:$AR$3,1,ROW()-ROW(B$23))<>"", INDEX(Veículos!$E$3:$AR$3,1,ROW()-ROW(B$23)), "EXCLUIR ESTA LINHA") -> Pick up cabine dupla | D24: =INDEX(Veículos!$E$4:$CS$4,1,ROW()-ROW(D$23)) -> 1 | E24: =INDEX(Veículos!$E$84:$CS$84,1,ROW()-ROW(E$23)) -> 200 | F24: =INDEX(Veículos!$E$5:$AR$5,1,ROW()-ROW(F$23)) -> 1000 | G24: =INDEX(Veículos!$E$85:$CS$85,1,ROW()-ROW(G$23)) -> 15.47155 | H24: =INDEX(Veículos!$E$82:$CS$82,1,ROW()-ROW(H$23)) -> 1.26111 | I24: =INDEX(Veículos!$E$90:$CS$90,1,ROW()-ROW(I$23)) -> 4355.42 | J24: =INDEX(Veículos!$E$95:$CS$95,1,ROW()-ROW(J$23)) -> 4355.42 | K24: =INDEX(Veículos!$E$96:$CS$96,1,ROW()-ROW(K$23)) -> 52265.04
J25: =SUM(J24:J24) -> 4355.42 | K25: =SUM(K24:K24) -> 52265.04
B27: DEMONSTRATIVO DE CUSTOS COM MÃO DE OBRA POR PRODUTIVIDADE
B28: Tipo de Piso | F28: Código | G28: Tipo de Área | H28: Área (m²) | I28: Custo por m² | J28: Custo mensal | K28: Custo total
B29: =IF( 'Apoio - Dados'!J2<>"", 'Apoio - Dados'!J2, "EXCLUIR ESTA LINHA") -> EXCLUIR ESTA LINHA | F29: =IFERROR(INDEX(Produtividade!B:B,MATCH($B29,Produtividade!C:C,0)),"") | G29: =IFERROR(INDEX('Apoio - Dados'!F:F,MATCH($B29,'Apoio - Dados'!E:E,0)),"") | H29: =IFERROR(INDEX(Produtividade!L:L,MATCH($B29,Produtividade!C:C,0)),"") | I29: =IFERROR(INDEX(Produtividade!M:M,MATCH($B29,Produtividade!C:C,0)),"") | J29: =IFERROR(INDEX(Produtividade!N:N,MATCH($B29,Produtividade!C:C,0)),"") | K29: =IFERROR(INDEX(Produtividade!O:O,MATCH($B29,Produtividade!C:C,0)),"")
B30: =IF( 'Apoio - Dados'!J3<>"", 'Apoio - Dados'!J3, "EXCLUIR ESTA LINHA") -> EXCLUIR ESTA LINHA | F30: =IFERROR(INDEX(Produtividade!B:B,MATCH($B30,Produtividade!C:C,0)),"") | G30: =IFERROR(INDEX('Apoio - Dados'!F:F,MATCH($B30,'Apoio - Dados'!E:E,0)),"") | H30: =IFERROR(INDEX(Produtividade!L:L,MATCH($B30,Produtividade!C:C,0)),"") | I30: =IFERROR(INDEX(Produtividade!M:M,MATCH($B30,Produtividade!C:C,0)),"") | J30: =IFERROR(INDEX(Produtividade!N:N,MATCH($B30,Produtividade!C:C,0)),"") | K30: =IFERROR(INDEX(Produtividade!O:O,MATCH($B30,Produtividade!C:C,0)),"")
B31: =IF( 'Apoio - Dados'!J4<>"", 'Apoio - Dados'!J4, "EXCLUIR ESTA LINHA") -> EXCLUIR ESTA LINHA | F31: =IFERROR(INDEX(Produtividade!B:B,MATCH($B31,Produtividade!C:C,0)),"") | G31: =IFERROR(INDEX('Apoio - Dados'!F:F,MATCH($B31,'Apoio - Dados'!E:E,0)),"") | H31: =IFERROR(INDEX(Produtividade!L:L,MATCH($B31,Produtividade!C:C,0)),"") | I31: =IFERROR(INDEX(Produtividade!M:M,MATCH($B31,Produtividade!C:C,0)),"") | J31: =IFERROR(INDEX(Produtividade!N:N,MATCH($B31,Produtividade!C:C,0)),"") | K31: =IFERROR(INDEX(Produtividade!O:O,MATCH($B31,Produtividade!C:C,0)),"")
B32: =IF( 'Apoio - Dados'!J5<>"", 'Apoio - Dados'!J5, "EXCLUIR ESTA LINHA") -> EXCLUIR ESTA LINHA | F32: =IFERROR(INDEX(Produtividade!B:B,MATCH($B32,Produtividade!C:C,0)),"") | G32: =IFERROR(INDEX('Apoio - Dados'!F:F,MATCH($B32,'Apoio - Dados'!E:E,0)),"") | H32: =IFERROR(INDEX(Produtividade!L:L,MATCH($B32,Produtividade!C:C,0)),"") | I32: =IFERROR(INDEX(Produtividade!M:M,MATCH($B32,Produtividade!C:C,0)),"") | J32: =IFERROR(INDEX(Produtividade!N:N,MATCH($B32,Produtividade!C:C,0)),"") | K32: =IFERROR(INDEX(Produtividade!O:O,MATCH($B32,Produtividade!C:C,0)),"")
B33: =IF( 'Apoio - Dados'!J6<>"", 'Apoio - Dados'!J6, "EXCLUIR ESTA LINHA") -> EXCLUIR ESTA LINHA | F33: =IFERROR(INDEX(Produtividade!B:B,MATCH($B33,Produtividade!C:C,0)),"") | G33: =IFERROR(INDEX('Apoio - Dados'!F:F,MATCH($B33,'Apoio - Dados'!E:E,0)),"") | H33: =IFERROR(INDEX(Produtividade!L:L,MATCH($B33,Produtividade!C:C,0)),"") | I33: =IFERROR(INDEX(Produtividade!M:M,MATCH($B33,Produtividade!C:C,0)),"") | J33: =IFERROR(INDEX(Produtividade!N:N,MATCH($B33,Produtividade!C:C,0)),"") | K33: =IFERROR(INDEX(Produtividade!O:O,MATCH($B33,Produtividade!C:C,0)),"")
B34: =IF( 'Apoio - Dados'!J7<>"", 'Apoio - Dados'!J7, "EXCLUIR ESTA LINHA") -> EXCLUIR ESTA LINHA | F34: =IFERROR(INDEX(Produtividade!B:B,MATCH($B34,Produtividade!C:C,0)),"") | G34: =IFERROR(INDEX('Apoio - Dados'!F:F,MATCH($B34,'Apoio - Dados'!E:E,0)),"") | H34: =IFERROR(INDEX(Produtividade!L:L,MATCH($B34,Produtividade!C:C,0)),"") | I34: =IFERROR(INDEX(Produtividade!M:M,MATCH($B34,Produtividade!C:C,0)),"") | J34: =IFERROR(INDEX(Produtividade!N:N,MATCH($B34,Produtividade!C:C,0)),"") | K34: =IFERROR(INDEX(Produtividade!O:O,MATCH($B34,Produtividade!C:C,0)),"")
B35: =IF( 'Apoio - Dados'!J8<>"", 'Apoio - Dados'!J8, "EXCLUIR ESTA LINHA") -> EXCLUIR ESTA LINHA | F35: =IFERROR(INDEX(Produtividade!B:B,MATCH($B35,Produtividade!C:C,0)),"") | G35: =IFERROR(INDEX('Apoio - Dados'!F:F,MATCH($B35,'Apoio - Dados'!E:E,0)),"") | H35: =IFERROR(INDEX(Produtividade!L:L,MATCH($B35,Produtividade!C:C,0)),"") | I35: =IFERROR(INDEX(Produtividade!M:M,MATCH($B35,Produtividade!C:C,0)),"") | J35: =IFERROR(INDEX(Produtividade!N:N,MATCH($B35,Produtividade!C:C,0)),"") | K35: =IFERROR(INDEX(Produtividade!O:O,MATCH($B35,Produtividade!C:C,0)),"")
B36: =IF( 'Apoio - Dados'!J9<>"", 'Apoio - Dados'!J9, "EXCLUIR ESTA LINHA") -> EXCLUIR ESTA LINHA | F36: =IFERROR(INDEX(Produtividade!B:B,MATCH($B36,Produtividade!C:C,0)),"") | G36: =IFERROR(INDEX('Apoio - Dados'!F:F,MATCH($B36,'Apoio - Dados'!E:E,0)),"") | H36: =IFERROR(INDEX(Produtividade!L:L,MATCH($B36,Produtividade!C:C,0)),"") | I36: =IFERROR(INDEX(Produtividade!M:M,MATCH($B36,Produtividade!C:C,0)),"") | J36: =IFERROR(INDEX(Produtividade!N:N,MATCH($B36,Produtividade!C:C,0)),"") | K36: =IFERROR(INDEX(Produtividade!O:O,MATCH($B36,Produtividade!C:C,0)),"")
B37: =IF( 'Apoio - Dados'!J10<>"", 'Apoio - Dados'!J10, "EXCLUIR ESTA LINHA") -> EXCLUIR ESTA LINHA | F37: =IFERROR(INDEX(Produtividade!B:B,MATCH($B37,Produtividade!C:C,0)),"") | G37: =IFERROR(INDEX('Apoio - Dados'!F:F,MATCH($B37,'Apoio - Dados'!E:E,0)),"") | H37: =IFERROR(INDEX(Produtividade!L:L,MATCH($B37,Produtividade!C:C,0)),"") | I37: =IFERROR(INDEX(Produtividade!M:M,MATCH($B37,Produtividade!C:C,0)),"") | J37: =IFERROR(INDEX(Produtividade!N:N,MATCH($B37,Produtividade!C:C,0)),"") | K37: =IFERROR(INDEX(Produtividade!O:O,MATCH($B37,Produtividade!C:C,0)),"")
B38: =IF( 'Apoio - Dados'!J11<>"", 'Apoio - Dados'!J11, "EXCLUIR ESTA LINHA") -> EXCLUIR ESTA LINHA | F38: =IFERROR(INDEX(Produtividade!B:B,MATCH($B38,Produtividade!C:C,0)),"") | G38: =IFERROR(INDEX('Apoio - Dados'!F:F,MATCH($B38,'Apoio - Dados'!E:E,0)),"") | H38: =IFERROR(INDEX(Produtividade!L:L,MATCH($B38,Produtividade!C:C,0)),"") | I38: =IFERROR(INDEX(Produtividade!M:M,MATCH($B38,Produtividade!C:C,0)),"") | J38: =IFERROR(INDEX(Produtividade!N:N,MATCH($B38,Produtividade!C:C,0)),"") | K38: =IFERROR(INDEX(Produtividade!O:O,MATCH($B38,Produtividade!C:C,0)),"")
H39: =SUM(H29:H38) -> 0 | J39: =SUM(J29:J38) -> 0 | K39: =SUM(K29:K38) -> 0
B41: DEMONSTRATIVO DOS CUSTOS DIRETOS E INDIRETOS
B42: Custos Diretos | J42: Custo mensal | K42: Custo total
B43: Custos com mão de obra | J43: =SUM( IFERROR(SUM(Produtividade!$E187:$XFD187),0), IFERROR(SUMPRODUCT('Mão de Obra'!$E$179:$XFD$179,'Mão de Obra'!$E$185:$XFD$185),0) ) -> 15934.84 | K43: =SUM( IFERROR(SUM('Mão de Obra'!E187:XS187),0), IFERROR(SUM(Produtividade!E187:XX187),0)) -> 191218.08
B44: Custos com uniformes e material individuais | J44: =SUM( IFERROR(SUMPRODUCT(Produtividade!E148:XFD148,Produtividade!$E$29:$XFD$29),0), IFERROR(SUMPRODUCT('Mão de Obra'!E148:XFD148,'Mão de Obra'!$E$29:$XFD$29,'Mão de Obra'!$E$185:$XFD$185),0) ) -> 463.45 | K44: =IFERROR(SUM( IFERROR(SUMPRODUCT('Mão de Obra'!E148:XFD148,'Mão de Obra'!$E$29:$XFD$29,'Mão de Obra'!$E$186:$XFD$186),0), IFERROR(SUMPRODUCT(Produtividade!E148:XFD148,Produtividade!$E$29:$XFD$29,Produtividade!$E$186:$XFD$186),0) ),"") -> 5561.4
B45: Custos material e equipamentos de uso coletivo | J45: =SUM( IFERROR(SUMPRODUCT(Produtividade!E149:XFD149,Produtividade!$E$29:$XFD$29),0), IFERROR(SUMPRODUCT('Mão de Obra'!E149:XFD149,'Mão de Obra'!$E$29:$XFD$29,'Mão de Obra'!$E$185:$XFD$185),0) ) -> 1207.95 | K45: =IFERROR(SUM( IFERROR(SUMPRODUCT('Mão de Obra'!E149:XFD149,'Mão de Obra'!$E$29:$XFD$29,'Mão de Obra'!$E$186:$XFD$186),0), IFERROR(SUMPRODUCT(Produtividade!E149:XFD149,Produtividade!$E$29:$XFD$29,Produtividade!$E$186:$XFD$186),0) ),"") -> 14495.4
B46: Custos com veículos | J46: =IFERROR(SUM(Veículos!E93:DG93),0) -> 3539.01 | K46: =IFERROR(J46*$J$6,0) -> 42468.12
...

Sheet Apoio - Regime de Trabalho
A1: Regime | B1: Funcionários por posto | C1: Contratação | D1: Horas noturnas Máximas | E1: Dias Semana | F1: Horas Semana | G1: Dias Mês | H1: Horas mês remuneradas | I1: Horas mês trabalhadas
A3: 12x36 Diurno | B3: 2 | C3: Mensal | D3: 7 | E3: - | G3: 15 | H3: 220 | I3: =G3*12 -> 180
A4: 12x36 Noturno | B4: 2 | C4: Mensal | D4: 7 | E4: - | G4: 15 | H4: 220 | I4: =G4*12 -> 180
A5: 4h (1 dia/sem) | B5: 1 | C5: Mensal | E5: 1 | F5: 4 | G5: =E5*4 -> 4 | H5: =F5*30/6 -> 20 | I5: =F5*4 -> 16
A6: 6h (1 dia/sem) | B6: 1 | C6: Mensal | E6: 1 | F6: 6 | G6: =E6*4 -> 4 | H6: =F6*30/6 -> 30 | I6: =F6*4 -> 24
A7: 8h (1 dia/sem) | B7: 1 | C7: Mensal | E7: 1 | F7: 8 | G7: =E7*4 -> 4 | H7: =F7*30/6 -> 40 | I7: =F7*4 -> 32
A8: 12h (2 dia/sem) | B8: 1 | C8: Mensal | E8: 2 | F8: 12 | G8: =E8*4 -> 8 | H8: =F8*30/6 -> 60 | I8: =F8*4 -> 48
A9: 16h (2 dia/sem) | B9: 1 | C9: Mensal | E9: 2 | F9: 16 | G9: =E9*4 -> 8 | H9: =F9*30/6 -> 80 | I9: =F9*4 -> 64
A10: 20h (5 dia/sem) | B10: 1 | C10: Mensal | D10: 10 | E10: 5 | F10: 20 | G10: =E10*4+2 -> 22 | H10: =F10*30/6 -> 100 | I10: =F10*4+2*4 -> 88
A11: 30h (5 dia/sem) | B11: 1 | C11: Mensal | D11: 10 | E11: 5 | F11: 30 | G11: =E11*4+2 -> 22 | H11: =F11*30/6 -> 150 | I11: =F11*4+2*6 -> 132
A12: 35h (5 dia/sem) | B12: 1 | C12: Mensal | E12: 5 | F12: 35 | G12: =E12*4+2 -> 22 | H12: 175 | I12: =F12*4+2*7 -> 154
A13: 36h (6 dia/sem) | B13: 1 | C13: Mensal | D13: 10 | E13: 6 | F13: 36 | G13: =E13*4+2 -> 26 | H13: =F13*30/6 -> 180 | I13: =F13*4+2*6 -> 156
A14: 40h (5 dia/sem) | B14: 1 | C14: Mensal | D14: 10 | E14: 5 | F14: 40 | G14: =E14*4+2 -> 22 | H14: =F14*30/6 -> 200 | I14: =F14*4+2*8 -> 176
A15: 44h (5 dia/sem) | B15: 1 | C15: Mensal | D15: 10 | E15: 5 | F15: 44 | G15: =E15*4+2 -> 22 | H15: =F15*30/6 -> 220 | I15: =F15*4+2*8 -> 192
A16: 44h (6 dia/sem) | B16: 1 | C16: Mensal | D16: 10 | E16: 6 | F16: 44 | G16: =E16*4+2 -> 26 | H16: =F16*30/6 -> 220 | I16: =F16*4+2*8 -> 192

Sheet Apoio - Notas Explicativas
C2: Composição da Remuneração
B3: A | C3: Dias na Semana | D3: 7
B4: B | C4: Dias no Ano | D4: 365
B5: C | C5: Dias no Mês | D5: 30
B6: D | C6: Semanas no Mês | D6: =D7/D8 -> 4.3333333 | F6: =""
B7: E | C7: Semanas no Ano | D7: 52
B8: F | C8: Meses no Ano | D8: 12
B9: G | C9: Hora Normal (em minutos) | D9: 60
B10: H | C10: Hora Noturna (em minutos) | D10: 52.5
D12: MEMÓRIA DE CÁLCULO | E12: FUNDAMENTO | F12: OBSERVAÇÕES | H12: Regime tributário
H13: Lucro Presumido | I13: Lucro Real | J13: Cooperativa | K13: Simples | L13: Simples | M13: Simples | N13: Simples | O13: Simples | P13: Simples | Q13: Considerado
K14: Faixa 1 | L14: Faixa 2 | M14: Faixa 3 | N14: Faixa 4 | O14: Faixa 5 | P14: Faixa 6
C15: Faturamento máximo | K15: 180000 | L15: 360000 | M15: 720000 | N15: 1800000 | O15: 3600000 | P15: 4800000 | Q15: =IF(IFERROR(SUM(Produtividade!L195:L220)>0,FALSE()),Produtividade!D13, IF(IFERROR(Veículos!$E$3<>"",FALSE()),'Mão de Obra'!D13,'Mão de Obra'!D13)) -> Lucro Presumido
C16: Valor a Deduzir | K16: 0 | L16: 9360 | M16: 17640 | N16: 35640 | O16: 125640 | P16: 648000 | Q16: =IF(Q15="Simples", IF(IFERROR(SUM(Produtividade!L195:L220)>0,FALSE()),Produtividade!D14, IF(IFERROR(Veículos!$E$3<>"",FALSE()),'Mão de Obra'!D14,'Mão de Obra'!D14)),"")
C17: Percentual da faixa | K17: 0.06 | L17: 0.112 | M17: 0.135 | N17: 0.16 | O17: 0.21 | P17: 0.33
C19: MÓDULO 1: COMPOSIÇÃO DA REMUNERAÇÃO
B20: A | C20: Salário Base Mensal | E20: Artigo 457 e 458 da CLT. | F20: Salário mensal definido em acordo, dissídio ou convenção coletiva de trabalho no momento da publicação do edital; quando houver necessidade de afastar o risco de selecionar colaboradores com capacitação inferior à necessária para a execução dos serviços, por meio de pesquisas de mercado, de dados obtidos junto a associações e sindicatos de cada categoria profissional e de informações divulgadas por outros órgãos públicos que tenham recentemente contratado o mesmo tipo de serviço. De acordo com o TCU, a fixação de remuneração mínima no edital somente é cabível, com restrições, nos casos de terceirização de mão de obra com alocação de postos de trabalho. Importante ainda que, como a planilha de custos é baseada em empregados mensalistas, consideram-se já remunerados os dias de repouso semanal no salário mensal nos termos do § 2º do art. 7º da Lei 605/1949.
B21: B | C21: Adicional Periculosidade | D21: Salário Base x 30% | E21: Súmula 132 TST. Artigo 193 a 197 da CLT. Artigo 7º, inciso XXIII da CF. NR 16 do MTE. | F21: O percentual definido pelo art. 193 da CLT, deve ser calculados sobre salário base sem os acréscimos resultantes de gratificações, prêmios ou participações nos lucros da empresa, com exceção à categoria dos eletricitários, em que o cálculo deverá ser feito sobre a totalidade das parcelas de natureza salarial. A caracterização e a classificação da periculosidade far-se-ão por meio de perícia a cargo de Médico do Trabalho ou Engenheiro do Trabalho registrados no Ministério do Trabalho. A Norma Regulamentadora nº 16 estabelece em seus anexos as atividades e as operações perigosas que acarretam ao recebimento do adicional de periculosidade pelo empregado. As Leis Lei nºs 12.740/2012 e 12.997/2014 estenderam o adicional de periculosidade, respectivamente, às atividades profissionais de segurança pessoal ou patrimonial e trabalhador em motocicleta.
B22: C | C22: Adicional Insalubridade | D22: Salário Mínimo ou Base estipulado em instrumento coletivo x (10%, 20% ou 40%) | E22: Regras do instrumento coletivo da categoria, se houver. Artigo 189 a 192 da CLT (10%, 20% ou 40%). NR 15 do MTE. Súmula nº. 139 do TST. | F22: Os percentuais definidos pelo art. 192 da CLT, segundo as classificações nos graus máximo, médio e mínimo, devem ser calculados com base no salário mínimo, salvo critério mais vantajoso estabelecido em lei ou em instrumento coletivo de trabalho (Súmula Vinculante n. 4). O direito ao recebimento do adicional somente pode ser reconhecido mediante laudo pericial que aponte estar a atividade insalubre prevista na relação oficial elaborada pelo Ministério do Trabalho, tal como definido pela NR-15 da Portaria n. 3.214 de 1978.
B23: D | C23: Gratificação de Função | D23: Salário Base x % de incidência | E23: Informada na Convenção Coletiva de Trabalho da categoria profissional a ser contratada.
B24: E | C24: Adicional Noturno | D24: (Salário base + adicionais periculosidade/insalubridade) ÷ total de horas mensais (conforme jornada de trabalho da categoria) x 20% x qtde. de horas noturnas x qtde de dias laborados a noite). | E24: Artigo 73 da CLT e artigo 7º, inciso IX da CF. Súmula nº 60 do TST e OJ-SDI1-259 do TST. | F24: A jornada noturna é compreendida entre 22h da noite e 05h da manhã seguinte (considerando que a hora noturna corresponde a 52,5min) , com remuneração adicional de 20%, de acordo com o Art.73 da CLT.
B25: F | C25: Adicional de Hora Noturna Reduzida | D25: Qtde. de horas noturnas x qtde de dias laborados a noite x 0,142857 x (Salário base + adicionais periculosidade/insalubridade) ÷ total de horas mensais x 120%
B26: G | C26: Horas Extras (com adicionais) | D26: (Salário base + adicionais periculosidade/insalubridade/noturno ) ÷ total de horas mensais (conforme jornada de trabalho da categoria) x %de incidência x qtde. de horas extras mensal). | E26: Artigo 7º, inciso XVI, da CF/88. Artigo 59 da CLT. Súmulas 60 e 132 TST.
B27: H | C27: Descanso Semanal Remunerado | D27: (Adicional noturmo + Adicional de hora reduzida+Horas extras+ Adicional de troca de uniforme) x 20% | E27: Artigos 1º e 6º Lei nº 605/1949 | F27: Pagamento de 20% sobre as variáveis, conforme Cláusula 32ª da CCT 2018/2020 (adicional noturno, adicional de hora noturna reduzida e adicional para troca de uniforme).
B28: I | C28: Adicional de Troca de Uniforme | D28: (Salário base + adicionais periculosidade) ÷ (total de horas mensais (conforme jornada de trabalho da categoria) ÷ 6) x qtde de dias | E28: Súmula nº 366 do TST | F28: O tempo despreendido para a troca de uniforme será remunerado (5 minutos para colocar e 5 minutos para retirar) na proporção de 1/6 do valor da hora normal de trabalho.
B29: J | C29: Outras remunerações (especificar)
C31: MÓDULO 2 - ENCARGOS E BENEFÍCIOS ANUAIS, MENSAIS E DIÁRIOS
C33: SUBMÓDULO 2.1 - 13º Salário, Férias e Adicional de Férias
B34: A | C34: 13º salário | D34: ((1÷12) x 100) ≅ 8,33% | E34: Art. 7º, VIII, CF/88. Decreto n. 57.155, de 3/11/1965 | F34: Gratificação de Natal, instituída pela Lei nº 4.090, de 13 de julho de 1962. O percentual dessa rubrica pode ser obtido pelo cálculo: ((1/12) x 100) = 8,33%. | H34: =(1/12) -> 0.083333333 | I34: =(1/12) -> 0.083333333 | J34: =(1/12) -> 0.083333333 | K34: =(1/12) -> 0.083333333 | L34: =(1/12) -> 0.083333333 | M34: =(1/12) -> 0.083333333 | N34: =(1/12) -> 0.083333333 | O34: =(1/12) -> 0.083333333 | P34: =(1/12) -> 0.083333333 | Q34: =IFERROR(ROUND(IF($Q$15="Simples", INDEX(H34:P34,MATCH($Q$16,$H$16:$P$16,1)), INDEX(H34:P34,MATCH($Q$15,$H$13:$P$13,0)) ),4),"") -> 0.0833
B35: B | C35: Férias e Adicional de Férias | D35: ((1÷12) x 100) + ((1÷3) x (1÷12) x 100) ≅ 11,11% | E35: Art. 7º, XVII, CF/88; | F35: A Constituição Federal, em seu art. 7º, inciso XVII, prevê que as férias sejam pagas com adicional de, pelo menos, 1/3 (um terço) da remuneração do mês. Assim, a provisão para atender as despesas relativas as férias e adicional de férias corresponde a: ((1/12) x 100) + ((1/3) x (1/12) x 100) ≅ 11,11% | H35: =(1/12) +( 1/3)/12 -> 0.11111111 | I35: =(1/12) +( 1/3)/12 -> 0.11111111 | J35: =(1/12) +( 1/3)/12 -> 0.11111111 | K35: =(1/12) +( 1/3)/12 -> 0.11111111 | L35: =(1/12) +( 1/3)/12 -> 0.11111111 | M35: =(1/12) +( 1/3)/12 -> 0.11111111 | N35: =(1/12) +( 1/3)/12 -> 0.11111111 | O35: =(1/12) +( 1/3)/12 -> 0.11111111 | P35: =(1/12) +( 1/3)/12 -> 0.11111111 | Q35: =IFERROR(ROUND(IF($Q$15="Simples", INDEX(H35:P35,MATCH($Q$16,$H$16:$P$16,1)), INDEX(H35:P35,MATCH($Q$15,$H$13:$P$13,0)) ),4),"") -> 0.1111
B36: C | C36: Incidência no Submódulo 2.2 sobre 13º salário e Férias | D36: ((1÷12) x 100) + ((1÷12) x 100) + ((1÷3) x (1÷12) x 100) x Submódulo 2.2 | H36: =(H34+H35)*H49 -> 0.071555556 | I36: =(I34+I35)*I49 -> 0.071555556 | J36: =(J34+J35)*J49 -> 0.060277778 | K36: =(K34+K35)*K49 -> 0.060277778 | L36: =(L34+L35)*L49 -> 0.060277778 | M36: =(M34+M35)*M49 -> 0.060277778 | N36: =(N34+N35)*N49 -> 0.060277778 | O36: =(O34+O35)*O49 -> 0.060277778 | P36: =(P34+P35)*P49 -> 0.060277778 | Q36: =IFERROR(ROUND(IF($Q$15="Simples", INDEX(H36:P36,MATCH($Q$16,$H$16:$P$16,1)), INDEX(H36:P36,MATCH($Q$15,$H$13:$P$13,0)) ),4),"") -> 0.0716
C38: SUBMÓDULO 2.2- Encargos Previdenciários (GPS) e FGTS
B39: A | C39: INSS | E39: Art. 22, Inciso I, da Lei nº 8.212/91. (3) Lei 13.161/2015 - Contribuição Previdenciária sobre a Receita Bruta (CPRB) | H39: 0.2 | I39: 0.2 | J39: 0.2 | K39: 0.2 | L39: 0.2 | M39: 0.2 | N39: 0.2 | O39: 0.2 | P39: 0.2 | Q39: =IFERROR(ROUND(IF($Q$15="Simples", INDEX(H39:P39,MATCH($Q$16,$H$16:$P$16,1)), INDEX(H39:P39,MATCH($Q$15,$H$13:$P$13,0)) ),4),"") -> 0.2
B40: B | C40: SESI OU SESC | E40: Anexo II da IN RFB n. 971/09; art. 30 da Lei n° 8.036/90; art. 1°da Lei n° 8.154/90; art. 240 da Constituição Federal. | H40: 0.015 | I40: 0.015 | Q40: =IFERROR(ROUND(IF($Q$15="Simples", INDEX(H40:P40,MATCH($Q$16,$H$16:$P$16,1)), INDEX(H40:P40,MATCH($Q$15,$H$13:$P$13,0)) ),4),"") -> 0.015
B41: C | C41: SENAI OU SENAC | E41: Anexo II da IN RFB n. 971/09; Decreto n.º 2.318/86 | H41: 0.01 | I41: 0.01 | Q41: =IFERROR(ROUND(IF($Q$15="Simples", INDEX(H41:P41,MATCH($Q$16,$H$16:$P$16,1)), INDEX(H41:P41,MATCH($Q$15,$H$13:$P$13,0)) ),4),"") -> 0.01
B42: D | C42: INCRA | E42: Anexo II da IN RFB n. 971/09; Lei n.º 7.787/89; DL n.º 1.146/70; Lei Complementar nº 11/71. | H42: 0.002 | I42: 0.002 | Q42: =IFERROR(ROUND(IF($Q$15="Simples", INDEX(H42:P42,MATCH($Q$16,$H$16:$P$16,1)), INDEX(H42:P42,MATCH($Q$15,$H$13:$P$13,0)) ),4),"") -> 0.002
B43: E | C43: Salário educação | E43: Anexo II da IN RFB n. 971/09; art. 3°, inciso I do Decreto n° 87.043/1982; art. 15 – Lei nº 9.424/96; art. 1º § 1º - Decreto Nº 6.003/2006; art. 212 § 5º da Constituição Federal; Súmula Nº 732 do STF. | H43: 0.025 | I43: 0.025 | Q43: =IFERROR(ROUND(IF($Q$15="Simples", INDEX(H43:P43,MATCH($Q$16,$H$16:$P$16,1)), INDEX(H43:P43,MATCH($Q$15,$H$13:$P$13,0)) ),4),"") -> 0.025
B44: F | C44: FGTS | E44: Art. 15, Lei nº 8.036/90 e Art. 7º, III | H44: 0.08 | I44: 0.08 | J44: 0.08 | K44: 0.08 | L44: 0.08 | M44: 0.08 | N44: 0.08 | O44: 0.08 | P44: 0.08 | Q44: =IFERROR(ROUND(IF($Q$15="Simples", INDEX(H44:P44,MATCH($Q$16,$H$16:$P$16,1)), INDEX(H44:P44,MATCH($Q$15,$H$13:$P$13,0)) ),4),"") -> 0.08
