Workbook
Name Excel_BuiltIn_Print_Area: 'MAPA DE PREÇOS'!$N$6:$P$33

Sheet BASE EDITAL
B1: Item | C1: Cod. Mat. | D1: Especificação do Material | E1: Unidade | F1: Quant. | G1: Valor Unit. (R$) | H1: Valor Total (R$)
B2: 1 | C2: MS.6.0-A0101 | D2: Office Professional Plus ALng LSA
B3: 2 | C3: MS.6.0-A0004 | D3: Project Standard ALng LSA
B4: 3 | C4: MS.6.0-A1343 | D4: Project Professional ALng LSA 1 Server CAL
B5: 4 | C5: MS.6.0-A1506 | D5: Power BI Pro Sub Per User
B6: 5 | C6: MS.6.0-A0871 | D6: O365 E3 Sub Per User
B7: 6 | C7: MS.6.0-A1692 | D7: O365 E5 Sub Per User
B8: 7 | C8: MS.6.0-A0463 | D8: Planner & Project P3 Sub Per User
B9: 8 | C9: MS.6.0-A0491 | D9: Planner & Project P5 Sub Per User
B10: 9 | C10: MS.6.0-A1769 | D10: Planner P1 Sub Per User

Sheet BASE FORMAÇÃO
A1: Grupo de itens | B1: CÓDIGO | C1: DESCRIÇÃO | D1: UNIDADE | E1: PE ANTERIOR | F1: SITUAÇÃO | G1: SEI PE ANTERIOR | H1: ESTIMADO | I1: VALOR RP ATIVO | J1: VALOR ATA FRACASSADA/DESERTA | K1: CATMAT
A2: 1 | B2: MS.6.0-A0101 | C2: Office Professional Plus ALng LSA | D2: Unidade/Ano | H2: 368
A3: 1 | B3: MS.6.0-A0004 | C3: Project Standard ALng LSA | D3: Unidade/Ano | H3: 3
A4: 1 | B4: MS.6.0-A1343 | C4: Project Professional ALng LSA 1 Server CAL | D4: Unidade/Ano | H4: 16
A5: 1 | B5: MS.6.0-A1506 | C5: Power BI Pro Sub Per User | D5: Unidade/Mensal | H5: 81
A6: 1 | B6: MS.6.0-A0871 | C6: O365 E3 Sub Per User | D6: Unidade/Mensal | H6: 83
A7: 1 | B7: MS.6.0-A1692 | C7: O365 E5 Sub Per User | D7: Unidade/Mensal | H7: 3
A8: 1 | B8: MS.6.0-A0463 | C8: Planner & Project P3 Sub Per User | D8: Unidade/Mensal | H8: 41
A9: 1 | B9: MS.6.0-A0491 | C9: Planner & Project P5 Sub Per User | D9: Unidade/Mensal | H9: 3
A10: 1 | B10: MS.6.0-A1769 | C10: Planner P1 Sub Per User | D10: Unidade/Mensal | H10: 13

Sheet MAPA DE PREÇOS
E2: =CONCATENATE("PREFEITURA MUNICIPAL DE PORTO ALEGRE ",H5," MAPA DE PREÇOS - ", UPPER(TEXT(MAX('Tabela de Apoio'!A:A),"MMM/AA"))) -> PREFEITURA MUNICIPAL DE PORTO ALEGRE SECRETARIA MUNICIPAL DE PLANEJAMENTO E GESTÃO (SMPG) MAPA DE PREÇOS - FEV/26
E4: IDENTIFICAÇÃO DO PROCESSO LICITATÓRIO | L4: IDENTIFICAÇÃO DA FORMAÇÃO DE PREÇOS | R4: ORIENTAÇÕES:
E5: ORGÃO DEMANDANTE | H5: SECRETARIA MUNICIPAL DE PLANEJAMENTO E GESTÃO (SMPG) | L5: UNIDADE/SETOR | O5: UGFP-DLC | R5: Preencher no mínimo três preços oriundos de pelo menos duas fontes distintas. O preço estimado retornado será o menor valor entre média harmônica e mediana da cesta para o caso de somente preços de orçamento, devendo justificar.
E6: LICITAÇÃO | L6: RESPONSÁVEL | O6: Raul Cortês Scherer
B7: TRUE | E7: Nº PROCESSO | H7: 26.0.000101231-1 | L7: MATRÍCULA | O7: 166548001
B8: FALSE | E8: Nº DE ITENS | H8: 9 | L8: DATA FORMAÇÃO | O8: 46218 | R8: Destacar campos de preenchimento MÍNIMO
E9: TOTAL ESTIMADO | H9: =SUMIF(L:L,"TOTAL ITEM",M:M) -> 3321754
E11: Nº | G11: DESCRIÇÃO DO OBJETO | L11: PREÇO ESTIMADO | O11: PREÇOS OBTIDOS
P12: PREÇO 1 | Q12: PREÇO 2 | R12: PREÇO 3 | S12: PREÇO 4 | T12: PREÇO 5 | U12: PREÇO 6 | V12: PREÇO 7 | W12: PREÇO 8 | X12: PREÇO 9 | Y12: PREÇO 10 | Z12: PREÇO 11 | AA12: PREÇO 12 | AB12: PREÇO 13 | AC12: PREÇO 14 | AD12: PREÇO 15 | AE12: PREÇO 16 | AF12: PREÇO 17 | AG12: PREÇO 18 | AH12: PREÇO 19 | AI12: PREÇO 20
B15: =LARGE(IFERROR(IF(B13+1>$H$8,"",B13+1),""),1) -> 1 | C15: =IF(_xlfn.ISFORMULA(E19),MAX(INDEX('BASE FORMAÇÃO'!A:A,B15+1),1),E19) -> 1 | D15: =IFERROR(IF(C15=C5,D5+1,1),1) -> 1 | E15: ITEM | G15: Identificador SGD | H15: =INDEX('BASE FORMAÇÃO'!B:B,B15+1) -> MS.6.0-A0101 | I15: Identificador Microsoft | J15: 269-05623 | L15: PREÇO ESTIMADO | M15: =IF(OR(ISBLANK($O$8),ISBLANK($O$7),ISBLANK($H$8),ISBLANK($O$6),ISBLANK($O$5),ISBLANK($H$5)),"",IFERROR(IF(VLOOKUP(L15,L21:M30,2,FALSE)<1,ROUND(VLOOKUP(L15,L21:M30,2,FALSE),4),ROUND(VLOOKUP(L15,L21:M30,2,FALSE),2)),"")) -> 5716.26 | O15: ORIGINAL | P15: =1905.42*3 -> 5716.26
B16: =B15 -> 1 | C16: =C15 -> 1 | D16: =D15 -> 1 | E16: =D15 -> 1 | G16: DESCRIÇÃO | H16: =INDEX('BASE FORMAÇÃO'!C:C,B15+1) -> Office Professional Plus ALng LSA | O16: DATA | P16: 46118
B17: =B16 -> 1 | C17: =C16 -> 1 | D17: =D16 -> 1 | L17: QUANTIDADE | M17: =INDEX('BASE FORMAÇÃO'!H:H,B19+1) -> 368 | O17: PARÂMETRO | P17: Sítio especializado
B18: =B17 -> 1 | C18: =C17 -> 1 | D18: =D17 -> 1 | E18: LOTE | L18: UNIDADE | M18: =INDEX('BASE FORMAÇÃO'!D:D,B19+1) -> Unidade/Ano | O18: FONTE/LINK | P18: Catálogo SGD
B19: =B17 -> 1 | C19: =C17 -> 1 | D19: =D18 -> 1 | E19: =C15 -> 1 | G19: OBSERVAÇÕES | H19: Preços proporcionalizados de acordo com a vigência contratual | L19: COEF. VAR. | M19: =IFERROR(INDEX(I21:I33,MATCH(MAX(J21:J33),J21:J33,0)),"") -> 0 | O19: ATUALIZADO | P19: =IF(P15="","", IF(OR(P17="Orçamento",P16="",MAX('Tabela de Apoio'!$A:$A)<=P16), P15, (INDEX('Tabela de Apoio'!$B:$B,MATCH('MAPA DE PREÇOS'!$O$8,'Tabela de Apoio'!$A:$A,1))/INDEX('Tabela de Apoio'!$B:$B,MATCH('MAPA DE PREÇOS'!P16,'Tabela de Apoio'!$A:$A,1)-1))*P15)) -> 5716.26 | Q19: =IF(Q15="","", IF(OR(Q17="Orçamento",Q16="",MAX('Tabela de Apoio'!$A:$A)<=Q16), Q15, (INDEX('Tabela de Apoio'!$B:$B,MATCH('MAPA DE PREÇOS'!$O$8,'Tabela de Apoio'!$A:$A,1))/INDEX('Tabela de Apoio'!$B:$B,MATCH('MAPA DE PREÇOS'!Q16,'Tabela de Apoio'!$A:$A,1)-1))*Q15)) | R19: =IF(R15="","", IF(OR(R17="Orçamento",R16="",MAX('Tabela de Apoio'!$A:$A)<=R16), R15, (INDEX('Tabela de Apoio'!$B:$B,MATCH('MAPA DE PREÇOS'!$O$8,'Tabela de Apoio'!$A:$A,1))/INDEX('Tabela de Apoio'!$B:$B,MATCH('MAPA DE PREÇOS'!R16,'Tabela de Apoio'!$A:$A,1)-1))*R15)) | S19: =IF(S15="","", IF(OR(S17="Orçamento",S16="",MAX('Tabela de Apoio'!$A:$A)<=S16), S15, (INDEX('Tabela de Apoio'!$B:$B,MATCH('MAPA DE PREÇOS'!$O$8,'Tabela de Apoio'!$A:$A,1))/INDEX('Tabela de Apoio'!$B:$B,MATCH('MAPA DE PREÇOS'!S16,'Tabela de Apoio'!$A:$A,1)-1))*S15)) | T19: =IF(T15="","", IF(OR(T17="Orçamento",T16="",MAX('Tabela de Apoio'!$A:$A)<=T16), T15, (INDEX('Tabela de Apoio'!$B:$B,MATCH('MAPA DE PREÇOS'!$O$8,'Tabela de Apoio'!$A:$A,1))/INDEX('Tabela de Apoio'!$B:$B,MATCH('MAPA DE PREÇOS'!T16,'Tabela de Apoio'!$A:$A,1)-1))*T15)) | U19: =IF(U15="","", IF(OR(U17="Orçamento",U16="",MAX('Tabela de Apoio'!$A:$A)<=U16), U15, (INDEX('Tabela de Apoio'!$B:$B,MATCH('MAPA DE PREÇOS'!$O$8,'Tabela de Apoio'!$A:$A,1))/INDEX('Tabela de Apoio'!$B:$B,MATCH('MAPA DE PREÇOS'!U16,'Tabela de Apoio'!$A:$A,1)-1))*U15)) | V19: =IF(V15="","", IF(OR(V17="Orçamento",V16="",MAX('Tabela de Apoio'!$A:$A)<=V16), V15, (INDEX('Tabela de Apoio'!$B:$B,MATCH('MAPA DE PREÇOS'!$O$8,'Tabela de Apoio'!$A:$A,1))/INDEX('Tabela de Apoio'!$B:$B,MATCH('MAPA DE PREÇOS'!V16,'Tabela de Apoio'!$A:$A,1)-1))*V15)) | W19: =IF(W15="","", IF(OR(W17="Orçamento",W16="",MAX('Tabela de Apoio'!$A:$A)<=W16), W15, (INDEX('Tabela de Apoio'!$B:$B,MATCH('MAPA DE PREÇOS'!$O$8,'Tabela de Apoio'!$A:$A,1))/INDEX('Tabela de Apoio'!$B:$B,MATCH('MAPA DE PREÇOS'!W16,'Tabela de Apoio'!$A:$A,1)-1))*W15)) | ... AI19: =IF(AI15="","", IF(OR(AI17="Orçamento",AI16="",MAX('Tabela de Apoio'!$A:$A)<=AI16), AI15, (INDEX('Tabela de Apoio'!$B:$B,MATCH('MAPA DE PREÇOS'!$O$8,'Tabela de Apoio'!$A:$A,1))/INDEX('Tabela de Apoio'!$B:$B,MATCH('MAPA DE PREÇOS'!AI16,'Tabela de Apoio'!$A:$A,1)-1))*AI15))
B20: =B19 -> 1 | C20: =C19 -> 1 | D20: =D19 -> 1 | O20: P D CAIXAS | P20: =IF(IFERROR(VLOOKUP(P17,'Tabela de Apoio'!$D:$E,2,FALSE),1)=1,"",P21) | Q20: =IF(IFERROR(VLOOKUP(Q17,'Tabela de Apoio'!$D:$E,2,FALSE),1)=1,"",Q21) | R20: =IF(IFERROR(VLOOKUP(R17,'Tabela de Apoio'!$D:$E,2,FALSE),1)=1,"",R21) | S20: =IF(IFERROR(VLOOKUP(S17,'Tabela de Apoio'!$D:$E,2,FALSE),1)=1,"",S21) | T20: =IF(IFERROR(VLOOKUP(T17,'Tabela de Apoio'!$D:$E,2,FALSE),1)=1,"",T21) | U20: =IF(IFERROR(VLOOKUP(U17,'Tabela de Apoio'!$D:$E,2,FALSE),1)=1,"",U21) | V20: =IF(IFERROR(VLOOKUP(V17,'Tabela de Apoio'!$D:$E,2,FALSE),1)=1,"",V21) | W20: =IF(IFERROR(VLOOKUP(W17,'Tabela de Apoio'!$D:$E,2,FALSE),1)=1,"",W21) | ... AI20: =IF(IFERROR(VLOOKUP(AI17,'Tabela de Apoio'!$D:$E,2,FALSE),1)=1,"",AI21)
B21: =B20 -> 1 | C21: =C20 -> 1 | D21: =D20 -> 1 | H21: =COUNT($P21:$XX21) -> 1 | I21: =_xlfn.STDEV.P($P20:$XX21)/AVERAGE($P20:$XX21) -> 0 | J21: =ROW() -> 21 | L21: PREÇO ESTIMADO | M21: =IFERROR( IF(COUNTA(P15:AI15)=COUNTIF(P17:XX17,"Orçamento"),MIN(M26,M23), IF(M24<>"",M24, IF(M25<>"",M25, M23 ))),"") -> 5716.26 | O21: D CAIXAS | P21: =IFERROR(IF(P19="", "", IF(COUNT($P19:$XX19)<=4, P19, IF(OR(P19>(QUARTILE($P19:$XX19,3)+(QUARTILE($P19:$XX19,3)-QUARTILE($P19:$XX19,1))), P19<(QUARTILE($P19:$XX19,1)-(QUARTILE($P19:$XX19,3)-QUARTILE($P19:$XX19,1))) ), "DESCARTADO",P19) ) ),P19) -> 5716.26 | Q21: =IFERROR(IF(Q19="", "", IF(COUNT($P19:$XX19)<=4, Q19, IF(OR(Q19>(QUARTILE($P19:$XX19,3)+(QUARTILE($P19:$XX19,3)-QUARTILE($P19:$XX19,1))), Q19<(QUARTILE($P19:$XX19,1)-(QUARTILE($P19:$XX19,3)-QUARTILE($P19:$XX19,1))) ), "DESCARTADO",Q19) ) ),Q19) | R21: =IFERROR(IF(R19="", "", IF(COUNT($P19:$XX19)<=4, R19, IF(OR(R19>(QUARTILE($P19:$XX19,3)+(QUARTILE($P19:$XX19,3)-QUARTILE($P19:$XX19,1))), R19<(QUARTILE($P19:$XX19,1)-(QUARTILE($P19:$XX19,3)-QUARTILE($P19:$XX19,1))) ), "DESCARTADO",R19) ) ),R19) | S21: =IFERROR(IF(S19="", "", IF(COUNT($P19:$XX19)<=4, S19, IF(OR(S19>(QUARTILE($P19:$XX19,3)+(QUARTILE($P19:$XX19,3)-QUARTILE($P19:$XX19,1))), S19<(QUARTILE($P19:$XX19,1)-(QUARTILE($P19:$XX19,3)-QUARTILE($P19:$XX19,1))) ), "DESCARTADO",S19) ) ),S19) | T21: =IFERROR(IF(T19="", "", IF(COUNT($P19:$XX19)<=4, T19, IF(OR(T19>(QUARTILE($P19:$XX19,3)+(QUARTILE($P19:$XX19,3)-QUARTILE($P19:$XX19,1))), T19<(QUARTILE($P19:$XX19,1)-(QUARTILE($P19:$XX19,3)-QUARTILE($P19:$XX19,1))) ), "DESCARTADO",T19) ) ),T19) | U21: =IFERROR(IF(U19="", "", IF(COUNT($P19:$XX19)<=4, U19, IF(OR(U19>(QUARTILE($P19:$XX19,3)+(QUARTILE($P19:$XX19,3)-QUARTILE($P19:$XX19,1))), U19<(QUARTILE($P19:$XX19,1)-(QUARTILE($P19:$XX19,3)-QUARTILE($P19:$XX19,1))) ), "DESCARTADO",U19) ) ),U19) | V21: =IFERROR(IF(V19="", "", IF(COUNT($P19:$XX19)<=4, V19, IF(OR(V19>(QUARTILE($P19:$XX19,3)+(QUARTILE($P19:$XX19,3)-QUARTILE($P19:$XX19,1))), V19<(QUARTILE($P19:$XX19,1)-(QUARTILE($P19:$XX19,3)-QUARTILE($P19:$XX19,1))) ), "DESCARTADO",V19) ) ),V19) | W21: =IFERROR(IF(W19="", "", IF(COUNT($P19:$XX19)<=4, W19, IF(OR(W19>(QUARTILE($P19:$XX19,3)+(QUARTILE($P19:$XX19,3)-QUARTILE($P19:$XX19,1))), W19<(QUARTILE($P19:$XX19,1)-(QUARTILE($P19:$XX19,3)-QUARTILE($P19:$XX19,1))) ), "DESCARTADO",W19) ) ),W19) | ... AI21: =IFERROR(IF(AI19="", "", IF(COUNT($P19:$XX19)<=4, AI19, IF(OR(AI19>(QUARTILE($P19:$XX19,3)+(QUARTILE($P19:$XX19,3)-QUARTILE($P19:$XX19,1))), AI19<(QUARTILE($P19:$XX19,1)-(QUARTILE($P19:$XX19,3)-QUARTILE($P19:$XX19,1))) ), "DESCARTADO",AI19) ) ),AI19)
B22: =B21 -> 1 | C22: =C21 -> 1 | D22: =D21 -> 1 | L22: MÉDIA | M22: =AVERAGE($P21:$XX21) -> 5716.26 | O22: ="1 POND" -> 1 POND | P22: =IF(IFERROR(VLOOKUP(P17,'Tabela de Apoio'!$D:$E,2,FALSE),1)=1,"",P23) | Q22: =IF(IFERROR(VLOOKUP(Q17,'Tabela de Apoio'!$D:$E,2,FALSE),1)=1,"",Q23) | R22: =IF(IFERROR(VLOOKUP(R17,'Tabela de Apoio'!$D:$E,2,FALSE),1)=1,"",R23) | S22: =IF(IFERROR(VLOOKUP(S17,'Tabela de Apoio'!$D:$E,2,FALSE),1)=1,"",S23) | T22: =IF(IFERROR(VLOOKUP(T17,'Tabela de Apoio'!$D:$E,2,FALSE),1)=1,"",T23) | U22: =IF(IFERROR(VLOOKUP(U17,'Tabela de Apoio'!$D:$E,2,FALSE),1)=1,"",U23) | V22: =IF(IFERROR(VLOOKUP(V17,'Tabela de Apoio'!$D:$E,2,FALSE),1)=1,"",V23) | W22: =IF(IFERROR(VLOOKUP(W17,'Tabela de Apoio'!$D:$E,2,FALSE),1)=1,"",W23) | ... AI22: =IF(IFERROR(VLOOKUP(AI17,'Tabela de Apoio'!$D:$E,2,FALSE),1)=1,"",AI23)
B23: =B22 -> 1 | C23: =C22 -> 1 | D23: =D22 -> 1 | H23: =COUNT($P23:$XX23) -> 1 | I23: =_xlfn.STDEV.P($P22:$XX23)/AVERAGE($P22:$XX23) -> 0 | J23: =IF(AND(H23>2, OR(L15="MÉDIA SANEADA",L15="MEDIANA SANEADA", AND(L15="PREÇO ESTIMADO",NOT(AND(P17="Orçamento",COUNTA(P15:XX15)=COUNTIF(P17:XX17,"Orçamento")))))), ROW(),0) -> 0 | L23: MEDIANA | M23: =MEDIAN($P21:$XX21) -> 5716.26 | O23: ="1 RODADA" -> 1 RODADA | P23: =IF(P21="","",IF((_xlfn.STDEV.P($P20:$XX21)/AVERAGE($P20:$XX21))<=25%,P21,IF(OR(P21>(AVERAGE($P20:$XX21)+_xlfn.STDEV.P($P20:$XX21)),P21<(AVERAGE($P20:$XX21)-_xlfn.STDEV.P($P20:$XX21))),"DESCARTADO",P21))) -> 5716.26 | Q23: =IF(Q21="","",IF((_xlfn.STDEV.P($P20:$XX21)/AVERAGE($P20:$XX21))<=25%,Q21,IF(OR(Q21>(AVERAGE($P20:$XX21)+_xlfn.STDEV.P($P20:$XX21)),Q21<(AVERAGE($P20:$XX21)-_xlfn.STDEV.P($P20:$XX21))),"DESCARTADO",Q21))) | R23: =IF(R21="","",IF((_xlfn.STDEV.P($P20:$XX21)/AVERAGE($P20:$XX21))<=25%,R21,IF(OR(R21>(AVERAGE($P20:$XX21)+_xlfn.STDEV.P($P20:$XX21)),R21<(AVERAGE($P20:$XX21)-_xlfn.STDEV.P($P20:$XX21))),"DESCARTADO",R21))) | S23: =IF(S21="","",IF((_xlfn.STDEV.P($P20:$XX21)/AVERAGE($P20:$XX21))<=25%,S21,IF(OR(S21>(AVERAGE($P20:$XX21)+_xlfn.STDEV.P($P20:$XX21)),S21<(AVERAGE($P20:$XX21)-_xlfn.STDEV.P($P20:$XX21))),"DESCARTADO",S21))) | T23: =IF(T21="","",IF((_xlfn.STDEV.P($P20:$XX21)/AVERAGE($P20:$XX21))<=25%,T21,IF(OR(T21>(AVERAGE($P20:$XX21)+_xlfn.STDEV.P($P20:$XX21)),T21<(AVERAGE($P20:$XX21)-_xlfn.STDEV.P($P20:$XX21))),"DESCARTADO",T21))) | U23: =IF(U21="","",IF((_xlfn.STDEV.P($P20:$XX21)/AVERAGE($P20:$XX21))<=25%,U21,IF(OR(U21>(AVERAGE($P20:$XX21)+_xlfn.STDEV.P($P20:$XX21)),U21<(AVERAGE($P20:$XX21)-_xlfn.STDEV.P($P20:$XX21))),"DESCARTADO",U21))) | V23: =IF(V21="","",IF((_xlfn.STDEV.P($P20:$XX21)/AVERAGE($P20:$XX21))<=25%,V21,IF(OR(V21>(AVERAGE($P20:$XX21)+_xlfn.STDEV.P($P20:$XX21)),V21<(AVERAGE($P20:$XX21)-_xlfn.STDEV.P($P20:$XX21))),"DESCARTADO",V21))) | W23: =IF(W21="","",IF((_xlfn.STDEV.P($P20:$XX21)/AVERAGE($P20:$XX21))<=25%,W21,IF(OR(W21>(AVERAGE($P20:$XX21)+_xlfn.STDEV.P($P20:$XX21)),W21<(AVERAGE($P20:$XX21)-_xlfn.STDEV.P($P20:$XX21))),"DESCARTADO",W21))) | ... AI23: =IF(AI21="","",IF((_xlfn.STDEV.P($P20:$XX21)/AVERAGE($P20:$XX21))<=25%,AI21,IF(OR(AI21>(AVERAGE($P20:$XX21)+_xlfn.STDEV.P($P20:$XX21)),AI21<(AVERAGE($P20:$XX21)-_xlfn.STDEV.P($P20:$XX21))),"DESCARTADO",AI21)))
B24: =B23 -> 1 | C24: =C23 -> 1 | D24: =D23 -> 1 | L24: MÉDIA SANEADA | M24: =IFERROR( IF(AND(H23>2,I23<=25%),AVERAGE(P22:XX23), IF(AND(H25>2,I25<=25%),AVERAGE(P24:XX25), IF(AND(H27>2,I27<=25%),AVERAGE(P26:XX27), IF(AND(H29>2,I29<=25%),AVERAGE(P28:XX29), IF(AND(H31>2,I31<=25%),AVERAGE(P30:XX31), IF(AND(H33>2,I33<=25%),AVERAGE(P32:XX33), IF(I21<=25%,AVERAGE(P20:XX21),""))))))),"") -> 5716.26 | O24: ="2 POND" -> 2 POND | P24: =IF(IFERROR(VLOOKUP(P17,'Tabela de Apoio'!$D:$E,2,FALSE),1)=1,"",P25) | Q24: =IF(IFERROR(VLOOKUP(Q17,'Tabela de Apoio'!$D:$E,2,FALSE),1)=1,"",Q25) | R24: =IF(IFERROR(VLOOKUP(R17,'Tabela de Apoio'!$D:$E,2,FALSE),1)=1,"",R25) | S24: =IF(IFERROR(VLOOKUP(S17,'Tabela de Apoio'!$D:$E,2,FALSE),1)=1,"",S25) | T24: =IF(IFERROR(VLOOKUP(T17,'Tabela de Apoio'!$D:$E,2,FALSE),1)=1,"",T25) | U24: =IF(IFERROR(VLOOKUP(U17,'Tabela de Apoio'!$D:$E,2,FALSE),1)=1,"",U25) | V24: =IF(IFERROR(VLOOKUP(V17,'Tabela de Apoio'!$D:$E,2,FALSE),1)=1,"",V25) | W24: =IF(IFERROR(VLOOKUP(W17,'Tabela de Apoio'!$D:$E,2,FALSE),1)=1,"",W25) | ... AI24: =IF(IFERROR(VLOOKUP(AI17,'Tabela de Apoio'!$D:$E,2,FALSE),1)=1,"",AI25)
B25: =B24 -> 1 | C25: =C24 -> 1 | D25: =D24 -> 1 | H25: =COUNT($P25:$XX25) -> 1 | I25: =_xlfn.STDEV.P($P24:$XX25)/AVERAGE($P24:$XX25) -> 0 | J25: =IF(AND(H25>2, OR(L15="MÉDIA SANEADA",L15="MEDIANA SANEADA", AND(L15="PREÇO ESTIMADO",NOT(AND(P17="Orçamento",COUNTA(P15:XX15)=COUNTIF(P17:XX17,"Orçamento")))))), ROW(),0) -> 0 | L25: MEDIANA SANEADA | M25: =IF(H23>2,MEDIAN(P22:XX23), IF(H25>2,MEDIAN(P24:XX25), IF(H27>2,MEDIAN(P26:XX27), IF(H29>2,MEDIAN(P28:XX29), IF(H31>2,MEDIAN(P30:XX31), IF(H33>2,MEDIAN(P32:XX33), MEDIAN(P20:XX21))))))) -> 5716.26 | O25: ="2 RODADA" -> 2 RODADA | P25: =IF(P23="","",IF((_xlfn.STDEV.P($P22:$XX23)/AVERAGE($P22:$XX23))<=25%,P23,IF(OR(P23>(AVERAGE($P22:$XX23)+_xlfn.STDEV.P($P22:$XX23)),P23<(AVERAGE($P22:$XX23)-_xlfn.STDEV.P($P22:$XX23))),"DESCARTADO",P23))) -> 5716.26 | Q25: =IF(Q23="","",IF((_xlfn.STDEV.P($P22:$XX23)/AVERAGE($P22:$XX23))<=25%,Q23,IF(OR(Q23>(AVERAGE($P22:$XX23)+_xlfn.STDEV.P($P22:$XX23)),Q23<(AVERAGE($P22:$XX23)-_xlfn.STDEV.P($P22:$XX23))),"DESCARTADO",Q23))) | R25: =IF(R23="","",IF((_xlfn.STDEV.P($P22:$XX23)/AVERAGE($P22:$XX23))<=25%,R23,IF(OR(R23>(AVERAGE($P22:$XX23)+_xlfn.STDEV.P($P22:$XX23)),R23<(AVERAGE($P22:$XX23)-_xlfn.STDEV.P($P22:$XX23))),"DESCARTADO",R23))) | S25: =IF(S23="","",IF((_xlfn.STDEV.P($P22:$XX23)/AVERAGE($P22:$XX23))<=25%,S23,IF(OR(S23>(AVERAGE($P22:$XX23)+_xlfn.STDEV.P($P22:$XX23)),S23<(AVERAGE($P22:$XX23)-_xlfn.STDEV.P($P22:$XX23))),"DESCARTADO",S23))) | T25: =IF(T23="","",IF((_xlfn.STDEV.P($P22:$XX23)/AVERAGE($P22:$XX23))<=25%,T23,IF(OR(T23>(AVERAGE($P22:$XX23)+_xlfn.STDEV.P($P22:$XX23)),T23<(AVERAGE($P22:$XX23)-_xlfn.STDEV.P($P22:$XX23))),"DESCARTADO",T23))) | U25: =IF(U23="","",IF((_xlfn.STDEV.P($P22:$XX23)/AVERAGE($P22:$XX23))<=25%,U23,IF(OR(U23>(AVERAGE($P22:$XX23)+_xlfn.STDEV.P($P22:$XX23)),U23<(AVERAGE($P22:$XX23)-_xlfn.STDEV.P($P22:$XX23))),"DESCARTADO",U23))) | V25: =IF(V23="","",IF((_xlfn.STDEV.P($P22:$XX23)/AVERAGE($P22:$XX23))<=25%,V23,IF(OR(V23>(AVERAGE($P22:$XX23)+_xlfn.STDEV.P($P22:$XX23)),V23<(AVERAGE($P22:$XX23)-_xlfn.STDEV.P($P22:$XX23))),"DESCARTADO",V23))) | W25: =IF(W23="","",IF((_xlfn.STDEV.P($P22:$XX23)/AVERAGE($P22:$XX23))<=25%,W23,IF(OR(W23>(AVERAGE($P22:$XX23)+_xlfn.STDEV.P($P22:$XX23)),W23<(AVERAGE($P22:$XX23)-_xlfn.STDEV.P($P22:$XX23))),"DESCARTADO",W23))) | ... AI25: =IF(AI23="","",IF((_xlfn.STDEV.P($P22:$XX23)/AVERAGE($P22:$XX23))<=25%,AI23,IF(OR(AI23>(AVERAGE($P22:$XX23)+_xlfn.STDEV.P($P22:$XX23)),AI23<(AVERAGE($P22:$XX23)-_xlfn.STDEV.P($P22:$XX23))),"DESCARTADO",AI23)))
B26: =B25 -> 1 | C26: =C25 -> 1 | D26: =D25 -> 1 | L26: MÉDIA HARMÔNICA | M26: =HARMEAN($P20:$XX21) -> 5716.26 | O26: ="3 POND" -> 3 POND | P26: =IF(IFERROR(VLOOKUP(P17,'Tabela de Apoio'!$D:$E,2,FALSE),1)=1,"",P27) | Q26: =IF(IFERROR(VLOOKUP(Q17,'Tabela de Apoio'!$D:$E,2,FALSE),1)=1,"",Q27) | R26: =IF(IFERROR(VLOOKUP(R17,'Tabela de Apoio'!$D:$E,2,FALSE),1)=1,"",R27) | S26: =IF(IFERROR(VLOOKUP(S17,'Tabela de Apoio'!$D:$E,2,FALSE),1)=1,"",S27) | T26: =IF(IFERROR(VLOOKUP(T17,'Tabela de Apoio'!$D:$E,2,FALSE),1)=1,"",T27) | U26: =IF(IFERROR(VLOOKUP(U17,'Tabela de Apoio'!$D:$E,2,FALSE),1)=1,"",U27) | V26: =IF(IFERROR(VLOOKUP(V17,'Tabela de Apoio'!$D:$E,2,FALSE),1)=1,"",V27) | W26: =IF(IFERROR(VLOOKUP(W17,'Tabela de Apoio'!$D:$E,2,FALSE),1)=1,"",W27) | ... AI26: =IF(IFERROR(VLOOKUP(AI17,'Tabela de Apoio'!$D:$E,2,FALSE),1)=1,"",AI27)
B27: =B26 -> 1 | C27: =C26 -> 1 | D27: =D26 -> 1 | H27: =COUNT($P27:$XX27) -> 1 | I27: =_xlfn.STDEV.P($P26:$XX27)/AVERAGE($P26:$XX27) -> 0 | J27: =IF(AND(H27>2, OR(L15="MÉDIA SANEADA",L15="MEDIANA SANEADA", AND(L15="PREÇO ESTIMADO",NOT(AND(P17="Orçamento",COUNTA(P15:XX15)=COUNTIF(P17:XX17,"Orçamento")))))), ROW(),0) -> 0 | L27: PRIMEIRO QUARTIL | M27: =IFERROR(_xlfn.QUARTILE.EXC($P21:$XX21,1),"") | O27: ="3 RODADA" -> 3 RODADA | P27: =IF(P25="","",IF((_xlfn.STDEV.P($P24:$XX25)/AVERAGE($P24:$XX25))<=25%,P25,IF(OR(P25>(AVERAGE($P24:$XX25)+_xlfn.STDEV.P($P24:$XX25)),P25<(AVERAGE($P24:$XX25)-_xlfn.STDEV.P($P24:$XX25))),"DESCARTADO",P25))) -> 5716.26 | Q27: =IF(Q25="","",IF((_xlfn.STDEV.P($P24:$XX25)/AVERAGE($P24:$XX25))<=25%,Q25,IF(OR(Q25>(AVERAGE($P24:$XX25)+_xlfn.STDEV.P($P24:$XX25)),Q25<(AVERAGE($P24:$XX25)-_xlfn.STDEV.P($P24:$XX25))),"DESCARTADO",Q25))) | R27: =IF(R25="","",IF((_xlfn.STDEV.P($P24:$XX25)/AVERAGE($P24:$XX25))<=25%,R25,IF(OR(R25>(AVERAGE($P24:$XX25)+_xlfn.STDEV.P($P24:$XX25)),R25<(AVERAGE($P24:$XX25)-_xlfn.STDEV.P($P24:$XX25))),"DESCARTADO",R25))) | S27: =IF(S25="","",IF((_xlfn.STDEV.P($P24:$XX25)/AVERAGE($P24:$XX25))<=25%,S25,IF(OR(S25>(AVERAGE($P24:$XX25)+_xlfn.STDEV.P($P24:$XX25)),S25<(AVERAGE($P24:$XX25)-_xlfn.STDEV.P($P24:$XX25))),"DESCARTADO",S25))) | T27: =IF(T25="","",IF((_xlfn.STDEV.P($P24:$XX25)/AVERAGE($P24:$XX25))<=25%,T25,IF(OR(T25>(AVERAGE($P24:$XX25)+_xlfn.STDEV.P($P24:$XX25)),T25<(AVERAGE($P24:$XX25)-_xlfn.STDEV.P($P24:$XX25))),"DESCARTADO",T25))) | U27: =IF(U25="","",IF((_xlfn.STDEV.P($P24:$XX25)/AVERAGE($P24:$XX25))<=25%,U25,IF(OR(U25>(AVERAGE($P24:$XX25)+_xlfn.STDEV.P($P24:$XX25)),U25<(AVERAGE($P24:$XX25)-_xlfn.STDEV.P($P24:$XX25))),"DESCARTADO",U25))) | V27: =IF(V25="","",IF((_xlfn.STDEV.P($P24:$XX25)/AVERAGE($P24:$XX25))<=25%,V25,IF(OR(V25>(AVERAGE($P24:$XX25)+_xlfn.STDEV.P($P24:$XX25)),V25<(AVERAGE($P24:$XX25)-_xlfn.STDEV.P($P24:$XX25))),"DESCARTADO",V25))) | W27: =IF(W25="","",IF((_xlfn.STDEV.P($P24:$XX25)/AVERAGE($P24:$XX25))<=25%,W25,IF(OR(W25>(AVERAGE($P24:$XX25)+_xlfn.STDEV.P($P24:$XX25)),W25<(AVERAGE($P24:$XX25)-_xlfn.STDEV.P($P24:$XX25))),"DESCARTADO",W25))) | ... AI27: =IF(AI25="","",IF((_xlfn.STDEV.P($P24:$XX25)/AVERAGE($P24:$XX25))<=25%,AI25,IF(OR(AI25>(AVERAGE($P24:$XX25)+_xlfn.STDEV.P($P24:$XX25)),AI25<(AVERAGE($P24:$XX25)-_xlfn.STDEV.P($P24:$XX25))),"DESCARTADO",AI25)))
B28: =B27 -> 1 | C28: =C27 -> 1 | D28: =D27 -> 1 | L28: TERCEIRO QUARTIL | M28: =IFERROR(_xlfn.QUARTILE.EXC($P21:$XX21,3),"") | O28: ="4 POND" -> 4 POND | P28: =IF(IFERROR(VLOOKUP(P17,'Tabela de Apoio'!$D:$E,2,FALSE),1)=1,"",P29) | Q28: =IF(IFERROR(VLOOKUP(Q17,'Tabela de Apoio'!$D:$E,2,FALSE),1)=1,"",Q29) | R28: =IF(IFERROR(VLOOKUP(R17,'Tabela de Apoio'!$D:$E,2,FALSE),1)=1,"",R29) | S28: =IF(IFERROR(VLOOKUP(S17,'Tabela de Apoio'!$D:$E,2,FALSE),1)=1,"",S29) | T28: =IF(IFERROR(VLOOKUP(T17,'Tabela de Apoio'!$D:$E,2,FALSE),1)=1,"",T29) | U28: =IF(IFERROR(VLOOKUP(U17,'Tabela de Apoio'!$D:$E,2,FALSE),1)=1,"",U29) | V28: =IF(IFERROR(VLOOKUP(V17,'Tabela de Apoio'!$D:$E,2,FALSE),1)=1,"",V29) | W28: =IF(IFERROR(VLOOKUP(W17,'Tabela de Apoio'!$D:$E,2,FALSE),1)=1,"",W29) | ... AI28: =IF(IFERROR(VLOOKUP(AI17,'Tabela de Apoio'!$D:$E,2,FALSE),1)=1,"",AI29)
B29: =B28 -> 1 | C29: =C28 -> 1 | D29: =D28 -> 1 | H29: =COUNT($P29:$XX29) -> 1 | I29: =_xlfn.STDEV.P($P28:$XX29)/AVERAGE($P28:$XX29) -> 0 | J29: =IF(AND(H29>2, OR(L15="MÉDIA SANEADA",L15="MEDIANA SANEADA", AND(L15="PREÇO ESTIMADO",NOT(AND(P17="Orçamento",COUNTA(P15:XX15)=COUNTIF(P17:XX17,"Orçamento")))))), ROW(),0) -> 0 | L29: MENOR VALOR | M29: =MIN($P21:$XX21) -> 5716.26 | O29: ="4 RODADA" -> 4 RODADA | P29: =IF(P27="","",IF((_xlfn.STDEV.P($P26:$XX27)/AVERAGE($P26:$XX27))<=25%,P27,IF(OR(P27>(AVERAGE($P26:$XX27)+_xlfn.STDEV.P($P26:$XX27)),P27<(AVERAGE($P26:$XX27)-_xlfn.STDEV.P($P26:$XX27))),"DESCARTADO",P27))) -> 5716.26 | Q29: =IF(Q27="","",IF((_xlfn.STDEV.P($P26:$XX27)/AVERAGE($P26:$XX27))<=25%,Q27,IF(OR(Q27>(AVERAGE($P26:$XX27)+_xlfn.STDEV.P($P26:$XX27)),Q27<(AVERAGE($P26:$XX27)-_xlfn.STDEV.P($P26:$XX27))),"DESCARTADO",Q27))) | R29: =IF(R27="","",IF((_xlfn.STDEV.P($P26:$XX27)/AVERAGE($P26:$XX27))<=25%,R27,IF(OR(R27>(AVERAGE($P26:$XX27)+_xlfn.STDEV.P($P26:$XX27)),R27<(AVERAGE($P26:$XX27)-_xlfn.STDEV.P($P26:$XX27))),"DESCARTADO",R27))) | S29: =IF(S27="","",IF((_xlfn.STDEV.P($P26:$XX27)/AVERAGE($P26:$XX27))<=25%,S27,IF(OR(S27>(AVERAGE($P26:$XX27)+_xlfn.STDEV.P($P26:$XX27)),S27<(AVERAGE($P26:$XX27)-_xlfn.STDEV.P($P26:$XX27))),"DESCARTADO",S27))) | T29: =IF(T27="","",IF((_xlfn.STDEV.P($P26:$XX27)/AVERAGE($P26:$XX27))<=25%,T27,IF(OR(T27>(AVERAGE($P26:$XX27)+_xlfn.STDEV.P($P26:$XX27)),T27<(AVERAGE($P26:$XX27)-_xlfn.STDEV.P($P26:$XX27))),"DESCARTADO",T27))) | U29: =IF(U27="","",IF((_xlfn.STDEV.P($P26:$XX27)/AVERAGE($P26:$XX27))<=25%,U27,IF(OR(U27>(AVERAGE($P26:$XX27)+_xlfn.STDEV.P($P26:$XX27)),U27<(AVERAGE($P26:$XX27)-_xlfn.STDEV.P($P26:$XX27))),"DESCARTADO",U27))) | V29: =IF(V27="","",IF((_xlfn.STDEV.P($P26:$XX27)/AVERAGE($P26:$XX27))<=25%,V27,IF(OR(V27>(AVERAGE($P26:$XX27)+_xlfn.STDEV.P($P26:$XX27)),V27<(AVERAGE($P26:$XX27)-_xlfn.STDEV.P($P26:$XX27))),"DESCARTADO",V27))) | W29: =IF(W27="","",IF((_xlfn.STDEV.P($P26:$XX27)/AVERAGE($P26:$XX27))<=25%,W27,IF(OR(W27>(AVERAGE($P26:$XX27)+_xlfn.STDEV.P($P26:$XX27)),W27<(AVERAGE($P26:$XX27)-_xlfn.STDEV.P($P26:$XX27))),"DESCARTADO",W27))) | ... AI29: =IF(AI27="","",IF((_xlfn.STDEV.P($P26:$XX27)/AVERAGE($P26:$XX27))<=25%,AI27,IF(OR(AI27>(AVERAGE($P26:$XX27)+_xlfn.STDEV.P($P26:$XX27)),AI27<(AVERAGE($P26:$XX27)-_xlfn.STDEV.P($P26:$XX27))),"DESCARTADO",AI27)))
B30: =B29 -> 1 | C30: =C29 -> 1 | D30: =D29 -> 1 | L30: MAIOR VALOR | M30: =MAX($P21:$XX21) -> 5716.26 | O30: ="5 POND" -> 5 POND | P30: =IF(IFERROR(VLOOKUP(P17,'Tabela de Apoio'!$D:$E,2,FALSE),1)=1,"",P31) | Q30: =IF(IFERROR(VLOOKUP(Q17,'Tabela de Apoio'!$D:$E,2,FALSE),1)=1,"",Q31) | R30: =IF(IFERROR(VLOOKUP(R17,'Tabela de Apoio'!$D:$E,2,FALSE),1)=1,"",R31) | S30: =IF(IFERROR(VLOOKUP(S17,'Tabela de Apoio'!$D:$E,2,FALSE),1)=1,"",S31) | T30: =IF(IFERROR(VLOOKUP(T17,'Tabela de Apoio'!$D:$E,2,FALSE),1)=1,"",T31) | U30: =IF(IFERROR(VLOOKUP(U17,'Tabela de Apoio'!$D:$E,2,FALSE),1)=1,"",U31) | V30: =IF(IFERROR(VLOOKUP(V17,'Tabela de Apoio'!$D:$E,2,FALSE),1)=1,"",V31) | W30: =IF(IFERROR(VLOOKUP(W17,'Tabela de Apoio'!$D:$E,2,FALSE),1)=1,"",W31) | ... AI30: =IF(IFERROR(VLOOKUP(AI17,'Tabela de Apoio'!$D:$E,2,FALSE),1)=1,"",AI31)
B31: =B30 -> 1 | C31: =C30 -> 1 | D31: =D30 -> 1 | H31: =COUNT($P31:$XX31) -> 1 | I31: =_xlfn.STDEV.P($P30:$XX31)/AVERAGE($P30:$XX31) -> 0 | J31: =IF(AND(H31>2, OR(L15="MÉDIA SANEADA",L15="MEDIANA SANEADA", AND(L15="PREÇO ESTIMADO",NOT(AND(P17="Orçamento",COUNTA(P15:XX15)=COUNTIF(P17:XX17,"Orçamento")))))), ROW(),0) -> 0 | O31: ="5 RODADA" -> 5 RODADA | P31: =IF(P29="","",IF((_xlfn.STDEV.P($P28:$XX29)/AVERAGE($P28:$XX29))<=25%,P29,IF(OR(P29>(AVERAGE($P28:$XX29)+_xlfn.STDEV.P($P28:$XX29)),P29<(AVERAGE($P28:$XX29)-_xlfn.STDEV.P($P28:$XX29))),"DESCARTADO",P29))) -> 5716.26 | Q31: =IF(Q29="","",IF((_xlfn.STDEV.P($P28:$XX29)/AVERAGE($P28:$XX29))<=25%,Q29,IF(OR(Q29>(AVERAGE($P28:$XX29)+_xlfn.STDEV.P($P28:$XX29)),Q29<(AVERAGE($P28:$XX29)-_xlfn.STDEV.P($P28:$XX29))),"DESCARTADO",Q29))) | R31: =IF(R29="","",IF((_xlfn.STDEV.P($P28:$XX29)/AVERAGE($P28:$XX29))<=25%,R29,IF(OR(R29>(AVERAGE($P28:$XX29)+_xlfn.STDEV.P($P28:$XX29)),R29<(AVERAGE($P28:$XX29)-_xlfn.STDEV.P($P28:$XX29))),"DESCARTADO",R29))) | S31: =IF(S29="","",IF((_xlfn.STDEV.P($P28:$XX29)/AVERAGE($P28:$XX29))<=25%,S29,IF(OR(S29>(AVERAGE($P28:$XX29)+_xlfn.STDEV.P($P28:$XX29)),S29<(AVERAGE($P28:$XX29)-_xlfn.STDEV.P($P28:$XX29))),"DESCARTADO",S29))) | T31: =IF(T29="","",IF((_xlfn.STDEV.P($P28:$XX29)/AVERAGE($P28:$XX29))<=25%,T29,IF(OR(T29>(AVERAGE($P28:$XX29)+_xlfn.STDEV.P($P28:$XX29)),T29<(AVERAGE($P28:$XX29)-_xlfn.STDEV.P($P28:$XX29))),"DESCARTADO",T29))) | U31: =IF(U29="","",IF((_xlfn.STDEV.P($P28:$XX29)/AVERAGE($P28:$XX29))<=25%,U29,IF(OR(U29>(AVERAGE($P28:$XX29)+_xlfn.STDEV.P($P28:$XX29)),U29<(AVERAGE($P28:$XX29)-_xlfn.STDEV.P($P28:$XX29))),"DESCARTADO",U29))) | V31: =IF(V29="","",IF((_xlfn.STDEV.P($P28:$XX29)/AVERAGE($P28:$XX29))<=25%,V29,IF(OR(V29>(AVERAGE($P28:$XX29)+_xlfn.STDEV.P($P28:$XX29)),V29<(AVERAGE($P28:$XX29)-_xlfn.STDEV.P($P28:$XX29))),"DESCARTADO",V29))) | W31: =IF(W29="","",IF((_xlfn.STDEV.P($P28:$XX29)/AVERAGE($P28:$XX29))<=25%,W29,IF(OR(W29>(AVERAGE($P28:$XX29)+_xlfn.STDEV.P($P28:$XX29)),W29<(AVERAGE($P28:$XX29)-_xlfn.STDEV.P($P28:$XX29))),"DESCARTADO",W29))) | ... AI31: =IF(AI29="","",IF((_xlfn.STDEV.P($P28:$XX29)/AVERAGE($P28:$XX29))<=25%,AI29,IF(OR(AI29>(AVERAGE($P28:$XX29)+_xlfn.STDEV.P($P28:$XX29)),AI29<(AVERAGE($P28:$XX29)-_xlfn.STDEV.P($P28:$XX29))),"DESCARTADO",AI29)))
B32: =B31 -> 1 | C32: =C31 -> 1 | D32: =D31 -> 1 | O32: ="6 POND" -> 6 POND | P32: =IF(IFERROR(VLOOKUP(P17,'Tabela de Apoio'!$D:$E,2,FALSE),1)=1,"",P33) | Q32: =IF(IFERROR(VLOOKUP(Q17,'Tabela de Apoio'!$D:$E,2,FALSE),1)=1,"",Q33) | R32: =IF(IFERROR(VLOOKUP(R17,'Tabela de Apoio'!$D:$E,2,FALSE),1)=1,"",R33) | S32: =IF(IFERROR(VLOOKUP(S17,'Tabela de Apoio'!$D:$E,2,FALSE),1)=1,"",S33) | T32: =IF(IFERROR(VLOOKUP(T17,'Tabela de Apoio'!$D:$E,2,FALSE),1)=1,"",T33) | U32: =IF(IFERROR(VLOOKUP(U17,'Tabela de Apoio'!$D:$E,2,FALSE),1)=1,"",U33) | V32: =IF(IFERROR(VLOOKUP(V17,'Tabela de Apoio'!$D:$E,2,FALSE),1)=1,"",V33) | W32: =IF(IFERROR(VLOOKUP(W17,'Tabela de Apoio'!$D:$E,2,FALSE),1)=1,"",W33) | ... AI32: =IF(IFERROR(VLOOKUP(AI17,'Tabela de Apoio'!$D:$E,2,FALSE),1)=1,"",AI33)
B33: =B32 -> 1 | C33: =C32 -> 1 | D33: =D32 -> 1 | H33: =COUNT($P33:$XX33) -> 1 | I33: =_xlfn.STDEV.P($P32:$XX33)/AVERAGE($P32:$XX33) -> 0 | J33: =IF(AND(H33>2, OR(L15="MÉDIA SANEADA",L15="MEDIANA SANEADA", AND(L15="PREÇO ESTIMADO",NOT(AND(P17="Orçamento",COUNTA(P15:XX15)=COUNTIF(P17:XX17,"Orçamento")))))), ROW(),0) -> 0 | O33: ="6 RODADA" -> 6 RODADA | P33: =IFERROR(IF(P31="","",IF((_xlfn.STDEV.P($P30:$XX31)/AVERAGE($P30:$XX31))<=25%,P31,IF(OR(P31>(AVERAGE($P30:$XX31)+_xlfn.STDEV.P($P30:$XX31)),P31<(AVERAGE($P30:$XX31)-_xlfn.STDEV.P($P30:$XX31))),"DESCARTADO",P31))),) -> 5716.26 | Q33: =IFERROR(IF(Q31="","",IF((_xlfn.STDEV.P($P30:$XX31)/AVERAGE($P30:$XX31))<=25%,Q31,IF(OR(Q31>(AVERAGE($P30:$XX31)+_xlfn.STDEV.P($P30:$XX31)),Q31<(AVERAGE($P30:$XX31)-_xlfn.STDEV.P($P30:$XX31))),"DESCARTADO",Q31))),) | R33: =IFERROR(IF(R31="","",IF((_xlfn.STDEV.P($P30:$XX31)/AVERAGE($P30:$XX31))<=25%,R31,IF(OR(R31>(AVERAGE($P30:$XX31)+_xlfn.STDEV.P($P30:$XX31)),R31<(AVERAGE($P30:$XX31)-_xlfn.STDEV.P($P30:$XX31))),"DESCARTADO",R31))),) | S33: =IFERROR(IF(S31="","",IF((_xlfn.STDEV.P($P30:$XX31)/AVERAGE($P30:$XX31))<=25%,S31,IF(OR(S31>(AVERAGE($P30:$XX31)+_xlfn.STDEV.P($P30:$XX31)),S31<(AVERAGE($P30:$XX31)-_xlfn.STDEV.P($P30:$XX31))),"DESCARTADO",S31))),) | T33: =IFERROR(IF(T31="","",IF((_xlfn.STDEV.P($P30:$XX31)/AVERAGE($P30:$XX31))<=25%,T31,IF(OR(T31>(AVERAGE($P30:$XX31)+_xlfn.STDEV.P($P30:$XX31)),T31<(AVERAGE($P30:$XX31)-_xlfn.STDEV.P($P30:$XX31))),"DESCARTADO",T31))),) | U33: =IFERROR(IF(U31="","",IF((_xlfn.STDEV.P($P30:$XX31)/AVERAGE($P30:$XX31))<=25%,U31,IF(OR(U31>(AVERAGE($P30:$XX31)+_xlfn.STDEV.P($P30:$XX31)),U31<(AVERAGE($P30:$XX31)-_xlfn.STDEV.P($P30:$XX31))),"DESCARTADO",U31))),) | V33: =IFERROR(IF(V31="","",IF((_xlfn.STDEV.P($P30:$XX31)/AVERAGE($P30:$XX31))<=25%,V31,IF(OR(V31>(AVERAGE($P30:$XX31)+_xlfn.STDEV.P($P30:$XX31)),V31<(AVERAGE($P30:$XX31)-_xlfn.STDEV.P($P30:$XX31))),"DESCARTADO",V31))),) | W33: =IFERROR(IF(W31="","",IF((_xlfn.STDEV.P($P30:$XX31)/AVERAGE($P30:$XX31))<=25%,W31,IF(OR(W31>(AVERAGE($P30:$XX31)+_xlfn.STDEV.P($P30:$XX31)),W31<(AVERAGE($P30:$XX31)-_xlfn.STDEV.P($P30:$XX31))),"DESCARTADO",W31))),) | ... AI33: =IFERROR(IF(AI31="","",IF((_xlfn.STDEV.P($P30:$XX31)/AVERAGE($P30:$XX31))<=25%,AI31,IF(OR(AI31>(AVERAGE($P30:$XX31)+_xlfn.STDEV.P($P30:$XX31)),AI31<(AVERAGE($P30:$XX31)-_xlfn.STDEV.P($P30:$XX31))),"DESCARTADO",AI31))),)
B34: =B33 -> 1 | C34: =C33 -> 1 | D34: =D33 -> 1 | L34: TOTAL ITEM | M34: =IFERROR(ROUND(M15*M17,2),"") -> 2103583.7 | O34: CONSIDERADO | P34: =INDEX(P21:P33,MATCH(MAX($J21:$J33),$J21:$J33,0)) -> 5716.26 | Q34: =INDEX(Q21:Q33,MATCH(MAX($J21:$J33),$J21:$J33,0)) | R34: =INDEX(R21:R33,MATCH(MAX($J21:$J33),$J21:$J33,0)) | S34: =INDEX(S21:S33,MATCH(MAX($J21:$J33),$J21:$J33,0)) | T34: =INDEX(T21:T33,MATCH(MAX($J21:$J33),$J21:$J33,0)) | U34: =INDEX(U21:U33,MATCH(MAX($J21:$J33),$J21:$J33,0)) | V34: =INDEX(V21:V33,MATCH(MAX($J21:$J33),$J21:$J33,0)) | W34: =INDEX(W21:W33,MATCH(MAX($J21:$J33),$J21:$J33,0)) | ... AI34: =INDEX(AI21:AI33,MATCH(MAX($J21:$J33),$J21:$J33,0))
B36: =LARGE(IFERROR(IF(B34+1>$H$8,"",B34+1),""),1) -> 2 | C36: =IF(_xlfn.ISFORMULA(E40),MAX(INDEX('BASE FORMAÇÃO'!A:A,B36+1),1),E40) -> 1 | D36: =IFERROR(IF(C36=C26,D26+1,1),1) -> 2 | E36: ITEM | G36: Identificador SGD | H36: =INDEX('BASE FORMAÇÃO'!B:B,B36+1) -> MS.6.0-A0004 | I36: Identificador Microsoft | J36: 076-01776 | L36: PREÇO ESTIMADO | M36: =IF(OR(ISBLANK($O$8),ISBLANK($O$7),ISBLANK($H$8),ISBLANK($O$6),ISBLANK($O$5),ISBLANK($H$5)),"",IFERROR(IF(VLOOKUP(L36,L42:M51,2,FALSE)<1,ROUND(VLOOKUP(L36,L42:M51,2,FALSE),4),ROUND(VLOOKUP(L36,L42:M51,2,FALSE),2)),"")) -> 6776.46 | O36: ORIGINAL | P36: =2258.82*3 -> 6776.46
B37: =B36 -> 2 | C37: =C36 -> 1 | D37: =D36 -> 2 | E37: =D36 -> 2 | G37: DESCRIÇÃO | H37: =INDEX('BASE FORMAÇÃO'!C:C,B36+1) -> Project Standard ALng LSA | O37: DATA | P37: 46118
B38: =B37 -> 2 | C38: =C37 -> 1 | D38: =D37 -> 2 | L38: QUANTIDADE | M38: =INDEX('BASE FORMAÇÃO'!H:H,B40+1) -> 3 | O38: PARÂMETRO | P38: Sítio especializado
B39: =B38 -> 2 | C39: =C38 -> 1 | D39: =D38 -> 2 | E39: LOTE | L39: UNIDADE | M39: =INDEX('BASE FORMAÇÃO'!D:D,B40+1) -> Unidade/Ano | O39: FONTE/LINK | P39: Catálogo SGD
B40: =B38 -> 2 | C40: =C38 -> 1 | D40: =D39 -> 2 | E40: =C36 -> 1 | G40: OBSERVAÇÕES | H40: Preços proporcionalizados de acordo com a vigência contratual | L40: COEF. VAR. | M40: =IFERROR(INDEX(I42:I54,MATCH(MAX(J42:J54),J42:J54,0)),"") -> 0 | O40: ATUALIZADO | P40: =IF(P36="","", IF(OR(P38="Orçamento",P37="",MAX('Tabela de Apoio'!$A:$A)<=P37), P36, (INDEX('Tabela de Apoio'!$B:$B,MATCH('MAPA DE PREÇOS'!$O$8,'Tabela de Apoio'!$A:$A,1))/INDEX('Tabela de Apoio'!$B:$B,MATCH('MAPA DE PREÇOS'!P37,'Tabela de Apoio'!$A:$A,1)-1))*P36)) -> 6776.46 | Q40: =IF(Q36="","", IF(OR(Q38="Orçamento",Q37="",MAX('Tabela de Apoio'!$A:$A)<=Q37), Q36, (INDEX('Tabela de Apoio'!$B:$B,MATCH('MAPA DE PREÇOS'!$O$8,'Tabela de Apoio'!$A:$A,1))/INDEX('Tabela de Apoio'!$B:$B,MATCH('MAPA DE PREÇOS'!Q37,'Tabela de Apoio'!$A:$A,1)-1))*Q36)) | R40: =IF(R36="","", IF(OR(R38="Orçamento",R37="",MAX('Tabela de Apoio'!$A:$A)<=R37), R36, (INDEX('Tabela de Apoio'!$B:$B,MATCH('MAPA DE PREÇOS'!$O$8,'Tabela de Apoio'!$A:$A,1))/INDEX('Tabela de Apoio'!$B:$B,MATCH('MAPA DE PREÇOS'!R37,'Tabela de Apoio'!$A:$A,1)-1))*R36)) | S40: =IF(S36="","", IF(OR(S38="Orçamento",S37="",MAX('Tabela de Apoio'!$A:$A)<=S37), S36, (INDEX('Tabela de Apoio'!$B:$B,MATCH('MAPA DE PREÇOS'!$O$8,'Tabela de Apoio'!$A:$A,1))/INDEX('Tabela de Apoio'!$B:$B,MATCH('MAPA DE PREÇOS'!S37,'Tabela de Apoio'!$A:$A,1)-1))*S36)) | T40: =IF(T36="","", IF(OR(T38="Orçamento",T37="",MAX('Tabela de Apoio'!$A:$A)<=T37), T36, (INDEX('Tabela de Apoio'!$B:$B,MATCH('MAPA DE PREÇOS'!$O$8,'Tabela de Apoio'!$A:$A,1))/INDEX('Tabela de Apoio'!$B:$B,MATCH('MAPA DE PREÇOS'!T37,'Tabela de Apoio'!$A:$A,1)-1))*T36)) | U40: =IF(U36="","", IF(OR(U38="Orçamento",U37="",MAX('Tabela de Apoio'!$A:$A)<=U37), U36, (INDEX('Tabela de Apoio'!$B:$B,MATCH('MAPA DE PREÇOS'!$O$8,'Tabela de Apoio'!$A:$A,1))/INDEX('Tabela de Apoio'!$B:$B,MATCH('MAPA DE PREÇOS'!U37,'Tabela de Apoio'!$A:$A,1)-1))*U36)) | V40: =IF(V36="","", IF(OR(V38="Orçamento",V37="",MAX('Tabela de Apoio'!$A:$A)<=V37), V36, (INDEX('Tabela de Apoio'!$B:$B,MATCH('MAPA DE PREÇOS'!$O$8,'Tabela de Apoio'!$A:$A,1))/INDEX('Tabela de Apoio'!$B:$B,MATCH('MAPA DE PREÇOS'!V37,'Tabela de Apoio'!$A:$A,1)-1))*V36)) | W40: =IF(W36="","", IF(OR(W38="Orçamento",W37="",MAX('Tabela de Apoio'!$A:$A)<=W37), W36, (INDEX('Tabela de Apoio'!$B:$B,MATCH('MAPA DE PREÇOS'!$O$8,'Tabela de Apoio'!$A:$A,1))/INDEX('Tabela de Apoio'!$B:$B,MATCH('MAPA DE PREÇOS'!W37,'Tabela de Apoio'!$A:$A,1)-1))*W36)) | ... AI40: =IF(AI36="","", IF(OR(AI38="Orçamento",AI37="",MAX('Tabela de Apoio'!$A:$A)<=AI37), AI36, (INDEX('Tabela de Apoio'!$B:$B,MATCH('MAPA DE PREÇOS'!$O$8,'Tabela de Apoio'!$A:$A,1))/INDEX('Tabela de Apoio'!$B:$B,MATCH('MAPA DE PREÇOS'!AI37,'Tabela de Apoio'!$A:$A,1)-1))*AI36))
B41: =B40 -> 2 | C41: =C40 -> 1 | D41: =D40 -> 2 | O41: P D CAIXAS | P41: =IF(IFERROR(VLOOKUP(P38,'Tabela de Apoio'!$D:$E,2,FALSE),1)=1,"",P42) | Q41: =IF(IFERROR(VLOOKUP(Q38,'Tabela de Apoio'!$D:$E,2,FALSE),1)=1,"",Q42) | R41: =IF(IFERROR(VLOOKUP(R38,'Tabela de Apoio'!$D:$E,2,FALSE),1)=1,"",R42) | S41: =IF(IFERROR(VLOOKUP(S38,'Tabela de Apoio'!$D:$E,2,FALSE),1)=1,"",S42) | T41: =IF(IFERROR(VLOOKUP(T38,'Tabela de Apoio'!$D:$E,2,FALSE),1)=1,"",T42) | U41: =IF(IFERROR(VLOOKUP(U38,'Tabela de Apoio'!$D:$E,2,FALSE),1)=1,"",U42) | V41: =IF(IFERROR(VLOOKUP(V38,'Tabela de Apoio'!$D:$E,2,FALSE),1)=1,"",V42) | W41: =IF(IFERROR(VLOOKUP(W38,'Tabela de Apoio'!$D:$E,2,FALSE),1)=1,"",W42) | ... AI41: =IF(IFERROR(VLOOKUP(AI38,'Tabela de Apoio'!$D:$E,2,FALSE),1)=1,"",AI42)
B42: =B41 -> 2 | C42: =C41 -> 1 | D42: =D41 -> 2 | H42: =COUNT($P42:$XX42) -> 1 | I42: =_xlfn.STDEV.P($P41:$XX42)/AVERAGE($P41:$XX42) -> 0 | J42: =ROW() -> 42 | L42: PREÇO ESTIMADO | M42: =IFERROR( IF(COUNTA(P36:AI36)=COUNTIF(P38:XX38,"Orçamento"),MIN(M47,M44), IF(M45<>"",M45, IF(M46<>"",M46, M44 ))),"") -> 6776.46 | O42: D CAIXAS | P42: =IFERROR(IF(P40="", "", IF(COUNT($P40:$XX40)<=4, P40, IF(OR(P40>(QUARTILE($P40:$XX40,3)+(QUARTILE($P40:$XX40,3)-QUARTILE($P40:$XX40,1))), P40<(QUARTILE($P40:$XX40,1)-(QUARTILE($P40:$XX40,3)-QUARTILE($P40:$XX40,1))) ), "DESCARTADO",P40) ) ),P40) -> 6776.46 | Q42: =IFERROR(IF(Q40="", "", IF(COUNT($P40:$XX40)<=4, Q40, IF(OR(Q40>(QUARTILE($P40:$XX40,3)+(QUARTILE($P40:$XX40,3)-QUARTILE($P40:$XX40,1))), Q40<(QUARTILE($P40:$XX40,1)-(QUARTILE($P40:$XX40,3)-QUARTILE($P40:$XX40,1))) ), "DESCARTADO",Q40) ) ),Q40) | R42: =IFERROR(IF(R40="", "", IF(COUNT($P40:$XX40)<=4, R40, IF(OR(R40>(QUARTILE($P40:$XX40,3)+(QUARTILE($P40:$XX40,3)-QUARTILE($P40:$XX40,1))), R40<(QUARTILE($P40:$XX40,1)-(QUARTILE($P40:$XX40,3)-QUARTILE($P40:$XX40,1))) ), "DESCARTADO",R40) ) ),R40) | S42: =IFERROR(IF(S40="", "", IF(COUNT($P40:$XX40)<=4, S40, IF(OR(S40>(QUARTILE($P40:$XX40,3)+(QUARTILE($P40:$XX40,3)-QUARTILE($P40:$XX40,1))), S40<(QUARTILE($P40:$XX40,1)-(QUARTILE($P40:$XX40,3)-QUARTILE($P40:$XX40,1))) ), "DESCARTADO",S40) ) ),S40) | T42: =IFERROR(IF(T40="", "", IF(COUNT($P40:$XX40)<=4, T40, IF(OR(T40>(QUARTILE($P40:$XX40,3)+(QUARTILE($P40:$XX40,3)-QUARTILE($P40:$XX40,1))), T40<(QUARTILE($P40:$XX40,1)-(QUARTILE($P40:$XX40,3)-QUARTILE($P40:$XX40,1))) ), "DESCARTADO",T40) ) ),T40) | U42: =IFERROR(IF(U40="", "", IF(COUNT($P40:$XX40)<=4, U40, IF(OR(U40>(QUARTILE($P40:$XX40,3)+(QUARTILE($P40:$XX40,3)-QUARTILE($P40:$XX40,1))), U40<(QUARTILE($P40:$XX40,1)-(QUARTILE($P40:$XX40,3)-QUARTILE($P40:$XX40,1))) ), "DESCARTADO",U40) ) ),U40) | V42: =IFERROR(IF(V40="", "", IF(COUNT($P40:$XX40)<=4, V40, IF(OR(V40>(QUARTILE($P40:$XX40,3)+(QUARTILE($P40:$XX40,3)-QUARTILE($P40:$XX40,1))), V40<(QUARTILE($P40:$XX40,1)-(QUARTILE($P40:$XX40,3)-QUARTILE($P40:$XX40,1))) ), "DESCARTADO",V40) ) ),V40) | W42: =IFERROR(IF(W40="", "", IF(COUNT($P40:$XX40)<=4, W40, IF(OR(W40>(QUARTILE($P40:$XX40,3)+(QUARTILE($P40:$XX40,3)-QUARTILE($P40:$XX40,1))), W40<(QUARTILE($P40:$XX40,1)-(QUARTILE($P40:$XX40,3)-QUARTILE($P40:$XX40,1))) ), "DESCARTADO",W40) ) ),W40) | ... AI42: =IFERROR(IF(AI40="", "", IF(COUNT($P40:$XX40)<=4, AI40, IF(OR(AI40>(QUARTILE($P40:$XX40,3)+(QUARTILE($P40:$XX40,3)-QUARTILE($P40:$XX40,1))), AI40<(QUARTILE($P40:$XX40,1)-(QUARTILE($P40:$XX40,3)-QUARTILE($P40:$XX40,1))) ), "DESCARTADO",AI40) ) ),AI40)
B43: =B42 -> 2 | C43: =C42 -> 1 | D43: =D42 -> 2 | L43: MÉDIA | M43: =AVERAGE($P42:$XX42) -> 6776.46 | O43: ="1 POND" -> 1 POND | P43: =IF(IFERROR(VLOOKUP(P38,'Tabela de Apoio'!$D:$E,2,FALSE),1)=1,"",P44) | Q43: =IF(IFERROR(VLOOKUP(Q38,'Tabela de Apoio'!$D:$E,2,FALSE),1)=1,"",Q44) | R43: =IF(IFERROR(VLOOKUP(R38,'Tabela de Apoio'!$D:$E,2,FALSE),1)=1,"",R44) | S43: =IF(IFERROR(VLOOKUP(S38,'Tabela de Apoio'!$D:$E,2,FALSE),1)=1,"",S44) | T43: =IF(IFERROR(VLOOKUP(T38,'Tabela de Apoio'!$D:$E,2,FALSE),1)=1,"",T44) | U43: =IF(IFERROR(VLOOKUP(U38,'Tabela de Apoio'!$D:$E,2,FALSE),1)=1,"",U44) | V43: =IF(IFERROR(VLOOKUP(V38,'Tabela de Apoio'!$D:$E,2,FALSE),1)=1,"",V44) | W43: =IF(IFERROR(VLOOKUP(W38,'Tabela de Apoio'!$D:$E,2,FALSE),1)=1,"",W44) | ... AI43: =IF(IFERROR(VLOOKUP(AI38,'Tabela de Apoio'!$D:$E,2,FALSE),1)=1,"",AI44)
B44: =B43 -> 2 | C44: =C43 -> 1 | D44: =D43 -> 2 | H44: =COUNT($P44:$XX44) -> 1 | I44: =_xlfn.STDEV.P($P43:$XX44)/AVERAGE($P43:$XX44) -> 0 | J44: =IF(AND(H44>2, OR(L36="MÉDIA SANEADA",L36="MEDIANA SANEADA", AND(L36="PREÇO ESTIMADO",NOT(AND(P38="Orçamento",COUNTA(P36:XX36)=COUNTIF(P38:XX38,"Orçamento")))))), ROW(),0) -> 0 | L44: MEDIANA | M44: =MEDIAN($P42:$XX42) -> 6776.46 | O44: ="1 RODADA" -> 1 RODADA | P44: =IF(P42="","",IF((_xlfn.STDEV.P($P41:$XX42)/AVERAGE($P41:$XX42))<=25%,P42,IF(OR(P42>(AVERAGE($P41:$XX42)+_xlfn.STDEV.P($P41:$XX42)),P42<(AVERAGE($P41:$XX42)-_xlfn.STDEV.P($P41:$XX42))),"DESCARTADO",P42))) -> 6776.46 | Q44: =IF(Q42="","",IF((_xlfn.STDEV.P($P41:$XX42)/AVERAGE($P41:$XX42))<=25%,Q42,IF(OR(Q42>(AVERAGE($P41:$XX42)+_xlfn.STDEV.P($P41:$XX42)),Q42<(AVERAGE($P41:$XX42)-_xlfn.STDEV.P($P41:$XX42))),"DESCARTADO",Q42))) | R44: =IF(R42="","",IF((_xlfn.STDEV.P($P41:$XX42)/AVERAGE($P41:$XX42))<=25%,R42,IF(OR(R42>(AVERAGE($P41:$XX42)+_xlfn.STDEV.P($P41:$XX42)),R42<(AVERAGE($P41:$XX42)-_xlfn.STDEV.P($P41:$XX42))),"DESCARTADO",R42))) | S44: =IF(S42="","",IF((_xlfn.STDEV.P($P41:$XX42)/AVERAGE($P41:$XX42))<=25%,S42,IF(OR(S42>(AVERAGE($P41:$XX42)+_xlfn.STDEV.P($P41:$XX42)),S42<(AVERAGE($P41:$XX42)-_xlfn.STDEV.P($P41:$XX42))),"DESCARTADO",S42))) | T44: =IF(T42="","",IF((_xlfn.STDEV.P($P41:$XX42)/AVERAGE($P41:$XX42))<=25%,T42,IF(OR(T42>(AVERAGE($P41:$XX42)+_xlfn.STDEV.P($P41:$XX42)),T42<(AVERAGE($P41:$XX42)-_xlfn.STDEV.P($P41:$XX42))),"DESCARTADO",T42))) | U44: =IF(U42="","",IF((_xlfn.STDEV.P($P41:$XX42)/AVERAGE($P41:$XX42))<=25%,U42,IF(OR(U42>(AVERAGE($P41:$XX42)+_xlfn.STDEV.P($P41:$XX42)),U42<(AVERAGE($P41:$XX42)-_xlfn.STDEV.P($P41:$XX42))),"DESCARTADO",U42))) | V44: =IF(V42="","",IF((_xlfn.STDEV.P($P41:$XX42)/AVERAGE($P41:$XX42))<=25%,V42,IF(OR(V42>(AVERAGE($P41:$XX42)+_xlfn.STDEV.P($P41:$XX42)),V42<(AVERAGE($P41:$XX42)-_xlfn.STDEV.P($P41:$XX42))),"DESCARTADO",V42))) | W44: =IF(W42="","",IF((_xlfn.STDEV.P($P41:$XX42)/AVERAGE($P41:$XX42))<=25%,W42,IF(OR(W42>(AVERAGE($P41:$XX42)+_xlfn.STDEV.P($P41:$XX42)),W42<(AVERAGE($P41:$XX42)-_xlfn.STDEV.P($P41:$XX42))),"DESCARTADO",W42))) | ... AI44: =IF(AI42="","",IF((_xlfn.STDEV.P($P41:$XX42)/AVERAGE($P41:$XX42))<=25%,AI42,IF(OR(AI42>(AVERAGE($P41:$XX42)+_xlfn.STDEV.P($P41:$XX42)),AI42<(AVERAGE($P41:$XX42)-_xlfn.STDEV.P($P41:$XX42))),"DESCARTADO",AI42)))
B45: =B44 -> 2 | C45: =C44 -> 1 | D45: =D44 -> 2 | L45: MÉDIA SANEADA | M45: =IFERROR( IF(AND(H44>2,I44<=25%),AVERAGE(P43:XX44), IF(AND(H46>2,I46<=25%),AVERAGE(P45:XX46), IF(AND(H48>2,I48<=25%),AVERAGE(P47:XX48), IF(AND(H50>2,I50<=25%),AVERAGE(P49:XX50), IF(AND(H52>2,I52<=25%),AVERAGE(P51:XX52), IF(AND(H54>2,I54<=25%),AVERAGE(P53:XX54), IF(I42<=25%,AVERAGE(P41:XX42),""))))))),"") -> 6776.46 | O45: ="2 POND" -> 2 POND | P45: =IF(IFERROR(VLOOKUP(P38,'Tabela de Apoio'!$D:$E,2,FALSE),1)=1,"",P46) | Q45: =IF(IFERROR(VLOOKUP(Q38,'Tabela de Apoio'!$D:$E,2,FALSE),1)=1,"",Q46) | R45: =IF(IFERROR(VLOOKUP(R38,'Tabela de Apoio'!$D:$E,2,FALSE),1)=1,"",R46) | S45: =IF(IFERROR(VLOOKUP(S38,'Tabela de Apoio'!$D:$E,2,FALSE),1)=1,"",S46) | T45: =IF(IFERROR(VLOOKUP(T38,'Tabela de Apoio'!$D:$E,2,FALSE),1)=1,"",T46) | U45: =IF(IFERROR(VLOOKUP(U38,'Tabela de Apoio'!$D:$E,2,FALSE),1)=1,"",U46) | V45: =IF(IFERROR(VLOOKUP(V38,'Tabela de Apoio'!$D:$E,2,FALSE),1)=1,"",V46) | W45: =IF(IFERROR(VLOOKUP(W38,'Tabela de Apoio'!$D:$E,2,FALSE),1)=1,"",W46) | ... AI45: =IF(IFERROR(VLOOKUP(AI38,'Tabela de Apoio'!$D:$E,2,FALSE),1)=1,"",AI46)
B46: =B45 -> 2 | C46: =C45 -> 1 | D46: =D45 -> 2 | H46: =COUNT($P46:$XX46) -> 1 | I46: =_xlfn.STDEV.P($P45:$XX46)/AVERAGE($P45:$XX46) -> 0 | J46: =IF(AND(H46>2, OR(L36="MÉDIA SANEADA",L36="MEDIANA SANEADA", AND(L36="PREÇO ESTIMADO",NOT(AND(P38="Orçamento",COUNTA(P36:XX36)=COUNTIF(P38:XX38,"Orçamento")))))), ROW(),0) -> 0 | L46: MEDIANA SANEADA | M46: =IF(H44>2,MEDIAN(P43:XX44), IF(H46>2,MEDIAN(P45:XX46), IF(H48>2,MEDIAN(P47:XX48), IF(H50>2,MEDIAN(P49:XX50), IF(H52>2,MEDIAN(P51:XX52), IF(H54>2,MEDIAN(P53:XX54), MEDIAN(P41:XX42))))))) -> 6776.46 | O46: ="2 RODADA" -> 2 RODADA | P46: =IF(P44="","",IF((_xlfn.STDEV.P($P43:$XX44)/AVERAGE($P43:$XX44))<=25%,P44,IF(OR(P44>(AVERAGE($P43:$XX44)+_xlfn.STDEV.P($P43:$XX44)),P44<(AVERAGE($P43:$XX44)-_xlfn.STDEV.P($P43:$XX44))),"DESCARTADO",P44))) -> 6776.46 | Q46: =IF(Q44="","",IF((_xlfn.STDEV.P($P43:$XX44)/AVERAGE($P43:$XX44))<=25%,Q44,IF(OR(Q44>(AVERAGE($P43:$XX44)+_xlfn.STDEV.P($P43:$XX44)),Q44<(AVERAGE($P43:$XX44)-_xlfn.STDEV.P($P43:$XX44))),"DESCARTADO",Q44))) | R46: =IF(R44="","",IF((_xlfn.STDEV.P($P43:$XX44)/AVERAGE($P43:$XX44))<=25%,R44,IF(OR(R44>(AVERAGE($P43:$XX44)+_xlfn.STDEV.P($P43:$XX44)),R44<(AVERAGE($P43:$XX44)-_xlfn.STDEV.P($P43:$XX44))),"DESCARTADO",R44))) | S46: =IF(S44="","",IF((_xlfn.STDEV.P($P43:$XX44)/AVERAGE($P43:$XX44))<=25%,S44,IF(OR(S44>(AVERAGE($P43:$XX44)+_xlfn.STDEV.P($P43:$XX44)),S44<(AVERAGE($P43:$XX44)-_xlfn.STDEV.P($P43:$XX44))),"DESCARTADO",S44))) | T46: =IF(T44="","",IF((_xlfn.STDEV.P($P43:$XX44)/AVERAGE($P43:$XX44))<=25%,T44,IF(OR(T44>(AVERAGE($P43:$XX44)+_xlfn.STDEV.P($P43:$XX44)),T44<(AVERAGE($P43:$XX44)-_xlfn.STDEV.P($P43:$XX44))),"DESCARTADO",T44))) | U46: =IF(U44="","",IF((_xlfn.STDEV.P($P43:$XX44)/AVERAGE($P43:$XX44))<=25%,U44,IF(OR(U44>(AVERAGE($P43:$XX44)+_xlfn.STDEV.P($P43:$XX44)),U44<(AVERAGE($P43:$XX44)-_xlfn.STDEV.P($P43:$XX44))),"DESCARTADO",U44))) | V46: =IF(V44="","",IF((_xlfn.STDEV.P($P43:$XX44)/AVERAGE($P43:$XX44))<=25%,V44,IF(OR(V44>(AVERAGE($P43:$XX44)+_xlfn.STDEV.P($P43:$XX44)),V44<(AVERAGE($P43:$XX44)-_xlfn.STDEV.P($P43:$XX44))),"DESCARTADO",V44))) | W46: =IF(W44="","",IF((_xlfn.STDEV.P($P43:$XX44)/AVERAGE($P43:$XX44))<=25%,W44,IF(OR(W44>(AVERAGE($P43:$XX44)+_xlfn.STDEV.P($P43:$XX44)),W44<(AVERAGE($P43:$XX44)-_xlfn.STDEV.P($P43:$XX44))),"DESCARTADO",W44))) | ... AI46: =IF(AI44="","",IF((_xlfn.STDEV.P($P43:$XX44)/AVERAGE($P43:$XX44))<=25%,AI44,IF(OR(AI44>(AVERAGE($P43:$XX44)+_xlfn.STDEV.P($P43:$XX44)),AI44<(AVERAGE($P43:$XX44)-_xlfn.STDEV.P($P43:$XX44))),"DESCARTADO",AI44)))
...

Sheet EDITAL
E2: PREFEITURA MUNICIPAL DE PORTO ALEGRE
E3: ='MAPA DE PREÇOS'!H5 -> SECRETARIA MUNICIPAL DE PLANEJAMENTO E GESTÃO (SMPG)
B4: 1 | C4: lote | D4: item
B5: =IFERROR(IF(C4=C1,IF(B4+1<='MAPA DE PREÇOS'!$H$8,B4+1,""),B4),"") -> 1 | C5: =IFERROR(VLOOKUP(B5,'MAPA DE PREÇOS'!B:D,2,FALSE),"") -> 1 | D5: =IFERROR(VLOOKUP(B5,'MAPA DE PREÇOS'!B:D,3,FALSE),"") -> 1 | E5: =IF($B4="","",IF($C5=$C2,D5,IF($C5=$C3,"Item",IF(AND(MAX(C:C)>1,$C5=$C4),CONCATENATE("LOTE ",C5),""))))
B6: =IFERROR(IF(C5=C2,IF(B5+1<='MAPA DE PREÇOS'!$H$8,B5+1,""),B5),"") -> 1 | C6: =IFERROR(VLOOKUP(B6,'MAPA DE PREÇOS'!B:D,2,FALSE),"") -> 1 | D6: =IFERROR(VLOOKUP(B6,'MAPA DE PREÇOS'!B:D,3,FALSE),"") -> 1 | E6: =IF($B5="","",IF($C6=$C3,D6,IF($C6=$C4,"Item",IF(AND(MAX(C:C)>1,$C6=$C5),CONCATENATE("LOTE ",C6),"")))) | F6: =IF($B5="","",IF($C6=$C3,INDEX('MAPA DE PREÇOS'!$H:$H,MATCH($B6,'MAPA DE PREÇOS'!$B:$B)-19),IF($C6=$C4,"Código",""))) | G6: =IF($B5="","",IF($C6=$C3,IF('BASE EDITAL'!$D$2="",INDEX('MAPA DE PREÇOS'!H:H,MATCH(EDITAL!B6,'MAPA DE PREÇOS'!B:B,0)+1),UPPER(INDEX('BASE EDITAL'!$D:$D,EDITAL!B6+1))),IF($C6=$C4,"Especificação do Objeto",""))) | H6: =IF($B5="","",IF($C6=$C3,INDEX('MAPA DE PREÇOS'!$M:$M,MATCH($B6,'MAPA DE PREÇOS'!$B:$B)-16),IF($C6=$C4,"Unidade",""))) | I6: =IF($B5="","",IF($C6=$C3,INDEX('MAPA DE PREÇOS'!$M:$M,MATCH($B6,'MAPA DE PREÇOS'!$B:$B)-17),IF($C6=$C4,"Quant.",""))) | J6: =IF(AND(COUNTBLANK($B3:$B5)=2,$B5="",$B4="",MAX(C:C)>1),"Total Estimado",IF($B5="","",IF($C6=$C3,INDEX('MAPA DE PREÇOS'!$M:$M,MATCH($B6,'MAPA DE PREÇOS'!$B:$B)-19),IF($C6=$C4,"Valor Unit. (R$)",IF(AND($C6<>$C5,$J5<>""),IF(MAX(C:C)=1,"Total Estimado","Subtotal"),""))))) | K6: =IFERROR(IF(AND(COUNTBLANK($B3:$B5)=2,$B5="",$B4="",MAX(C:C)>1),SUM($K$3:K5)/2,IF($B5="","",IF($C6=$C3,ROUND(J6*I6,2),IF($C6=$C4,"Total Item (R$)",IF(AND($C6<>$C5,$J5<>""),SUMIFS(K:K,C:C,C5,J:J,"<>Subtotal"),""))))),"") | L6: =IF($B5="","",IF($C6=$C3,"",IF($C6=$C4,"Benefício ME/EPP","")))
B7: =IFERROR(IF(C6=C3,IF(B6+1<='MAPA DE PREÇOS'!$H$8,B6+1,""),B6),"") -> 1 | C7: =IFERROR(VLOOKUP(B7,'MAPA DE PREÇOS'!B:D,2,FALSE),"") -> 1 | D7: =IFERROR(VLOOKUP(B7,'MAPA DE PREÇOS'!B:D,3,FALSE),"") -> 1 | E7: =IF($B6="","",IF($C7=$C4,D7,IF($C7=$C5,"Item",IF(AND(MAX(C:C)>1,$C7=$C6),CONCATENATE("LOTE ",C7),"")))) -> Item | F7: =IF($B6="","",IF($C7=$C4,INDEX('MAPA DE PREÇOS'!$H:$H,MATCH($B7,'MAPA DE PREÇOS'!$B:$B)-19),IF($C7=$C5,"Código",""))) -> Código | G7: =IF($B6="","",IF($C7=$C4,IF('BASE EDITAL'!$D$2="",INDEX('MAPA DE PREÇOS'!H:H,MATCH(EDITAL!B7,'MAPA DE PREÇOS'!B:B,0)+1),UPPER(INDEX('BASE EDITAL'!$D:$D,EDITAL!B7+1))),IF($C7=$C5,"Especificação do Objeto",""))) -> Especificação do Objeto | H7: =IF($B6="","",IF($C7=$C4,INDEX('MAPA DE PREÇOS'!$M:$M,MATCH($B7,'MAPA DE PREÇOS'!$B:$B)-16),IF($C7=$C5,"Unidade",""))) -> Unidade | I7: =IF($B6="","",IF($C7=$C4,INDEX('MAPA DE PREÇOS'!$M:$M,MATCH($B7,'MAPA DE PREÇOS'!$B:$B)-17),IF($C7=$C5,"Quant.",""))) -> Quant. | J7: =IF(AND(COUNTBLANK($B4:$B6)=2,$B6="",$B5="",MAX(C:C)>1),"Total Estimado",IF($B6="","",IF($C7=$C4,INDEX('MAPA DE PREÇOS'!$M:$M,MATCH($B7,'MAPA DE PREÇOS'!$B:$B)-19),IF($C7=$C5,"Valor Unit. (R$)",IF(AND($C7<>$C6,$J6<>""),IF(MAX(C:C)=1,"Total Estimado","Subtotal"),""))))) -> Valor Unit. (R$) | K7: =IFERROR(IF(AND(COUNTBLANK($B4:$B6)=2,$B6="",$B5="",MAX(C:C)>1),SUM($K$3:K6)/2,IF($B6="","",IF($C7=$C4,ROUND(J7*I7,2),IF($C7=$C5,"Total Item (R$)",IF(AND($C7<>$C6,$J6<>""),SUMIFS(K:K,C:C,C6,J:J,"<>Subtotal"),""))))),"") -> Total Item (R$) | L7: =IF($B6="","",IF($C7=$C4,"",IF($C7=$C5,"Benefício ME/EPP",""))) -> Benefício ME/EPP
B8: =IFERROR(IF(C7=C4,IF(B7+1<='MAPA DE PREÇOS'!$H$8,B7+1,""),B7),"") -> 1 | C8: =IFERROR(VLOOKUP(B8,'MAPA DE PREÇOS'!B:D,2,FALSE),"") -> 1 | D8: =IFERROR(VLOOKUP(B8,'MAPA DE PREÇOS'!B:D,3,FALSE),"") -> 1 | E8: =IF($B7="","",IF($C8=$C5,D8,IF($C8=$C6,"Item",IF(AND(MAX(C:C)>1,$C8=$C7),CONCATENATE("LOTE ",C8),"")))) -> 1 | F8: =IF($B7="","",IF($C8=$C5,INDEX('MAPA DE PREÇOS'!$H:$H,MATCH($B8,'MAPA DE PREÇOS'!$B:$B)-19),IF($C8=$C6,"Código",""))) -> MS.6.0-A0101 | G8: =IF($B7="","",IF($C8=$C5,IF('BASE EDITAL'!$D$2="",INDEX('MAPA DE PREÇOS'!H:H,MATCH(EDITAL!B8,'MAPA DE PREÇOS'!B:B,0)+1),UPPER(INDEX('BASE EDITAL'!$D:$D,EDITAL!B8+1))),IF($C8=$C6,"Especificação do Objeto",""))) -> OFFICE PROFESSIONAL PLUS ALNG LSA | H8: =IF($B7="","",IF($C8=$C5,INDEX('MAPA DE PREÇOS'!$M:$M,MATCH($B8,'MAPA DE PREÇOS'!$B:$B)-16),IF($C8=$C6,"Unidade",""))) -> Unidade/Ano | I8: =IF($B7="","",IF($C8=$C5,INDEX('MAPA DE PREÇOS'!$M:$M,MATCH($B8,'MAPA DE PREÇOS'!$B:$B)-17),IF($C8=$C6,"Quant.",""))) -> 368 | J8: =IF(AND(COUNTBLANK($B5:$B7)=2,$B7="",$B6="",MAX(C:C)>1),"Total Estimado",IF($B7="","",IF($C8=$C5,INDEX('MAPA DE PREÇOS'!$M:$M,MATCH($B8,'MAPA DE PREÇOS'!$B:$B)-19),IF($C8=$C6,"Valor Unit. (R$)",IF(AND($C8<>$C7,$J7<>""),IF(MAX(C:C)=1,"Total Estimado","Subtotal"),""))))) -> 5716.26 | K8: =IFERROR(IF(AND(COUNTBLANK($B5:$B7)=2,$B7="",$B6="",MAX($C:$C)>1),SUM($K$3:K7)/2,IF($B7="","",IF($C8=$C5,ROUND(J8*I8,2),IF($C8=$C6,"Total Item (R$)",IF(AND($C8<>$C7,$J7<>""),SUMIFS(K:K,$C:$C,C7,J:J,"<>Subtotal"),""))))),"") -> 2103583.7 | L8: =IF($B7="","",IF($C8=$C5,"",IF($C8=$C6,"Benefício ME/EPP","")))
B9: =IFERROR(IF(C8=C5,IF(B8+1<='MAPA DE PREÇOS'!$H$8,B8+1,""),B8),"") -> 2 | C9: =IFERROR(VLOOKUP(B9,'MAPA DE PREÇOS'!B:D,2,FALSE),"") -> 1 | D9: =IFERROR(VLOOKUP(B9,'MAPA DE PREÇOS'!B:D,3,FALSE),"") -> 2 | E9: =IF($B8="","",IF($C9=$C6,D9,IF($C9=$C7,"Item",IF(AND(MAX(C:C)>1,$C9=$C8),CONCATENATE("LOTE ",C9),"")))) -> 2 | F9: =IF($B8="","",IF($C9=$C6,INDEX('MAPA DE PREÇOS'!$H:$H,MATCH($B9,'MAPA DE PREÇOS'!$B:$B)-19),IF($C9=$C7,"Código",""))) -> MS.6.0-A0004 | G9: =IF($B8="","",IF($C9=$C6,IF('BASE EDITAL'!$D$2="",INDEX('MAPA DE PREÇOS'!H:H,MATCH(EDITAL!B9,'MAPA DE PREÇOS'!B:B,0)+1),UPPER(INDEX('BASE EDITAL'!$D:$D,EDITAL!B9+1))),IF($C9=$C7,"Especificação do Objeto",""))) -> PROJECT STANDARD ALNG LSA | H9: =IF($B8="","",IF($C9=$C6,INDEX('MAPA DE PREÇOS'!$M:$M,MATCH($B9,'MAPA DE PREÇOS'!$B:$B)-16),IF($C9=$C7,"Unidade",""))) -> Unidade/Ano | I9: =IF($B8="","",IF($C9=$C6,INDEX('MAPA DE PREÇOS'!$M:$M,MATCH($B9,'MAPA DE PREÇOS'!$B:$B)-17),IF($C9=$C7,"Quant.",""))) -> 3 | J9: =IF(AND(COUNTBLANK($B6:$B8)=2,$B8="",$B7="",MAX(C:C)>1),"Total Estimado",IF($B8="","",IF($C9=$C6,INDEX('MAPA DE PREÇOS'!$M:$M,MATCH($B9,'MAPA DE PREÇOS'!$B:$B)-19),IF($C9=$C7,"Valor Unit. (R$)",IF(AND($C9<>$C8,$J8<>""),IF(MAX(C:C)=1,"Total Estimado","Subtotal"),""))))) -> 6776.46 | K9: =IFERROR(IF(AND(COUNTBLANK($B6:$B8)=2,$B8="",$B7="",MAX(C:C)>1),SUM($K$3:K8)/2,IF($B8="","",IF($C9=$C6,ROUND(J9*I9,2),IF($C9=$C7,"Total Item (R$)",IF(AND($C9<>$C8,$J8<>""),SUMIFS(K:K,C:C,C8,J:J,"<>Subtotal"),""))))),"") -> 20329.38 | L9: =IF($B8="","",IF($C9=$C6,"",IF($C9=$C7,"Benefício ME/EPP","")))
B10: =IFERROR(IF(C9=C6,IF(B9+1<='MAPA DE PREÇOS'!$H$8,B9+1,""),B9),"") -> 3 | C10: =IFERROR(VLOOKUP(B10,'MAPA DE PREÇOS'!B:D,2,FALSE),"") -> 1 | D10: =IFERROR(VLOOKUP(B10,'MAPA DE PREÇOS'!B:D,3,FALSE),"") -> 3 | E10: =IF($B9="","",IF($C10=$C7,D10,IF($C10=$C8,"Item",IF(AND(MAX(C:C)>1,$C10=$C9),CONCATENATE("LOTE ",C10),"")))) -> 3 | F10: =IF($B9="","",IF($C10=$C7,INDEX('MAPA DE PREÇOS'!$H:$H,MATCH($B10,'MAPA DE PREÇOS'!$B:$B)-19),IF($C10=$C8,"Código",""))) -> MS.6.0-A1343 | G10: =IF($B9="","",IF($C10=$C7,IF('BASE EDITAL'!$D$2="",INDEX('MAPA DE PREÇOS'!H:H,MATCH(EDITAL!B10,'MAPA DE PREÇOS'!B:B,0)+1),UPPER(INDEX('BASE EDITAL'!$D:$D,EDITAL!B10+1))),IF($C10=$C8,"Especificação do Objeto",""))) -> PROJECT PROFESSIONAL ALNG LSA 1 SERVER CAL | H10: =IF($B9="","",IF($C10=$C7,INDEX('MAPA DE PREÇOS'!$M:$M,MATCH($B10,'MAPA DE PREÇOS'!$B:$B)-16),IF($C10=$C8,"Unidade",""))) -> Unidade/Ano | I10: =IF($B9="","",IF($C10=$C7,INDEX('MAPA DE PREÇOS'!$M:$M,MATCH($B10,'MAPA DE PREÇOS'!$B:$B)-17),IF($C10=$C8,"Quant.",""))) -> 16 | J10: =IF(AND(COUNTBLANK($B7:$B9)=2,$B9="",$B8="",MAX(C:C)>1),"Total Estimado",IF($B9="","",IF($C10=$C7,INDEX('MAPA DE PREÇOS'!$M:$M,MATCH($B10,'MAPA DE PREÇOS'!$B:$B)-19),IF($C10=$C8,"Valor Unit. (R$)",IF(AND($C10<>$C9,$J9<>""),IF(MAX(C:C)=1,"Total Estimado","Subtotal"),""))))) -> 11257.83 | K10: =IFERROR(IF(AND(COUNTBLANK($B7:$B9)=2,$B9="",$B8="",MAX(C:C)>1),SUM($K$3:K9)/2,IF($B9="","",IF($C10=$C7,ROUND(J10*I10,2),IF($C10=$C8,"Total Item (R$)",IF(AND($C10<>$C9,$J9<>""),SUMIFS(K:K,C:C,C9,J:J,"<>Subtotal"),""))))),"") -> 180125.28 | L10: =IF($B9="","",IF($C10=$C7,"",IF($C10=$C8,"Benefício ME/EPP","")))
B11: =IFERROR(IF(C10=C7,IF(B10+1<='MAPA DE PREÇOS'!$H$8,B10+1,""),B10),"") -> 4 | C11: =IFERROR(VLOOKUP(B11,'MAPA DE PREÇOS'!B:D,2,FALSE),"") -> 1 | D11: =IFERROR(VLOOKUP(B11,'MAPA DE PREÇOS'!B:D,3,FALSE),"") -> 4 | E11: =IF($B10="","",IF($C11=$C8,D11,IF($C11=$C9,"Item",IF(AND(MAX(C:C)>1,$C11=$C10),CONCATENATE("LOTE ",C11),"")))) -> 4 | F11: =IF($B10="","",IF($C11=$C8,INDEX('MAPA DE PREÇOS'!$H:$H,MATCH($B11,'MAPA DE PREÇOS'!$B:$B)-19),IF($C11=$C9,"Código",""))) -> MS.6.0-A1506 | G11: =IF($B10="","",IF($C11=$C8,IF('BASE EDITAL'!$D$2="",INDEX('MAPA DE PREÇOS'!H:H,MATCH(EDITAL!B11,'MAPA DE PREÇOS'!B:B,0)+1),UPPER(INDEX('BASE EDITAL'!$D:$D,EDITAL!B11+1))),IF($C11=$C9,"Especificação do Objeto",""))) -> POWER BI PRO SUB PER USER | H11: =IF($B10="","",IF($C11=$C8,INDEX('MAPA DE PREÇOS'!$M:$M,MATCH($B11,'MAPA DE PREÇOS'!$B:$B)-16),IF($C11=$C9,"Unidade",""))) -> Unidade/Mensal | I11: =IF($B10="","",IF($C11=$C8,INDEX('MAPA DE PREÇOS'!$M:$M,MATCH($B11,'MAPA DE PREÇOS'!$B:$B)-17),IF($C11=$C9,"Quant.",""))) -> 81 | J11: =IF(AND(COUNTBLANK($B8:$B10)=2,$B10="",$B9="",MAX(C:C)>1),"Total Estimado",IF($B10="","",IF($C11=$C8,INDEX('MAPA DE PREÇOS'!$M:$M,MATCH($B11,'MAPA DE PREÇOS'!$B:$B)-19),IF($C11=$C9,"Valor Unit. (R$)",IF(AND($C11<>$C10,$J10<>""),IF(MAX(C:C)=1,"Total Estimado","Subtotal"),""))))) -> 3043.08 | K11: =IFERROR(IF(AND(COUNTBLANK($B8:$B10)=2,$B10="",$B9="",MAX(C:C)>1),SUM($K$3:K10)/2,IF($B10="","",IF($C11=$C8,ROUND(J11*I11,2),IF($C11=$C9,"Total Item (R$)",IF(AND($C11<>$C10,$J10<>""),SUMIFS(K:K,C:C,C10,J:J,"<>Subtotal"),""))))),"") -> 246489.48 | L11: =IF($B10="","",IF($C11=$C8,"",IF($C11=$C9,"Benefício ME/EPP","")))
B12: =IFERROR(IF(C11=C8,IF(B11+1<='MAPA DE PREÇOS'!$H$8,B11+1,""),B11),"") -> 5 | C12: =IFERROR(VLOOKUP(B12,'MAPA DE PREÇOS'!B:D,2,FALSE),"") -> 1 | D12: =IFERROR(VLOOKUP(B12,'MAPA DE PREÇOS'!B:D,3,FALSE),"") -> 5 | E12: =IF($B11="","",IF($C12=$C9,D12,IF($C12=$C10,"Item",IF(AND(MAX(C:C)>1,$C12=$C11),CONCATENATE("LOTE ",C12),"")))) -> 5 | F12: =IF($B11="","",IF($C12=$C9,INDEX('MAPA DE PREÇOS'!$H:$H,MATCH($B12,'MAPA DE PREÇOS'!$B:$B)-19),IF($C12=$C10,"Código",""))) -> MS.6.0-A0871 | G12: =IF($B11="","",IF($C12=$C9,IF('BASE EDITAL'!$D$2="",INDEX('MAPA DE PREÇOS'!H:H,MATCH(EDITAL!B12,'MAPA DE PREÇOS'!B:B,0)+1),UPPER(INDEX('BASE EDITAL'!$D:$D,EDITAL!B12+1))),IF($C12=$C10,"Especificação do Objeto",""))) -> O365 E3 SUB PER USER | H12: =IF($B11="","",IF($C12=$C9,INDEX('MAPA DE PREÇOS'!$M:$M,MATCH($B12,'MAPA DE PREÇOS'!$B:$B)-16),IF($C12=$C10,"Unidade",""))) -> Unidade/Mensal | I12: =IF($B11="","",IF($C12=$C9,INDEX('MAPA DE PREÇOS'!$M:$M,MATCH($B12,'MAPA DE PREÇOS'!$B:$B)-17),IF($C12=$C10,"Quant.",""))) -> 83 | J12: =IF(AND(COUNTBLANK($B9:$B11)=2,$B11="",$B10="",MAX(C:C)>1),"Total Estimado",IF($B11="","",IF($C12=$C9,INDEX('MAPA DE PREÇOS'!$M:$M,MATCH($B12,'MAPA DE PREÇOS'!$B:$B)-19),IF($C12=$C10,"Valor Unit. (R$)",IF(AND($C12<>$C11,$J11<>""),IF(MAX(C:C)=1,"Total Estimado","Subtotal"),""))))) -> 4999.32 | K12: =IFERROR(IF(AND(COUNTBLANK($B9:$B11)=2,$B11="",$B10="",MAX(C:C)>1),SUM($K$3:K11)/2,IF($B11="","",IF($C12=$C9,ROUND(J12*I12,2),IF($C12=$C10,"Total Item (R$)",IF(AND($C12<>$C11,$J11<>""),SUMIFS(K:K,C:C,C11,J:J,"<>Subtotal"),""))))),"") -> 414943.56 | L12: =IF($B11="","",IF($C12=$C9,"",IF($C12=$C10,"Benefício ME/EPP","")))
B13: =IFERROR(IF(C12=C9,IF(B12+1<='MAPA DE PREÇOS'!$H$8,B12+1,""),B12),"") -> 6 | C13: =IFERROR(VLOOKUP(B13,'MAPA DE PREÇOS'!B:D,2,FALSE),"") -> 1 | D13: =IFERROR(VLOOKUP(B13,'MAPA DE PREÇOS'!B:D,3,FALSE),"") -> 6 | E13: =IF($B12="","",IF($C13=$C10,D13,IF($C13=$C11,"Item",IF(AND(MAX(C:C)>1,$C13=$C12),CONCATENATE("LOTE ",C13),"")))) -> 6 | F13: =IF($B12="","",IF($C13=$C10,INDEX('MAPA DE PREÇOS'!$H:$H,MATCH($B13,'MAPA DE PREÇOS'!$B:$B)-19),IF($C13=$C11,"Código",""))) -> MS.6.0-A1692 | G13: =IF($B12="","",IF($C13=$C10,IF('BASE EDITAL'!$D$2="",INDEX('MAPA DE PREÇOS'!H:H,MATCH(EDITAL!B13,'MAPA DE PREÇOS'!B:B,0)+1),UPPER(INDEX('BASE EDITAL'!$D:$D,EDITAL!B13+1))),IF($C13=$C11,"Especificação do Objeto",""))) -> O365 E5 SUB PER USER | H13: =IF($B12="","",IF($C13=$C10,INDEX('MAPA DE PREÇOS'!$M:$M,MATCH($B13,'MAPA DE PREÇOS'!$B:$B)-16),IF($C13=$C11,"Unidade",""))) -> Unidade/Mensal | I13: =IF($B12="","",IF($C13=$C10,INDEX('MAPA DE PREÇOS'!$M:$M,MATCH($B13,'MAPA DE PREÇOS'!$B:$B)-17),IF($C13=$C11,"Quant.",""))) -> 3 | J13: =IF(AND(COUNTBLANK($B10:$B12)=2,$B12="",$B11="",MAX(C:C)>1),"Total Estimado",IF($B12="","",IF($C13=$C10,INDEX('MAPA DE PREÇOS'!$M:$M,MATCH($B13,'MAPA DE PREÇOS'!$B:$B)-19),IF($C13=$C11,"Valor Unit. (R$)",IF(AND($C13<>$C12,$J12<>""),IF(MAX(C:C)=1,"Total Estimado","Subtotal"),""))))) -> 8260.56 | K13: =IFERROR(IF(AND(COUNTBLANK($B10:$B12)=2,$B12="",$B11="",MAX(C:C)>1),SUM($K$3:K12)/2,IF($B12="","",IF($C13=$C10,ROUND(J13*I13,2),IF($C13=$C11,"Total Item (R$)",IF(AND($C13<>$C12,$J12<>""),SUMIFS(K:K,C:C,C12,J:J,"<>Subtotal"),""))))),"") -> 24781.68 | L13: =IF($B12="","",IF($C13=$C10,"",IF($C13=$C11,"Benefício ME/EPP","")))
B14: =IFERROR(IF(C13=C10,IF(B13+1<='MAPA DE PREÇOS'!$H$8,B13+1,""),B13),"") -> 7 | C14: =IFERROR(VLOOKUP(B14,'MAPA DE PREÇOS'!B:D,2,FALSE),"") -> 1 | D14: =IFERROR(VLOOKUP(B14,'MAPA DE PREÇOS'!B:D,3,FALSE),"") -> 7 | E14: =IF($B13="","",IF($C14=$C11,D14,IF($C14=$C12,"Item",IF(AND(MAX(C:C)>1,$C14=$C13),CONCATENATE("LOTE ",C14),"")))) -> 7 | F14: =IF($B13="","",IF($C14=$C11,INDEX('MAPA DE PREÇOS'!$H:$H,MATCH($B14,'MAPA DE PREÇOS'!$B:$B)-19),IF($C14=$C12,"Código",""))) -> MS.6.0-A0463 | G14: =IF($B13="","",IF($C14=$C11,IF('BASE EDITAL'!$D$2="",INDEX('MAPA DE PREÇOS'!H:H,MATCH(EDITAL!B14,'MAPA DE PREÇOS'!B:B,0)+1),UPPER(INDEX('BASE EDITAL'!$D:$D,EDITAL!B14+1))),IF($C14=$C12,"Especificação do Objeto",""))) -> PLANNER & PROJECT P3 SUB PER USER | H14: =IF($B13="","",IF($C14=$C11,INDEX('MAPA DE PREÇOS'!$M:$M,MATCH($B14,'MAPA DE PREÇOS'!$B:$B)-16),IF($C14=$C12,"Unidade",""))) -> Unidade/Mensal | I14: =IF($B13="","",IF($C14=$C11,INDEX('MAPA DE PREÇOS'!$M:$M,MATCH($B14,'MAPA DE PREÇOS'!$B:$B)-17),IF($C14=$C12,"Quant.",""))) -> 41 | J14: =IF(AND(COUNTBLANK($B11:$B13)=2,$B13="",$B12="",MAX(C:C)>1),"Total Estimado",IF($B13="","",IF($C14=$C11,INDEX('MAPA DE PREÇOS'!$M:$M,MATCH($B14,'MAPA DE PREÇOS'!$B:$B)-19),IF($C14=$C12,"Valor Unit. (R$)",IF(AND($C14<>$C13,$J13<>""),IF(MAX(C:C)=1,"Total Estimado","Subtotal"),""))))) -> 6521.4 | K14: =IFERROR(IF(AND(COUNTBLANK($B11:$B13)=2,$B13="",$B12="",MAX(C:C)>1),SUM($K$3:K13)/2,IF($B13="","",IF($C14=$C11,ROUND(J14*I14,2),IF($C14=$C12,"Total Item (R$)",IF(AND($C14<>$C13,$J13<>""),SUMIFS(K:K,C:C,C13,J:J,"<>Subtotal"),""))))),"") -> 267377.4 | L14: =IF($B13="","",IF($C14=$C11,"",IF($C14=$C12,"Benefício ME/EPP","")))
