Workbook
Name familias_equipamentos: 'Apoio - Notas Explicativas'!#REF!
Name familias_equipamentos: '[1]Base Apoio - etapa 1'!#REF!
Name familias_equipamentos: '[1]Base Apoio - etapa 1'!#REF!
Name familias_equipamentos: '[2]Base Apoio - etapa 1'!#REF!
Name familias_equipamentos: '[1]Base Apoio - etapa 1'!#REF!
Name materiais: [1]Fontes!$F$3:$F$9
Name percentuais: [3]Fontes!$C$1:$C$3
Name percentuais: [2]Fontes!$C$1:$C$3
Name percentuais: [1]Fontes!$C$1:$C$3
Name Sim_não: [3]Fontes!$A$1:$A$2
Name Sim_não: [2]Fontes!$A$1:$A$2
Name Sim_não: [1]Fontes!$A$1:$A$2
Name tributaçao: 'Apoio - Notas Explicativas'!#REF!
Name tributaçao: '[2]Base Apoio - etapa 1'!$F$20:$H$20
Name tributaçao: '[1]Base Apoio - etapa 1'!$F$20:$H$20
Name Tributação: #REF!
Name Tributação: #REF!
Name Tributação: #REF!
Name Tributação: #REF!
Name Tributação: #REF!

Sheet Mão de Obra
A2: =CONCATENATE("PREFEITURA MUNICIPAL DE PORTO ALEGRE ",D5," FORMAÇÃO DE PREÇOS DE REFERÊNCIA - CESSÃO DE MÃO DE OBRA") -> PREFEITURA MUNICIPAL DE PORTO ALEGRE Secretaria Municipal da Inclusão e Desenvolvimento Humano SMIDH FORMAÇÃO DE PREÇOS DE REFERÊNCIA - CESSÃO DE MÃO DE OBRA
C4: DADOS REFERENTES À CONTRATAÇÃO
B5: A | C5: Órgão Demandante | D5: Secretaria Municipal da Inclusão e Desenvolvimento Humano SMIDH | H5: 1 | I5: 4 | J5: 5 | K5: 6 | L5: 7 | M5: 8 | N5: 9 | O5: 10 | P5: 11 | Q5: 12 | R5: 13 | S5: 14 | T5: 15 | U5: 16 | V5: 17 | W5: 18 | X5: 19
B6: B | C6: Pregão Eletrônico nº:
B7: C | C7: Processo SEI nº: | D7: 26.0.000028116-5
B8: D | C8: Objeto: | D8: Contratação de empresa para a prestação de serviços de limpeza e conservação, com fornecimento de equipamentos, e prestação de serviço de copeiragem, para a Secretaria Municipal da Inclusão e Desenvolvimento Humano.
B9: E | C9: Responsável
B10: F | C10: Data de conclusão | D10: 46206
B11: G | C11: Pagamento do Contrato: | D11: Mês
B12: H | C12: Duração do Contrato em meses: | D12: 24
B13: I | C13: Regime Tributário | D13: Lucro Presumido
B14: J | C14: Receita Bruta
B15: K | C15: Salário Mínimo | D15: 1621
C17: DADOS REFERENTES AOS POSTOS | E17: Posto A | F17: Posto B | G17: Posto C | H17: Posto D | I17: Posto E | J17: Posto F | K17: Posto G | L17: Posto H | M17: Posto I | N17: Posto J | O17: Posto K | P17: Posto L | Q17: Posto M | R17: Posto N | S17: Posto O | T17: Posto P | U17: Posto Q | V17: Posto R | W17: Posto S | X17: Posto T
B18: A | C18: Função do Posto | E18: Aux. Limpeza, Serv. Gerais | F18: Aux. Limpeza, Serv. Gerais | G18: Aux. Limpeza, Serv. Gerais | H18: Copeiro
B19: B | C19: Observação | E19: 2 AUXILIARES (SEDE E CECBJ) E 1 SUPERVISOR | F19: 13 AUXILIARES | G19: SUPERVISOR | H19: SEDE
B20: C | C20: Classificação Brasileira de Ocupações (CBO) | E20: =IFERROR(VLOOKUP(E$18,'Apoio - Posto'!$A:$J,2,FALSE),"") -> 5143 | F20: =IFERROR(VLOOKUP(F$18,'Apoio - Posto'!$A:$J,2,FALSE),"") -> 5143 | G20: 5143 | H20: =IFERROR(VLOOKUP(H$18,'Apoio - Posto'!$A:$J,2,FALSE),"") -> 5134 | I20: =IFERROR(VLOOKUP(I$18,'Apoio - Posto'!$A:$J,2,FALSE),"") | J20: =IFERROR(VLOOKUP(J$18,'Apoio - Posto'!$A:$J,2,FALSE),"") | K20: =IFERROR(VLOOKUP(K$18,'Apoio - Posto'!$A:$J,2,FALSE),"") | L20: =IFERROR(VLOOKUP(L$18,'Apoio - Posto'!$A:$J,2,FALSE),"") | M20: =IFERROR(VLOOKUP(M$18,'Apoio - Posto'!$A:$J,2,FALSE),"") | N20: =IFERROR(VLOOKUP(N$18,'Apoio - Posto'!$A:$J,2,FALSE),"") | O20: =IFERROR(VLOOKUP(O$18,'Apoio - Posto'!$A:$J,2,FALSE),"") | ... X20: =IFERROR(VLOOKUP(X$18,'Apoio - Posto'!$A:$J,2,FALSE),"")
B21: D | C21: Valor do Piso normativo da Categoria | E21: =IFERROR(VLOOKUP(E$18,'Apoio - Posto'!$A:$AA,7,FALSE),"") -> 1765.86 | F21: =IFERROR(VLOOKUP(F$18,'Apoio - Posto'!$A:$AA,7,FALSE),"") -> 1765.86 | G21: =IFERROR(VLOOKUP(G$18,'Apoio - Posto'!$A:$AA,7,FALSE),"") -> 1765.86 | H21: =IFERROR(VLOOKUP(H$18,'Apoio - Posto'!$A:$AA,7,FALSE),"") -> 1765.86 | I21: =IFERROR(VLOOKUP(I$18,'Apoio - Posto'!$A:$AA,7,FALSE),"") | J21: =IFERROR(VLOOKUP(J$18,'Apoio - Posto'!$A:$AA,7,FALSE),"") | K21: =IFERROR(VLOOKUP(K$18,'Apoio - Posto'!$A:$AA,7,FALSE),"") | L21: =IFERROR(VLOOKUP(L$18,'Apoio - Posto'!$A:$AA,7,FALSE),"") | ... X21: =IFERROR(VLOOKUP(X$18,'Apoio - Posto'!$A:$AA,7,FALSE),"")
B22: E | C22: Regime de trabalho da convenção coletiva (mensal) | E22: 220 | F22: 220 | G22: 220 | H22: 220 | I22: =IFERROR(VLOOKUP(I$18,'Apoio - Posto'!$A:$AA,8,FALSE),"") | J22: =IFERROR(VLOOKUP(J$18,'Apoio - Posto'!$A:$AA,8,FALSE),"") | K22: =IFERROR(VLOOKUP(K$18,'Apoio - Posto'!$A:$AA,8,FALSE),"") | L22: =IFERROR(VLOOKUP(L$18,'Apoio - Posto'!$A:$AA,8,FALSE),"") | M22: =IFERROR(VLOOKUP(M$18,'Apoio - Posto'!$A:$AA,8,FALSE),"") | N22: =IFERROR(VLOOKUP(N$18,'Apoio - Posto'!$A:$AA,8,FALSE),"") | O22: =IFERROR(VLOOKUP(O$18,'Apoio - Posto'!$A:$AA,8,FALSE),"") | P22: =IFERROR(VLOOKUP(P$18,'Apoio - Posto'!$A:$AA,8,FALSE),"") | ... X22: =IFERROR(VLOOKUP(X$18,'Apoio - Posto'!$A:$AA,8,FALSE),"")
B23: F | C23: Sindicato representativo da categoria profissional | E23: SINDASSEIO | F23: SINDASSEIO | G23: SINDASSEIO | H23: SINDASSEIO | I23: =IFERROR(VLOOKUP(I$18,'Apoio - Posto'!$A:$J,3,FALSE),"") | J23: =IFERROR(VLOOKUP(J$18,'Apoio - Posto'!$A:$J,3,FALSE),"") | K23: =IFERROR(VLOOKUP(K$18,'Apoio - Posto'!$A:$J,3,FALSE),"") | L23: =IFERROR(VLOOKUP(L$18,'Apoio - Posto'!$A:$J,3,FALSE),"") | M23: =IFERROR(VLOOKUP(M$18,'Apoio - Posto'!$A:$J,3,FALSE),"") | N23: =IFERROR(VLOOKUP(N$18,'Apoio - Posto'!$A:$J,3,FALSE),"") | O23: =IFERROR(VLOOKUP(O$18,'Apoio - Posto'!$A:$J,3,FALSE),"") | P23: =IFERROR(VLOOKUP(P$18,'Apoio - Posto'!$A:$J,3,FALSE),"") | ... X23: =IFERROR(VLOOKUP(X$18,'Apoio - Posto'!$A:$J,3,FALSE),"")
B24: G | C24: Data base da categoria | E24: =IFERROR(VLOOKUP(E$18,'Apoio - Posto'!$A:$J,5,FALSE),"") -> 46023 | F24: =IFERROR(VLOOKUP(F$18,'Apoio - Posto'!$A:$J,5,FALSE),"") -> 46023 | G24: 46023 | H24: =IFERROR(VLOOKUP(H$18,'Apoio - Posto'!$A:$J,5,FALSE),"") -> 46023 | I24: =IFERROR(VLOOKUP(I$18,'Apoio - Posto'!$A:$J,5,FALSE),"") | J24: =IFERROR(VLOOKUP(J$18,'Apoio - Posto'!$A:$J,5,FALSE),"") | K24: =IFERROR(VLOOKUP(K$18,'Apoio - Posto'!$A:$J,5,FALSE),"") | L24: =IFERROR(VLOOKUP(L$18,'Apoio - Posto'!$A:$J,5,FALSE),"") | M24: =IFERROR(VLOOKUP(M$18,'Apoio - Posto'!$A:$J,5,FALSE),"") | N24: =IFERROR(VLOOKUP(N$18,'Apoio - Posto'!$A:$J,5,FALSE),"") | O24: =IFERROR(VLOOKUP(O$18,'Apoio - Posto'!$A:$J,5,FALSE),"") | ... X24: =IFERROR(VLOOKUP(X$18,'Apoio - Posto'!$A:$J,5,FALSE),"")
B25: H | C25: Registro no MTE | E25: =IFERROR(VLOOKUP(E$18,'Apoio - Posto'!$A:$J,4,FALSE),"") -> RS000041/2026 | F25: =IFERROR(VLOOKUP(F$18,'Apoio - Posto'!$A:$J,4,FALSE),"") -> RS000041/2026 | G25: =IFERROR(VLOOKUP(G$18,'Apoio - Posto'!$A:$J,4,FALSE),"") -> RS000041/2026 | H25: =IFERROR(VLOOKUP(H$18,'Apoio - Posto'!$A:$J,4,FALSE),"") -> RS000041/2026 | I25: =IFERROR(VLOOKUP(I$18,'Apoio - Posto'!$A:$J,4,FALSE),"") | J25: =IFERROR(VLOOKUP(J$18,'Apoio - Posto'!$A:$J,4,FALSE),"") | K25: =IFERROR(VLOOKUP(K$18,'Apoio - Posto'!$A:$J,4,FALSE),"") | L25: =IFERROR(VLOOKUP(L$18,'Apoio - Posto'!$A:$J,4,FALSE),"") | ... X25: =IFERROR(VLOOKUP(X$18,'Apoio - Posto'!$A:$J,4,FALSE),"")
B26: I | C26: Regime de trabalho do Contrato (semanal) | E26: 40h (5 dia/sem) | F26: 30h (5 dia/sem) | G26: 40h (5 dia/sem) | H26: 30h (5 dia/sem)
B27: J | C27: Quantidade de postos | E27: 2 | F27: 13 | G27: 1 | H27: 1
B28: K | C28: Quantidade de profissional por posto | E28: 1 | F28: 1 | G28: 1 | H28: =IFERROR(VLOOKUP(H26,'Apoio - Regime de Trabalho'!$A:$I,2,FALSE),"") -> 1 | I28: =IFERROR(VLOOKUP(I26,'Apoio - Regime de Trabalho'!$A:$I,2,FALSE),"") | J28: =IFERROR(VLOOKUP(J26,'Apoio - Regime de Trabalho'!$A:$I,2,FALSE),"") | K28: =IFERROR(VLOOKUP(K26,'Apoio - Regime de Trabalho'!$A:$I,2,FALSE),"") | L28: =IFERROR(VLOOKUP(L26,'Apoio - Regime de Trabalho'!$A:$I,2,FALSE),"") | M28: =IFERROR(VLOOKUP(M26,'Apoio - Regime de Trabalho'!$A:$I,2,FALSE),"") | N28: =IFERROR(VLOOKUP(N26,'Apoio - Regime de Trabalho'!$A:$I,2,FALSE),"") | O28: =IFERROR(VLOOKUP(O26,'Apoio - Regime de Trabalho'!$A:$I,2,FALSE),"") | ... X28: =IFERROR(VLOOKUP(X26,'Apoio - Regime de Trabalho'!$A:$I,2,FALSE),"")
B29: L | C29: Quantidade total de profissionais | E29: =IFERROR(IF(E18="","",E28*E27),"") -> 2 | F29: =IFERROR(IF(F18="","",F28*F27),"") -> 13 | G29: 1 | H29: =IFERROR(IF(H18="","",H28*H27),"") -> 1 | I29: =IFERROR(IF(I18="","",I28*I27),"") | J29: =IFERROR(IF(J18="","",J28*J27),"") | K29: =IFERROR(IF(K18="","",K28*K27),"") | L29: =IFERROR(IF(L18="","",L28*L27),"") | M29: =IFERROR(IF(M18="","",M28*M27),"") | N29: =IFERROR(IF(N18="","",N28*N27),"") | O29: =IFERROR(IF(O18="","",O28*O27),"") | ... X29: =IFERROR(IF(X18="","",X28*X27),"")
C31: MÓDULO 1: COMPOSIÇÃO DA REMUNERAÇÃO
B32: A | C32: Salário-Base | E32: =IFERROR(E21*VLOOKUP(E26,'Apoio - Regime de Trabalho'!$A:$I,8,FALSE)/(E22),"") -> 1605.3273 | F32: =IFERROR(F21*VLOOKUP(F26,'Apoio - Regime de Trabalho'!$A:$I,8,FALSE)/(F22),"") -> 1203.9955 | G32: =IFERROR(G21*VLOOKUP(G26,'Apoio - Regime de Trabalho'!$A:$I,8,FALSE)/(G22),"") -> 1605.3273 | H32: =IFERROR(H21*VLOOKUP(H26,'Apoio - Regime de Trabalho'!$A:$I,8,FALSE)/(H22),"") -> 1203.9955 | I32: =IFERROR(I21*VLOOKUP(I26,'Apoio - Regime de Trabalho'!$A:$I,8,FALSE)/(I22),"") | J32: =IFERROR(J21*VLOOKUP(J26,'Apoio - Regime de Trabalho'!$A:$I,8,FALSE)/(J22),"") | K32: =IFERROR(K21*VLOOKUP(K26,'Apoio - Regime de Trabalho'!$A:$I,8,FALSE)/(K22),"") | L32: =IFERROR(L21*VLOOKUP(L26,'Apoio - Regime de Trabalho'!$A:$I,8,FALSE)/(L22),"") | ... X32: =IFERROR(X21*VLOOKUP(X26,'Apoio - Regime de Trabalho'!$A:$I,8,FALSE)/(X22),"")
B33: B | C33: Adicional de Periculosidade
C34: Incidência | E34: =IFERROR(VLOOKUP(E$18,'Apoio - Posto'!$A:$AA,15,FALSE),"") -> 0 | F34: =IFERROR(VLOOKUP(F$18,'Apoio - Posto'!$A:$AA,15,FALSE),"") -> 0 | G34: =IFERROR(VLOOKUP(G$18,'Apoio - Posto'!$A:$AA,15,FALSE),"") -> 0 | H34: =IFERROR(VLOOKUP(H$18,'Apoio - Posto'!$A:$AA,15,FALSE),"") -> 0 | I34: =IFERROR(VLOOKUP(I$18,'Apoio - Posto'!$A:$AA,15,FALSE),"") | J34: =IFERROR(VLOOKUP(J$18,'Apoio - Posto'!$A:$AA,15,FALSE),"") | K34: =IFERROR(VLOOKUP(K$18,'Apoio - Posto'!$A:$AA,15,FALSE),"") | L34: =IFERROR(VLOOKUP(L$18,'Apoio - Posto'!$A:$AA,15,FALSE),"") | ... X34: =IFERROR(VLOOKUP(X$18,'Apoio - Posto'!$A:$AA,15,FALSE),"")
D35: Valor (R$) | E35: =IFERROR((E32)*E34,"") -> 0 | F35: =IFERROR((F32)*F34,"") -> 0 | G35: =IFERROR((G32)*G34,"") -> 0 | H35: =IFERROR((H32)*H34,"") -> 0 | I35: =IFERROR((I32)*I34,"") | J35: =IFERROR((J32)*J34,"") | K35: =IFERROR((K32)*K34,"") | L35: =IFERROR((L32)*L34,"") | ... X35: =IFERROR((X32)*X34,"")
B36: C | C36: Adicional de Insalubridade
C37: Base de incindência | E37: =IFERROR(VLOOKUP(E$18,'Apoio - Posto'!$A:$AA,14,FALSE),"") -> Salário Base | F37: =IFERROR(VLOOKUP(F$18,'Apoio - Posto'!$A:$AA,14,FALSE),"") -> Salário Base | G37: =IFERROR(VLOOKUP(G$18,'Apoio - Posto'!$A:$AA,14,FALSE),"") -> Salário Base | H37: =IFERROR(VLOOKUP(H$18,'Apoio - Posto'!$A:$AA,14,FALSE),"") -> Salário Base | I37: =IFERROR(VLOOKUP(I$18,'Apoio - Posto'!$A:$AA,14,FALSE),"") | J37: =IFERROR(VLOOKUP(J$18,'Apoio - Posto'!$A:$AA,14,FALSE),"") | K37: =IFERROR(VLOOKUP(K$18,'Apoio - Posto'!$A:$AA,14,FALSE),"") | L37: =IFERROR(VLOOKUP(L$18,'Apoio - Posto'!$A:$AA,14,FALSE),"") | ... X37: =IFERROR(VLOOKUP(X$18,'Apoio - Posto'!$A:$AA,14,FALSE),"")
C38: Percentual de incidência | E38: 0.4 | F38: 0.4 | G38: 0.4 | H38: 0.2
D39: Valor (R$) | E39: =IF(E21="","",IFERROR(IF(E37="Salário Base",E$32,IF(E37="Salário Mínimo",$D$15,0))*E38,"")) -> 642.13091 | F39: =IF(F21="","",IFERROR(IF(F37="Salário Base",F$32,IF(F37="Salário Mínimo",$D$15,0))*F38,"")) -> 481.59818 | G39: =IF(G21="","",IFERROR(IF(G37="Salário Base",G$32,IF(G37="Salário Mínimo",$D$15,0))*G38,"")) -> 642.13091 | H39: =IF(H21="","",IFERROR(IF(H37="Salário Base",H$32,IF(H37="Salário Mínimo",$D$15,0))*H38,"")) -> 240.79909 | I39: =IF(I21="","",IFERROR(IF(I37="Salário Base",I$32,IF(I37="Salário Mínimo",$D$15,0))*I38,"")) | J39: =IF(J21="","",IFERROR(IF(J37="Salário Base",J$32,IF(J37="Salário Mínimo",$D$15,0))*J38,"")) | K39: =IF(K21="","",IFERROR(IF(K37="Salário Base",K$32,IF(K37="Salário Mínimo",$D$15,0))*K38,"")) | L39: =IF(L21="","",IFERROR(IF(L37="Salário Base",L$32,IF(L37="Salário Mínimo",$D$15,0))*L38,"")) | ... X39: =IF(X21="","",IFERROR(IF(X37="Salário Base",X$32,IF(X37="Salário Mínimo",$D$15,0))*X38,""))
B40: D | C40: Gratificação de Função
C41: Percentual de incidência | G41: 0.2
D42: Valor (R$) | E42: =IFERROR(E41*E$32,"") -> 0 | F42: =IFERROR(F41*F$32,"") -> 0 | G42: =IFERROR(G41*G$32,"") -> 321.06545 | H42: =IFERROR(H41*H$32,"") -> 0 | I42: =IFERROR(I41*I$32,"") | J42: =IFERROR(J41*J$32,"") | K42: =IFERROR(K41*K$32,"") | L42: =IFERROR(L41*L$32,"") | ... X42: =IFERROR(X41*X$32,"")
B43: E | C43: Adicional Noturno
C44: Número de horas noturnas por dia | E44: =IF(AND(E20=5173,E26="12x36 Noturno"),8,"") | F44: =IF(AND(F20=5173,F26="12x36 Noturno"),8,"") | G44: =IF(AND(G20=5173,G26="12x36 Noturno"),8,"") | H44: =IF(AND(H20=5173,H26="12x36 Noturno"),8,"") | I44: =IF(AND(I20=5173,I26="12x36 Noturno"),8,"") | J44: =IF(AND(J20=5173,J26="12x36 Noturno"),8,"") | K44: =IF(AND(K20=5173,K26="12x36 Noturno"),8,"") | L44: =IF(AND(L20=5173,L26="12x36 Noturno"),8,"") | ... X44: =IF(AND(X20=5173,X26="12x36 Noturno"),8,"")
...

Sheet Mat Individual e Uniformes
B2: UNIFORMES, MATERIAIS DE USO INDIVIDUAL, CURSOS E TREINAMENTOS | J2: QUANTIDADE CONTRATUAL POR PROFISSIONAL
B3: Nº | C3: Código | D3: Descrição | E3: Unidade | F3: Valor (R$) | G3: Taxa de depreciação anual | H3: Valor pago durante a vigência do contrato | J3: =IF(IFERROR(SUM(Produtividade!$L$194:$L$219)>0,FALSE()),Produtividade!E17,'Mão de Obra'!E17) -> Posto A | K3: =IF(IFERROR(SUM(Produtividade!$L$194:$L$219)>0,FALSE()),Produtividade!F17,'Mão de Obra'!F17) -> Posto B | L3: =IF(IFERROR(SUM(Produtividade!$L$194:$L$219)>0,FALSE()),Produtividade!G17,'Mão de Obra'!G17) -> Posto C | M3: =IF(IFERROR(SUM(Produtividade!$L$194:$L$219)>0,FALSE()),Produtividade!H17,'Mão de Obra'!H17) -> Posto D | N3: =IF(IFERROR(SUM(Produtividade!$L$194:$L$219)>0,FALSE()),Produtividade!I17,'Mão de Obra'!I17) -> Posto E | O3: =IF(IFERROR(SUM(Produtividade!$L$194:$L$219)>0,FALSE()),Produtividade!J17,'Mão de Obra'!J17) -> Posto F | P3: =IF(IFERROR(SUM(Produtividade!$L$194:$L$219)>0,FALSE()),Produtividade!K17,'Mão de Obra'!K17) -> Posto G | Q3: =IF(IFERROR(SUM(Produtividade!$L$194:$L$219)>0,FALSE()),Produtividade!L17,'Mão de Obra'!L17) -> Posto H | ... AC3: =IF(IFERROR(SUM(Produtividade!$L$194:$L$219)>0,FALSE()),Produtividade!X17,'Mão de Obra'!X17) -> Posto T
F4: TOTAL CONTRATUAL: | J4: =IFERROR(ROUND(SUMPRODUCT(J6:J1000,$H$6:$H$1000),2),"") -> 1090.37 | K4: =IFERROR(ROUND(SUMPRODUCT(K6:K1000,$H$6:$H$1000),2),"") -> 1090.37 | L4: =IFERROR(ROUND(SUMPRODUCT(L6:L1000,$H$6:$H$1000),2),"") -> 1068.27 | M4: =IFERROR(ROUND(SUMPRODUCT(M6:M1000,$H$6:$H$1000),2),"") -> 1734.79 | N4: =IFERROR(ROUND(SUMPRODUCT(N6:N1000,$H$6:$H$1000),2),"") -> 0 | O4: =IFERROR(ROUND(SUMPRODUCT(O6:O1000,$H$6:$H$1000),2),"") -> 0 | P4: =IFERROR(ROUND(SUMPRODUCT(P6:P1000,$H$6:$H$1000),2),"") -> 0 | Q4: =IFERROR(ROUND(SUMPRODUCT(Q6:Q1000,$H$6:$H$1000),2),"") -> 0 | ... AC4: =IFERROR(ROUND(SUMPRODUCT(AC6:AC1000,$H$6:$H$1000),2),"") -> 0
B6: 1 | D6: CALÇA OPERACIONAL EM BRIM | E6: =IFERROR(VLOOKUP($D6,'Apoio - Uniforme e EPIs'!$A:$D,2,FALSE),"") -> peça | F6: 49.91 | G6: =IFERROR(IF(VLOOKUP($D6,'Apoio - Uniforme e EPIs'!$A:$D,4,FALSE)=0,"",VLOOKUP($D6,'Apoio - Uniforme e EPIs'!$A:$D,4,FALSE)),"") | H6: =IFERROR(IF(ISNUMBER(G6),G6*'Mão de Obra'!$D$12/12,1)*F6,"") -> 49.91 | J6: 4 | K6: 4 | L6: 4 | M6: 0
B7: 2 | D7: CAMISETA MANGA CURTA EM ALGODÃO | E7: =IFERROR(VLOOKUP($D7,'Apoio - Uniforme e EPIs'!$A:$C,2,FALSE),"") -> peça | F7: =IFERROR(VLOOKUP($D7,'Apoio - Uniforme e EPIs'!$A:$D,3,FALSE),"") -> 66.94 | G7: =IFERROR(IF(VLOOKUP($D7,'Apoio - Uniforme e EPIs'!$A:$D,4,FALSE)=0,"",VLOOKUP($D7,'Apoio - Uniforme e EPIs'!$A:$D,4,FALSE)),"") | H7: =IFERROR(IF(ISNUMBER(G7),G7*'Mão de Obra'!$D$12/12,1)*F7,"") -> 66.94 | J7: 4 | K7: 4 | L7: 4 | M7: 0
B8: 3 | D8: CAMISETA MANGA LONGA EM ALGODÃO | E8: =IFERROR(VLOOKUP($D8,'Apoio - Uniforme e EPIs'!$A:$C,2,FALSE),"") -> peça | F8: =IFERROR(VLOOKUP($D8,'Apoio - Uniforme e EPIs'!$A:$D,3,FALSE),"") -> 76.41 | G8: =IFERROR(IF(VLOOKUP($D8,'Apoio - Uniforme e EPIs'!$A:$D,4,FALSE)=0,"",VLOOKUP($D8,'Apoio - Uniforme e EPIs'!$A:$D,4,FALSE)),"") | H8: =IFERROR(IF(ISNUMBER(G8),G8*'Mão de Obra'!$D$12/12,1)*F8,"") -> 76.41 | J8: 4 | K8: 4 | L8: 4 | M8: 0
B9: 4 | D9: JAPONA/JAQUETA | E9: =IFERROR(VLOOKUP($D9,'Apoio - Uniforme e EPIs'!$A:$C,2,FALSE),"") -> peça | F9: =IFERROR(VLOOKUP($D9,'Apoio - Uniforme e EPIs'!$A:$D,3,FALSE),"") -> 149.16 | G9: =IFERROR(IF(VLOOKUP($D9,'Apoio - Uniforme e EPIs'!$A:$D,4,FALSE)=0,"",VLOOKUP($D9,'Apoio - Uniforme e EPIs'!$A:$D,4,FALSE)),"") | H9: =IFERROR(IF(ISNUMBER(G9),G9*'Mão de Obra'!$D$12/12,1)*F9,"") -> 149.16 | J9: 1 | K9: 1 | L9: 1 | M9: 0
B10: 5 | D10: CRACHÁ DE IDENTIFICAÇÃO | E10: =IFERROR(VLOOKUP($D10,'Apoio - Uniforme e EPIs'!$A:$C,2,FALSE),"") -> peça | F10: =IFERROR(VLOOKUP($D10,'Apoio - Uniforme e EPIs'!$A:$D,3,FALSE),"") -> 3.57 | G10: =IFERROR(IF(VLOOKUP($D10,'Apoio - Uniforme e EPIs'!$A:$D,4,FALSE)=0,"",VLOOKUP($D10,'Apoio - Uniforme e EPIs'!$A:$D,4,FALSE)),"") | H10: =IFERROR(IF(ISNUMBER(G10),G10*'Mão de Obra'!$D$12/12,1)*F10,"") -> 3.57 | J10: 1 | K10: 1 | L10: 1 | M10: 1
B11: 6 | D11: CALÇADO DE SEGURANÇA HIDROFUGADO | E11: =IFERROR(VLOOKUP($D11,'Apoio - Uniforme e EPIs'!$A:$C,2,FALSE),"") -> par | F11: =IFERROR(VLOOKUP($D11,'Apoio - Uniforme e EPIs'!$A:$D,3,FALSE),"") -> 51.68 | G11: =IFERROR(IF(VLOOKUP($D11,'Apoio - Uniforme e EPIs'!$A:$D,4,FALSE)=0,"",VLOOKUP($D11,'Apoio - Uniforme e EPIs'!$A:$D,4,FALSE)),"") | H11: =IFERROR(IF(ISNUMBER(G11),G11*'Mão de Obra'!$D$12/12,1)*F11,"") -> 51.68 | J11: 2 | K11: 2 | L11: 2 | M11: 2
B12: 7 | D12: LUVA DE PVC COM FORRO ANTIDERRAPANTE | E12: =IFERROR(VLOOKUP($D12,'Apoio - Uniforme e EPIs'!$A:$C,2,FALSE),"") -> par | F12: =IFERROR(VLOOKUP($D12,'Apoio - Uniforme e EPIs'!$A:$D,3,FALSE),"") -> 11.05 | G12: =IFERROR(IF(VLOOKUP($D12,'Apoio - Uniforme e EPIs'!$A:$D,4,FALSE)=0,"",VLOOKUP($D12,'Apoio - Uniforme e EPIs'!$A:$D,4,FALSE)),"") | H12: =IFERROR(IF(ISNUMBER(G12),G12*'Mão de Obra'!$D$12/12,1)*F12,"") -> 11.05 | J12: 4 | K12: 4 | L12: 2 | M12: 0
B13: 8 | D13: MÁSCARA FACIAL PFF2 OU N95 | E13: =IFERROR(VLOOKUP($D13,'Apoio - Uniforme e EPIs'!$A:$C,2,FALSE),"") -> par | F13: =IFERROR(VLOOKUP($D13,'Apoio - Uniforme e EPIs'!$A:$D,3,FALSE),"") -> 1.42 | G13: =IFERROR(IF(VLOOKUP($D13,'Apoio - Uniforme e EPIs'!$A:$D,4,FALSE)=0,"",VLOOKUP($D13,'Apoio - Uniforme e EPIs'!$A:$D,4,FALSE)),"") | H13: =IFERROR(IF(ISNUMBER(G13),G13*'Mão de Obra'!$D$12/12,1)*F13,"") -> 1.42 | J13: 12 | K13: 12 | L13: 12 | M13: 0
B14: 9 | D14: CALÇA SOCIAL EM MICROFIBRA | E14: =IFERROR(VLOOKUP($D14,'Apoio - Uniforme e EPIs'!$A:$C,2,FALSE),"") -> peça | F14: =IFERROR(VLOOKUP($D14,'Apoio - Uniforme e EPIs'!$A:$D,3,FALSE),"") -> 97.21 | G14: =IFERROR(IF(VLOOKUP($D14,'Apoio - Uniforme e EPIs'!$A:$D,4,FALSE)=0,"",VLOOKUP($D14,'Apoio - Uniforme e EPIs'!$A:$D,4,FALSE)),"") | H14: =IFERROR(IF(ISNUMBER(G14),G14*'Mão de Obra'!$D$12/12,1)*F14,"") -> 97.21 | J14: - | K14: - | L14: - | M14: 4
B15: 10 | D15: CAMISA SOCIAL MANGA CURTA EM ALGODÃO | E15: =IFERROR(VLOOKUP($D15,'Apoio - Uniforme e EPIs'!$A:$C,2,FALSE),"") -> peça | F15: =IFERROR(VLOOKUP($D15,'Apoio - Uniforme e EPIs'!$A:$D,3,FALSE),"") -> 82.12 | G15: =IFERROR(IF(VLOOKUP($D15,'Apoio - Uniforme e EPIs'!$A:$D,4,FALSE)=0,"",VLOOKUP($D15,'Apoio - Uniforme e EPIs'!$A:$D,4,FALSE)),"") | H15: =IFERROR(IF(ISNUMBER(G15),G15*'Mão de Obra'!$D$12/12,1)*F15,"") -> 82.12 | J15: - | K15: - | L15: - | M15: 4
B16: 11 | D16: CAMISA SOCIAL MANGA LONGA EM ALGODÃO | E16: =IFERROR(VLOOKUP($D16,'Apoio - Uniforme e EPIs'!$A:$C,2,FALSE),"") -> peça | F16: =IFERROR(VLOOKUP($D16,'Apoio - Uniforme e EPIs'!$A:$D,3,FALSE),"") -> 113.35 | G16: =IFERROR(IF(VLOOKUP($D16,'Apoio - Uniforme e EPIs'!$A:$D,4,FALSE)=0,"",VLOOKUP($D16,'Apoio - Uniforme e EPIs'!$A:$D,4,FALSE)),"") | H16: =IFERROR(IF(ISNUMBER(G16),G16*'Mão de Obra'!$D$12/12,1)*F16,"") -> 113.35 | J16: - | K16: - | L16: - | M16: 4
B17: 12 | D17: CALÇADO SOCIAL | E17: =IFERROR(VLOOKUP($D17,'Apoio - Uniforme e EPIs'!$A:$C,2,FALSE),"") -> peça | F17: =IFERROR(VLOOKUP($D17,'Apoio - Uniforme e EPIs'!$A:$D,3,FALSE),"") -> 106.35 | G17: =IFERROR(IF(VLOOKUP($D17,'Apoio - Uniforme e EPIs'!$A:$D,4,FALSE)=0,"",VLOOKUP($D17,'Apoio - Uniforme e EPIs'!$A:$D,4,FALSE)),"") | H17: =IFERROR(IF(ISNUMBER(G17),G17*'Mão de Obra'!$D$12/12,1)*F17,"") -> 106.35 | J17: - | K17: - | L17: - | M17: 2
B18: 13 | D18: BLUSA/SUETER DECOTE V | E18: =IFERROR(VLOOKUP($D18,'Apoio - Uniforme e EPIs'!$A:$C,2,FALSE),"") -> peça | F18: =IFERROR(VLOOKUP($D18,'Apoio - Uniforme e EPIs'!$A:$D,3,FALSE),"") -> 117.54 | G18: =IFERROR(IF(VLOOKUP($D18,'Apoio - Uniforme e EPIs'!$A:$D,4,FALSE)=0,"",VLOOKUP($D18,'Apoio - Uniforme e EPIs'!$A:$D,4,FALSE)),"") | H18: =IFERROR(IF(ISNUMBER(G18),G18*'Mão de Obra'!$D$12/12,1)*F18,"") -> 117.54 | J18: - | K18: - | L18: - | M18: 2
B19: 14 | D19: AVENTAL IMPERMEÁVEL EM PVC | E19: =IFERROR(VLOOKUP($D19,'Apoio - Uniforme e EPIs'!$A:$C,2,FALSE),"") -> peça | F19: =IFERROR(VLOOKUP($D19,'Apoio - Uniforme e EPIs'!$A:$D,3,FALSE),"") -> 2.34 | G19: =IFERROR(IF(VLOOKUP($D19,'Apoio - Uniforme e EPIs'!$A:$D,4,FALSE)=0,"",VLOOKUP($D19,'Apoio - Uniforme e EPIs'!$A:$D,4,FALSE)),"") | H19: =IFERROR(IF(ISNUMBER(G19),G19*'Mão de Obra'!$D$12/12,1)*F19,"") -> 2.34 | J19: - | K19: - | L19: - | M19: 4
B20: 15 | E20: =IFERROR(VLOOKUP($D20,'Apoio - Uniforme e EPIs'!$A:$C,2,FALSE),"") | F20: =IFERROR(VLOOKUP($D20,'Apoio - Uniforme e EPIs'!$A:$D,3,FALSE),"") | G20: =IFERROR(IF(VLOOKUP($D20,'Apoio - Uniforme e EPIs'!$A:$D,4,FALSE)=0,"",VLOOKUP($D20,'Apoio - Uniforme e EPIs'!$A:$D,4,FALSE)),"") | H20: =IFERROR(IF(ISNUMBER(G20),G20*'Mão de Obra'!$D$12/12,1)*F20,"")
B21: 16 | E21: =IFERROR(VLOOKUP($D21,'Apoio - Uniforme e EPIs'!$A:$C,2,FALSE),"") | F21: =IFERROR(VLOOKUP($D21,'Apoio - Uniforme e EPIs'!$A:$D,3,FALSE),"") | G21: =IFERROR(IF(VLOOKUP($D21,'Apoio - Uniforme e EPIs'!$A:$D,4,FALSE)=0,"",VLOOKUP($D21,'Apoio - Uniforme e EPIs'!$A:$D,4,FALSE)),"") | H21: =IFERROR(IF(ISNUMBER(G21),G21*'Mão de Obra'!$D$12/12,1)*F21,"")
B22: 17 | E22: =IFERROR(VLOOKUP($D22,'Apoio - Uniforme e EPIs'!$A:$C,2,FALSE),"") | F22: =IFERROR(VLOOKUP($D22,'Apoio - Uniforme e EPIs'!$A:$D,3,FALSE),"") | G22: =IFERROR(IF(VLOOKUP($D22,'Apoio - Uniforme e EPIs'!$A:$D,4,FALSE)=0,"",VLOOKUP($D22,'Apoio - Uniforme e EPIs'!$A:$D,4,FALSE)),"") | H22: =IFERROR(IF(ISNUMBER(G22),G22*'Mão de Obra'!$D$12/12,1)*F22,"")
B23: 18 | E23: =IFERROR(VLOOKUP($D23,'Apoio - Uniforme e EPIs'!$A:$C,2,FALSE),"") | F23: =IFERROR(VLOOKUP($D23,'Apoio - Uniforme e EPIs'!$A:$D,3,FALSE),"") | G23: =IFERROR(IF(VLOOKUP($D23,'Apoio - Uniforme e EPIs'!$A:$D,4,FALSE)=0,"",VLOOKUP($D23,'Apoio - Uniforme e EPIs'!$A:$D,4,FALSE)),"") | H23: =IFERROR(IF(ISNUMBER(G23),G23*'Mão de Obra'!$D$12/12,1)*F23,"")
B24: 19 | E24: =IFERROR(VLOOKUP($D24,'Apoio - Uniforme e EPIs'!$A:$C,2,FALSE),"") | F24: =IFERROR(VLOOKUP($D24,'Apoio - Uniforme e EPIs'!$A:$D,3,FALSE),"") | G24: =IFERROR(IF(VLOOKUP($D24,'Apoio - Uniforme e EPIs'!$A:$D,4,FALSE)=0,"",VLOOKUP($D24,'Apoio - Uniforme e EPIs'!$A:$D,4,FALSE)),"") | H24: =IFERROR(IF(ISNUMBER(G24),G24*'Mão de Obra'!$D$12/12,1)*F24,"")
B25: 20 | E25: =IFERROR(VLOOKUP($D25,'Apoio - Uniforme e EPIs'!$A:$C,2,FALSE),"") | F25: =IFERROR(VLOOKUP($D25,'Apoio - Uniforme e EPIs'!$A:$D,3,FALSE),"") | G25: =IFERROR(IF(VLOOKUP($D25,'Apoio - Uniforme e EPIs'!$A:$D,4,FALSE)=0,"",VLOOKUP($D25,'Apoio - Uniforme e EPIs'!$A:$D,4,FALSE)),"") | H25: =IFERROR(IF(ISNUMBER(G25),G25*'Mão de Obra'!$D$12/12,1)*F25,"")
B26: 21 | E26: =IFERROR(VLOOKUP($D26,'Apoio - Uniforme e EPIs'!$A:$C,2,FALSE),"") | F26: =IFERROR(VLOOKUP($D26,'Apoio - Uniforme e EPIs'!$A:$D,3,FALSE),"") | G26: =IFERROR(IF(VLOOKUP($D26,'Apoio - Uniforme e EPIs'!$A:$D,4,FALSE)=0,"",VLOOKUP($D26,'Apoio - Uniforme e EPIs'!$A:$D,4,FALSE)),"") | H26: =IFERROR(IF(ISNUMBER(G26),G26*'Mão de Obra'!$D$12/12,1)*F26,"")
B27: 22 | E27: =IFERROR(VLOOKUP($D27,'Apoio - Uniforme e EPIs'!$A:$C,2,FALSE),"") | F27: =IFERROR(VLOOKUP($D27,'Apoio - Uniforme e EPIs'!$A:$D,3,FALSE),"") | G27: =IFERROR(IF(VLOOKUP($D27,'Apoio - Uniforme e EPIs'!$A:$D,4,FALSE)=0,"",VLOOKUP($D27,'Apoio - Uniforme e EPIs'!$A:$D,4,FALSE)),"") | H27: =IFERROR(IF(ISNUMBER(G27),G27*'Mão de Obra'!$D$12/12,1)*F27,"")
B28: 23 | E28: =IFERROR(VLOOKUP($D28,'Apoio - Uniforme e EPIs'!$A:$C,2,FALSE),"") | F28: =IFERROR(VLOOKUP($D28,'Apoio - Uniforme e EPIs'!$A:$D,3,FALSE),"") | G28: =IFERROR(IF(VLOOKUP($D28,'Apoio - Uniforme e EPIs'!$A:$D,4,FALSE)=0,"",VLOOKUP($D28,'Apoio - Uniforme e EPIs'!$A:$D,4,FALSE)),"") | H28: =IFERROR(IF(ISNUMBER(G28),G28*'Mão de Obra'!$D$12/12,1)*F28,"")
B29: 24 | E29: =IFERROR(VLOOKUP($D29,'Apoio - Uniforme e EPIs'!$A:$C,2,FALSE),"") | F29: =IFERROR(VLOOKUP($D29,'Apoio - Uniforme e EPIs'!$A:$D,3,FALSE),"") | G29: =IFERROR(IF(VLOOKUP($D29,'Apoio - Uniforme e EPIs'!$A:$D,4,FALSE)=0,"",VLOOKUP($D29,'Apoio - Uniforme e EPIs'!$A:$D,4,FALSE)),"") | H29: =IFERROR(IF(ISNUMBER(G29),G29*'Mão de Obra'!$D$12/12,1)*F29,"")
B30: 25 | E30: =IFERROR(VLOOKUP($D30,'Apoio - Uniforme e EPIs'!$A:$C,2,FALSE),"") | F30: =IFERROR(VLOOKUP($D30,'Apoio - Uniforme e EPIs'!$A:$D,3,FALSE),"") | G30: =IFERROR(IF(VLOOKUP($D30,'Apoio - Uniforme e EPIs'!$A:$D,4,FALSE)=0,"",VLOOKUP($D30,'Apoio - Uniforme e EPIs'!$A:$D,4,FALSE)),"") | H30: =IFERROR(IF(ISNUMBER(G30),G30*'Mão de Obra'!$D$12/12,1)*F30,"")
B31: 26 | E31: =IFERROR(VLOOKUP($D31,'Apoio - Uniforme e EPIs'!$A:$C,2,FALSE),"") | F31: =IFERROR(VLOOKUP($D31,'Apoio - Uniforme e EPIs'!$A:$D,3,FALSE),"") | G31: =IFERROR(IF(VLOOKUP($D31,'Apoio - Uniforme e EPIs'!$A:$D,4,FALSE)=0,"",VLOOKUP($D31,'Apoio - Uniforme e EPIs'!$A:$D,4,FALSE)),"") | H31: =IFERROR(IF(ISNUMBER(G31),G31*'Mão de Obra'!$D$12/12,1)*F31,"")

Sheet Apoio - Uniforme e EPIs
A1: Especificação do Objeto | B1: Unidade | C1: Valor Unit. (R$) | D1: Taxa de depreciação anual
G2: Preços oriundos da planilha 36929258 - Processo 24.0.000078625-6
A3: APITO COM CORDÃO | B3: peça | C3: 11.59 | G3: Data base para atualização: 05/12/2025
A4: AVENTAL DE NAPA | B4: peça | C4: 10.69
A5: AVENTAL EM TERGAL | B5: peça | C5: 24.8
A6: AVENTAL IMPERMEÁVEL EM PVC | B6: peça | C6: 2.34
A7: BLAZER EM MICROFIBRA | B7: peça | C7: 243.65
A8: BLUSA/SUETER DECOTE V | B8: peça | C8: 117.54
A9: BLUSÃO EM MOLETOM | B9: peça | C9: 82.95
A10: BOTA DE SEGURANÇA EM PVC, CANO ¾ , SOLADO ANTIDERRAPANTE | B10: par | C10: 53.14
A11: BOTA DE SEGURANÇA EM VAQUETA HIDROFUGADA | B11: par | C11: 63.8
A12: CALÇADO DE SEGURANÇA HIDROFUGADO | B12: par | C12: 51.68
A13: CALÇADO SOCIAL | B13: peça | C13: 106.35
A14: CALÇA OPERACIONAL EM BRIM | B14: peça | C14: 69.36
A15: CALÇA SOCIAL EM MICROFIBRA | B15: peça | C15: 97.21
... A25: CONTROLE DIGITAL DE PONTO | B25: mês | C25: 5.7
A26: COLETE BALÍSTICO | B26: peça | C26: 1439.06 | D26: 0.2
A27: GRAVATA OU LENÇO PARA PESCOÇO | B27: peça | C27: 24.36
A28: JALECO MANGA CURTA BRANCO EM ALGODÃO | B28: peça | C28: 65.58
A29: JALECO MANGA LONGA BRANCO EM ALGODÃO | B29: peça | C29: 71.92
A30: JAPONA/JAQUETA | B30: peça | C30: 149.16
A31: JAQUETA PARA CÂMARA FRIA | B31: peça | C31: 163.58
A32: LUVA DE PVC COM FORRO ANTIDERRAPANTE | B32: par | C32: 11.05
A33: LUVA DE RASPA DE COURO/VAQUETA | B33: par | C33: 11.52
A34: LUVA DE VINIL TRANSPARENTE ATÓXICA | B34: par | C34: 0.2406
A35: LUVA DE PVC CANO LONGO 70 CM | B35: par | C35: 57.71
A36: LUVA TÉRMICA DE SEGURANÇA | B36: par | C36: 15.33
A37: MÁSCARA CIRÚRGICA TRIPLA DESCARTÁVEL | B37: peça | C37: 0.1356
A38: MÁSCARA FACIAL PFF2 OU N95 | B38: par | C38: 1.42
... A44: TOUCA EM TELA DE FILÓ | B44: peça | C44: 12.58

Sheet Mat Coletivo e Equipamentos
B2: CUSTOS DIRETOS COM MATERIAIS E EQUIPAMENTOS DE USO COLETIVO
B3: Nº | C3: Código | D3: Descrição | E3: Unidade | F3: Quantidade contratual | G3: Valor (R$) | H3: Taxa de depreciação anual | I3: Custo direto mensal | J3: Custo totais mensais
I4: =SUM(I5:I251) -> 123.40711 | J4: =SUM(J5:J251) -> 2752.9905
B6: 1 | D6: Livro ponto | E6: Unidade | F6: 12 | G6: 18.33 | H6: =IFERROR(IF(VLOOKUP($D6,'Apoio - Mat Coletivo e Equip'!$A:$D,4,FALSE)=0,"",VLOOKUP($D6,'Apoio - Mat Coletivo e Equip'!$A:$D,4,FALSE)),"") | I6: =IFERROR(ROUND((IF(ISNUMBER(H6),H6*'Mão de Obra'!$D$12/12,1)*G6*F6)/'Mão de Obra'!$D$12,2),"") -> 9.17 | J6: =ROUND(I6*(1+ SUM( IFERROR(SUMPRODUCT('Mão de Obra'!E169:II169,'Mão de Obra'!$E$29:$II$29),0), IFERROR(SUMPRODUCT(Produtividade!E169:II169,Produtividade!$E$29:$II$29),0), IFERROR(SUMPRODUCT(Veículos!E81:II81,Veículos!$E$4:$II$4),0) ) / Proposta!J62),2) -> 11.3
B7: 2 | D7: Máquina Lavadora de alta pressão (Lava-jato) | E7: Unidade | F7: 1 | G7: 997.99 | H7: 0.0083 | I7: =IFERROR(J7/'Mão de Obra'!$D$12,"") -> 0.69027642 | J7: =IFERROR(IF(ISNUMBER(H7),H7*'Mão de Obra'!$D$12/12,1)*G7*F7,"") -> 16.566634
B8: 3 | D8: Enceradeira | E8: Unidade | F8: 1 | G8: 2276.79 | H8: 0.0083 | I8: =IFERROR(J8/'Mão de Obra'!$D$12,"") -> 1.5747798 | J8: =IFERROR(IF(ISNUMBER(H8),H8*'Mão de Obra'!$D$12/12,1)*G8*F8,"") -> 37.794714
B9: 4 | D9: Aspirador depó e água | E9: Unidade | F9: 1 | G9: 362 | H9: 0.0083 | I9: =IFERROR(J9/'Mão de Obra'!$D$12,"") -> 0.25038333 | J9: =IFERROR(IF(ISNUMBER(H9),H9*'Mão de Obra'!$D$12/12,1)*G9*F9,"") -> 6.0092
B10: 5 | D10: Extensão elétrica min 30m | E10: Unidade | F10: 1 | G10: 131.7 | H10: =IFERROR(IF(VLOOKUP($D10,'Apoio - Mat Coletivo e Equip'!$A:$D,4,FALSE)=0,"",VLOOKUP($D10,'Apoio - Mat Coletivo e Equip'!$A:$D,4,FALSE)),"") | I10: =IFERROR(J10/'Mão de Obra'!$D$12,"") -> 5.4875 | J10: =IFERROR(IF(ISNUMBER(H10),H10*'Mão de Obra'!$D$12/12,1)*G10*F10,"") -> 131.7
B11: 6 | D11: Escada de abrir - 4metros | E11: Unidade | F11: 1 | G11: 693.09 | H11: =IFERROR(IF(VLOOKUP($D11,'Apoio - Mat Coletivo e Equip'!$A:$D,4,FALSE)=0,"",VLOOKUP($D11,'Apoio - Mat Coletivo e Equip'!$A:$D,4,FALSE)),"") | I11: =IFERROR(J11/'Mão de Obra'!$D$12,"") -> 28.87875 | J11: =IFERROR(IF(ISNUMBER(H11),H11*'Mão de Obra'!$D$12/12,1)*G11*F11,"") -> 693.09
B12: 7 | D12: Escada de abrir - 3metros | E12: Unidade | F12: 1 | G12: 529.93 | H12: =IFERROR(IF(VLOOKUP($D12,'Apoio - Mat Coletivo e Equip'!$A:$D,4,FALSE)=0,"",VLOOKUP($D12,'Apoio - Mat Coletivo e Equip'!$A:$D,4,FALSE)),"") | I12: =IFERROR(J12/'Mão de Obra'!$D$12,"") -> 22.080417 | J12: =IFERROR(IF(ISNUMBER(H12),H12*'Mão de Obra'!$D$12/12,1)*G12*F12,"") -> 529.93
B13: 8 | D13: Mangueira de PVC, p/ jardim | E13: Unidade | F13: 12 | G13: 74.66 | H13: =IFERROR(IF(VLOOKUP($D13,'Apoio - Mat Coletivo e Equip'!$A:$D,4,FALSE)=0,"",VLOOKUP($D13,'Apoio - Mat Coletivo e Equip'!$A:$D,4,FALSE)),"") | I13: =IFERROR(J13/'Mão de Obra'!$D$12,"") -> 37.33 | J13: =IFERROR(IF(ISNUMBER(H13),H13*'Mão de Obra'!$D$12/12,1)*G13*F13,"") -> 895.92
B14: 9 | D14: Placa sinalizadora “piso molhado” | E14: Unidade | F14: 12 | G14: 35.89 | H14: =IFERROR(IF(VLOOKUP($D14,'Apoio - Mat Coletivo e Equip'!$A:$D,4,FALSE)=0,"",VLOOKUP($D14,'Apoio - Mat Coletivo e Equip'!$A:$D,4,FALSE)),"") | I14: =IFERROR(J14/'Mão de Obra'!$D$12,"") -> 17.945 | J14: =IFERROR(IF(ISNUMBER(H14),H14*'Mão de Obra'!$D$12/12,1)*G14*F14,"") -> 430.68
B15: 10 | E15: =IFERROR(VLOOKUP($D15,'Apoio - Mat Coletivo e Equip'!$A:$D,2,FALSE),"") | G15: =IFERROR(VLOOKUP($D15,'Apoio - Mat Coletivo e Equip'!$A:$D,3,FALSE),"") | H15: =IFERROR(IF(VLOOKUP($D15,'Apoio - Mat Coletivo e Equip'!$A:$D,4,FALSE)=0,"",VLOOKUP($D15,'Apoio - Mat Coletivo e Equip'!$A:$D,4,FALSE)),"") | I15: =IFERROR(J15/'Mão de Obra'!$D$12,"") | J15: =IFERROR(IF(ISNUMBER(H15),H15*'Mão de Obra'!$D$12/12,1)*G15*F15,"")
B16: 11 | E16: =IFERROR(VLOOKUP($D16,'Apoio - Mat Coletivo e Equip'!$A:$D,2,FALSE),"") | G16: =IFERROR(VLOOKUP($D16,'Apoio - Mat Coletivo e Equip'!$A:$D,3,FALSE),"") | H16: =IFERROR(IF(VLOOKUP($D16,'Apoio - Mat Coletivo e Equip'!$A:$D,4,FALSE)=0,"",VLOOKUP($D16,'Apoio - Mat Coletivo e Equip'!$A:$D,4,FALSE)),"") | I16: =IFERROR(J16/'Mão de Obra'!$D$12,"") | J16: =IFERROR(IF(ISNUMBER(H16),H16*'Mão de Obra'!$D$12/12,1)*G16*F16,"")
B17: 12 | E17: =IFERROR(VLOOKUP($D17,'Apoio - Mat Coletivo e Equip'!$A:$D,2,FALSE),"") | G17: =IFERROR(VLOOKUP($D17,'Apoio - Mat Coletivo e Equip'!$A:$D,3,FALSE),"") | H17: =IFERROR(IF(VLOOKUP($D17,'Apoio - Mat Coletivo e Equip'!$A:$D,4,FALSE)=0,"",VLOOKUP($D17,'Apoio - Mat Coletivo e Equip'!$A:$D,4,FALSE)),"") | I17: =IFERROR(J17/'Mão de Obra'!$D$12,"") | J17: =IFERROR(IF(ISNUMBER(H17),H17*'Mão de Obra'!$D$12/12,1)*G17*F17,"")
B18: 13 | E18: =IFERROR(VLOOKUP($D18,'Apoio - Mat Coletivo e Equip'!$A:$D,2,FALSE),"") | G18: =IFERROR(VLOOKUP($D18,'Apoio - Mat Coletivo e Equip'!$A:$D,3,FALSE),"") | H18: =IFERROR(IF(VLOOKUP($D18,'Apoio - Mat Coletivo e Equip'!$A:$D,4,FALSE)=0,"",VLOOKUP($D18,'Apoio - Mat Coletivo e Equip'!$A:$D,4,FALSE)),"") | I18: =IFERROR(J18/'Mão de Obra'!$D$12,"") | J18: =IFERROR(IF(ISNUMBER(H18),H18*'Mão de Obra'!$D$12/12,1)*G18*F18,"")
B19: 14 | E19: =IFERROR(VLOOKUP($D19,'Apoio - Mat Coletivo e Equip'!$A:$D,2,FALSE),"") | G19: =IFERROR(VLOOKUP($D19,'Apoio - Mat Coletivo e Equip'!$A:$D,3,FALSE),"") | H19: =IFERROR(IF(VLOOKUP($D19,'Apoio - Mat Coletivo e Equip'!$A:$D,4,FALSE)=0,"",VLOOKUP($D19,'Apoio - Mat Coletivo e Equip'!$A:$D,4,FALSE)),"") | I19: =IFERROR(J19/'Mão de Obra'!$D$12,"") | J19: =IFERROR(IF(ISNUMBER(H19),H19*'Mão de Obra'!$D$12/12,1)*G19*F19,"")
B20: 15 | E20: =IFERROR(VLOOKUP($D20,'Apoio - Mat Coletivo e Equip'!$A:$D,2,FALSE),"") | G20: =IFERROR(VLOOKUP($D20,'Apoio - Mat Coletivo e Equip'!$A:$D,3,FALSE),"") | H20: =IFERROR(IF(VLOOKUP($D20,'Apoio - Mat Coletivo e Equip'!$A:$D,4,FALSE)=0,"",VLOOKUP($D20,'Apoio - Mat Coletivo e Equip'!$A:$D,4,FALSE)),"") | I20: =IFERROR(J20/'Mão de Obra'!$D$12,"") | J20: =IFERROR(IF(ISNUMBER(H20),H20*'Mão de Obra'!$D$12/12,1)*G20*F20,"")
B21: 16 | E21: =IFERROR(VLOOKUP($D21,'Apoio - Mat Coletivo e Equip'!$A:$D,2,FALSE),"") | G21: =IFERROR(VLOOKUP($D21,'Apoio - Mat Coletivo e Equip'!$A:$D,3,FALSE),"") | H21: =IFERROR(IF(VLOOKUP($D21,'Apoio - Mat Coletivo e Equip'!$A:$D,4,FALSE)=0,"",VLOOKUP($D21,'Apoio - Mat Coletivo e Equip'!$A:$D,4,FALSE)),"") | I21: =IFERROR(J21/'Mão de Obra'!$D$12,"") | J21: =IFERROR(IF(ISNUMBER(H21),H21*'Mão de Obra'!$D$12/12,1)*G21*F21,"")
B22: 17 | E22: =IFERROR(VLOOKUP($D22,'Apoio - Mat Coletivo e Equip'!$A:$D,2,FALSE),"") | G22: =IFERROR(VLOOKUP($D22,'Apoio - Mat Coletivo e Equip'!$A:$D,3,FALSE),"") | H22: =IFERROR(IF(VLOOKUP($D22,'Apoio - Mat Coletivo e Equip'!$A:$D,4,FALSE)=0,"",VLOOKUP($D22,'Apoio - Mat Coletivo e Equip'!$A:$D,4,FALSE)),"") | I22: =IFERROR(J22/'Mão de Obra'!$D$12,"") | J22: =IFERROR(IF(ISNUMBER(H22),H22*'Mão de Obra'!$D$12/12,1)*G22*F22,"")
B23: 18 | E23: =IFERROR(VLOOKUP($D23,'Apoio - Mat Coletivo e Equip'!$A:$D,2,FALSE),"") | G23: =IFERROR(VLOOKUP($D23,'Apoio - Mat Coletivo e Equip'!$A:$D,3,FALSE),"") | H23: =IFERROR(IF(VLOOKUP($D23,'Apoio - Mat Coletivo e Equip'!$A:$D,4,FALSE)=0,"",VLOOKUP($D23,'Apoio - Mat Coletivo e Equip'!$A:$D,4,FALSE)),"") | I23: =IFERROR(J23/'Mão de Obra'!$D$12,"") | J23: =IFERROR(IF(ISNUMBER(H23),H23*'Mão de Obra'!$D$12/12,1)*G23*F23,"")
B24: 19 | E24: =IFERROR(VLOOKUP($D24,'Apoio - Mat Coletivo e Equip'!$A:$D,2,FALSE),"") | G24: =IFERROR(VLOOKUP($D24,'Apoio - Mat Coletivo e Equip'!$A:$D,3,FALSE),"") | H24: =IFERROR(IF(VLOOKUP($D24,'Apoio - Mat Coletivo e Equip'!$A:$D,4,FALSE)=0,"",VLOOKUP($D24,'Apoio - Mat Coletivo e Equip'!$A:$D,4,FALSE)),"") | I24: =IFERROR(J24/'Mão de Obra'!$D$12,"") | J24: =IFERROR(IF(ISNUMBER(H24),H24*'Mão de Obra'!$D$12/12,1)*G24*F24,"")
B25: 20 | E25: =IFERROR(VLOOKUP($D25,'Apoio - Mat Coletivo e Equip'!$A:$D,2,FALSE),"") | G25: =IFERROR(VLOOKUP($D25,'Apoio - Mat Coletivo e Equip'!$A:$D,3,FALSE),"") | H25: =IFERROR(IF(VLOOKUP($D25,'Apoio - Mat Coletivo e Equip'!$A:$D,4,FALSE)=0,"",VLOOKUP($D25,'Apoio - Mat Coletivo e Equip'!$A:$D,4,FALSE)),"") | I25: =IFERROR(J25/'Mão de Obra'!$D$12,"") | J25: =IFERROR(IF(ISNUMBER(H25),H25*'Mão de Obra'!$D$12/12,1)*G25*F25,"")
B26: 21 | E26: =IFERROR(VLOOKUP($D26,'Apoio - Mat Coletivo e Equip'!$A:$D,2,FALSE),"") | G26: =IFERROR(VLOOKUP($D26,'Apoio - Mat Coletivo e Equip'!$A:$D,3,FALSE),"") | H26: =IFERROR(IF(VLOOKUP($D26,'Apoio - Mat Coletivo e Equip'!$A:$D,4,FALSE)=0,"",VLOOKUP($D26,'Apoio - Mat Coletivo e Equip'!$A:$D,4,FALSE)),"") | I26: =IFERROR(J26/'Mão de Obra'!$D$12,"") | J26: =IFERROR(IF(ISNUMBER(H26),H26*'Mão de Obra'!$D$12/12,1)*G26*F26,"")
... B205: 200 | E205: =IFERROR(VLOOKUP($D205,'Apoio - Mat Coletivo e Equip'!$A:$D,2,FALSE),"") | G205: =IFERROR(VLOOKUP($D205,'Apoio - Mat Coletivo e Equip'!$A:$D,3,FALSE),"") | H205: =IFERROR(IF(VLOOKUP($D205,'Apoio - Mat Coletivo e Equip'!$A:$D,4,FALSE)=0,"",VLOOKUP($D205,'Apoio - Mat Coletivo e Equip'!$A:$D,4,FALSE)),"") | I205: =IFERROR(J205/'Mão de Obra'!$D$12,"") | J205: =IFERROR(IF(ISNUMBER(H205),H205*'Mão de Obra'!$D$12/12,1)*G205*F205,"")

Sheet Apoio - Mat Coletivo e Equip
A1: Especificação do Objeto | B1: Unidade | C1: Valor Unit. (R$) | D1: Taxa de depreciação anual
G2: Preços oriundos da planilha 36928703 e 36964364 - Processo 24.0.000078625-6
A3: BINÓCULO | B3: Peça | C3: 427.97 | G3: Data base para atualização: 05/12/2025
A4: CASSETETE PR 24 E SUPORTE | B4: Conjunto | C4: 101.78 | D4: 0.1
A5: COLDRE | B5: Peça | C5: 213.08
A6: COLETE BALÍSTICO | B6: peça | C6: 1439.06 | D6: 0.2
A7: JET LOADER | B7: Peça | C7: 57.95
A8: LANTERNA RECARREGÁVEL 19 LEDS | B8: Peça | C8: 76.92
A9: LIVRO DE OCORRÊNCIAS | B9: Peça | C9: 20.24
A10: MUNIÇÃO CALIBRE .38 | B10: Peça | C10: 5.54
A11: PLACA DE SINALIZAÇÃO DE PISO MOLHADO | B11: Peça | C11: 44.77
A12: PLANO DE TELEFONIA (CONTROLE COM LIGAÇÕES ILIMITADAS) | B12: mês | C12: 67.63
A13: TELEFONE CELULAR | B13: Peça | C13: 976.94 | D13: 0.2
A14: REVÓLVER CALIBRE 38 | B14: Peça | C14: 5574.12 | D14: 0.2

Sheet Veículos
C2: DADOS REFERENTES À CONTRATAÇÃO | E2: Veículo A | F2: Veículo B | G2: Veículo C | H2: Veículo D | I2: Veículo E
C3: Tipo de Veículo
C4: Quantidade de veículos
C5: Quilômetros por mês
C7: DETALHAMENTO MÓDULO 1 - MANUTENÇÃO MENSAL DO VEÍCULO
B8: A | C8: Custos com Combustível
C9: Quilometragem/litro
C10: Tipo de Combustível
C11: Preço por litro
D12: Valor (R$) | E12: =IFERROR(E5*E11/E9,"") | F12: =IFERROR(F5*F11/F9,"") | G12: =IFERROR(G5*G11/G9,"") | H12: =IFERROR(H5*H11/H9,"") | I12: =IFERROR(I5*I11/I9,"")
B13: B | C13: Custos com Óleo
C14: Litros por troca
C15: Frequência da troca (em km)
C16: Preço por Litro - Óleo Motor
D17: Valor (R$) | E17: =IFERROR(IF(E3="","",E16*E14*E5/E15),"") | F17: =IFERROR(IF(F3="","",F16*F14*F5/F15),"") | G17: =IFERROR(IF(G3="","",G16*G14*G5/G15),"") | H17: =IFERROR(IF(H3="","",H16*H14*H5/H15),"") | I17: =IFERROR(IF(I3="","",I16*I14*I5/I15),"")
B18: C | C18: Custos com Filtro Óleo
C19: Frequência da troca (em km)
C20: Preço Filtro de óleo
D21: Valor (R$) | E21: =IFERROR(IF(E3="","",E20*E5/E19),"") | F21: =IFERROR(IF(F3="","",F20*F5/F19),"") | G21: =IFERROR(IF(G3="","",G20*G5/G19),"") | H21: =IFERROR(IF(H3="","",H20*H5/H19),"") | I21: =IFERROR(IF(I3="","",I20*I5/I19),"")
B22: D | C22: Custo com Pneu
C23: Custo do pneu
C24: Quantidade
C25: Durabilidade (em Km)
D26: Valor (R$) | E26: =IFERROR((E23*E24*E5/E25),"") | F26: =IFERROR((F23*F24*F5/F25),"") | G26: =IFERROR((G23*G24*G5/G25),"") | H26: =IFERROR((H23*H24*H5/H25),"") | I26: =IFERROR((I23*I24*I5/I25),"")
B27: E | C27: Custo estimado com manutenção
C28: Taxa de manutenção anual
C29: Custo de aquisição do veículo
C30: Outros custos (especificar)
C31: Outros custos (especificar)
C32: Custo de aquisição do veículo (total) | E32: =IF(E3="","",SUM(E29:E31)) | F32: =IF(F3="","",SUM(F29:F31)) | G32: =IF(G3="","",SUM(G29:G31)) | H32: =IF(H3="","",SUM(H29:H31)) | I32: =IF(I3="","",SUM(I29:I31))
D33: Valor (R$) | E33: =IF(E3="","",E28*E32/12) | F33: =IF(F3="","",F28*F32/12) | G33: =IF(G3="","",G28*G32/12) | H33: =IF(H3="","",H28*H32/12) | I33: =IF(I3="","",I28*I32/12)
C34: SUBTOTAL MÓDULO | E34: =IF(E3="","",SUM(E12,E17,E21,E26,E33)) | F34: =IF(F3="","",SUM(F12,F17,F21,F26,F33)) | G34: =IF(G3="","",SUM(G12,G17,G21,G26,G33)) | H34: =IF(H3="","",SUM(H12,H17,H21,H26,H33)) | I34: =IF(I3="","",SUM(I12,I17,I21,I26,I33))
C36: DETALHAMENTO MÓDULO 2 - CUSTOS OBRIGATÓRIOS MENSAIS DO VEÍCULO
B37: A | C37: IPVA (anual) | D37: 0.01 | E37: =IF(E3="","",E29*$D$37/12) | F37: =IF(F3="","",F29*$D$37/12) | G37: =IF(G3="","",G29*$D$37/12) | H37: =IF(H3="","",H29*$D$37/12) | I37: =IF(I3="","",I29*$D$37/12)
B38: B | C38: Seguro contra terceiros (anual) | D38: 0.02 | E38: =IF(E3="","",E32*$D$38/12) | F38: =IF(F3="","",F32*$D$38/12) | G38: =IF(G3="","",G32*$D$38/12) | H38: =IF(H3="","",H32*$D$38/12) | I38: =IF(I3="","",I32*$D$38/12)
B39: C | C39: Licenciamento
C40: Quantidade de licenciamentos no período contratual
C41: Valor do licenciamento | E41: =IF(E3="","",328.51) | F41: =IF(F3="","",328.51) | G41: =IF(G3="","",328.51) | H41: =IF(H3="","",328.51) | I41: =IF(I3="","",328.51)
D42: Valor (R$) | E42: =IF(E$3="","",E40*E41/Proposta!$J$6) | F42: =IF(F$3="","",F40*F41/Proposta!$J$6) | G42: =IF(G$3="","",G40*G41/Proposta!$J$6) | H42: =IF(H$3="","",H40*H41/Proposta!$J$6) | I42: =IF(I$3="","",I40*I41/Proposta!$J$6)
B43: D | C43: Vistoria EPTC
...

Sheet Produtividade
A2: =CONCATENATE("PREFEITURA MUNICIPAL DE PORTO ALEGRE ",D5," FORMAÇÃO DE PREÇOS DE REFERÊNCIA - CESSÃO DE MÃO DE OBRA") -> PREFEITURA MUNICIPAL DE PORTO ALEGRE FORMAÇÃO DE PREÇOS DE REFERÊNCIA - CESSÃO DE MÃO DE OBRA
C4: DADOS REFERENTES À CONTRATAÇÃO
B5: A | C5: Órgão Demandante | H5: 3
B6: B | C6: Pregão Eletrônico nº:
B7: C | C7: Processo SEI nº:
B8: D | C8: Objeto:
B9: E | C9: Responsável
B10: F | C10: Data de conclusão
B11: G | C11: Pagamento do Contrato:
B12: H | C12: Duração do Contrato em meses: | D12: ='Mão de Obra'!D12 -> 24
B13: I | C13: Regime Tributário | D13: Lucro Presumido
B14: J | C14: Receita Bruta
B15: K | C15: Salário Mínimo | D15: ='Mão de Obra'!D15:E15 -> 1621
C17: DADOS REFERENTES AOS POSTOS | E17: Aux. Limpeza | F17: Sup. Limpeza | G17: Alpinista | H17: Sup. Alpinista | I17: =CONCATENATE("Posto ",CHAR(COLUMN()+60)) -> Posto E
B18: A | C18: Função do Posto | E18: Aux. Limpeza, Serv. Gerais | F18: Aux. Limpeza, Serv. Gerais | G18: Limpador Alpinista | H18: Limpador Alpinista
B19: B | C19: Observação
B20: C | C20: Classificação Brasileira de Ocupações (CBO) | E20: =IFERROR(VLOOKUP(E$18,'Apoio - Posto'!$A:$J,2,FALSE),"") -> 5143 | F20: =IFERROR(VLOOKUP(F$18,'Apoio - Posto'!$A:$J,2,FALSE),"") -> 5143 | G20: 5143 | H20: =IFERROR(VLOOKUP(H$18,'Apoio - Posto'!$A:$J,2,FALSE),"") -> 5143 | I20: =IFERROR(VLOOKUP(I$18,'Apoio - Posto'!$A:$J,2,FALSE),"")
B21: D | C21: Valor do Piso normativo da Categoria | E21: =IFERROR(VLOOKUP(E$18,'Apoio - Posto'!$A:$AA,7,FALSE),"") -> 1765.86 | F21: =IFERROR(VLOOKUP(F$18,'Apoio - Posto'!$A:$AA,7,FALSE),"") -> 1765.86 | G21: =IFERROR(VLOOKUP(G$18,'Apoio - Posto'!$A:$AA,7,FALSE),"") -> 2243.81 | H21: =IFERROR(VLOOKUP(H$18,'Apoio - Posto'!$A:$AA,7,FALSE),"") -> 2243.81 | I21: =IFERROR(VLOOKUP(I$18,'Apoio - Posto'!$A:$AA,7,FALSE),"")
B22: E | C22: Regime de trabalho da convenção coletiva (mensal) | E22: =IFERROR(VLOOKUP(E$18,'Apoio - Posto'!$A:$AA,8,FALSE),"") -> 220 | F22: =IFERROR(VLOOKUP(F$18,'Apoio - Posto'!$A:$AA,8,FALSE),"") -> 220 | G22: =IFERROR(VLOOKUP(G$18,'Apoio - Posto'!$A:$AA,8,FALSE),"") -> 220 | H22: =IFERROR(VLOOKUP(H$18,'Apoio - Posto'!$A:$AA,8,FALSE),"") -> 220 | I22: =IFERROR(VLOOKUP(I$18,'Apoio - Posto'!$A:$AA,8,FALSE),"")
B23: F | C23: Sindicato representativo da categoria profissional | E23: =IFERROR(VLOOKUP(E$18,'Apoio - Posto'!$A:$J,3,FALSE),"") -> SINDASSEIO | F23: =IFERROR(VLOOKUP(F$18,'Apoio - Posto'!$A:$J,3,FALSE),"") -> SINDASSEIO | G23: =IFERROR(VLOOKUP(G$18,'Apoio - Posto'!$A:$J,3,FALSE),"") -> SINDASSEIO | H23: =IFERROR(VLOOKUP(H$18,'Apoio - Posto'!$A:$J,3,FALSE),"") -> SINDASSEIO | I23: =IFERROR(VLOOKUP(I$18,'Apoio - Posto'!$A:$J,3,FALSE),"")
B24: G | C24: Data base da categoria | E24: =IFERROR(VLOOKUP(E$18,'Apoio - Posto'!$A:$J,5,FALSE),"") -> 46023 | F24: =IFERROR(VLOOKUP(F$18,'Apoio - Posto'!$A:$J,5,FALSE),"") -> 46023 | G24: =IFERROR(VLOOKUP(G$18,'Apoio - Posto'!$A:$J,5,FALSE),"") -> 46023 | H24: =IFERROR(VLOOKUP(H$18,'Apoio - Posto'!$A:$J,5,FALSE),"") -> 46023 | I24: =IFERROR(VLOOKUP(I$18,'Apoio - Posto'!$A:$J,5,FALSE),"")
B25: H | C25: Registro no MTE | E25: =IFERROR(VLOOKUP(E$18,'Apoio - Posto'!$A:$J,4,FALSE),"") -> RS000041/2026 | F25: =IFERROR(VLOOKUP(F$18,'Apoio - Posto'!$A:$J,4,FALSE),"") -> RS000041/2026 | G25: =IFERROR(VLOOKUP(G$18,'Apoio - Posto'!$A:$J,4,FALSE),"") -> RS000041/2026 | H25: =IFERROR(VLOOKUP(H$18,'Apoio - Posto'!$A:$J,4,FALSE),"") -> RS000041/2026 | I25: =IFERROR(VLOOKUP(I$18,'Apoio - Posto'!$A:$J,4,FALSE),"")
B26: I | C26: Regime de trabalho do Contrato (semanal) | E26: 44h (5 dia/sem) | F26: 44h (5 dia/sem) | G26: 44h (5 dia/sem) | H26: 44h (5 dia/sem)
B27: J | C27: Quantidade de postos | E27: =8*SUM(K191:K210,K212:K214,K218:K219)/VLOOKUP(E26,'Apoio - Regime de Trabalho'!$A:$K,10,FALSE) -> 0 | F27: =1/30*E27 -> 0 | G27: =8*SUM(K210:K211,K216:K217)/VLOOKUP(G26,'Apoio - Regime de Trabalho'!$A:$K,10,FALSE) -> 0 | H27: =1/4*G27 -> 0
B28: K | C28: Quantidade de profissional por posto | E28: =IFERROR(VLOOKUP(E26,'Apoio - Regime de Trabalho'!$A:$I,2,FALSE),"") -> 1 | F28: =IFERROR(VLOOKUP(F26,'Apoio - Regime de Trabalho'!$A:$I,2,FALSE),"") -> 1 | G28: =IFERROR(VLOOKUP(G26,'Apoio - Regime de Trabalho'!$A:$I,2,FALSE),"") -> 1 | H28: =IFERROR(VLOOKUP(H26,'Apoio - Regime de Trabalho'!$A:$I,2,FALSE),"") -> 1 | I28: =IFERROR(VLOOKUP(I26,'Apoio - Regime de Trabalho'!$A:$I,10,FALSE),"")
B29: L | C29: Quantidade total de profissionais | E29: =IFERROR(IF(E18="","",E28*E27),"") -> 0 | F29: =IFERROR(IF(F18="","",F28*F27),"") -> 0 | G29: =IFERROR(IF(G18="","",G28*G27),"") -> 0 | H29: =IFERROR(IF(H18="","",H28*H27),"") -> 0 | I29: =IFERROR(IF(I18="","",I28*I27),"")
C31: MÓDULO 1: COMPOSIÇÃO DA REMUNERAÇÃO
B32: A | C32: Salário-Base | E32: =IFERROR(E21*VLOOKUP(E26,'Apoio - Regime de Trabalho'!$A:$I,8,FALSE)/(E22),"") -> 1765.86 | F32: =IFERROR(F21*VLOOKUP(F26,'Apoio - Regime de Trabalho'!$A:$I,8,FALSE)/(F22),"") -> 1765.86 | G32: =IFERROR(G21*VLOOKUP(G26,'Apoio - Regime de Trabalho'!$A:$I,8,FALSE)/(G22),"") -> 2243.81 | H32: =IFERROR(H21*VLOOKUP(H26,'Apoio - Regime de Trabalho'!$A:$I,8,FALSE)/(H22),"") -> 2243.81 | I32: =IFERROR(ROUND(I21*VLOOKUP(I26,'Apoio - Regime de Trabalho'!$A:$I,8,FALSE)/(I22),2),"")
B33: B | C33: Adicional de Periculosidade
C34: Incidência | E34: =IFERROR(VLOOKUP(E$18,'Apoio - Posto'!$A:$AA,15,FALSE),"") -> 0 | F34: =IFERROR(VLOOKUP(F$18,'Apoio - Posto'!$A:$AA,15,FALSE),"") -> 0 | G34: =IFERROR(VLOOKUP(G$18,'Apoio - Posto'!$A:$AA,15,FALSE),"") -> 0.3 | H34: =IFERROR(VLOOKUP(H$18,'Apoio - Posto'!$A:$AA,15,FALSE),"") -> 0.3 | I34: =IFERROR(VLOOKUP(I$18,'Apoio - Posto'!$A:$AA,15,FALSE),"")
D35: Valor (R$) | E35: =IFERROR((E32)*E34,"") -> 0 | F35: =IFERROR((F32)*F34,"") -> 0 | G35: =IFERROR((G32)*G34,"") -> 673.143 | H35: =IFERROR((H32)*H34,"") -> 673.143 | I35: =IFERROR(ROUND((I32)*I34,2),"")
B36: C | C36: Adicional de Insalubridade
C37: Base de incindência | E37: =IFERROR(VLOOKUP(E$18,'Apoio - Posto'!$A:$AA,14,FALSE),"") -> Salário Base | F37: =IFERROR(VLOOKUP(F$18,'Apoio - Posto'!$A:$AA,14,FALSE),"") -> Salário Base | G37: =IFERROR(VLOOKUP(G$18,'Apoio - Posto'!$A:$AA,14,FALSE),"") -> Salário Base | H37: =IFERROR(VLOOKUP(H$18,'Apoio - Posto'!$A:$AA,14,FALSE),"") -> Salário Base | I37: =IFERROR(VLOOKUP(I$18,'Apoio - Posto'!$A:$AA,14,FALSE),"")
C38: Percentual de incidência | E38: 0.4 | F38: 0.2 | I38: =IFERROR(VLOOKUP(I$18,'Apoio - Posto'!$A:$AA,13,FALSE),"")
D39: Valor (R$) | E39: =IF(E21="","",IFERROR(IF(E37="Salário Base",E$32,IF(E37="Salário Mínimo",$D$15,0))*E38,"")) -> 706.344 | F39: =IF(F21="","",IFERROR(IF(F37="Salário Base",F$32,IF(F37="Salário Mínimo",$D$15,0))*F38,"")) -> 353.172 | G39: =IF(G21="","",IFERROR(IF(G37="Salário Base",G$32,IF(G37="Salário Mínimo",$D$15,0))*G38,"")) -> 0 | H39: =IF(H21="","",IFERROR(IF(H37="Salário Base",H$32,IF(H37="Salário Mínimo",$D$15,0))*H38,"")) -> 0 | I39: =IF(I21="","",IFERROR(ROUND(IF(I37="Salário Base",I$32,IF(I37="Salário Mínimo",$D$15,0))*I38,2),""))
B40: D | C40: Gratificação de Função
C41: Percentual de incidência | F41: 0.2 | H41: 0.2
D42: Valor (R$) | E42: =IFERROR(E41*E$32,"") -> 0 | F42: =IFERROR(F41*F$32,"") -> 353.172 | G42: =IFERROR(G41*G$32,"") -> 0 | H42: =IFERROR(H41*H$32,"") -> 448.762 | I42: =IFERROR(ROUND(I41*I$32,2),"")
B43: E | C43: Adicional Noturno
C44: Número de horas noturnas por dia | E44: =IF(AND(E20=5173,E26="12x36 Noturno"),8,"") | F44: =IF(AND(F20=5173,F26="12x36 Noturno"),8,"") | G44: =IF(AND(G20=5173,G26="12x36 Noturno"),8,"") | H44: =IF(AND(H20=5173,H26="12x36 Noturno"),8,"") | I44: =IF(AND(I20=5173,I26="12x36 Noturno"),8,"")
...

Sheet Proposta
B2: PREFEITURA MUNICIPAL DE PORTO ALEGRE
B3: =IF(IFERROR(SUM(Produtividade!L194:L219)>0,FALSE()),Produtividade!D5, IF(IFERROR(Veículos!$E$3<>"",FALSE()),'Mão de Obra'!D5,'Mão de Obra'!D5)) -> Secretaria Municipal da Inclusão e Desenvolvimento Humano SMIDH
B4: PLANILHA DE CUSTOS E FORMAÇÃO DE PREÇOS
B6: Pregão Eletrônico Nº: | C6: =IF(IFERROR(SUM(Produtividade!L194:L219)>0,FALSE()),Produtividade!D6, IF(IFERROR(Veículos!$E$3<>"",FALSE()),'Mão de Obra'!D6, 'Mão de Obra'!D6)) -> 0 | G6: Tempo de Duração do Contrato: | J6: =IF(IFERROR(SUM(Produtividade!L194:L219)>0,FALSE()),Produtividade!D12, IF(IFERROR(Veículos!$E$3<>"",FALSE()),'Mão de Obra'!D12, 'Mão de Obra'!D12)) -> 24
B7: Processo SEI Nº: | C7: =IF(IFERROR(SUM(Produtividade!L194:L219)>0,FALSE()),Produtividade!D7, IF(IFERROR(Veículos!$E$3<>"",FALSE()),'Mão de Obra'!D7, 'Mão de Obra'!D7)) -> 26.0.000028116-5 | G7: Forma de Pagamento do Contrato: | J7: =IF(IFERROR(SUM(Produtividade!L194:L219)>0,FALSE()),Produtividade!D11, IF(IFERROR(Veículos!$E$3<>"",FALSE()),'Mão de Obra'!D11, 'Mão de Obra'!D11)) -> Mês
B8: =CONCATENATE("OBJETO: ", IF(IFERROR(SUM(Produtividade!L194:L219)>0,FALSE()),Produtividade!D8, IF(IFERROR(Veículos!$E$3<>"",FALSE()),'Mão de Obra'!D8, 'Mão de Obra'!D8))) -> OBJETO: Contratação de empresa para a prestação de serviços de limpeza e conservação, com fornecimento de equipamentos, e prestação de serviço de copeiragem, para a Secretaria Municipal da Inclusão e Desenvolvimento Humano.
B9: Nome da Empresa: | G9: Regime Tributário: | J9: =IF(IFERROR(SUM(Produtividade!L194:L219)>0,FALSE()),Produtividade!D13, IF(IFERROR(Veículos!$E$3<>"",FALSE()),'Mão de Obra'!D13, 'Mão de Obra'!D13)) -> Lucro Presumido
B10: CNPJ Matriz: | G10: Receita Bruta Anual: | J10: =IF(IFERROR(SUM(Produtividade!L194:L219)>0,FALSE()),Produtividade!D14, IF(IFERROR(Veículos!$E$3<>"",FALSE()),'Mão de Obra'!D14, 'Mão de Obra'!D14)) -> 0
B11: Endereço da Empresa: | G11: Telefone:
B12: Nome do Responsável: | G12: CPF Responsável:
B13: Endereço eletrônico: | G13: Dados Bancários:
B15: DEMONSTRATIVO DE CUSTOS COM MÃO DE OBRA POR POSTO
B16: Função | C16: Posto | D16: Regime | E16: Qnt. de Postos | F16: Qnt. de Profissionais | G16: Custo hora | H16: Custo dia | I16: Custo mês | J16: Total mensal | K16: Total contratual
B17: =IF( INDEX('Mão de Obra'!$E$18:$X$18,1,ROW()-ROW($B$16))<>0, INDEX('Mão de Obra'!$E$18:$X$18,1,ROW()-ROW($B$16)), "OCULTAR ESTA LINHA" ) -> Aux. Limpeza, Serv. Gerais | C17: =INDEX('Mão de Obra'!$E$17:$X$17,1,ROW()-ROW($C$16)) -> Posto A | D17: =INDEX('Mão de Obra'!$E$26:$X$26,1,ROW()-ROW($D$16)) -> 40h (5 dia/sem) | E17: =INDEX('Mão de Obra'!$E$27:$X$27,1,ROW()-ROW($E$16)) -> 2 | F17: =INDEX('Mão de Obra'!$E$29:$X$29,1,ROW()-ROW($F$16)) -> 2 | G17: =INDEX('Mão de Obra'!$E$174:$X$174,1,ROW()-ROW($G$16)) -> 33.12 | H17: =INDEX('Mão de Obra'!$E$175:$X$175,1,ROW()-ROW($I$16)) -> 264.92 | I17: =INDEX('Mão de Obra'!$E$177:$X$177,1,ROW()-ROW($I$16)) -> 5828.28 | J17: =INDEX('Mão de Obra'!$E$183:$X$183,1,ROW()-ROW($I$16)) -> 11656.56 | K17: =INDEX('Mão de Obra'!$E$189:$X$189,1,ROW()-ROW($I$16)) -> 279757.44
B18: =IF( INDEX('Mão de Obra'!$E$18:$X$18,1,ROW()-ROW($B$16))<>0, INDEX('Mão de Obra'!$E$18:$X$18,1,ROW()-ROW($B$16)), "OCULTAR ESTA LINHA" ) -> Aux. Limpeza, Serv. Gerais | C18: =INDEX('Mão de Obra'!$E$17:$X$17,1,ROW()-ROW($C$16)) -> Posto B | D18: =INDEX('Mão de Obra'!$E$26:$X$26,1,ROW()-ROW($D$16)) -> 30h (5 dia/sem) | E18: =INDEX('Mão de Obra'!$E$27:$X$27,1,ROW()-ROW($E$16)) -> 13 | F18: =INDEX('Mão de Obra'!$E$29:$X$29,1,ROW()-ROW($F$16)) -> 13 | G18: =INDEX('Mão de Obra'!$E$174:$X$174,1,ROW()-ROW($G$16)) -> 32.5 | H18: =INDEX('Mão de Obra'!$E$175:$X$175,1,ROW()-ROW($I$16)) -> 194.98 | I18: =INDEX('Mão de Obra'!$E$177:$X$177,1,ROW()-ROW($I$16)) -> 4289.55 | J18: =INDEX('Mão de Obra'!$E$183:$X$183,1,ROW()-ROW($I$16)) -> 55764.15 | K18: =INDEX('Mão de Obra'!$E$189:$X$189,1,ROW()-ROW($I$16)) -> 1338339.6
B19: =IF( INDEX('Mão de Obra'!$E$18:$X$18,1,ROW()-ROW($B$16))<>0, INDEX('Mão de Obra'!$E$18:$X$18,1,ROW()-ROW($B$16)), "OCULTAR ESTA LINHA" ) -> Aux. Limpeza, Serv. Gerais | C19: =INDEX('Mão de Obra'!$E$17:$X$17,1,ROW()-ROW($C$16)) -> Posto C | D19: =INDEX('Mão de Obra'!$E$26:$X$26,1,ROW()-ROW($D$16)) -> 40h (5 dia/sem) | E19: =INDEX('Mão de Obra'!$E$27:$X$27,1,ROW()-ROW($E$16)) -> 1 | F19: =INDEX('Mão de Obra'!$E$29:$X$29,1,ROW()-ROW($F$16)) -> 1 | G19: =INDEX('Mão de Obra'!$E$174:$X$174,1,ROW()-ROW($G$16)) -> 37.06 | H19: =INDEX('Mão de Obra'!$E$175:$X$175,1,ROW()-ROW($I$16)) -> 296.46 | I19: =INDEX('Mão de Obra'!$E$177:$X$177,1,ROW()-ROW($I$16)) -> 6522.12 | J19: =INDEX('Mão de Obra'!$E$183:$X$183,1,ROW()-ROW($I$16)) -> 6522.12 | K19: =INDEX('Mão de Obra'!$E$189:$X$189,1,ROW()-ROW($I$16)) -> 156530.88
B20: =IF( INDEX('Mão de Obra'!$E$18:$X$18,1,ROW()-ROW($B$16))<>0, INDEX('Mão de Obra'!$E$18:$X$18,1,ROW()-ROW($B$16)), "OCULTAR ESTA LINHA" ) -> Copeiro | C20: =INDEX('Mão de Obra'!$E$17:$X$17,1,ROW()-ROW($C$16)) -> Posto D | D20: =INDEX('Mão de Obra'!$E$26:$X$26,1,ROW()-ROW($D$16)) -> 30h (5 dia/sem) | E20: =INDEX('Mão de Obra'!$E$27:$X$27,1,ROW()-ROW($E$16)) -> 1 | F20: =INDEX('Mão de Obra'!$E$29:$X$29,1,ROW()-ROW($F$16)) -> 1 | G20: =INDEX('Mão de Obra'!$E$174:$X$174,1,ROW()-ROW($G$16)) -> 29.59 | H20: =INDEX('Mão de Obra'!$E$175:$X$175,1,ROW()-ROW($I$16)) -> 177.52 | I20: =INDEX('Mão de Obra'!$E$177:$X$177,1,ROW()-ROW($I$16)) -> 3905.37 | J20: =INDEX('Mão de Obra'!$E$183:$X$183,1,ROW()-ROW($I$16)) -> 3905.37 | K20: =INDEX('Mão de Obra'!$E$189:$X$189,1,ROW()-ROW($I$16)) -> 93728.88
B21: =IF( INDEX('Mão de Obra'!$E$18:$X$18,1,ROW()-ROW($B$16))<>0, INDEX('Mão de Obra'!$E$18:$X$18,1,ROW()-ROW($B$16)), "OCULTAR ESTA LINHA" ) -> OCULTAR ESTA LINHA | C21: =INDEX('Mão de Obra'!$E$17:$X$17,1,ROW()-ROW($C$16)) -> Posto E | D21: =INDEX('Mão de Obra'!$E$26:$X$26,1,ROW()-ROW($D$16)) -> 0 | E21: =INDEX('Mão de Obra'!$E$27:$X$27,1,ROW()-ROW($E$16)) -> 0 | F21: =INDEX('Mão de Obra'!$E$29:$X$29,1,ROW()-ROW($F$16)) | G21: =INDEX('Mão de Obra'!$E$174:$X$174,1,ROW()-ROW($G$16)) | H21: =INDEX('Mão de Obra'!$E$175:$X$175,1,ROW()-ROW($I$16)) | I21: =INDEX('Mão de Obra'!$E$177:$X$177,1,ROW()-ROW($I$16)) | J21: =INDEX('Mão de Obra'!$E$183:$X$183,1,ROW()-ROW($I$16)) | K21: =INDEX('Mão de Obra'!$E$189:$X$189,1,ROW()-ROW($I$16))
B22: =IF( INDEX('Mão de Obra'!$E$18:$X$18,1,ROW()-ROW($B$16))<>0, INDEX('Mão de Obra'!$E$18:$X$18,1,ROW()-ROW($B$16)), "OCULTAR ESTA LINHA" ) -> OCULTAR ESTA LINHA | C22: =INDEX('Mão de Obra'!$E$17:$X$17,1,ROW()-ROW($C$16)) -> Posto F | D22: =INDEX('Mão de Obra'!$E$26:$X$26,1,ROW()-ROW($D$16)) -> 0 | E22: =INDEX('Mão de Obra'!$E$27:$X$27,1,ROW()-ROW($E$16)) -> 0 | F22: =INDEX('Mão de Obra'!$E$29:$X$29,1,ROW()-ROW($F$16)) | G22: =INDEX('Mão de Obra'!$E$174:$X$174,1,ROW()-ROW($G$16)) | H22: =INDEX('Mão de Obra'!$E$175:$X$175,1,ROW()-ROW($I$16)) | I22: =INDEX('Mão de Obra'!$E$177:$X$177,1,ROW()-ROW($I$16)) | J22: =INDEX('Mão de Obra'!$E$183:$X$183,1,ROW()-ROW($I$16)) | K22: =INDEX('Mão de Obra'!$E$189:$X$189,1,ROW()-ROW($I$16))
B23: =IF( INDEX('Mão de Obra'!$E$18:$X$18,1,ROW()-ROW($B$16))<>0, INDEX('Mão de Obra'!$E$18:$X$18,1,ROW()-ROW($B$16)), "OCULTAR ESTA LINHA" ) -> OCULTAR ESTA LINHA | C23: =INDEX('Mão de Obra'!$E$17:$X$17,1,ROW()-ROW($C$16)) -> Posto G | D23: =INDEX('Mão de Obra'!$E$26:$X$26,1,ROW()-ROW($D$16)) -> 0 | E23: =INDEX('Mão de Obra'!$E$27:$X$27,1,ROW()-ROW($E$16)) -> 0 | F23: =INDEX('Mão de Obra'!$E$29:$X$29,1,ROW()-ROW($F$16)) | G23: =INDEX('Mão de Obra'!$E$174:$X$174,1,ROW()-ROW($G$16)) | H23: =INDEX('Mão de Obra'!$E$175:$X$175,1,ROW()-ROW($I$16)) | I23: =INDEX('Mão de Obra'!$E$177:$X$177,1,ROW()-ROW($I$16)) | J23: =INDEX('Mão de Obra'!$E$183:$X$183,1,ROW()-ROW($I$16)) | K23: =INDEX('Mão de Obra'!$E$189:$X$189,1,ROW()-ROW($I$16))
B24: =IF( INDEX('Mão de Obra'!$E$18:$X$18,1,ROW()-ROW($B$16))<>0, INDEX('Mão de Obra'!$E$18:$X$18,1,ROW()-ROW($B$16)), "OCULTAR ESTA LINHA" ) -> OCULTAR ESTA LINHA | C24: =INDEX('Mão de Obra'!$E$17:$X$17,1,ROW()-ROW($C$16)) -> Posto H | D24: =INDEX('Mão de Obra'!$E$26:$X$26,1,ROW()-ROW($D$16)) -> 0 | E24: =INDEX('Mão de Obra'!$E$27:$X$27,1,ROW()-ROW($E$16)) -> 0 | F24: =INDEX('Mão de Obra'!$E$29:$X$29,1,ROW()-ROW($F$16)) | G24: =INDEX('Mão de Obra'!$E$174:$X$174,1,ROW()-ROW($G$16)) | H24: =INDEX('Mão de Obra'!$E$175:$X$175,1,ROW()-ROW($I$16)) | I24: =INDEX('Mão de Obra'!$E$177:$X$177,1,ROW()-ROW($I$16)) | J24: =INDEX('Mão de Obra'!$E$183:$X$183,1,ROW()-ROW($I$16)) | K24: =INDEX('Mão de Obra'!$E$189:$X$189,1,ROW()-ROW($I$16))
B25: =IF( INDEX('Mão de Obra'!$E$18:$X$18,1,ROW()-ROW($B$16))<>0, INDEX('Mão de Obra'!$E$18:$X$18,1,ROW()-ROW($B$16)), "OCULTAR ESTA LINHA" ) -> OCULTAR ESTA LINHA | C25: =INDEX('Mão de Obra'!$E$17:$X$17,1,ROW()-ROW($C$16)) -> Posto I | D25: =INDEX('Mão de Obra'!$E$26:$X$26,1,ROW()-ROW($D$16)) -> 0 | E25: =INDEX('Mão de Obra'!$E$27:$X$27,1,ROW()-ROW($E$16)) -> 0 | F25: =INDEX('Mão de Obra'!$E$29:$X$29,1,ROW()-ROW($F$16)) | G25: =INDEX('Mão de Obra'!$E$174:$X$174,1,ROW()-ROW($G$16)) | H25: =INDEX('Mão de Obra'!$E$175:$X$175,1,ROW()-ROW($I$16)) | I25: =INDEX('Mão de Obra'!$E$177:$X$177,1,ROW()-ROW($I$16)) | J25: =INDEX('Mão de Obra'!$E$183:$X$183,1,ROW()-ROW($I$16)) | K25: =INDEX('Mão de Obra'!$E$189:$X$189,1,ROW()-ROW($I$16))
B26: =IF( INDEX('Mão de Obra'!$E$18:$X$18,1,ROW()-ROW($B$16))<>0, INDEX('Mão de Obra'!$E$18:$X$18,1,ROW()-ROW($B$16)), "OCULTAR ESTA LINHA" ) -> OCULTAR ESTA LINHA | C26: =INDEX('Mão de Obra'!$E$17:$X$17,1,ROW()-ROW($C$16)) -> Posto J | D26: =INDEX('Mão de Obra'!$E$26:$X$26,1,ROW()-ROW($D$16)) -> 0 | E26: =INDEX('Mão de Obra'!$E$27:$X$27,1,ROW()-ROW($E$16)) -> 0 | F26: =INDEX('Mão de Obra'!$E$29:$X$29,1,ROW()-ROW($F$16)) | G26: =INDEX('Mão de Obra'!$E$174:$X$174,1,ROW()-ROW($G$16)) | H26: =INDEX('Mão de Obra'!$E$175:$X$175,1,ROW()-ROW($I$16)) | I26: =INDEX('Mão de Obra'!$E$177:$X$177,1,ROW()-ROW($I$16)) | J26: =INDEX('Mão de Obra'!$E$183:$X$183,1,ROW()-ROW($I$16)) | K26: =INDEX('Mão de Obra'!$E$189:$X$189,1,ROW()-ROW($I$16))
E27: =SUM(E17:E26) -> 17 | F27: =SUM(F17:F26) -> 17 | J27: =SUM(J17:J26) -> 77848.2 | K27: =SUM(K17:K26) -> 1868356.8
B29: DEMONSTRATIVO DOS CUSTOS TOTAIS COM MATERIAIS E EQUIPAMENTOS DE USO COLETIVO
B30: Materiais e equipamentos coletivos | J30: Total mensal | K30: Total contratual
B31: Materiais e equipamentos coletivos | J31: =IFERROR(IF(OR('Mão de Obra'!$D$150="Não",'Mão de Obra'!$D$150=""), 'Mat Coletivo e Equipamentos'!J4,""),0) -> 2752.9905 | K31: =IFERROR(J31*J6,0) -> 66071.773
J32: =SUM(J31) -> 2752.9905 | K32: =SUM(K31) -> 66071.773
B34: DEMONSTRATIVO DE CUSTOS COM LOCAÇÃO DE VEÍCULOS
B35: Veículo | D35: Qnt. | E35: Qnt Horas | F35: Km/mês | G35: Custo hora | H35: Custo km rodado | I35: Custo mês | J35: Total mensal | K35: Total contratual
B36: =IF( INDEX(Veículos!$E$3:$AR$3,1,ROW()-ROW(B$35))<>"", INDEX(Veículos!$E$3:$AR$3,1,ROW()-ROW(B$35)), "OCULTAR ESTA LINHA") -> OCULTAR ESTA LINHA | D36: =INDEX(Veículos!$E$4:$CS$4,1,ROW()-ROW(D$35)) -> 0 | E36: =INDEX(Veículos!$E$88:$CS$88,1,ROW()-ROW(E$35)) | F36: =INDEX(Veículos!$E$5:$AR$5,1,ROW()-ROW(F$35)) -> 0 | G36: =INDEX(Veículos!$E$89:$CS$89,1,ROW()-ROW(G$35)) | H36: =INDEX(Veículos!$E$86:$CS$86,1,ROW()-ROW(H$35)) | I36: =INDEX(Veículos!$E$94:$CS$94,1,ROW()-ROW(I$35)) | J36: =INDEX(Veículos!$E$99:$CS$99,1,ROW()-ROW(J$35)) | K36: =INDEX(Veículos!$E$100:$CS$100,1,ROW()-ROW(K$35))
