Workbook

Sheet dados
A1: DADOS DO ORÇAMENTO
A2: SECRETARIA: | B2: SECRETARIA MUNICIPAL DE OBRAS E INFRAESTRUTURA
A3: OBJETO: | B3: Execução de Obras de Pavimentação e Redes de Drenagem na Rua Giruá
A4: ENDEREÇO: | B4: Rua Giruá, Vila Panorama, Lomba Pinheiro, Porto Alegre, RS
A5: AUTOR: | B5: Demitrio Fleck
A6: TÍTULO: | B6: Engenheiro Civil
A7: CONSELHO: | B7: CREA RS-145877
A8: REVISÃO: | B8: 46265
A9: DATA BASE: | B9: 46204
A10: ENCARGOS SOCIAIS: | B10: Não Desonerado
A11: PERCENTUAL DE MÃO DE OBRA EM RELAÇÃO AO VALOR TOTAL DO ORÇAMENTO: | C11: =SUM(orcamento!L10:L192)/orcamento!N193 -> 0.36552041

Sheet orcamento
D1: PREFEITURA MUNICIPAL DE PORTO ALEGRE
D2: =dados!B2 -> SECRETARIA MUNICIPAL DE OBRAS E INFRAESTRUTURA
D3: ="Objeto: "&dados!B3 -> Objeto: Execução de Obras de Pavimentação e Redes de Drenagem na Rua Giruá
D4: ="Endereço: "&dados!B4 -> Endereço: Rua Giruá, Vila Panorama, Lomba Pinheiro, Porto Alegre, RS
D6: ="Orçamento ("&dados!B10&")" -> Orçamento (Não Desonerado)
B8: CÓDIGO | C8: FONTE | D8: DESCRIÇÃO | E8: UNID. | F8: QUANT. | H8: Custo Unitário | J8: BDI | K8: Preço Unitário | M8: Preço Total
G9: Mão de obra | H9: Material+Equip. | I9: Total | L9: Mão de obra | M9: Material+Equip. | N9: Total
A10: 1 | D10: ADMINISTRAÇÃO LOCAL
A11: 1.1 | B11: CCU 01 | C11: COMPOSICAO_PROPRIA | D11: =VLOOKUP(B11,composicoes!$A:$K,2,0) -> EQUIPE E CONSUMOS DE ADMINISTRAÇÃO LOCAL | E11: =VLOOKUP(B11,composicoes!$A:$K,8,0) -> UN | F11: 1 | G11: =VLOOKUP(B11,composicoes!$A:$K,10,0) -> 121481.36 | H11: =VLOOKUP(B11,composicoes!$A:$K,11,0) -> 7031.44 | I11: =G11+H11 -> 128512.8 | J11: 0.2423 | K11: =I11+ROUND(I11*J11,2) -> 159651.45 | L11: =TRUNC(TRUNC(G11*(1+J11),2)*F11,2) -> 150916.29 | M11: =N11-L11 -> 8735.16 | N11: =ROUND(F11*K11,2) -> 159651.45
A12: 1.2 | B12: CCU 02 | C12: COMPOSICAO_PROPRIA | D12: =VLOOKUP(B12,composicoes!$A:$K,2,0) -> SERVIÇO DE VIGILÂNCIA NOTURNO (DIÁRIO) E DIURNO (FINAIS DE SEMANA E FERIADO) | E12: =VLOOKUP(B12,composicoes!$A:$K,8,0) -> UN | F12: 1 | G12: =VLOOKUP(B12,composicoes!$A:$K,10,0) -> 31048.31 | H12: =VLOOKUP(B12,composicoes!$A:$K,11,0) -> 4400.36 | I12: =G12+H12 -> 35448.67 | J12: 0.2423 | K12: =I12+ROUND(I12*J12,2) -> 44037.88 | L12: =TRUNC(TRUNC(G12*(1+J12),2)*F12,2) -> 38571.31 | M12: =N12-L12 -> 5466.57 | N12: =ROUND(F12*K12,2) -> 44037.88
A13: 1.3 | B13: TAB 01 | C13: COTACAO | D13: =VLOOKUP(B13,tabelas!$A:$L,4,0) -> DOCUMENTO DE RESPONSABILIDADE TÉCNICA | E13: =VLOOKUP(B13,tabelas!$A:$L,5,0) -> UN | F13: 1 | G13: 0 | H13: =VLOOKUP($B13,tabelas!$A:$L,12,0) -> 285.59 | I13: =G13+H13 -> 285.59 | J13: 0.2423 | K13: =I13+ROUND(I13*J13,2) -> 354.79 | L13: =TRUNC(TRUNC(G13*(1+J13),2)*F13,2) -> 0 | M13: =N13-L13 -> 354.79 | N13: =ROUND(F13*K13,2) -> 354.79
A14: 1.4 | B14: CCU 03 | C14: COMPOSICAO_PROPRIA | D14: =VLOOKUP(B14,composicoes!$A:$K,2,0) -> PROJETO AS BUILT (1.550m2 DE ÁREA CONSTRUÍDA) | E14: =VLOOKUP(B14,composicoes!$A:$K,8,0) -> UN | F14: 1 | G14: =VLOOKUP(B14,composicoes!$A:$K,10,0) -> 1588.41 | H14: =VLOOKUP(B14,composicoes!$A:$K,11,0) -> 0 | I14: =G14+H14 -> 1588.41 | J14: 0.2423 | K14: =I14+ROUND(I14*J14,2) -> 1973.28 | L14: =TRUNC(TRUNC(G14*(1+J14),2)*F14,2) -> 1973.28 | M14: =N14-L14 -> 0 | N14: =ROUND(F14*K14,2) -> 1973.28
A15: 1.5 | B15: CCU 04 | C15: COMPOSICAO_PROPRIA | D15: =VLOOKUP(B15,composicoes!$A:$K,2,0) -> CADASTRO DE REDES (210m DE REDE DE DRENAGEM) | E15: =VLOOKUP(B15,composicoes!$A:$K,8,0) -> UN | F15: 1 | G15: =VLOOKUP(B15,composicoes!$A:$K,10,0) -> 1588.41 | H15: =VLOOKUP(B15,composicoes!$A:$K,11,0) -> 0 | I15: =G15+H15 -> 1588.41 | J15: 0.2423 | K15: =I15+ROUND(I15*J15,2) -> 1973.28 | L15: =TRUNC(TRUNC(G15*(1+J15),2)*F15,2) -> 1973.28 | M15: =N15-L15 -> 0 | N15: =ROUND(F15*K15,2) -> 1973.28
A16: 1.6 | B16: CCU 05 | C16: COMPOSICAO_PROPRIA | D16: =VLOOKUP(B16,composicoes!$A:$K,2,0) -> SERVIÇO DE LOCAÇÃO/TOPOGRAFIA (115M PAVIMENTO E 210M REDE DRENAGEM) | E16: =VLOOKUP(B16,composicoes!$A:$K,8,0) -> UN | F16: 1 | G16: =VLOOKUP(B16,composicoes!$A:$K,10,0) -> 4620.16 | H16: =VLOOKUP(B16,composicoes!$A:$K,11,0) -> 228.13 | I16: =G16+H16 -> 4848.29 | J16: 0.2423 | K16: =I16+ROUND(I16*J16,2) -> 6023.03 | L16: =TRUNC(TRUNC(G16*(1+J16),2)*F16,2) -> 5739.62 | M16: =N16-L16 -> 283.41 | N16: =ROUND(F16*K16,2) -> 6023.03
A17: 2 | D17: ENSAIOS
A18: 2.1 | D18: SUBLEITO
A19: 2.1.1 | B19: CCU 08.a | C19: COMPOSICAO_PROPRIA | D19: =VLOOKUP(B19,composicoes!$A:$K,2,0) -> ENSAIO DE ÍNDICE SUPORTE CALIFORNIA | E19: =VLOOKUP(B19,composicoes!$A:$K,8,0) -> UN | F19: 1 | G19: =VLOOKUP(B19,composicoes!$A:$K,10,0) -> 258.17 | H19: =VLOOKUP(B19,composicoes!$A:$K,11,0) -> 50.46 | I19: =G19+H19 -> 308.63 | J19: 0.2423 | K19: =I19+ROUND(I19*J19,2) -> 383.41 | L19: =TRUNC(TRUNC(G19*(1+J19),2)*F19,2) -> 320.72 | M19: =N19-L19 -> 62.69 | N19: =ROUND(F19*K19,2) -> 383.41
A20: 2.1.2 | B20: CCU 08.b | C20: COMPOSICAO_PROPRIA | D20: =VLOOKUP(B20,composicoes!$A:$K,2,0) -> ENSAIO DE DENSIDADE / UMIDADE | E20: =VLOOKUP(B20,composicoes!$A:$K,8,0) -> UN | F20: 3 | G20: =VLOOKUP(B20,composicoes!$A:$K,10,0) -> 190.82 | H20: =VLOOKUP(B20,composicoes!$A:$K,11,0) -> 23.29 | I20: =G20+H20 -> 214.11 | J20: 0.2423 | K20: =I20+ROUND(I20*J20,2) -> 265.99 | L20: =TRUNC(TRUNC(G20*(1+J20),2)*F20,2) -> 711.15 | M20: =N20-L20 -> 86.82 | N20: =ROUND(F20*K20,2) -> 797.97
A21: 2.1.3 | B21: CCU 08.c | C21: COMPOSICAO_PROPRIA | D21: =VLOOKUP(B21,composicoes!$A:$K,2,0) -> ENSAIO DE GRANULOMETRIA POR PENEIRAMENTO E SEDIMENTAÇÃO | E21: =VLOOKUP(B21,composicoes!$A:$K,8,0) -> UN | F21: 2 | G21: =VLOOKUP(B21,composicoes!$A:$K,10,0) -> 213.27 | H21: =VLOOKUP(B21,composicoes!$A:$K,11,0) -> 41.53 | I21: =G21+H21 -> 254.8 | J21: 0.2423 | K21: =I21+ROUND(I21*J21,2) -> 316.54 | L21: =TRUNC(TRUNC(G21*(1+J21),2)*F21,2) -> 529.88 | M21: =N21-L21 -> 103.2 | N21: =ROUND(F21*K21,2) -> 633.08
A22: 2.1.4 | B22: CCU 08.d | C22: COMPOSICAO_PROPRIA | D22: =VLOOKUP(B22,composicoes!$A:$K,2,0) -> ENSAIO DE LIMITE DE LIQUIDEZ / LIMITE DE PLASTICIDADE | E22: =VLOOKUP(B22,composicoes!$A:$K,8,0) -> UN | F22: 1 | G22: =VLOOKUP(B22,composicoes!$A:$K,10,0) -> 213.27 | H22: =VLOOKUP(B22,composicoes!$A:$K,11,0) -> 41.53 | I22: =G22+H22 -> 254.8 | J22: 0.2423 | K22: =I22+ROUND(I22*J22,2) -> 316.54 | L22: =TRUNC(TRUNC(G22*(1+J22),2)*F22,2) -> 264.94 | M22: =N22-L22 -> 51.6 | N22: =ROUND(F22*K22,2) -> 316.54
A23: 2.1.5 | B23: CCU 08.e | C23: COMPOSICAO_PROPRIA | D23: =VLOOKUP(B23,composicoes!$A:$K,2,0) -> ENSAIO DE COMPACTAÇÃO MÉTODO NORMAL | E23: =VLOOKUP(B23,composicoes!$A:$K,8,0) -> UN | F23: 3 | G23: =VLOOKUP(B23,composicoes!$A:$K,10,0) -> 213.27 | H23: =VLOOKUP(B23,composicoes!$A:$K,11,0) -> 41.53 | I23: =G23+H23 -> 254.8 | J23: 0.2423 | K23: =I23+ROUND(I23*J23,2) -> 316.54 | L23: =TRUNC(TRUNC(G23*(1+J23),2)*F23,2) -> 794.82 | M23: =N23-L23 -> 154.8 | N23: =ROUND(F23*K23,2) -> 949.62
A24: 2.2 | D24: BASE BG
A25: 2.2.1 | B25: CCU 08.f | C25: COMPOSICAO_PROPRIA | D25: =VLOOKUP(B25,composicoes!$A:$K,2,0) -> ENSAIO DE UMIDADE ANTES DA COMPACTAÇÃO | E25: =VLOOKUP(B25,composicoes!$A:$K,8,0) -> UN | F25: 2 | G25: =VLOOKUP(B25,composicoes!$A:$K,10,0) -> 92.2 | H25: =VLOOKUP(B25,composicoes!$A:$K,11,0) -> 13.19 | I25: =G25+H25 -> 105.39 | J25: 0.2423 | K25: =I25+ROUND(I25*J25,2) -> 130.93 | L25: =TRUNC(TRUNC(G25*(1+J25),2)*F25,2) -> 229.08 | M25: =N25-L25 -> 32.78 | N25: =ROUND(F25*K25,2) -> 261.86
A26: 2.2.2 | B26: CCU 08.a | C26: COMPOSICAO_PROPRIA | D26: =VLOOKUP(B26,composicoes!$A:$K,2,0) -> ENSAIO DE ÍNDICE SUPORTE CALIFORNIA | E26: =VLOOKUP(B26,composicoes!$A:$K,8,0) -> UN | F26: 1 | G26: =VLOOKUP(B26,composicoes!$A:$K,10,0) -> 258.17 | H26: =VLOOKUP(B26,composicoes!$A:$K,11,0) -> 50.46 | I26: =G26+H26 -> 308.63 | J26: 0.2423 | K26: =I26+ROUND(I26*J26,2) -> 383.41 | L26: =TRUNC(TRUNC(G26*(1+J26),2)*F26,2) -> 320.72 | M26: =N26-L26 -> 62.69 | N26: =ROUND(F26*K26,2) -> 383.41
A27: 2.2.3 | B27: CCU 08.g | C27: COMPOSICAO_PROPRIA | D27: =VLOOKUP(B27,composicoes!$A:$K,2,0) -> ENSAIO DE EQUIVALENTE AREIA | E27: =VLOOKUP(B27,composicoes!$A:$K,8,0) -> UN | F27: 1 | G27: =VLOOKUP(B27,composicoes!$A:$K,10,0) -> 101.02 | H27: =VLOOKUP(B27,composicoes!$A:$K,11,0) -> 19.79 | I27: =G27+H27 -> 120.81 | J27: 0.2423 | K27: =I27+ROUND(I27*J27,2) -> 150.08 | L27: =TRUNC(TRUNC(G27*(1+J27),2)*F27,2) -> 125.49 | M27: =N27-L27 -> 24.59 | N27: =ROUND(F27*K27,2) -> 150.08
A28: 2.2.4 | B28: CCU 08.h | C28: COMPOSICAO_PROPRIA | D28: =VLOOKUP(B28,composicoes!$A:$K,2,0) -> ENSAIO DE MASSA ESPECÍFICA APARENTE | E28: =VLOOKUP(B28,composicoes!$A:$K,8,0) -> UN | F28: 4 | G28: =VLOOKUP(B28,composicoes!$A:$K,10,0) -> 78.57 | H28: =VLOOKUP(B28,composicoes!$A:$K,11,0) -> 15.13 | I28: =G28+H28 -> 93.7 | J28: 0.2423 | K28: =I28+ROUND(I28*J28,2) -> 116.4 | L28: =TRUNC(TRUNC(G28*(1+J28),2)*F28,2) -> 390.4 | M28: =N28-L28 -> 75.2 | N28: =ROUND(F28*K28,2) -> 465.6
A29: 2.2.5 | B29: CCU 08.d | C29: COMPOSICAO_PROPRIA | D29: =VLOOKUP(B29,composicoes!$A:$K,2,0) -> ENSAIO DE LIMITE DE LIQUIDEZ / LIMITE DE PLASTICIDADE | E29: =VLOOKUP(B29,composicoes!$A:$K,8,0) -> UN | F29: 2 | G29: =VLOOKUP(B29,composicoes!$A:$K,10,0) -> 213.27 | H29: =VLOOKUP(B29,composicoes!$A:$K,11,0) -> 41.53 | I29: =G29+H29 -> 254.8 | J29: 0.2423 | K29: =I29+ROUND(I29*J29,2) -> 316.54 | L29: =TRUNC(TRUNC(G29*(1+J29),2)*F29,2) -> 529.88 | M29: =N29-L29 -> 103.2 | N29: =ROUND(F29*K29,2) -> 633.08
A30: 2.2.6 | B30: CCU 08.i | C30: COMPOSICAO_PROPRIA | D30: =VLOOKUP(B30,composicoes!$A:$K,2,0) -> ENSAIO DE COMPACTAÇÃO MÉTODO MODIFICADO | E30: =VLOOKUP(B30,composicoes!$A:$K,8,0) -> UN | F30: 2 | G30: =VLOOKUP(B30,composicoes!$A:$K,10,0) -> 426.55 | H30: =VLOOKUP(B30,composicoes!$A:$K,11,0) -> 83.46 | I30: =G30+H30 -> 510.01 | J30: 0.2423 | K30: =I30+ROUND(I30*J30,2) -> 633.59 | L30: =TRUNC(TRUNC(G30*(1+J30),2)*F30,2) -> 1059.8 | M30: =N30-L30 -> 207.38 | N30: =ROUND(F30*K30,2) -> 1267.18
A31: 2.3 | D31: IMPRIMAÇÃO
A32: 2.3.1 | B32: CCU 08.k | C32: COMPOSICAO_PROPRIA | D32: =VLOOKUP(B32,composicoes!$A:$K,2,0) -> ENSAIO DE TAXA APLICAÇÃO IMPRIMAÇÃO | E32: =VLOOKUP(B32,composicoes!$A:$K,8,0) -> UN | F32: 1 | G32: =VLOOKUP(B32,composicoes!$A:$K,10,0) -> 78.57 | H32: =VLOOKUP(B32,composicoes!$A:$K,11,0) -> 22.42 | I32: =G32+H32 -> 100.99 | J32: 0.2423 | K32: =I32+ROUND(I32*J32,2) -> 125.46 | L32: =TRUNC(TRUNC(G32*(1+J32),2)*F32,2) -> 97.6 | M32: =N32-L32 -> 27.86 | N32: =ROUND(F32*K32,2) -> 125.46
A33: 2.4 | D33: MEIO-FIO
A34: 2.4.1 | B34: CCU 08.l | C34: COMPOSICAO_PROPRIA | D34: =VLOOKUP(B34,composicoes!$A:$K,2,0) -> ENSAIO DE DESGASTE E RESISTENCIA | E34: =VLOOKUP(B34,composicoes!$A:$K,8,0) -> UN | F34: 2 | G34: =VLOOKUP(B34,composicoes!$A:$K,10,0) -> 145.92 | H34: =VLOOKUP(B34,composicoes!$A:$K,11,0) -> 36.62 | I34: =G34+H34 -> 182.54 | J34: 0.2423 | K34: =I34+ROUND(I34*J34,2) -> 226.77 | L34: =TRUNC(TRUNC(G34*(1+J34),2)*F34,2) -> 362.54 | M34: =N34-L34 -> 91 | N34: =ROUND(F34*K34,2) -> 453.54
A35: 2.5 | D35: CBUQ
A36: 2.5.1 | B36: CCU 08.m | C36: COMPOSICAO_PROPRIA | D36: =VLOOKUP(B36,composicoes!$A:$K,2,0) -> ENSAIO DE EXTRAÇÃO DE BETUME / GRANULAMETRIA / MARSHALL | E36: =VLOOKUP(B36,composicoes!$A:$K,8,0) -> UN | F36: 2 | G36: =VLOOKUP(B36,composicoes!$A:$K,10,0) -> 617.37 | H36: =VLOOKUP(B36,composicoes!$A:$K,11,0) -> 178.24 | I36: =G36+H36 -> 795.61 | J36: 0.2423 | K36: =I36+ROUND(I36*J36,2) -> 988.39 | L36: =TRUNC(TRUNC(G36*(1+J36),2)*F36,2) -> 1533.9 | M36: =N36-L36 -> 442.88 | N36: =ROUND(F36*K36,2) -> 1976.78
A37: 2.5.2 | B37: CCU 08.n | C37: COMPOSICAO_PROPRIA | D37: =VLOOKUP(B37,composicoes!$A:$K,2,0) -> ENSAIO DE TEMPERATURA INICIO ESPALHAMENTO | E37: =VLOOKUP(B37,composicoes!$A:$K,8,0) -> UN | F37: 4 | G37: =VLOOKUP(B37,composicoes!$A:$K,10,0) -> 56.12 | H37: =VLOOKUP(B37,composicoes!$A:$K,11,0) -> 16.09 | I37: =G37+H37 -> 72.21 | J37: 0.2423 | K37: =I37+ROUND(I37*J37,2) -> 89.71 | L37: =TRUNC(TRUNC(G37*(1+J37),2)*F37,2) -> 278.84 | M37: =N37-L37 -> 80 | N37: =ROUND(F37*K37,2) -> 358.84
A38: 2.5.3 | B38: CCU 08.o | C38: COMPOSICAO_PROPRIA | D38: =VLOOKUP(B38,composicoes!$A:$K,2,0) -> ENSAIO DE COMPRESSÃO | E38: =VLOOKUP(B38,composicoes!$A:$K,8,0) -> UN | F38: 2 | G38: =VLOOKUP(B38,composicoes!$A:$K,10,0) -> 101.02 | H38: =VLOOKUP(B38,composicoes!$A:$K,11,0) -> 25.58 | I38: =G38+H38 -> 126.6 | J38: 0.2423 | K38: =I38+ROUND(I38*J38,2) -> 157.28 | L38: =TRUNC(TRUNC(G38*(1+J38),2)*F38,2) -> 250.98 | M38: =N38-L38 -> 63.58 | N38: =ROUND(F38*K38,2) -> 314.56
A39: 2.6 | D39: COLETA DE ENSAIOS
A40: 2.6.1 | B40: CCU 08.p | C40: COMPOSICAO_PROPRIA | D40: =VLOOKUP(B40,composicoes!$A:$K,2,0) -> COLETA CONJUNTO DE AMOSTRAS | E40: =VLOOKUP(B40,composicoes!$A:$K,8,0) -> UN | F40: 9 | G40: =VLOOKUP(B40,composicoes!$A:$K,10,0) -> 46.1 | H40: =VLOOKUP(B40,composicoes!$A:$K,11,0) -> 11.29 | I40: =G40+H40 -> 57.39 | J40: 0.2423 | K40: =I40+ROUND(I40*J40,2) -> 71.3 | L40: =TRUNC(TRUNC(G40*(1+J40),2)*F40,2) -> 515.43 | M40: =N40-L40 -> 126.27 | N40: =ROUND(F40*K40,2) -> 641.7
A41: 3 | D41: LOCAÇÕES NO CANTEIRO
A42: 3.1 | B42: 10776 | C42: SINAPI | D42: =IF(C42="SINAPI",IFERROR(VLOOKUP(B42,'SINAPI-comp'!$B:$H,2,0),VLOOKUP(B42,'SINAPI-insumo'!$B:$H,2,0))) -> LOCACAO DE CONTAINER 2,30 X 6,00 M, ALT. 2,50 M, PARA ESCRITORIO, SEM DIVISORIAS INTERNAS E SEM SANITARIO (NAO INCLUI MOBILIZACAO/DESMOBILIZACAO) | E42: =IF(C42="SINAPI",IFERROR(VLOOKUP(B42,'SINAPI-comp'!$B:$H,3,0),VLOOKUP(B42,'SINAPI-insumo'!$B:$H,3,0))) -> MES | F42: 4 | G42: =IFERROR(VLOOKUP(B42,'SINAPI-comp'!$B:$H,4,0)-H42,0) -> 0 | H42: =IF(C42="SINAPI",IFERROR(VLOOKUP(B42,'SINAPI-comp'!$B:$H,7,0),VLOOKUP(B42,'SINAPI-insumo'!$B:$H,7,0))) -> 908.2 | I42: =G42+H42 -> 908.2 | J42: 0.1698 | K42: =I42+ROUND(I42*J42,2) -> 1062.41 | L42: =TRUNC(TRUNC(G42*(1+J42),2)*F42,2) -> 0 | M42: =N42-L42 -> 4249.64 | N42: =ROUND(F42*K42,2) -> 4249.64
...

Sheet composicoes
B1: PREFEITURA MUNICIPAL DE PORTO ALEGRE
B2: SECRETARIA MUNICIPAL DE OBRAS E INFRAESTRUTURA
B3: =orcamento!D3 -> Objeto: Execução de Obras de Pavimentação e Redes de Drenagem na Rua Giruá
B4: =orcamento!D4 -> Endereço: Rua Giruá, Vila Panorama, Lomba Pinheiro, Porto Alegre, RS
B6: COMPOSIÇÕES DE CUSTOS UNITÁRIAS
A8: CÓDIGO: | B8: DESCRIÇÃO: | H8: UNIDADE: | J8: CUSTO TOTAL (MO): | K8: CUSTO TOTAL (MAT+EQ):
A9: CCU 01 | B9: EQUIPE E CONSUMOS DE ADMINISTRAÇÃO LOCAL | H9: UN | I9: 4 | J9: =TRUNC(SUM(J11:J17),2) -> 121481.36 | K9: =TRUNC(SUM(K11:K17),2) -> 7031.44
A10: ITEM | B10: DESCRIÇÃO | C10: UNID. | D10: COEF. | E10: REFERENCIAL COEF. | F10: CUSTO UNITARIO (MO) | G10: CUSTO UNITARIO (MAT+EQ) | H10: REFERENCIAL CUSTO | J10: CUSTO TOTAL (MO) | K10: CUSTO TOTAL (MAT+EQ)
A11: 1 | B11: =IF(H11="SINAPI",IFERROR(VLOOKUP(I11,'SINAPI-comp'!$B:$H,2,0),VLOOKUP(I11,'SINAPI-insumo'!$B:$H,2,0))) -> ENGENHEIRO CIVIL DE OBRA JUNIOR COM ENCARGOS COMPLEMENTARES | C11: =IF(H11="SINAPI",IFERROR(VLOOKUP(I11,'SINAPI-comp'!$B:$H,3,0),VLOOKUP(I11,'SINAPI-insumo'!$B:$H,3,0))) -> H | D11: =4*20*I9 -> 320 | E11: 4h/dia | F11: =IFERROR(VLOOKUP(I11,'SINAPI-comp'!$B:$H,4,0)-G11,0) -> 139.01 | G11: =IF(H11="SINAPI",IFERROR(VLOOKUP(I11,'SINAPI-comp'!$B:$H,7,0),VLOOKUP(I11,'SINAPI-insumo'!$B:$H,7,0))) -> 0 | H11: SINAPI | I11: 90777 | J11: =TRUNC($D11*F11,4) -> 44483.2 | K11: =TRUNC($D11*G11,4) -> 0
A12: 2 | B12: =IF(H12="SINAPI",IFERROR(VLOOKUP(I12,'SINAPI-comp'!$B:$H,2,0),VLOOKUP(I12,'SINAPI-insumo'!$B:$H,2,0))) -> TÉCNICO EM SEGURANÇA DO TRABALHO COM ENCARGOS COMPLEMENTARES | C12: =IF(H12="SINAPI",IFERROR(VLOOKUP(I12,'SINAPI-comp'!$B:$H,3,0),VLOOKUP(I12,'SINAPI-insumo'!$B:$H,3,0))) -> H | D12: =4*20*I9 -> 320 | E12: 4h/dia | F12: =IFERROR(VLOOKUP(I12,'SINAPI-comp'!$B:$H,4,0)-G12,0) -> 47.39 | G12: =IF(H12="SINAPI",IFERROR(VLOOKUP(I12,'SINAPI-comp'!$B:$H,7,0),VLOOKUP(I12,'SINAPI-insumo'!$B:$H,7,0))) -> 0 | H12: SINAPI | I12: 100309 | J12: =TRUNC($D12*F12,4) -> 15164.8 | K12: =TRUNC($D12*G12,4) -> 0
A13: 3 | B13: =IF(H13="SINAPI",IFERROR(VLOOKUP(I13,'SINAPI-comp'!$B:$H,2,0),VLOOKUP(I13,'SINAPI-insumo'!$B:$H,2,0))) -> ENCARREGADO GERAL DE OBRAS COM ENCARGOS COMPLEMENTARES | C13: =IF(H13="SINAPI",IFERROR(VLOOKUP(I13,'SINAPI-comp'!$B:$H,3,0),VLOOKUP(I13,'SINAPI-insumo'!$B:$H,3,0))) -> MES | D13: =I9 -> 4 | F13: =IFERROR(VLOOKUP(I13,'SINAPI-comp'!$B:$H,4,0)-G13,0) -> 13407.94 | G13: =IF(H13="SINAPI",IFERROR(VLOOKUP(I13,'SINAPI-comp'!$B:$H,7,0),VLOOKUP(I13,'SINAPI-insumo'!$B:$H,7,0))) -> 0 | H13: SINAPI | I13: 93572 | J13: =TRUNC($D13*F13,4) -> 53631.76 | K13: =TRUNC($D13*G13,4) -> 0
A14: 4 | B14: =IF(H14="SINAPI",IFERROR(VLOOKUP(I14,'SINAPI-comp'!$B:$H,2,0),VLOOKUP(I14,'SINAPI-insumo'!$B:$H,2,0))) -> AUXILIAR DE SERVIÇOS GERAIS COM ENCARGOS COMPLEMENTARES | C14: =IF(H14="SINAPI",IFERROR(VLOOKUP(I14,'SINAPI-comp'!$B:$H,3,0),VLOOKUP(I14,'SINAPI-insumo'!$B:$H,3,0))) -> H | D14: =D12 -> 320 | E14: 4h/dia | F14: =IFERROR(VLOOKUP(I14,'SINAPI-comp'!$B:$H,4,0)-G14,0) -> 25.63 | G14: =IF(H14="SINAPI",IFERROR(VLOOKUP(I14,'SINAPI-comp'!$B:$H,7,0),VLOOKUP(I14,'SINAPI-insumo'!$B:$H,7,0))) -> 0 | H14: SINAPI | I14: 88252 | J14: =TRUNC($D14*F14,4) -> 8201.6 | K14: =TRUNC($D14*G14,4) -> 0
A15: 5 | B15: =IF(OR(H15="SINAPI",H15="SINAPI-I"),IFERROR(VLOOKUP(I15,'SINAPI-comp'!$B:$H,2,0),VLOOKUP(I15,'SINAPI-insumo'!$B:$H,2,0))) -> ENERGIA ELETRICA ATE 2000 KWH INDUSTRIAL, SEM DEMANDA | C15: =IF(OR(H15="SINAPI",H15="SINAPI-I"),IFERROR(VLOOKUP(I15,'SINAPI-comp'!$B:$H,3,0),VLOOKUP(I15,'SINAPI-insumo'!$B:$H,3,0))) -> KWH | D15: =350*I9 -> 1400 | E15: 350KWH/mês | F15: =IFERROR(VLOOKUP(I15,'SINAPI-comp'!$B:$H,4,0)-G15,0) -> 0 | G15: =IF(OR(H15="SINAPI",H15="SINAPI-I"),IFERROR(VLOOKUP(I15,'SINAPI-comp'!$B:$H,7,0),VLOOKUP(I15,'SINAPI-insumo'!$B:$H,7,0))) -> 1.05 | H15: SINAPI-I | I15: 2705 | J15: =TRUNC($D15*F15,4) -> 0 | K15: =TRUNC($D15*G15,4) -> 1470
A16: 6 | B16: =IF(OR(H16="SINAPI",H16="SINAPI-I"),IFERROR(VLOOKUP(I16,'SINAPI-comp'!$B:$H,2,0),VLOOKUP(I16,'SINAPI-insumo'!$B:$H,2,0))) -> TARIFA "A" ENTRE 0 E 20M3 FORNECIMENTO D'AGUA | C16: =IF(OR(H16="SINAPI",H16="SINAPI-I"),IFERROR(VLOOKUP(I16,'SINAPI-comp'!$B:$H,3,0),VLOOKUP(I16,'SINAPI-insumo'!$B:$H,3,0))) -> M3 | D16: =1.5*21*I9 -> 126 | E16: 1,5m3/dia | F16: =IFERROR(VLOOKUP(I16,'SINAPI-comp'!$B:$H,4,0)-G16,0) -> 0 | G16: =IF(OR(H16="SINAPI",H16="SINAPI-I"),IFERROR(VLOOKUP(I16,'SINAPI-comp'!$B:$H,7,0),VLOOKUP(I16,'SINAPI-insumo'!$B:$H,7,0))) -> 20.24 | H16: SINAPI-I | I16: 44480 | J16: =TRUNC($D16*F16,4) -> 0 | K16: =TRUNC($D16*G16,4) -> 2550.24
A17: 7 | B17: =VLOOKUP(I17,tabelas!$A:$L,4,0) -> VEÍCULO LEVE - 53 KW (SEM MOTORISTA) | C17: =VLOOKUP(I17,tabelas!$A:$L,5,0) -> CHP | D17: =1*20*I9 -> 80 | E17: 1h/dia | F17: 0 | G17: =VLOOKUP($I17,tabelas!$A:$L,12,0) -> 37.64 | H17: COTACAO | I17: TAB 03.06 | J17: =TRUNC($D17*F17,4) -> 0 | K17: =TRUNC($D17*G17,4) -> 3011.2
A20: CÓDIGO: | B20: DESCRIÇÃO: | H20: UNIDADE: | J20: CUSTO TOTAL (MO): | K20: CUSTO TOTAL (MAT+EQ):
A21: CCU 02 | B21: SERVIÇO DE VIGILÂNCIA NOTURNO (DIÁRIO) E DIURNO (FINAIS DE SEMANA E FERIADO) | H21: UN | I21: 4 | J21: =TRUNC(SUM(J23:J33),2) -> 31048.31 | K21: =TRUNC(SUM(K23:K33),2) -> 4400.36
A22: ITEM | B22: DESCRIÇÃO | C22: UNID. | D22: COEF. | E22: REFERENCIAL COEF. | F22: CUSTO UNITARIO (MO) | G22: CUSTO UNITARIO (MAT+EQ) | H22: REFERENCIAL CUSTO | J22: CUSTO TOTAL (MO) | K22: CUSTO TOTAL (MAT+EQ)
A23: 1 | B23: VIGILANCIA FINAIS DE SEMANA
A24: 1.1 | B24: =IF(H24="SINAPI",IFERROR(VLOOKUP(I24,'SINAPI-comp'!$B:$H,2,0),VLOOKUP(I24,'SINAPI-insumo'!$B:$H,2,0))) -> VIGIA DIURNO COM ENCARGOS COMPLEMENTARES | C24: =IF(H24="SINAPI",IFERROR(VLOOKUP(I24,'SINAPI-comp'!$B:$H,3,0),VLOOKUP(I24,'SINAPI-insumo'!$B:$H,3,0))) -> H | D24: =12*8*I21 -> 384 | E24: 12h/dia; 8 dias/mês | F24: =IFERROR(VLOOKUP(I24,'SINAPI-comp'!$B:$H,4,0)-G24,0) -> 27.76 | G24: =IF(H24="SINAPI",IFERROR(VLOOKUP(I24,'SINAPI-comp'!$B:$H,7,0),VLOOKUP(I24,'SINAPI-insumo'!$B:$H,7,0))) -> 0 | H24: SINAPI | I24: 100289 | J24: =TRUNC($D24*F24,4) -> 10659.84 | K24: =TRUNC($D24*G24,4) -> 0
A25: 2 | B25: VIGILANCIA NOTURNA
A26: 2.1 | B26: =IF(OR(H26="SINAPI",H26="SINAPI-I"),IFERROR(VLOOKUP(I26,'SINAPI-comp'!$B:$H,2,0),VLOOKUP(I26,'SINAPI-insumo'!$B:$H,2,0))) -> VIGIA DIURNO (MENSALISTA) | C26: =IF(OR(H26="SINAPI",H26="SINAPI-I"),IFERROR(VLOOKUP(I26,'SINAPI-comp'!$B:$H,3,0),VLOOKUP(I26,'SINAPI-insumo'!$B:$H,3,0))) -> MES | D26: =1.3715*I21 -> 5.486 | F26: =IF(OR(H26="SINAPI",H26="SINAPI-I"),IFERROR(VLOOKUP(I26,'SINAPI-comp'!$B:$H,7,0),VLOOKUP(I26,'SINAPI-insumo'!$B:$H,7,0))) -> 3706.11 | G26: 0 | H26: SINAPI-I | I26: 41096 | J26: =TRUNC($D26*F26,4) -> 20331.719 | K26: =TRUNC($D26*G26,4) -> 0
A27: 2.2 | B27: =IF(OR(H27="SINAPI",H27="SINAPI-I"),IFERROR(VLOOKUP(I27,'SINAPI-comp'!$B:$H,2,0),VLOOKUP(I27,'SINAPI-insumo'!$B:$H,2,0))) -> CURSO DE CAPACITAÇÃO PARA VIGIA DIURNO (ENCARGOS COMPLEMENTARES) - MENSALISTA | C27: =IF(OR(H27="SINAPI",H27="SINAPI-I"),IFERROR(VLOOKUP(I27,'SINAPI-comp'!$B:$H,3,0),VLOOKUP(I27,'SINAPI-insumo'!$B:$H,3,0))) -> MES | D27: =I21 -> 4 | F27: =IFERROR(VLOOKUP(I27,'SINAPI-comp'!$B:$H,4,0)-G27,0) -> 14.19 | G27: =IF(OR(H27="SINAPI",H27="SINAPI-I"),IFERROR(VLOOKUP(I27,'SINAPI-comp'!$B:$H,7,0),VLOOKUP(I27,'SINAPI-insumo'!$B:$H,7,0))) -> 0 | H27: SINAPI-I | I27: 101372 | J27: =TRUNC($D27*F27,4) -> 56.76 | K27: =TRUNC($D27*G27,4) -> 0
A28: 2.3 | B28: =IF(OR(H28="SINAPI",H28="SINAPI-I"),IFERROR(VLOOKUP(I28,'SINAPI-comp'!$B:$H,2,0),VLOOKUP(I28,'SINAPI-insumo'!$B:$H,2,0))) -> ALIMENTACAO - MENSALISTA (COLETADO CAIXA - ENCARGOS COMPLEMENTARES) | C28: =IF(OR(H28="SINAPI",H28="SINAPI-I"),IFERROR(VLOOKUP(I28,'SINAPI-comp'!$B:$H,3,0),VLOOKUP(I28,'SINAPI-insumo'!$B:$H,3,0))) -> MES | D28: =D27 -> 4 | F28: =IFERROR(VLOOKUP(I28,'SINAPI-comp'!$B:$H,4,0)-G28,0) -> 0 | G28: =IF(OR(H28="SINAPI",H28="SINAPI-I"),IFERROR(VLOOKUP(I28,'SINAPI-comp'!$B:$H,7,0),VLOOKUP(I28,'SINAPI-insumo'!$B:$H,7,0))) -> 304 | H28: SINAPI-I | I28: 40862 | J28: =TRUNC($D28*F28,4) -> 0 | K28: =TRUNC($D28*G28,4) -> 1216
A29: 2.4 | B29: =IF(OR(H29="SINAPI",H29="SINAPI-I"),IFERROR(VLOOKUP(I29,'SINAPI-comp'!$B:$H,2,0),VLOOKUP(I29,'SINAPI-insumo'!$B:$H,2,0))) -> EPI - FAMILIA SERVENTE - MENSALISTA (ENCARGOS COMPLEMENTARES - COLETADO CAIXA) | C29: =IF(OR(H29="SINAPI",H29="SINAPI-I"),IFERROR(VLOOKUP(I29,'SINAPI-comp'!$B:$H,3,0),VLOOKUP(I29,'SINAPI-insumo'!$B:$H,3,0))) -> MES | D29: =D27 -> 4 | F29: =IFERROR(VLOOKUP(I29,'SINAPI-comp'!$B:$H,4,0)-G29,0) -> 0 | G29: =IF(OR(H29="SINAPI",H29="SINAPI-I"),IFERROR(VLOOKUP(I29,'SINAPI-comp'!$B:$H,7,0),VLOOKUP(I29,'SINAPI-insumo'!$B:$H,7,0))) -> 284.18 | H29: SINAPI-I | I29: 43503 | J29: =TRUNC($D29*F29,4) -> 0 | K29: =TRUNC($D29*G29,4) -> 1136.72
A30: 2.5 | B30: =IF(OR(H30="SINAPI",H30="SINAPI-I"),IFERROR(VLOOKUP(I30,'SINAPI-comp'!$B:$H,2,0),VLOOKUP(I30,'SINAPI-insumo'!$B:$H,2,0))) -> EXAMES - MENSALISTA (COLETADO CAIXA - ENCARGOS COMPLEMENTARES) | C30: =IF(OR(H30="SINAPI",H30="SINAPI-I"),IFERROR(VLOOKUP(I30,'SINAPI-comp'!$B:$H,3,0),VLOOKUP(I30,'SINAPI-insumo'!$B:$H,3,0))) -> MES | D30: =D27 -> 4 | F30: =IFERROR(VLOOKUP(I30,'SINAPI-comp'!$B:$H,4,0)-G30,0) -> 0 | G30: =IF(OR(H30="SINAPI",H30="SINAPI-I"),IFERROR(VLOOKUP(I30,'SINAPI-comp'!$B:$H,7,0),VLOOKUP(I30,'SINAPI-insumo'!$B:$H,7,0))) -> 227.2 | H30: SINAPI-I | I30: 40863 | J30: =TRUNC($D30*F30,4) -> 0 | K30: =TRUNC($D30*G30,4) -> 908.8
A31: 2.6 | B31: =IF(OR(H31="SINAPI",H31="SINAPI-I"),IFERROR(VLOOKUP(I31,'SINAPI-comp'!$B:$H,2,0),VLOOKUP(I31,'SINAPI-insumo'!$B:$H,2,0))) -> FERRAMENTAS - FAMILIA SERVENTE - MENSALISTA (ENCARGOS COMPLEMENTARES - COLETADO CAIXA) | C31: =IF(OR(H31="SINAPI",H31="SINAPI-I"),IFERROR(VLOOKUP(I31,'SINAPI-comp'!$B:$H,3,0),VLOOKUP(I31,'SINAPI-insumo'!$B:$H,3,0))) -> MES | D31: =D27 -> 4 | F31: =IFERROR(VLOOKUP(I31,'SINAPI-comp'!$B:$H,4,0)-G31,0) -> 0 | G31: =IF(OR(H31="SINAPI",H31="SINAPI-I"),IFERROR(VLOOKUP(I31,'SINAPI-comp'!$B:$H,7,0),VLOOKUP(I31,'SINAPI-insumo'!$B:$H,7,0))) -> 96.38 | H31: SINAPI-I | I31: 43479 | J31: =TRUNC($D31*F31,4) -> 0 | K31: =TRUNC($D31*G31,4) -> 385.52
A32: 2.7 | B32: =IF(OR(H32="SINAPI",H32="SINAPI-I"),IFERROR(VLOOKUP(I32,'SINAPI-comp'!$B:$H,2,0),VLOOKUP(I32,'SINAPI-insumo'!$B:$H,2,0))) -> SEGURO - MENSALISTA (COLETADO CAIXA - ENCARGOS COMPLEMENTARES) | C32: =IF(OR(H32="SINAPI",H32="SINAPI-I"),IFERROR(VLOOKUP(I32,'SINAPI-comp'!$B:$H,3,0),VLOOKUP(I32,'SINAPI-insumo'!$B:$H,3,0))) -> MES | D32: =D27 -> 4 | F32: =IFERROR(VLOOKUP(I32,'SINAPI-comp'!$B:$H,4,0)-G32,0) -> 0 | G32: =IF(OR(H32="SINAPI",H32="SINAPI-I"),IFERROR(VLOOKUP(I32,'SINAPI-comp'!$B:$H,7,0),VLOOKUP(I32,'SINAPI-insumo'!$B:$H,7,0))) -> 18.28 | H32: SINAPI-I | I32: 40864 | J32: =TRUNC($D32*F32,4) -> 0 | K32: =TRUNC($D32*G32,4) -> 73.12
A33: 2.8 | B33: =IF(OR(H33="SINAPI",H33="SINAPI-I"),IFERROR(VLOOKUP(I33,'SINAPI-comp'!$B:$H,2,0),VLOOKUP(I33,'SINAPI-insumo'!$B:$H,2,0))) -> TRANSPORTE - MENSALISTA (COLETADO CAIXA - ENCARGOS COMPLEMENTARES) | C33: =IF(OR(H33="SINAPI",H33="SINAPI-I"),IFERROR(VLOOKUP(I33,'SINAPI-comp'!$B:$H,3,0),VLOOKUP(I33,'SINAPI-insumo'!$B:$H,3,0))) -> MES | D33: =D27 -> 4 | F33: =IFERROR(VLOOKUP(I33,'SINAPI-comp'!$B:$H,4,0)-G33,0) -> 0 | G33: =IF(OR(H33="SINAPI",H33="SINAPI-I"),IFERROR(VLOOKUP(I33,'SINAPI-comp'!$B:$H,7,0),VLOOKUP(I33,'SINAPI-insumo'!$B:$H,7,0))) -> 170.05 | H33: SINAPI-I | I33: 40861 | J33: =TRUNC($D33*F33,4) -> 0 | K33: =TRUNC($D33*G33,4) -> 680.2
A36: CÓDIGO: | B36: DESCRIÇÃO: | H36: UNIDADE: | J36: CUSTO TOTAL (MO): | K36: CUSTO TOTAL (MAT+EQ):
A37: CCU 03 | B37: PROJETO AS BUILT (1.550m2 DE ÁREA CONSTRUÍDA) | H37: UN | J37: =TRUNC(SUM(J39:J39),2) -> 1588.41 | K37: =TRUNC(SUM(K39:K39),2) -> 0
A38: ITEM | B38: DESCRIÇÃO | C38: UNID. | D38: COEF. | E38: REFERENCIAL COEF. | F38: CUSTO UNITARIO (MO) | G38: CUSTO UNITARIO (MAT+EQ) | H38: REFERENCIAL CUSTO | J38: CUSTO TOTAL (MO) | K38: CUSTO TOTAL (MAT+EQ)
A39: 1 | B39: =IF(H39="SINAPI",IFERROR(VLOOKUP(I39,'SINAPI-comp'!$B:$H,2,0),VLOOKUP(I39,'SINAPI-insumo'!$B:$H,2,0))) -> DESENHISTA PROJETISTA COM ENCARGOS COMPLEMENTARES | C39: =IF(H39="SINAPI",IFERROR(VLOOKUP(I39,'SINAPI-comp'!$B:$H,3,0),VLOOKUP(I39,'SINAPI-insumo'!$B:$H,3,0))) -> H | D39: =TRUNC(37,4) -> 37 | E39: CEHOP faixa minima | F39: =IFERROR(VLOOKUP(I39,'SINAPI-comp'!$B:$H,4,0)-G39,0) -> 42.93 | G39: =IF(H39="SINAPI",IFERROR(VLOOKUP(I39,'SINAPI-comp'!$B:$H,7,0),VLOOKUP(I39,'SINAPI-insumo'!$B:$H,7,0))) -> 0 | H39: SINAPI | I39: 90775 | J39: =TRUNC($D39*F39,4) -> 1588.41 | K39: =TRUNC($D39*G39,4) -> 0
A42: CÓDIGO: | B42: DESCRIÇÃO: | H42: UNIDADE: | J42: CUSTO TOTAL (MO): | K42: CUSTO TOTAL (MAT+EQ):
A43: CCU 04 | B43: CADASTRO DE REDES (210m DE REDE DE DRENAGEM) | H43: UN | J43: =TRUNC(SUM(J45:J45),2) -> 1588.41 | K43: =TRUNC(SUM(K45:K45),2) -> 0
A44: ITEM | B44: DESCRIÇÃO | C44: UNID. | D44: COEF. | E44: REFERENCIAL COEF. | F44: CUSTO UNITARIO (MO) | G44: CUSTO UNITARIO (MAT+EQ) | H44: REFERENCIAL CUSTO | J44: CUSTO TOTAL (MO) | K44: CUSTO TOTAL (MAT+EQ)
A45: 1 | B45: =IF(H45="SINAPI",IFERROR(VLOOKUP(I45,'SINAPI-comp'!$B:$H,2,0),VLOOKUP(I45,'SINAPI-insumo'!$B:$H,2,0))) -> DESENHISTA PROJETISTA COM ENCARGOS COMPLEMENTARES | C45: =IF(H45="SINAPI",IFERROR(VLOOKUP(I45,'SINAPI-comp'!$B:$H,3,0),VLOOKUP(I45,'SINAPI-insumo'!$B:$H,3,0))) -> H | D45: =TRUNC(37,4) -> 37 | E45: CEHOP faixa minima | F45: =IFERROR(VLOOKUP(I45,'SINAPI-comp'!$B:$H,4,0)-G45,0) -> 42.93 | G45: =IF(H45="SINAPI",IFERROR(VLOOKUP(I45,'SINAPI-comp'!$B:$H,7,0),VLOOKUP(I45,'SINAPI-insumo'!$B:$H,7,0))) -> 0 | H45: SINAPI | I45: 90775 | J45: =TRUNC($D45*F45,4) -> 1588.41 | K45: =TRUNC($D45*G45,4) -> 0
A48: CÓDIGO: | B48: DESCRIÇÃO: | H48: UNIDADE: | J48: CUSTO TOTAL (MO): | K48: CUSTO TOTAL (MAT+EQ):
A49: CCU 05 | B49: SERVIÇO DE LOCAÇÃO/TOPOGRAFIA (115M PAVIMENTO E 210M REDE DRENAGEM) | H49: UN | J49: =TRUNC(SUM(J51:J54),2) -> 4620.16 | K49: =TRUNC(SUM(K51:K54),2) -> 228.13
A50: ITEM | B50: DESCRIÇÃO | C50: UNID. | D50: COEF. | E50: REFERENCIAL COEF. | F50: CUSTO UNITARIO (MO) | G50: CUSTO UNITARIO (MAT+EQ) | H50: REFERENCIAL CUSTO | J50: CUSTO TOTAL (MO) | K50: CUSTO TOTAL (MAT+EQ)
...

Sheet tabelas
B1: PREFEITURA MUNICIPAL DE PORTO ALEGRE
B2: =dados!B2 -> SECRETARIA MUNICIPAL DE OBRAS E INFRAESTRUTURA
B3: ="Objeto: "&dados!B3 -> Objeto: Execução de Obras de Pavimentação e Redes de Drenagem na Rua Giruá
B4: ="Endereço: "&dados!B4 -> Endereço: Rua Giruá, Vila Panorama, Lomba Pinheiro, Porto Alegre, RS
B6: TABELAS PÚBLICAS
A8: CÓDIGO | B8: FONTE | C8: CÓDIGO | D8: DESCRIÇÃO | E8: UNID. | F8: DATA ORIGEM | G8: CUSTO ORIGEM | I8: REAJUSTE PARA: | J8: =dados!B9 -> 46204 | L8: CUSTO ATUAL
H9: Índice | I9: i0 | J9: i1 | K9: %
A10: TAB 01 | B10: CREA RS | C10: acima de R$15mil | D10: DOCUMENTO DE RESPONSABILIDADE TÉCNICA | E10: UN | F10: 46023 | G10: 285.59 | L10: =G10 -> 285.59
A11: TAB 02 | B11: SINAPI RS (*) | F11: =J8 -> 46204
A13: TAB 03.01 | B13: SICRO RS | C13: M0048 | D13: BALIZADOR CÔNICO REFLETIVO EM POLIETILENO SEMIFLEXÍVEL - H = 114 CM E BASE OCTOGONAL DE D = 40 CM | E13: UN | F13: 46113 | G13: 181.2176 | L13: =TRUNC(G13*(1+K13),2) -> 181.21
A14: TAB 03.02 | B14: SICRO RS | C14: A9316 | D14: CAMINHÃO PLATAFORMA 8 X 4, PBT 29.000 KG E DISTÂNCIA ENTRE EIXOS 4,6 M - 210 KW - MOTORISTA DE CAMINHÃO | E14: CHP | F14: 46113 | G14: 335.5085 | L14: =TRUNC(G14*(1+K14),2) -> 335.5
A15: TAB 03.03 | B15: SICRO RS | C15: E9689 | D15: USINA DE ASFALTO A QUENTE GRAVIMÉTRICA COM CAPACIDADE DE 100/140 T/H - 260 KW | E15: CHP | F15: 46113 | G15: 1901.2323 | L15: =TRUNC(G15*(1+K15),2) -> 1901.23
A16: TAB 03.04 | B16: SICRO RS | C16: E9559 | D16: AQUECEDOR DE FLUIDO TÉRMICO - 12 KW | E16: CHP | F16: 46113 | G16: 169.1768 | L16: =TRUNC(G16*(1+K16),2) -> 169.17
A17: TAB 03.05 | B17: SICRO RS | C17: M1941 | D17: ÓLEO TIPO A1 | E17: L | F17: 46113 | G17: 7.3473 | L17: =TRUNC(G17*(1+K17),2) -> 7.34
A18: TAB 03.06 | B18: SICRO RS | C18: E9093 | D18: VEÍCULO LEVE - 53 KW (SEM MOTORISTA) | E18: CHP | F18: 46113 | G18: 37.6421 | L18: =TRUNC(G18*(1+K18),2) -> 37.64
A19: TAB 03.07 | B19: SICRO CONSULTORIA | C19: B8957 | D19: Laboratório de solos | E19: MES | F19: 46113 | G19: 3882.01 | L19: =TRUNC(G19*(1+K19),2) -> 3882.01
A20: TAB 03.08 | B20: SICRO CONSULTORIA | C20: B8955 | D20: Laboratório de asfalto | E20: MES | F20: 46113 | G20: 5749.9 | L20: =TRUNC(G20*(1+K20),2) -> 5749.9
A21: TAB 03.09 | B21: SICRO CONSULTORIA | C21: B8956 | D21: Laboratório de concreto | E21: MES | F21: 46113 | G21: 5016.59 | L21: =TRUNC(G21*(1+K21),2) -> 5016.59
A23: TAB 04.01 | B23: Pref. POA | C23: PE 132/2025, item 26 (anexo ao lado) | D23: TAXA PARA BOTA FORA | E23: M3 | F23: 46232 | G23: 9.83 | L23: =TRUNC(G23*(1+K23),4) -> 9.83
A24: TAB 04.02 | B24: Pref. POA | C24: PE 540/2025, item 9 (anexo ao lado) | D24: LOCAÇÃO DE BANHEIRO QUÍMICO INDIVIDUAL, INCLUSO TRANSPORTE, LIMPEZA E REPOSIÇÃO DE PAPEL HIGIENICO | E24: MES | F24: 46119 | G24: 1590 | L24: =TRUNC(G24*(1+K24),2) -> 1590
A26: TAB 05.01 | B26: ANP (**) | C26: RR-1C | D26: EMULSÃO ASFALTICA TIPO RR-1C, INCLUSO PIS, COFINS E ICMS | E26: T | F26: 46143 | G26: =TRUNC((3.08141935508307)/(1-($E$39+$E$38))*1000,2) -> 4086.76 | L26: =TRUNC(G26*(1+K26),4) -> 4086.76
A27: TAB 05.02 | B27: ANP (**) | C27: CAP-50-70 | D27: CIMENTOS ASFÁLTICOS CAP-50-70, INCLUSO PIS, COFINS E ICMS | E27: T | F27: 46143 | G27: =TRUNC((4.32161411382218)/(1-($E$39+$E$38))*1000,4) -> 5731.5837 | L27: =TRUNC(G27*(1+K27),2) -> 5731.58
A28: TAB 05.03 | B28: DNIT | C28: Port. 1078/2015 DNIT | D28: TRANSPORTE DE CAP (Distribuidora de derivado de petróleo ate Pavimentadora) | E28: T | F28: 46143 | G28: =DMT!E29 -> 78.91 | L28: =TRUNC(G28*(1+K28),2) -> 78.91
A29: TAB 05.04 | B29: DNIT | C29: Port. 1078/2015 DNIT | D29: TRANSPORTE DE EMULSAO ASFALTICA (Distribuidora de derivado de petróleo ate Obra) | E29: T | F29: 46143 | G29: =DMT!E28 -> 99.57 | L29: =TRUNC(G29*(1+K29),2) -> 99.57
A31: TAB 07.01 | B31: SBC | C31: 36754 | D31: TUBO CONCRETO ARMADO AGUAS PLUVIAIS, CLASSE PA-3, DN 300 MM | E31: M | F31: 46204 | G31: 198.97 | L31: =TRUNC(G31*(1+K31),2) -> 198.97
A32: (*) conforme tabela anexa (aba oculta)
D35: (**) IMPOSTO Materiais Betuminosos:
D36: PIS+COFINS - Distribuidor: | E36: 0.0925
D37: PIS+COFINS incluso no BDI - a descontar devido a direito de crédito pela executora da obra: | E37: 0.0365
D38: Alíquota PIS/COFINS resultante: | E38: 0.076
D39: Alíquota ICMS a partir jan/2022: | E39: 0.17
D40: FONTE: www.gov.br/anp/pt-br/assuntos/precos-e-defesa-da-concorrencia/precos/precos-de-distribuicao-de-produtos-asfalticos

Sheet cronograma
B1: PREFEITURA MUNICIPAL DE PORTO ALEGRE
B2: SECRETARIA MUNICIPAL DE OBRAS E INFRAESTRUTURA
B3: =orcamento!D3 -> Objeto: Execução de Obras de Pavimentação e Redes de Drenagem na Rua Giruá
B4: =orcamento!D4 -> Endereço: Rua Giruá, Vila Panorama, Lomba Pinheiro, Porto Alegre, RS
B6: CRONOGRAMA FISICO-FINANCEIRO
A8: ITEM | B8: DESCRIÇÃO | C8: QUANT. | D8: UNID. | E8: PREÇO UNITARIO | F8: MÊS 1 | H8: MÊS 2 | J8: MÊS 3 | L8: MÊS 4 | N8: TOTAL
F9: R$ | G9: QUANT. | H9: R$ | I9: QUANT. | J9: R$ | K9: QUANT. | L9: R$ | M9: QUANT. | N9: R$ | O9: QUANT.
A10: =orcamento!A10 -> 1 | B10: =orcamento!D10 -> ADMINISTRAÇÃO LOCAL
A11: =orcamento!A11 -> 1.1 | B11: =orcamento!D11 -> EQUIPE E CONSUMOS DE ADMINISTRAÇÃO LOCAL | C11: =orcamento!F11 -> 1 | D11: =orcamento!E11 -> UN | E11: =orcamento!K11 -> 159651.45 | F11: =ROUND($E11*G11,2) -> 14368.63 | G11: =TRUNC((SUM(F13:F15)+SUM(F18:F192))/(SUMPRODUCT($C18:$C192,$E18:$E192)),2) -> 0.09 | H11: =ROUND($E11*I11,2) -> 3193.03 | I11: =TRUNC((SUM(H13:H15)+SUM(H18:H192))/(SUMPRODUCT($C18:$C192,$E18:$E192)),2) -> 0.02 | J11: =ROUND($E11*K11,2) -> 73439.67 | K11: =TRUNC((SUM(J13:J15)+SUM(J18:J192))/(SUMPRODUCT($C18:$C192,$E18:$E192)),2) -> 0.46 | L11: =ROUND(C11*E11-(F11+H11+J11),2) -> 68650.12 | M11: =1-(G11+I11+K11) -> 0.43 | N11: =F11+H11+J11+L11 -> 159651.45 | O11: =G11+I11+K11+M11 -> 1
A12: =orcamento!A12 -> 1.2 | B12: =orcamento!D12 -> SERVIÇO DE VIGILÂNCIA NOTURNO (DIÁRIO) E DIURNO (FINAIS DE SEMANA E FERIADO) | C12: =orcamento!F12 -> 1 | D12: =orcamento!E12 -> UN | E12: =orcamento!K12 -> 44037.88 | F12: =ROUND($E12*G12,2) -> 3963.41 | G12: =G11 -> 0.09 | H12: =ROUND($E12*I12,2) -> 880.76 | I12: =I11 -> 0.02 | J12: =ROUND($E12*K12,2) -> 20257.42 | K12: =K11 -> 0.46 | L12: =ROUND(C12*E12-(F12+H12+J12),2) -> 18936.29 | M12: =M11 -> 0.43 | N12: =F12+H12+J12+L12 -> 44037.88 | O12: =G12+I12+K12+M12 -> 1
A13: =orcamento!A13 -> 1.3 | B13: =orcamento!D13 -> DOCUMENTO DE RESPONSABILIDADE TÉCNICA | C13: =orcamento!F13 -> 1 | D13: =orcamento!E13 -> UN | E13: =orcamento!K13 -> 354.79 | F13: =ROUND($E13*G13,2) -> 354.79 | G13: 1 | N13: =F13+H13+J13+L13 -> 354.79 | O13: =G13+I13+K13+M13 -> 1
A14: =orcamento!A14 -> 1.4 | B14: =orcamento!D14 -> PROJETO AS BUILT (1.550m2 DE ÁREA CONSTRUÍDA) | C14: =orcamento!F14 -> 1 | D14: =orcamento!E14 -> UN | E14: =orcamento!K14 -> 1973.28 | L14: =ROUND($E14*M14,2) -> 1973.28 | M14: =C14 -> 1 | N14: =F14+H14+J14+L14 -> 1973.28 | O14: =G14+I14+K14+M14 -> 1
A15: =orcamento!A15 -> 1.5 | B15: =orcamento!D15 -> CADASTRO DE REDES (210m DE REDE DE DRENAGEM) | C15: =orcamento!F15 -> 1 | D15: =orcamento!E15 -> UN | E15: =orcamento!K15 -> 1973.28 | L15: =ROUND($E15*M15,2) -> 1973.28 | M15: =C15 -> 1 | N15: =F15+H15+J15+L15 -> 1973.28 | O15: =G15+I15+K15+M15 -> 1
A16: =orcamento!A16 -> 1.6 | B16: =orcamento!D16 -> SERVIÇO DE LOCAÇÃO/TOPOGRAFIA (115M PAVIMENTO E 210M REDE DRENAGEM) | C16: =orcamento!F16 -> 1 | D16: =orcamento!E16 -> UN | E16: =orcamento!K16 -> 6023.03 | F16: =ROUND($E16*G16,2) -> 1505.76 | G16: 0.25 | H16: =ROUND($E16*I16,2) -> 1505.76 | I16: 0.25 | J16: =ROUND($E16*K16,2) -> 1505.76 | K16: 0.25 | L16: =ROUND(C16*E16-(F16+H16+J16),2) -> 1505.75 | M16: 0.25 | N16: =F16+H16+J16+L16 -> 6023.03 | O16: =G16+I16+K16+M16 -> 1
A17: =orcamento!A17 -> 2 | B17: =orcamento!D17 -> ENSAIOS
A18: =orcamento!A18 -> 2.1 | B18: =orcamento!D18 -> SUBLEITO
A19: =orcamento!A19 -> 2.1.1 | B19: =orcamento!D19 -> ENSAIO DE ÍNDICE SUPORTE CALIFORNIA | C19: =orcamento!F19 -> 1 | D19: =orcamento!E19 -> UN | E19: =orcamento!K19 -> 383.41 | F19: =ROUND($E19*G19,2) -> 383.41 | G19: 1 | N19: =F19+H19+J19+L19 -> 383.41 | O19: =G19+I19+K19+M19 -> 1
A20: =orcamento!A20 -> 2.1.2 | B20: =orcamento!D20 -> ENSAIO DE DENSIDADE / UMIDADE | C20: =orcamento!F20 -> 3 | D20: =orcamento!E20 -> UN | E20: =orcamento!K20 -> 265.99 | F20: =ROUND($E20*G20,2) -> 797.97 | G20: 3 | N20: =F20+H20+J20+L20 -> 797.97 | O20: =G20+I20+K20+M20 -> 3
A21: =orcamento!A21 -> 2.1.3 | B21: =orcamento!D21 -> ENSAIO DE GRANULOMETRIA POR PENEIRAMENTO E SEDIMENTAÇÃO | C21: =orcamento!F21 -> 2 | D21: =orcamento!E21 -> UN | E21: =orcamento!K21 -> 316.54 | F21: =ROUND($E21*G21,2) -> 633.08 | G21: 2 | N21: =F21+H21+J21+L21 -> 633.08 | O21: =G21+I21+K21+M21 -> 2
A22: =orcamento!A22 -> 2.1.4 | B22: =orcamento!D22 -> ENSAIO DE LIMITE DE LIQUIDEZ / LIMITE DE PLASTICIDADE | C22: =orcamento!F22 -> 1 | D22: =orcamento!E22 -> UN | E22: =orcamento!K22 -> 316.54 | F22: =ROUND($E22*G22,2) -> 316.54 | G22: 1 | N22: =F22+H22+J22+L22 -> 316.54 | O22: =G22+I22+K22+M22 -> 1
A23: =orcamento!A23 -> 2.1.5 | B23: =orcamento!D23 -> ENSAIO DE COMPACTAÇÃO MÉTODO NORMAL | C23: =orcamento!F23 -> 3 | D23: =orcamento!E23 -> UN | E23: =orcamento!K23 -> 316.54 | F23: =ROUND($E23*G23,2) -> 949.62 | G23: 3 | N23: =F23+H23+J23+L23 -> 949.62 | O23: =G23+I23+K23+M23 -> 3
A24: =orcamento!A24 -> 2.2 | B24: =orcamento!D24 -> BASE BG
A25: =orcamento!A25 -> 2.2.1 | B25: =orcamento!D25 -> ENSAIO DE UMIDADE ANTES DA COMPACTAÇÃO | C25: =orcamento!F25 -> 2 | D25: =orcamento!E25 -> UN | E25: =orcamento!K25 -> 130.93 | H25: =ROUND($E25*I25,2) -> 261.86 | I25: 2 | N25: =F25+H25+J25+L25 -> 261.86 | O25: =G25+I25+K25+M25 -> 2
A26: =orcamento!A26 -> 2.2.2 | B26: =orcamento!D26 -> ENSAIO DE ÍNDICE SUPORTE CALIFORNIA | C26: =orcamento!F26 -> 1 | D26: =orcamento!E26 -> UN | E26: =orcamento!K26 -> 383.41 | H26: =ROUND($E26*I26,2) -> 383.41 | I26: 1 | N26: =F26+H26+J26+L26 -> 383.41 | O26: =G26+I26+K26+M26 -> 1
A27: =orcamento!A27 -> 2.2.3 | B27: =orcamento!D27 -> ENSAIO DE EQUIVALENTE AREIA | C27: =orcamento!F27 -> 1 | D27: =orcamento!E27 -> UN | E27: =orcamento!K27 -> 150.08 | H27: =ROUND($E27*I27,2) -> 150.08 | I27: 1 | N27: =F27+H27+J27+L27 -> 150.08 | O27: =G27+I27+K27+M27 -> 1
A28: =orcamento!A28 -> 2.2.4 | B28: =orcamento!D28 -> ENSAIO DE MASSA ESPECÍFICA APARENTE | C28: =orcamento!F28 -> 4 | D28: =orcamento!E28 -> UN | E28: =orcamento!K28 -> 116.4 | H28: =ROUND($E28*I28,2) -> 465.6 | I28: 4 | N28: =F28+H28+J28+L28 -> 465.6 | O28: =G28+I28+K28+M28 -> 4
A29: =orcamento!A29 -> 2.2.5 | B29: =orcamento!D29 -> ENSAIO DE LIMITE DE LIQUIDEZ / LIMITE DE PLASTICIDADE | C29: =orcamento!F29 -> 2 | D29: =orcamento!E29 -> UN | E29: =orcamento!K29 -> 316.54 | H29: =ROUND($E29*I29,2) -> 633.08 | I29: 2 | N29: =F29+H29+J29+L29 -> 633.08 | O29: =G29+I29+K29+M29 -> 2
A30: =orcamento!A30 -> 2.2.6 | B30: =orcamento!D30 -> ENSAIO DE COMPACTAÇÃO MÉTODO MODIFICADO | C30: =orcamento!F30 -> 2 | D30: =orcamento!E30 -> UN | E30: =orcamento!K30 -> 633.59 | H30: =ROUND($E30*I30,2) -> 1267.18 | I30: 2 | N30: =F30+H30+J30+L30 -> 1267.18 | O30: =G30+I30+K30+M30 -> 2
A31: =orcamento!A31 -> 2.3 | B31: =orcamento!D31 -> IMPRIMAÇÃO
A32: =orcamento!A32 -> 2.3.1 | B32: =orcamento!D32 -> ENSAIO DE TAXA APLICAÇÃO IMPRIMAÇÃO | C32: =orcamento!F32 -> 1 | D32: =orcamento!E32 -> UN | E32: =orcamento!K32 -> 125.46 | L32: =ROUND($E32*M32,2) -> 125.46 | M32: 1 | N32: =F32+H32+J32+L32 -> 125.46 | O32: =G32+I32+K32+M32 -> 1
A33: =orcamento!A33 -> 2.4 | B33: =orcamento!D33 -> MEIO-FIO
A34: =orcamento!A34 -> 2.4.1 | B34: =orcamento!D34 -> ENSAIO DE DESGASTE E RESISTENCIA | C34: =orcamento!F34 -> 2 | D34: =orcamento!E34 -> UN | E34: =orcamento!K34 -> 226.77 | L34: =ROUND($E34*M34,2) -> 453.54 | M34: 2 | N34: =F34+H34+J34+L34 -> 453.54 | O34: =G34+I34+K34+M34 -> 2
A35: =orcamento!A35 -> 2.5 | B35: =orcamento!D35 -> CBUQ
A36: =orcamento!A36 -> 2.5.1 | B36: =orcamento!D36 -> ENSAIO DE EXTRAÇÃO DE BETUME / GRANULAMETRIA / MARSHALL | C36: =orcamento!F36 -> 2 | D36: =orcamento!E36 -> UN | E36: =orcamento!K36 -> 988.39 | L36: =ROUND($E36*M36,2) -> 1976.78 | M36: 2 | N36: =F36+H36+J36+L36 -> 1976.78 | O36: =G36+I36+K36+M36 -> 2
A37: =orcamento!A37 -> 2.5.2 | B37: =orcamento!D37 -> ENSAIO DE TEMPERATURA INICIO ESPALHAMENTO | C37: =orcamento!F37 -> 4 | D37: =orcamento!E37 -> UN | E37: =orcamento!K37 -> 89.71 | L37: =ROUND($E37*M37,2) -> 358.84 | M37: 4 | N37: =F37+H37+J37+L37 -> 358.84 | O37: =G37+I37+K37+M37 -> 4
A38: =orcamento!A38 -> 2.5.3 | B38: =orcamento!D38 -> ENSAIO DE COMPRESSÃO | C38: =orcamento!F38 -> 2 | D38: =orcamento!E38 -> UN | E38: =orcamento!K38 -> 157.28 | L38: =ROUND($E38*M38,2) -> 314.56 | M38: 2 | N38: =F38+H38+J38+L38 -> 314.56 | O38: =G38+I38+K38+M38 -> 2
A39: =orcamento!A39 -> 2.6 | B39: =orcamento!D39 -> COLETA DE ENSAIOS
A40: =orcamento!A40 -> 2.6.1 | B40: =orcamento!D40 -> COLETA CONJUNTO DE AMOSTRAS | C40: =orcamento!F40 -> 9 | D40: =orcamento!E40 -> UN | E40: =orcamento!K40 -> 71.3 | F40: =ROUND($E40*G40,2) -> 213.9 | G40: 3 | H40: =ROUND($E40*I40,2) -> 213.9 | I40: 3 | L40: =ROUND($E40*M40,2) -> 213.9 | M40: 3 | N40: =F40+H40+J40+L40 -> 641.7 | O40: =G40+I40+K40+M40 -> 9
A41: =orcamento!A41 -> 3 | B41: =orcamento!D41 -> LOCAÇÕES NO CANTEIRO
A42: =orcamento!A42 -> 3.1 | B42: =orcamento!D42 -> LOCACAO DE CONTAINER 2,30 X 6,00 M, ALT. 2,50 M, PARA ESCRITORIO, SEM DIVISORIAS INTERNAS E SEM SANITARIO (NAO INCLUI MOBILIZACAO/DESMOBILIZACAO) | C42: =orcamento!F42 -> 4 | D42: =orcamento!E42 -> MES | E42: =orcamento!K42 -> 1062.41 | F42: =ROUND($E42*G42,2) -> 1062.41 | G42: 1 | H42: =ROUND($E42*I42,2) -> 1062.41 | I42: 1 | J42: =ROUND($E42*K42,2) -> 1062.41 | K42: 1 | L42: =ROUND(C42*E42-(F42+H42+J42),2) -> 1062.41 | M42: 1 | N42: =F42+H42+J42+L42 -> 4249.64 | O42: =G42+I42+K42+M42 -> 4
...

Sheet curva ABC
A1: PREFEITURA MUNICIPAL DE PORTO ALEGRE
A2: SECRETARIA MUNICIPAL DE OBRAS E INFRAESTRUTURA
A3: =orcamento!D3 -> Objeto: Execução de Obras de Pavimentação e Redes de Drenagem na Rua Giruá
A4: =orcamento!D4 -> Endereço: Rua Giruá, Vila Panorama, Lomba Pinheiro, Porto Alegre, RS
A6: CURVA ABC
A8: DESCRIÇÃO SERVIÇO | B8: PREÇO TOTAL | C8: % SOBRE TOTAL | D8: % ACUMULADO
A9: EQUIPE E CONSUMOS DE ADMINISTRAÇÃO LOCAL | B9: 159651.45 | C9: =B9/$B$138 -> 0.19354939 | D9: =C9 -> 0.19354939
A10: TUBO DE CONCRETO ARMADO PARA AGUAS PLUVIAIS, CLASSE PA-3, COM ENCAIXE PONTA E BOLSA, COM ENCAIXE PARA ANEL DE VEDAÇÃO, DIAMETRO NOMINAL DE 800 MM - FORNECIMENTO | B10: 66859.09 | C10: =B10/$B$138 -> 0.081054924 | D10: =C10+D9 -> 0.27460431
A11: FORNECIMENTO DE CAP PARA PAVIMENTO DE CONCRETO ASFÁLTICO, INCLUSIVE TRANSPORTE ATE PAVIMENTADORA | B11: 48550.03 | C11: =B11/$B$138 -> 0.058858399 | D11: =C11+D10 -> 0.33346271
A12: SERVIÇO DE VIGILÂNCIA NOTURNO (DIÁRIO) E DIURNO (FINAIS DE SEMANA E FERIADO) | B12: 44037.88 | C12: =B12/$B$138 -> 0.053388208 | D12: =C12+D11 -> 0.38685092
A13: CONSTRUÇÃO DE BASE E SUB-BASE PARA PAVIMENTAÇÃO DE BRITA GRADUADA SIMPLES, COM ESPESSURA DE 20 CM - EXCLUSIVE CARGA E TRANSPORTE. AF_09/2024 | B13: 41720.92 | C13: =B13/$B$138 -> 0.0505793 | D13: =C13+D12 -> 0.43743022
A14: USINAGEM CBUQ, INCLUSO FORNECIMENTO DE CONCRETO ASFALTICO (EXCETO CAP) E TRANSPORTE DA JAZIDA ATE PAVIMENTADORA, EXCLUSIVE TRANSPORTE ATE OBRA | B14: 33481.93 | C14: =B14/$B$138 -> 0.040590969 | D14: =C14+D13 -> 0.47802119
A15: EXECUÇÃO DE PASSEIO (CALÇADA) OU PISO DE CONCRETO COM CONCRETO MOLDADO IN LOCO, USINADO C20, ACABAMENTO CONVENCIONAL, NÃO ARMADO. AF_08/2022 | B15: 33268.26 | C15: =B15/$B$138 -> 0.040331932 | D15: =C15+D14 -> 0.51835312
A16: TRANSPORTE COM CAMINHÃO BASCULANTE DE 10 M³, EM VIA URBANA PAVIMENTADA, DMT ATÉ 30 KM (UNIDADE: M3XKM). AF_02/2026 | B16: 29727.88 | C16: =B16/$B$138 -> 0.036039842 | D16: =C16+D15 -> 0.55439296
A17: CONSTRUÇÃO DE BASE E SUB-BASE PARA PAVIMENTAÇÃO DE RACHÃO, COM ESPESSURA DE 30 CM - EXCLUSIVE CARGA E TRANSPORTE. AF_09/2024 | B17: 29140.12 | C17: =B17/$B$138 -> 0.035327286 | D17: =C17+D16 -> 0.58972025
A18: TUBO DE CONCRETO ARMADO PARA AGUAS PLUVIAIS, CLASSE PA-3, COM ENCAIXE PONTA E BOLSA, COM ENCAIXE PARA ANEL DE VEDAÇÃO, DIAMETRO NOMINAL DE 400 MM - FORNECIMENTO | B18: 18511.08 | C18: =B18/$B$138 -> 0.022441439 | D18: =C18+D17 -> 0.61216169
A19: TUBO CONCRETO ARMADO AGUAS PLUVIAIS, CLASSE PA-3, ENCAIXE PONTA E BOLSA, DN 800 MM - ASSENTAMENTO, INCLUSO ANEL DE VEDAÇÃO | B19: 15998.08 | C19: =B19/$B$138 -> 0.019394867 | D19: =C19+D18 -> 0.63155656
A20: ENVELOPAMENTO EM CONCRETO USINADO FCK = 20MPA | B20: 14460.71 | C20: =B20/$B$138 -> 0.017531075 | D20: =C20+D19 -> 0.64908763
A21: PISO PODOTÁTIL DE ALERTA OU DIRECIONAL, DE CONCRETO, ASSENTADO SOBRE ARGAMASSA. AF_03/2024 | B21: 13609.02 | C21: =B21/$B$138 -> 0.016498551 | D21: =C21+D20 -> 0.66558618
... A137: DISJUNTOR MONOPOLAR TIPO DIN, CORRENTE NOMINAL DE 50A - FORNECIMENTO E INSTALAÇÃO. AF_07/2025 | B137: 29.94 | C137: =B137/$B$138 -> 3.6297e-05 | D137: =C137+D136 -> 1
A138: TOTAL | B138: =SUM(B9:B137) -> 824861.55

Sheet indice reajuste
A1: Item do Orçamento | C1: Índice de Reajuste (*)
A2: 1 | B2: ADMINISTRAÇÃO DA OBRA | C2: Administração Local
A3: 2 | B3: ENSAIOS | C3: Consultoria
A4: 3 | B4: LOCAÇÕES NO CANTEIRO | C4: Administração Local
A5: 4 | B5: MOBILIZAÇÃO/DESMOBILIZAÇÃO | C5: Mobilização e Desmobilização
A6: 5 | B6: SINALIZAÇÃO DE OBRAS | C6: Sinalização Vertical
A7: 6 | B7: CANTEIRO DE OBRAS | C7: Índice Nacional de Custo da Construção
A8: 7 | B8: SERVIÇOS INICIAIS | C8: Mobilização e Desmobilização
A9: 8 | B9: TERRAPLENAGEM | C9: Terraplenagem
A10: 9 (exceto 9.10) | B10: PAVIMENTAÇÃO VIÁRIA | C10: Pavimentação
A11: 9.10 | B11: FORNECIMENTO CAP | C11: Cimento Asfáltico Petróleo - CAP
A12: 10 (exceto 10.3 e 10.5) | B12: PAVIMENTAÇÃO PASSEIOS | C12: Terraplenagem
A13: 10.3 e 10.5 | B13: PASSEIO EM CONCRETO E PISO TATIL | C13: Pavimentos de Concreto de Cimento Portland
A14: 11 | B14: DRENAGEM - SERVIÇOS INICIAIS | C14: Mobilização e Desmobilização
A15: 12 | B15: DRENAGEM - TERRAPLENAGEM | C15: Terraplenagem
A16: 13 | B16: DRENAGEM - FORNECIMENTO TUBULAÇÃO | C16: Drenagem
A17: 14 | B17: DRENAGEM - ASSENTAMENTO TUBULAÇÃO | C17: Drenagem
A18: 15 | B18: DRENAGEM - POÇOS E CAIXAS | C18: Drenagem
A19: 16 (exceto 16.10) | B19: DRENAGEM - SERVIÇOS COMPLEMENTARES | C19: Pavimentação
A20: 16.10 | B20: FORNECIMENTO CAP | C20: Cimento Asfáltico Petróleo - CAP
A21: 17 | B21: SERVIÇOS FINAIS E DESMOBILIZAÇÃO | C21: Mobilização e Desmobilização
B22: * Índices retirados da tabela DNIT/FGV:
B23: https://www.gov.br/dnit/pt-br/assuntos/planejamento-e-pesquisa/custos-e-pagamentos/custos-e-pagamentos-dnit/indices-de-reajustamentos/indices-de-reajustamentos-de-obras-rodoviario

Sheet BDI
A1: PARCELAS | B1: INFRAESTRUTURA
B2: BDI INTEGRAL | C2: BDI DIFERENCIADO
A3: (AC) - Administraçã o Central | B3: 0.0449 | C3: 0.0224
A4: (S) + (G) - Seguro e Garantia | B4: 0.0046 | C4: 0.0039
A5: (R) - Risco | B5: 0.0114 | C5: 0.007
A6: (DF) - Despesas Financeiras | B6: 0.0187 | C6: 0.0187
A7: (L) - Lucro | B7: 0.0788 | C7: 0.043
A8: Impostos (I= I1+I2+I3):
A9: (I1) - PIS | B9: 0.0065 | C9: 0.0065
A10: (I2 ) - COFINS | B10: 0.03 | C10: 0.03
A11: (I3 ) - ISSQN | B11: 0.025 | C11: 0.025
A12: (I4 ) - Contribuição Previdenciária (CPRB) | B12: 0 | C12: 0
A13: BDI | B13: =ROUNDDOWN((((1+(B3+B4+B5))*(1+B6)*(1+B7))/(1-(B9+B10+B11+B12))-1),4) -> 0.2423 | C13: =ROUND((((1+(C3+C4+C5))*(1+C6)*(1+C7))/(1-(C9+C10+C11+C12))-1),4) -> 0.1698
A14: Fonte: Decreto 23.379/2025 | B14: BDI = ( 1 + ( AC + S + G + R ) ) (1 + DF) ( 1+ L) - 1
B15: ( 1 - l1 + l2 + l3 + l4 )

Sheet encargos
A1: TABELA DE ENCARGOS SOCIAIS
A2: CÓD. | B2: DESCRIÇÃO | C2: =dados!B10 -> Não Desonerado
A3: GRUPO A: ENCARGOS BÁSICOS PREVIDENCIÁRIOS | C3: Horista | D3: Mensalista
A4: A1 | B4: INSS | C4: 0.2 | D4: 0.2
A5: A2 | B5: SESI | C5: 0.015 | D5: 0.015
A6: A3 | B6: SENAI | C6: 0.01 | D6: 0.01
A7: A4 | B7: INCRA | C7: 0.002 | D7: 0.002
A8: A5 | B8: SEBRAE | C8: 0.006 | D8: 0.006
A9: A6 | B9: SALÁRIO-EDUCAÇÃO | C9: 0.025 | D9: 0.025
A10: A7 | B10: SEGURO-ACIDENTE | C10: 0.03 | D10: 0.03
A11: A8 | B11: FGTS | C11: 0.08 | D11: 0.08
A12: A9 | B12: SECONDI | C12: 0 | D12: 0
A13: TOTAL GRUPO A | C13: 0.368 | D13: 0.368
A14: GRUPO B: ENCARGOS QUE RECEBEM INCIDÊNCIA DE A
A15: B1 | B15: REPOUSO SEMANAL REMUNERADO | C15: 0.1778 | D15: 0
A16: B2 | B16: FERIADOS | C16: 0.0421 | D16: 0
A17: B3 | B17: AUXÍLIO-ENFERMIDADE | C17: 0.0088 | D17: 0.0067
A18: B4 | B18: 13º SALÁRIO | C18: 0.1092 | D18: 0.0829
A19: B5 | B19: LICENÇA-PATERNIDADE | C19: 0.0007 | D19: 0.0005
A20: B6 | B20: FALTAS JUSTIFICADAS | C20: 0.0073 | D20: 0.0056
A21: B7 | B21: DIAS DE CHUVAS | C21: 0.0165 | D21: 0
A22: B8 | B22: ACIDENTES DE TRABALHO | C22: 0.0003 | D22: 0.0002
A23: B9 | B23: FÉRIAS | C23: 0.1104 | D23: 0.0838
A24: B10 | B24: SALARIO MATERNIDADE | C24: 0.0004 | D24: 0.0003
A25: TOTAL GRUPO B | C25: 0.4735 | D25: 0.18
A26: GRUPO C: ENCARGOS QUE NÃO RECEBEM A INCIDÊNCIA DE A
A27: C1 | B27: AVISO PRÉVIO INDENIZADO | C27: 0.0418 | D27: 0.0317
A28: C2 | B28: AVISO PRÉVIO TRABALHADO | C28: 0.0011 | D28: 0.0008
A29: C3 | B29: FÉRIAS INDENIZADAS + 1/3 | C29: 0.0359 | D29: 0.0273
A30: C4 | B30: DEPOSITO POR DESPEDIDA INJUSTA | C30: 0.0178 | D30: 0.0135
A31: C5 | B31: INDENIZAÇÃO ADICIONAL | C31: 0.0035 | D31: 0.0026
A32: TOTAL GRUPO C | C32: 0.1001 | D32: 0.0759
A33: GRUPO D: INCIDÊNCIA DE ENCARGOS
A34: D1 | B34: REINCIDÊNCIA DE A SOBRE B | C34: 0.1742 | D34: 0.0662
A35: D2 | B35: REINCIDÊNCIA DE A SOBRE C2 + REINCIDÊNCIA DE FGTS SOBRE C1 | C35: 0.0037 | D35: 0.0028
A36: TOTAL GRUPO D | C36: 0.1779 | D36: 0.069
B37: TOTAL GERAL A + B + C + D | C37: 1.1195 | D37: 0.6929
B38: Fonte: SINAPI

Sheet DMT
A1: OBRA | B1: =dados!B4 -> Rua Giruá, Vila Panorama, Lomba Pinheiro, Porto Alegre, RS
A4: EQUAÇÕES TARIFÁRIAS PARA O TRANSPORTE DE MATERIAIS BETUMINOSOS S/ICMS - Data-base: JUL/2014
A5: Atendendo a Portaria nº 1078, de 11 de agosto de 2015 - DNIT
A6: Revestimento | C6: Equações tarifárias
C7: (Custo Direto - R$/ton)
A8: Rodovia com revestimento asfáltico | C8: 26.939 | D8: + | E8: 0.253
A9: Rodovia com revestimento primário | C9: 26.939 | D9: + | E9: 0.299
A10: Rodovia em leito natural | C10: 26.939 | D10: + | E10: 0.412
A11: Custo do transporte = Custo direto do transporte / (1 - % ICMS/100) - ICMS = 17% ( a partir de 01/01/2022)
B13: Índice | C13: Io (JUL/2014) | D13: Ii (JUL/2026) | E13: Índice Atualização
B14: Pavimentação | C14: 270.237 | D14: 618.721 | E14: =TRUNC(D14/C14,4) -> 2.2895
A16: EQUAÇÕES TARIFÁRIAS PARA O TRANSPORTE DE MATERIAIS BETUMINOSOS C/ICMS (17%) - Data-base: AGO/2023
A17: Revestimento | C17: Equações tarifárias
C18: (Custo Direto - R$/ton)
A19: Rodovia com revestimento asfáltico | C19: =ROUND((C8*$E$14)/$E$25,3) -> 74.309 | D19: + | E19: =ROUND((E8*$E$14)/$E$25,3) -> 0.698
A20: Rodovia com revestimento primário | C20: =ROUND((C9*$E$14)/$E$25,3) -> 74.309 | D20: + | E20: =ROUND((E9*$E$14)/$E$25,3) -> 0.825
A21: Rodovia em leito natural | C21: =ROUND((C10*$E$14)/$E$25,3) -> 74.309 | D21: + | E21: =ROUND((E10*$E$14)/$E$25,3) -> 1.136
C22: =CONCATENATE("(",C19," +",E19," D1 + ",E20," D2 + ",E21," D3",")") -> (74,309 +0,698 D1 + 0,825 D2 + 1,136 D3)
D24: 1 - %ICMS/100
D25: 1 - 0,17= | E25: =1-0.17 -> 0.83
B27: Rodovia com revestimento asfáltico (D1) | C27: Rodovia com revestimento primário (D2) | D27: Rodovia em leito natural (D3) | E27: Custo Transporte Materiais Betuminosos (R$/T)
A28: EMULSÃO ASFALTICA | B28: =C38 -> 36.2 | C28: 0 | D28: 0 | E28: =TRUNC($C$19+($E$19*B28)+($E$20*C28)+($E$21*D28),2) -> 99.57
A29: CAP | B29: =C47 -> 6.6 | C29: 0 | D29: 0 | E29: =TRUNC($C$19+($E$19*B29)+($E$20*C29)+($E$21*D29),2) -> 78.91
A31: DMT da EMULSÃO ASFALTICA (incluso passagem pela pavimentadora)
A32: PEDRACCON (Bc. do Davi, 124, Porto Alegre) | D32: ENCOPAV (Estr. Julio de Castilhos, 1009, São Leopoldo) | G32: TONIOLO (Rua Reinaldo Leopoldino de Souza, 555, Portão) | J32: GIOVANELLA (R. Tilápia, 160, Estância Velha) | M32: SULTEPA (R. Florianópolis, 1000, Estância Velha)
B33: DMT (média) | C33: =MIN(C34:C36) -> 29.6 | E33: DMT (média) | F33: =MIN(F34:F36) -> 22.6 | H33: DMT (média) | I33: =MIN(I34:I36) -> 26.6 | K33: DMT (média) | L33: =MIN(L34:L36) -> 29.6 | N33: DMT (média) | O33: =MIN(O34:O36) -> 28.2
A34: BETUNEL | B34: BR-470, 14 - Faxinal, Montenegro/RS | C34: 75.2 | D34: BETUNEL | E34: BR-470, 14 - Faxinal, Montenegro/RS | F34: 29.3 | G34: BETUNEL | H34: BR-470, 14 - Faxinal, Montenegro/RS | I34: 26.6 | J34: BETUNEL | K34: BR-470, 14 - Faxinal, Montenegro/RS | L34: 34.6 | M34: BETUNEL | N34: BR-470, 14 - Faxinal, Montenegro/RS | O34: 39.2
A35: GRECA | B35: R. Bento Gonçalves, 1850, Esteio/RS | C35: 29.6 | D35: GRECA | E35: R. Bento Gonçalves, 1850, Esteio/RS | F35: 22.6 | G35: GRECA | H35: R. Bento Gonçalves, 1850, Esteio/RS | I35: 32.1 | J35: GRECA | K35: R. Bento Gonçalves, 1850, Esteio/RS | L35: 29.6 | M35: GRECA | N35: R. Bento Gonçalves, 1850, Esteio/RS | O35: 28.2
A36: STRATURA | B36: Brigadeira, Canoas - RS | C36: 34.2 | D36: Brigadeira, Canoas - RS | E36: Brigadeira, Canoas - RS | F36: 25.8 | G36: STRATURA | H36: Brigadeira, Canoas - RS | I36: 35.3 | J36: STRATURA | K36: Brigadeira, Canoas - RS | L36: 32.2 | M36: STRATURA | N36: Brigadeira, Canoas - RS | O36: 31.6
A37: OBRA | B37: Rua Giruá, 23, Porto Alegre/RS | C37: 6.6 | D37: OBRA | E37: Rua Giruá, 23, Porto Alegre/RS | F37: 56.5 | G37: OBRA | H37: Rua Giruá, 23, Porto Alegre/RS | I37: 65 | J37: OBRA | K37: Rua Giruá, 23, Porto Alegre/RS | L37: 62.4 | M37: OBRA | N37: Rua Giruá, 23, Porto Alegre/RS | O37: 62.1
A38: DMT ADOTADO (KM) | C38: =ROUND(C33+C37,2) -> 36.2
A41: DMT do CONCRETO ASFALTICO (CAP)
A42: PEDRACCON | B42: Bc. do Davi, 124 Porto Alegre/RS | C42: 6.6
A43: ENCOPAV | B43: Estr. Julio de Castilhos, 1009 São Leopoldo/RS | C43: 56.5
A44: TONIOLO | B44: Rua Reinaldo Leopoldino de Souza, 555, Portão/RS | C44: 65
A45: GIOVANELLA | B45: R. Tilápia, 160, Estância Velha/RS | C45: 62.4
A46: SULTEPA | B46: R. Florianópolis, 1000, Estância Velha/RS | C46: 62.1
A47: DMT MÉDIO ADOTADO (KM) | C47: =C42 -> 6.6
A50: DMT de Peças de Concreto Pré-moldados
A51: ENGEMIX | B51: R. Gen. Câmara, 1042, Rio Branco, Canoas/RS | C51: 26.1
...

Sheet quant_pavim
A1: QUANTITATIVO DE PROJETO | G1: QUANTITATIVO DE TERRAPLANAGEM | Z1: QUADRO RESUMO DE TERRAPLENAGEM
A2: Rua Giruá
A3: Estaca 0 à Estaca 5+14,14
A4: (da interseção com a Rua Taunaí da Silva Boeira até o final)
A5: EXTENSÃO DE PROJETO: | B5: =5*20+14.14 -> 114.14 | C5: m
G6: ESTACA | I6: ÁREA (m²) | P6: DISTÂNCIA (m) | R6: VOLUME GEOMÉTRICO (m³) | Z6: Material Escavado (compactado) | AG6: Destino
A7: Pavimentação pista | I7: CORTE | K7: ATERRO | N7: LIMPEZA | R7: CORTE | T7: ATERRO | W7: LIMPEZA | Z7: Tipo | AE7: Un. | AF7: Corte Solo | AG7: Aterro | AH7: Bota-fora
A8: Material | B8: Camada (m) | C8: Área (m²) | D8: Volume (m³) | I8: PISTA | J8: PASSEIO | K8: PISTA | L8: PASSEIO | M8: VALA | R8: PISTA | S8: PASSEIO | T8: PISTA | U8: PASSEIO | V8: VALA
A9: CBUQ | B9: 0.05 | C9: 645.63 | D9: =TRUNC(C9*B9,2) -> 32.28 | Z9: Pista | AE9: m³ | AF9: =R27/Z23 -> 200.288 | AG9: =AF18 -> 53.2956 | AH9: =AF9-AG9 -> 146.9924
A10: Base de brita graduada | B10: 0.2 | C10: =C15 -> 702.65 | D10: =TRUNC(C10*B10,2) -> 140.53 | G10: 0+2,93 | I10: 2.2284 | J10: 0.1629 | K10: 0 | L10: 0.9201 | M10: 0 | N10: 1.3913 | P10: 0 | R10: 0 | S10: 0 | T10: 0 | U10: 0 | V10: 0 | W10: 0 | Z10: Passeio | AE10: m³ | AF10: =S27/Z23 -> 29.416 | AG10: - | AH10: =AF10 -> 29.416
A11: Sub-base de rachão | B11: 0.2 | C11: =C15 -> 702.65 | D11: =TRUNC(C11*B11,2) -> 140.53 | G11: 0+10 | I11: =I34-6.5*0.11 -> 1.7871 | J11: 0.2902 | K11: 0 | L11: 0.4739 | M11: 0 | N11: 1.2027 | P11: =10-2.93 -> 7.07 | R11: =((I11+I10)/2)*$P11 -> 14.194793 | S11: =((J11+J10)/2)*$P11 -> 1.6017085 | T11: =((K11+K10)/2)*$P11 -> 0 | U11: =((L11+L10)/2)*$P11 -> 4.92779 | V11: =((M11+M10)/2)*$P11 -> 0 | W11: =((N11+N10)/2)*$P11 -> 9.16979 | Z11: Limpeza (10 cm) | AE11: m³ | AF11: =W27/Z23 -> 102.976 | AG11: - | AH11: =AF11 -> 102.976
A12: Reforço de areia | B12: 0 | C12: =C15 -> 702.65 | D12: =TRUNC(C12*B12,2) -> 0 | G12: 1 | I12: =I35-6.5*0.11 -> 2.8234 | J12: 0.1302 | K12: 0 | L12: 0.4227 | M12: 0 | N12: 1.2164 | P12: 10 | R12: =((I12+I11)/2)*$P12 -> 23.0525 | S12: =((J12+J11)/2)*$P12 -> 2.102 | T12: =((K12+K11)/2)*$P12 -> 0 | U12: =((L12+L11)/2)*$P12 -> 4.483 | V12: =((M12+M11)/2)*$P12 -> 0 | W12: =((N12+N11)/2)*$P12 -> 12.0955 | Z12: Total | AE12: m³ | AF12: =SUM(AF9:AF11) -> 332.68 | AG12: =SUM(AG9:AG11) -> 53.2956 | AH12: =SUM(AH9:AH11) -> 279.3844
G13: 1+10 | I13: =I36-6.5*0.11 -> 2.554 | J13: 0.1522 | K13: 0 | L13: 0.3657 | M13: 0 | N13: 1.3294 | P13: 10 | R13: =((I13+I12)/2)*$P13 -> 26.887 | S13: =((J13+J12)/2)*$P13 -> 1.412 | T13: =((K13+K12)/2)*$P13 -> 0 | U13: =((L13+L12)/2)*$P13 -> 3.942 | V13: =((M13+M12)/2)*$P13 -> 0 | W13: =((N13+N12)/2)*$P13 -> 12.729
A14: Limpeza e destocamento | C14: =W27/0.1 -> 1287.2 | D14: m² | G14: 2 | I14: =I37-6.5*0.11 -> 2.0587 | J14: 0.1699 | K14: 0 | L14: 0.4496 | M14: 0 | N14: 1.1555 | P14: 10 | R14: =((I14+I13)/2)*$P14 -> 23.0635 | S14: =((J14+J13)/2)*$P14 -> 1.6105 | T14: =((K14+K13)/2)*$P14 -> 0 | U14: =((L14+L13)/2)*$P14 -> 4.0765 | V14: =((M14+M13)/2)*$P14 -> 0 | W14: =((N14+N13)/2)*$P14 -> 12.4245 | Z14: Aterro Projeto | AG14: Origem
A15: Regularização do subleito | C15: 702.65 | D15: m² | G15: 2+10 | I15: =I38-6.5*0.11 -> 2.2305 | J15: 0.2181 | K15: 0 | L15: 0.1256 | M15: 0 | N15: 1.121 | P15: 10 | R15: =((I15+I14)/2)*$P15 -> 21.446 | S15: =((J15+J14)/2)*$P15 -> 1.94 | T15: =((K15+K14)/2)*$P15 -> 0 | U15: =((L15+L14)/2)*$P15 -> 2.876 | V15: =((M15+M14)/2)*$P15 -> 0 | W15: =((N15+N14)/2)*$P15 -> 11.3825 | Z15: Tipo | AE15: Un. | AF15: Aterro | AG15: Material Escavado | AH15: Material Importado
A16: Área de regularização do passeio | C16: =SUM(C17:C19) -> 357.27 | D16: m² | G16: 3 | I16: =I39-6.5*0.11 -> 2.688 | J16: 0.806 | K16: 0 | L16: 0.6478 | M16: 0 | N16: 1.1991 | P16: 10 | R16: =((I16+I15)/2)*$P16 -> 24.5925 | S16: =((J16+J15)/2)*$P16 -> 5.1205 | T16: =((K16+K15)/2)*$P16 -> 0 | U16: =((L16+L15)/2)*$P16 -> 3.867 | V16: =((M16+M15)/2)*$P16 -> 0 | W16: =((N16+N15)/2)*$P16 -> 11.6005
A17: Concreto "in loco" 6 cm + lastro de brita 5 cm | C17: 217.65 | D17: m² | G17: 3+10 | I17: =I40-6.5*0.11 -> 2.2018 | J17: 0.344 | K17: 0 | L17: 0.6572 | M17: 0 | N17: 1.1766 | P17: 10 | R17: =((I17+I16)/2)*$P17 -> 24.449 | S17: =((J17+J16)/2)*$P17 -> 5.75 | T17: =((K17+K16)/2)*$P17 -> 0 | U17: =((L17+L16)/2)*$P17 -> 6.525 | V17: =((M17+M16)/2)*$P17 -> 0 | W17: =((N17+N16)/2)*$P17 -> 11.8785 | Z17: Pista | AE17: m³ | AF17: =T27 -> 0 | AG17: - | AH17: =AF17 -> 0
A18: Concreto "in loco" 12 cm + tela Q92 + lastro de brita 5 cm | C18: 139.62 | D18: m² | G18: 4 | I18: =I41-6.5*0.11 -> 2.2583 | J18: 0.5973 | K18: 0 | L18: 0.4168 | M18: 0 | N18: 1.1523 | P18: 10 | R18: =((I18+I17)/2)*$P18 -> 22.3005 | S18: =((J18+J17)/2)*$P18 -> 4.7065 | T18: =((K18+K17)/2)*$P18 -> 0 | U18: =((L18+L17)/2)*$P18 -> 5.37 | V18: =((M18+M17)/2)*$P18 -> 0 | W18: =((N18+N17)/2)*$P18 -> 11.6445 | Z18: Passeio (geométrico + reaterro) | AE18: m³ | AF18: =U27+0.02*2*114.14 -> 53.2956 | AG18: =AF18 -> 53.2956 | AH18: -
B19: Rampas de pedestres | C19: 0 | D19: m² | G19: 4+10 | I19: =I42-6.5*0.11 -> 2.261 | J19: 0.6965 | K19: 0 | L19: 0.4392 | M19: 0 | N19: 1.1244 | P19: 10 | R19: =((I19+I18)/2)*$P19 -> 22.5965 | S19: =((J19+J18)/2)*$P19 -> 6.469 | T19: =((K19+K18)/2)*$P19 -> 0 | U19: =((L19+L18)/2)*$P19 -> 4.28 | V19: =((M19+M18)/2)*$P19 -> 0 | W19: =((N19+N18)/2)*$P19 -> 11.3835 | Z19: Valas | AE19: m³ | AF19: =V27 -> 0 | AG19: - | AH19: =AF19 -> 0
A20: Piso podotátil 40x40 | C20: =SUM(C21:C22) -> 176 | D20: m | G20: 5 | I20: =I43-6.5*0.11 -> 1.9223 | J20: 0.0265 | K20: 0 | L20: 0.393 | M20: 0 | N20: 1.0187 | P20: 10 | R20: =((I20+I19)/2)*$P20 -> 20.9165 | S20: =((J20+J19)/2)*$P20 -> 3.615 | T20: =((K20+K19)/2)*$P20 -> 0 | U20: =((L20+L19)/2)*$P20 -> 4.161 | V20: =((M20+M19)/2)*$P20 -> 0 | W20: =((N20+N19)/2)*$P20 -> 10.7155 | Z20: Aterro Total | AE20: m³ | AF20: =SUM(AF17:AF19) -> 53.2956 | AG20: =SUM(AG17:AG19) -> 53.2956 | AH20: =SUM(AH17:AH19) -> 0
B21: alerta | C21: 46 | D21: m | G21: 5+6,76 | I21: =I44-6.5*0.11 -> 2.7278 | J21: 0.1658 | K21: 0 | L21: 0.1598 | M21: 0 | N21: 1.0107 | P21: 6.76 | R21: =((I21+I20)/2)*$P21 -> 15.717338 | S21: =((J21+J20)/2)*$P21 -> 0.649974 | T21: =((K21+K20)/2)*$P21 -> 0 | U21: =((L21+L20)/2)*$P21 -> 1.868464 | V21: =((M21+M20)/2)*$P21 -> 0 | W21: =((N21+N20)/2)*$P21 -> 6.859372
