Workbook
Name familias_equipamentos: 'Apoio - Notas Explicativas'!#REF!
Name familias_equipamentos: '[1]Base Apoio - etapa 1'!#REF!
Name familias_equipamentos: '[1]Base Apoio - etapa 1'!#REF!
Name familias_equipamentos: '[2]Base Apoio - etapa 1'!#REF!
Name familias_equipamentos: '[1]Base Apoio - etapa 1'!#REF!
Name materiais: [1]Fontes!$F$3:$F$9
Name percentuais: [3]Fontes!$C$1:$C$3
Name percentuais: [2]Fontes!$C$1:$C$3
Name percentuais: [1]Fontes!$C$1:$C$3
Name Sim_não: [3]Fontes!$A$1:$A$2
Name Sim_não: [2]Fontes!$A$1:$A$2
Name Sim_não: [1]Fontes!$A$1:$A$2
Name tributaçao: 'Apoio - Notas Explicativas'!#REF!
Name tributaçao: '[2]Base Apoio - etapa 1'!$F$20:$H$20
Name tributaçao: '[1]Base Apoio - etapa 1'!$F$20:$H$20
Name Tributação: #REF!
Name Tributação: #REF!
Name Tributação: #REF!
Name Tributação: #REF!
Name Tributação: #REF!

Sheet Mão de Obra
A2: =CONCATENATE("PREFEITURA MUNICIPAL DE PORTO ALEGRE ",D5," FORMAÇÃO DE PREÇOS DE REFERÊNCIA - CESSÃO DE MÃO DE OBRA") -> PREFEITURA MUNICIPAL DE PORTO ALEGRE SECRETARIA MUNICIPAL DA SAÚDE (SMS) FORMAÇÃO DE PREÇOS DE REFERÊNCIA - CESSÃO DE MÃO DE OBRA
C4: DADOS REFERENTES À CONTRATAÇÃO
B5: A | C5: Órgão Demandante | D5: SECRETARIA MUNICIPAL DA SAÚDE (SMS) | H5: 3 | I5: 4 | J5: 5 | K5: 6 | L5: 7 | M5: 8 | N5: 9 | O5: 10 | P5: 11 | Q5: 12 | R5: 13 | S5: 14 | T5: 15 | U5: 16 | V5: 17 | W5: 18 | X5: 19
B6: B | C6: Pregão Eletrônico nº:
B7: C | C7: Processo SEI nº: | D7: 26.0.000158828-0
B8: D | C8: Objeto: | D8: Contratação de empresa para execução serviço de Eletricistas e Eletrotécnicos
B9: E | C9: Responsável | D9: Viviane M. Demoly
B10: F | C10: Data de conclusão | D10: 46316
B11: G | C11: Pagamento do Contrato: | D11: Mês
B12: H | C12: Duração do Contrato em meses: | D12: 12
B13: I | C13: Regime Tributário | D13: Lucro Presumido
B14: J | C14: Receita Bruta
B15: K | C15: Salário Mínimo | D15: 1621
C17: DADOS REFERENTES AOS POSTOS | E17: Posto A | F17: Posto B | G17: Posto C | H17: Posto D | I17: Posto D | J17: Posto E | K17: Posto G | L17: Posto H | M17: Posto I | N17: Posto J | O17: Posto K | P17: Posto L | Q17: Posto M | R17: Posto N | S17: Posto O | T17: Posto P | U17: Posto Q | V17: Posto R | W17: Posto S | X17: Posto T
B18: A | C18: Função do Posto | E18: Eletricista Industrial | F18: Eletricista Industrial | I18: Engenheiro Eletricista | J18: Responsável Técnico Segurança do Trabalho
B19: B | C19: Observação | E19: Diurno | F19: Noturno | I19: Conforme TR | J19: Conforme TR
B20: C | C20: Classificação Brasileira de Ocupações (CBO) | E20: 9511-05 | F20: 9511-05 | I20: 2143-05 | J20: 2143-05 | K20: =IFERROR(VLOOKUP(K$18,'Apoio - Posto'!$A:$J,2,FALSE),"") | L20: =IFERROR(VLOOKUP(L$18,'Apoio - Posto'!$A:$J,2,FALSE),"") | M20: =IFERROR(VLOOKUP(M$18,'Apoio - Posto'!$A:$J,2,FALSE),"") | N20: =IFERROR(VLOOKUP(N$18,'Apoio - Posto'!$A:$J,2,FALSE),"") | O20: =IFERROR(VLOOKUP(O$18,'Apoio - Posto'!$A:$J,2,FALSE),"") | P20: =IFERROR(VLOOKUP(P$18,'Apoio - Posto'!$A:$J,2,FALSE),"") | Q20: =IFERROR(VLOOKUP(Q$18,'Apoio - Posto'!$A:$J,2,FALSE),"") | R20: =IFERROR(VLOOKUP(R$18,'Apoio - Posto'!$A:$J,2,FALSE),"") | ... X20: =IFERROR(VLOOKUP(X$18,'Apoio - Posto'!$A:$J,2,FALSE),"")
B21: D | C21: Valor do Piso normativo da Categoria | E21: 2510.2 | F21: 2510.2 | I21: =9*D15 -> 14589 | J21: =9*D15 -> 14589 | K21: =IFERROR(VLOOKUP(K$18,'Apoio - Posto'!$A:$AA,7,FALSE),"") | L21: =IFERROR(VLOOKUP(L$18,'Apoio - Posto'!$A:$AA,7,FALSE),"") | M21: =IFERROR(VLOOKUP(M$18,'Apoio - Posto'!$A:$AA,7,FALSE),"") | N21: =IFERROR(VLOOKUP(N$18,'Apoio - Posto'!$A:$AA,7,FALSE),"") | O21: =IFERROR(VLOOKUP(O$18,'Apoio - Posto'!$A:$AA,7,FALSE),"") | P21: =IFERROR(VLOOKUP(P$18,'Apoio - Posto'!$A:$AA,7,FALSE),"") | Q21: =IFERROR(VLOOKUP(Q$18,'Apoio - Posto'!$A:$AA,7,FALSE),"") | R21: =IFERROR(VLOOKUP(R$18,'Apoio - Posto'!$A:$AA,7,FALSE),"") | ... X21: =IFERROR(VLOOKUP(X$18,'Apoio - Posto'!$A:$AA,7,FALSE),"")
B22: E | C22: Regime de trabalho da convenção coletiva (mensal) | E22: 220 | F22: 220 | I22: 220 | J22: 220 | K22: =IFERROR(VLOOKUP(K$18,'Apoio - Posto'!$A:$AA,8,FALSE),"") | L22: =IFERROR(VLOOKUP(L$18,'Apoio - Posto'!$A:$AA,8,FALSE),"") | M22: =IFERROR(VLOOKUP(M$18,'Apoio - Posto'!$A:$AA,8,FALSE),"") | N22: =IFERROR(VLOOKUP(N$18,'Apoio - Posto'!$A:$AA,8,FALSE),"") | O22: =IFERROR(VLOOKUP(O$18,'Apoio - Posto'!$A:$AA,8,FALSE),"") | P22: =IFERROR(VLOOKUP(P$18,'Apoio - Posto'!$A:$AA,8,FALSE),"") | Q22: =IFERROR(VLOOKUP(Q$18,'Apoio - Posto'!$A:$AA,8,FALSE),"") | R22: =IFERROR(VLOOKUP(R$18,'Apoio - Posto'!$A:$AA,8,FALSE),"") | ... X22: =IFERROR(VLOOKUP(X$18,'Apoio - Posto'!$A:$AA,8,FALSE),"")
B23: F | C23: Sindicato representativo da categoria profissional | E23: Sindieletro | F23: Sindieletro | I23: Senge - CREA | J23: Senge - CREA | K23: =IFERROR(VLOOKUP(K$18,'Apoio - Posto'!$A:$J,3,FALSE),"") | L23: =IFERROR(VLOOKUP(L$18,'Apoio - Posto'!$A:$J,3,FALSE),"") | M23: =IFERROR(VLOOKUP(M$18,'Apoio - Posto'!$A:$J,3,FALSE),"") | N23: =IFERROR(VLOOKUP(N$18,'Apoio - Posto'!$A:$J,3,FALSE),"") | O23: =IFERROR(VLOOKUP(O$18,'Apoio - Posto'!$A:$J,3,FALSE),"") | P23: =IFERROR(VLOOKUP(P$18,'Apoio - Posto'!$A:$J,3,FALSE),"") | Q23: =IFERROR(VLOOKUP(Q$18,'Apoio - Posto'!$A:$J,3,FALSE),"") | R23: =IFERROR(VLOOKUP(R$18,'Apoio - Posto'!$A:$J,3,FALSE),"") | ... X23: =IFERROR(VLOOKUP(X$18,'Apoio - Posto'!$A:$J,3,FALSE),"")
B24: G | C24: Data base da categoria | E24: 46174 | F24: 46175 | I24: 45292 | J24: 45292 | K24: =IFERROR(VLOOKUP(K$18,'Apoio - Posto'!$A:$J,5,FALSE),"") | L24: =IFERROR(VLOOKUP(L$18,'Apoio - Posto'!$A:$J,5,FALSE),"") | M24: =IFERROR(VLOOKUP(M$18,'Apoio - Posto'!$A:$J,5,FALSE),"") | N24: =IFERROR(VLOOKUP(N$18,'Apoio - Posto'!$A:$J,5,FALSE),"") | O24: =IFERROR(VLOOKUP(O$18,'Apoio - Posto'!$A:$J,5,FALSE),"") | P24: =IFERROR(VLOOKUP(P$18,'Apoio - Posto'!$A:$J,5,FALSE),"") | Q24: =IFERROR(VLOOKUP(Q$18,'Apoio - Posto'!$A:$J,5,FALSE),"") | R24: =IFERROR(VLOOKUP(R$18,'Apoio - Posto'!$A:$J,5,FALSE),"") | ... X24: =IFERROR(VLOOKUP(X$18,'Apoio - Posto'!$A:$J,5,FALSE),"")
B25: H | C25: Registro no MTE | E25: RS003326/2026 | F25: RS003326/2026 | I25: ACT SENGE-CREA | J25: ACT SENGE-CREA | K25: =IFERROR(VLOOKUP(K$18,'Apoio - Posto'!$A:$J,4,FALSE),"") | L25: =IFERROR(VLOOKUP(L$18,'Apoio - Posto'!$A:$J,4,FALSE),"") | M25: =IFERROR(VLOOKUP(M$18,'Apoio - Posto'!$A:$J,4,FALSE),"") | N25: =IFERROR(VLOOKUP(N$18,'Apoio - Posto'!$A:$J,4,FALSE),"") | O25: =IFERROR(VLOOKUP(O$18,'Apoio - Posto'!$A:$J,4,FALSE),"") | P25: =IFERROR(VLOOKUP(P$18,'Apoio - Posto'!$A:$J,4,FALSE),"") | Q25: =IFERROR(VLOOKUP(Q$18,'Apoio - Posto'!$A:$J,4,FALSE),"") | R25: =IFERROR(VLOOKUP(R$18,'Apoio - Posto'!$A:$J,4,FALSE),"") | ... X25: =IFERROR(VLOOKUP(X$18,'Apoio - Posto'!$A:$J,4,FALSE),"")
B26: I | C26: Regime de trabalho do Contrato (semanal) | E26: 12x36 Diurno | F26: 12x36 Noturno | I26: 44h (5 dia/sem) | J26: 44h (5 dia/sem)
B27: J | C27: Quantidade de postos | E27: 3 | F27: 3
B28: K | C28: Quantidade de profissional por posto | E28: =IFERROR(VLOOKUP(E26,'Apoio - Regime de Trabalho'!$A:$I,2,FALSE),"") -> 2 | F28: =IFERROR(VLOOKUP(F26,'Apoio - Regime de Trabalho'!$A:$I,2,FALSE),"") -> 2 | I28: =IFERROR(VLOOKUP(I26,'Apoio - Regime de Trabalho'!$A:$I,2,FALSE),"") -> 1 | J28: =IFERROR(VLOOKUP(J26,'Apoio - Regime de Trabalho'!$A:$I,2,FALSE),"") -> 1 | K28: =IFERROR(VLOOKUP(K26,'Apoio - Regime de Trabalho'!$A:$I,2,FALSE),"") | L28: =IFERROR(VLOOKUP(L26,'Apoio - Regime de Trabalho'!$A:$I,2,FALSE),"") | M28: =IFERROR(VLOOKUP(M26,'Apoio - Regime de Trabalho'!$A:$I,2,FALSE),"") | N28: =IFERROR(VLOOKUP(N26,'Apoio - Regime de Trabalho'!$A:$I,2,FALSE),"") | O28: =IFERROR(VLOOKUP(O26,'Apoio - Regime de Trabalho'!$A:$I,2,FALSE),"") | P28: =IFERROR(VLOOKUP(P26,'Apoio - Regime de Trabalho'!$A:$I,2,FALSE),"") | ... X28: =IFERROR(VLOOKUP(X26,'Apoio - Regime de Trabalho'!$A:$I,2,FALSE),"")
B29: L | C29: Quantidade total de profissionais | E29: =IFERROR(IF(E18="","",E28*E27),"") -> 6 | F29: =IFERROR(IF(F18="","",F28*F27),"") -> 6 | G29: =IFERROR(IF(G18="","",G28*G27),"") | H29: =IFERROR(IF(H18="","",H28*H27),"") | I29: =IFERROR(IF(I18="","",I28*I27),"") -> 0 | J29: =IFERROR(IF(J18="","",J28*J27),"") -> 0 | K29: =IFERROR(IF(K18="","",K28*K27),"") | L29: =IFERROR(IF(L18="","",L28*L27),"") | ... X29: =IFERROR(IF(X18="","",X28*X27),"")
C31: MÓDULO 1: COMPOSIÇÃO DA REMUNERAÇÃO
B32: A | C32: Salário-Base | E32: =IFERROR(E21*VLOOKUP(E26,'Apoio - Regime de Trabalho'!$A:$I,8,FALSE)/(E22),"") -> 2510.2 | F32: =IFERROR(F21*VLOOKUP(F26,'Apoio - Regime de Trabalho'!$A:$I,8,FALSE)/(F22),"") -> 2510.2 | G32: =IFERROR(G21*VLOOKUP(G26,'Apoio - Regime de Trabalho'!$A:$I,8,FALSE)/(G22),"") | H32: =IFERROR(H21*VLOOKUP(H26,'Apoio - Regime de Trabalho'!$A:$I,8,FALSE)/(H22),"") | I32: =IFERROR(I21*VLOOKUP(I26,'Apoio - Regime de Trabalho'!$A:$I,8,FALSE)/(I22),"") -> 14589 | J32: =IFERROR(J21*VLOOKUP(J26,'Apoio - Regime de Trabalho'!$A:$I,8,FALSE)/(J22),"") -> 14589 | K32: =IFERROR(K21*VLOOKUP(K26,'Apoio - Regime de Trabalho'!$A:$I,8,FALSE)/(K22),"") | L32: =IFERROR(L21*VLOOKUP(L26,'Apoio - Regime de Trabalho'!$A:$I,8,FALSE)/(L22),"") | ... X32: =IFERROR(X21*VLOOKUP(X26,'Apoio - Regime de Trabalho'!$A:$I,8,FALSE)/(X22),"")
B33: B | C33: Adicional de Periculosidade
C34: Incidência | E34: 0.3 | F34: 0.3 | G34: 0.3 | H34: 0.3 | I34: 0.3 | J34: 0.3 | K34: =IFERROR(VLOOKUP(K$18,'Apoio - Posto'!$A:$AA,15,FALSE),"") | L34: =IFERROR(VLOOKUP(L$18,'Apoio - Posto'!$A:$AA,15,FALSE),"") | M34: =IFERROR(VLOOKUP(M$18,'Apoio - Posto'!$A:$AA,15,FALSE),"") | N34: =IFERROR(VLOOKUP(N$18,'Apoio - Posto'!$A:$AA,15,FALSE),"") | O34: =IFERROR(VLOOKUP(O$18,'Apoio - Posto'!$A:$AA,15,FALSE),"") | P34: =IFERROR(VLOOKUP(P$18,'Apoio - Posto'!$A:$AA,15,FALSE),"") | Q34: =IFERROR(VLOOKUP(Q$18,'Apoio - Posto'!$A:$AA,15,FALSE),"") | R34: =IFERROR(VLOOKUP(R$18,'Apoio - Posto'!$A:$AA,15,FALSE),"") | ... X34: =IFERROR(VLOOKUP(X$18,'Apoio - Posto'!$A:$AA,15,FALSE),"")
D35: Valor (R$) | E35: =IFERROR((E32)*E34,"") -> 753.06 | F35: =IFERROR((F32)*F34,"") -> 753.06 | G35: =IFERROR((G32)*G34,"") | H35: =IFERROR((H32)*H34,"") | I35: =IFERROR((I32)*I34,"") -> 4376.7 | J35: =IFERROR((J32)*J34,"") -> 4376.7 | K35: =IFERROR((K32)*K34,"") | L35: =IFERROR((L32)*L34,"") | ... X35: =IFERROR((X32)*X34,"")
B36: C | C36: Adicional de Insalubridade
C37: Base de incindência | E37: =IFERROR(VLOOKUP(E$18,'Apoio - Posto'!$A:$AA,14,FALSE),"") | F37: =IFERROR(VLOOKUP(F$18,'Apoio - Posto'!$A:$AA,14,FALSE),"") | G37: =IFERROR(VLOOKUP(G$18,'Apoio - Posto'!$A:$AA,14,FALSE),"") | H37: =IFERROR(VLOOKUP(H$18,'Apoio - Posto'!$A:$AA,14,FALSE),"") | I37: =IFERROR(VLOOKUP(I$18,'Apoio - Posto'!$A:$AA,14,FALSE),"") | J37: =IFERROR(VLOOKUP(J$18,'Apoio - Posto'!$A:$AA,14,FALSE),"") | K37: =IFERROR(VLOOKUP(K$18,'Apoio - Posto'!$A:$AA,14,FALSE),"") | L37: =IFERROR(VLOOKUP(L$18,'Apoio - Posto'!$A:$AA,14,FALSE),"") | ... X37: =IFERROR(VLOOKUP(X$18,'Apoio - Posto'!$A:$AA,14,FALSE),"")
C38: Percentual de incidência
D39: Valor (R$) | E39: =IF(E21="","",IFERROR(IF(E37="Salário Base",E$32,IF(E37="Salário Mínimo",$D$15,0))*E38,"")) -> 0 | F39: =IF(F21="","",IFERROR(IF(F37="Salário Base",F$32,IF(F37="Salário Mínimo",$D$15,0))*F38,"")) -> 0 | G39: =IF(G21="","",IFERROR(IF(G37="Salário Base",G$32,IF(G37="Salário Mínimo",$D$15,0))*G38,"")) | H39: =IF(H21="","",IFERROR(IF(H37="Salário Base",H$32,IF(H37="Salário Mínimo",$D$15,0))*H38,"")) | I39: =IF(I21="","",IFERROR(IF(I37="Salário Base",I$32,IF(I37="Salário Mínimo",$D$15,0))*I38,"")) -> 0 | J39: =IF(J21="","",IFERROR(IF(J37="Salário Base",J$32,IF(J37="Salário Mínimo",$D$15,0))*J38,"")) -> 0 | K39: =IF(K21="","",IFERROR(IF(K37="Salário Base",K$32,IF(K37="Salário Mínimo",$D$15,0))*K38,"")) | L39: =IF(L21="","",IFERROR(IF(L37="Salário Base",L$32,IF(L37="Salário Mínimo",$D$15,0))*L38,"")) | ... X39: =IF(X21="","",IFERROR(IF(X37="Salário Base",X$32,IF(X37="Salário Mínimo",$D$15,0))*X38,""))
B40: D | C40: Gratificação de Função
C41: Percentual de incidência
D42: Valor (R$) | E42: =IFERROR(E41*E$32,"") -> 0 | F42: =IFERROR(F41*F$32,"") -> 0 | G42: =IFERROR(G41*G$32,"") | H42: =IFERROR(H41*H$32,"") | I42: =IFERROR(I41*I$32,"") -> 0 | J42: =IFERROR(J41*J$32,"") -> 0 | K42: =IFERROR(K41*K$32,"") | L42: =IFERROR(L41*L$32,"") | ... X42: =IFERROR(X41*X$32,"")
B43: E | C43: Adicional Noturno
C44: Número de horas noturnas por dia | E44: =IF(AND(E20=5173,E26="12x36 Noturno"),8,"") | F44: 7 | G44: =IF(AND(G20=5173,G26="12x36 Noturno"),8,"") | H44: 7 | I44: =IF(AND(I20=5173,I26="12x36 Noturno"),8,"") | J44: =IF(AND(J20=5173,J26="12x36 Noturno"),8,"") | K44: =IF(AND(K20=5173,K26="12x36 Noturno"),8,"") | L44: =IF(AND(L20=5173,L26="12x36 Noturno"),8,"") | M44: =IF(AND(M20=5173,M26="12x36 Noturno"),8,"") | N44: =IF(AND(N20=5173,N26="12x36 Noturno"),8,"") | O44: =IF(AND(O20=5173,O26="12x36 Noturno"),8,"") | P44: =IF(AND(P20=5173,P26="12x36 Noturno"),8,"") | ... X44: =IF(AND(X20=5173,X26="12x36 Noturno"),8,"")
...

Sheet Mat Individual e Uniformes
B2: UNIFORMES, MATERIAIS DE USO INDIVIDUAL, CURSOS E TREINAMENTOS | J2: QUANTIDADE CONTRATUAL POR PROFISSIONAL
B3: Nº | C3: Código | D3: Descrição | E3: Unidade | F3: Valor (R$) | G3: Taxa de depreciação anual | H3: Valor pago durante a vigência do contrato | J3: =IF(IFERROR(SUM(Produtividade!$L$196:$L$221)>0,FALSE()),Produtividade!E17,'Mão de Obra'!E17) -> Posto A | K3: =IF(IFERROR(SUM(Produtividade!$L$196:$L$221)>0,FALSE()),Produtividade!F17,'Mão de Obra'!F17) -> Posto B | L3: =IF(IFERROR(SUM(Produtividade!$L$196:$L$221)>0,FALSE()),Produtividade!G17,'Mão de Obra'!G17) -> Posto C | M3: =IF(IFERROR(SUM(Produtividade!$L$196:$L$221)>0,FALSE()),Produtividade!H17,'Mão de Obra'!H17) -> Posto D | N3: =IF(IFERROR(SUM(Produtividade!$L$196:$L$221)>0,FALSE()),Produtividade!I17,'Mão de Obra'!I17) -> Posto D | O3: =IF(IFERROR(SUM(Produtividade!$L$196:$L$221)>0,FALSE()),Produtividade!J17,'Mão de Obra'!J17) -> Posto E | P3: =IF(IFERROR(SUM(Produtividade!$L$196:$L$221)>0,FALSE()),Produtividade!K17,'Mão de Obra'!K17) -> Posto G | Q3: =IF(IFERROR(SUM(Produtividade!$L$196:$L$221)>0,FALSE()),Produtividade!L17,'Mão de Obra'!L17) -> Posto H | ... AC3: =IF(IFERROR(SUM(Produtividade!$L$196:$L$221)>0,FALSE()),Produtividade!X17,'Mão de Obra'!X17) -> Posto T
F4: TOTAL CONTRATUAL: | J4: =IFERROR(ROUND(SUMPRODUCT(J6:J1000,$H$6:$H$1000),2),"") -> 4493.84 | K4: =IFERROR(ROUND(SUMPRODUCT(K6:K1000,$H$6:$H$1000),2),"") -> 4493.84 | L4: =IFERROR(ROUND(SUMPRODUCT(L6:L1000,$H$6:$H$1000),2),"") -> 4493.84 | M4: =IFERROR(ROUND(SUMPRODUCT(M6:M1000,$H$6:$H$1000),2),"") -> 4493.84 | N4: =IFERROR(ROUND(SUMPRODUCT(N6:N1000,$H$6:$H$1000),2),"") -> 0 | O4: =IFERROR(ROUND(SUMPRODUCT(O6:O1000,$H$6:$H$1000),2),"") -> 0 | P4: =IFERROR(ROUND(SUMPRODUCT(P6:P1000,$H$6:$H$1000),2),"") -> 0 | Q4: =IFERROR(ROUND(SUMPRODUCT(Q6:Q1000,$H$6:$H$1000),2),"") -> 0 | ... AC4: =IFERROR(ROUND(SUMPRODUCT(AC6:AC1000,$H$6:$H$1000),2),"") -> 0
B6: 1 | D6: BOTA DE SEGURANÇA EM VAQUETA HIDROFUGADA | E6: =IFERROR(VLOOKUP($D6,'Apoio - Uniforme e EPIs'!$A:$D,2,FALSE),"") -> par | F6: =IFERROR(VLOOKUP($D6,'Apoio - Uniforme e EPIs'!$A:$D,3,FALSE),"") -> 93.89 | G6: =IFERROR(IF(VLOOKUP($D6,'Apoio - Uniforme e EPIs'!$A:$D,4,FALSE)=0,"",VLOOKUP($D6,'Apoio - Uniforme e EPIs'!$A:$D,4,FALSE)),"") | H6: =IFERROR(IF(ISNUMBER(G6),G6*'Mão de Obra'!$D$12/12,1)*F6,"") -> 93.89 | J6: 1 | K6: 1 | L6: 1 | M6: 1
B7: 2 | D7: CALÇADO DE SEGURANÇA com isolamento | E7: par | F7: 91.7 | G7: =IFERROR(IF(VLOOKUP($D7,'Apoio - Uniforme e EPIs'!$A:$D,4,FALSE)=0,"",VLOOKUP($D7,'Apoio - Uniforme e EPIs'!$A:$D,4,FALSE)),"") | H7: =IFERROR(IF(ISNUMBER(G7),G7*'Mão de Obra'!$D$12/12,1)*F7,"") -> 91.7 | J7: 1 | K7: 1 | L7: 1 | M7: 1
B8: 3 | D8: Capacete de segurança com isolamento para eletricidade com jugular classe B | E8: peça | F8: 17.56 | G8: =IFERROR(IF(VLOOKUP($D8,'Apoio - Uniforme e EPIs'!$A:$D,4,FALSE)=0,"",VLOOKUP($D8,'Apoio - Uniforme e EPIs'!$A:$D,4,FALSE)),"") | H8: =IFERROR(IF(ISNUMBER(G8),G8*'Mão de Obra'!$D$12/12,1)*F8,"") -> 17.56 | J8: 1 | K8: 1 | L8: 1 | M8: 1
B9: 4 | D9: CRACHÁ DE IDENTIFICAÇÃO | E9: =IFERROR(VLOOKUP($D9,'Apoio - Uniforme e EPIs'!$A:$C,2,FALSE),"") -> peça | F9: =IFERROR(VLOOKUP($D9,'Apoio - Uniforme e EPIs'!$A:$D,3,FALSE),"") -> 11.61 | G9: =IFERROR(IF(VLOOKUP($D9,'Apoio - Uniforme e EPIs'!$A:$D,4,FALSE)=0,"",VLOOKUP($D9,'Apoio - Uniforme e EPIs'!$A:$D,4,FALSE)),"") | H9: =IFERROR(IF(ISNUMBER(G9),G9*'Mão de Obra'!$D$12/12,1)*F9,"") -> 11.61 | J9: 1 | K9: 1 | L9: 1 | M9: 1
B10: 5 | D10: LUVA DE RASPA DE COURO/VAQUETA | E10: =IFERROR(VLOOKUP($D10,'Apoio - Uniforme e EPIs'!$A:$C,2,FALSE),"") -> par | F10: =IFERROR(VLOOKUP($D10,'Apoio - Uniforme e EPIs'!$A:$D,3,FALSE),"") -> 15.21 | G10: =IFERROR(IF(VLOOKUP($D10,'Apoio - Uniforme e EPIs'!$A:$D,4,FALSE)=0,"",VLOOKUP($D10,'Apoio - Uniforme e EPIs'!$A:$D,4,FALSE)),"") | H10: =IFERROR(IF(ISNUMBER(G10),G10*'Mão de Obra'!$D$12/12,1)*F10,"") -> 15.21 | J10: 1 | K10: 1 | L10: 1 | M10: 1
B11: 6 | D11: LUVA DE RASPA DE COURO/VAQUETA | E11: =IFERROR(VLOOKUP($D11,'Apoio - Uniforme e EPIs'!$A:$C,2,FALSE),"") -> par | F11: =IFERROR(VLOOKUP($D11,'Apoio - Uniforme e EPIs'!$A:$D,3,FALSE),"") -> 15.21 | G11: =IFERROR(IF(VLOOKUP($D11,'Apoio - Uniforme e EPIs'!$A:$D,4,FALSE)=0,"",VLOOKUP($D11,'Apoio - Uniforme e EPIs'!$A:$D,4,FALSE)),"") | H11: =IFERROR(IF(ISNUMBER(G11),G11*'Mão de Obra'!$D$12/12,1)*F11,"") -> 15.21 | J11: 1 | K11: 1 | L11: 1 | M11: 1
B12: 7 | D12: Luva isolante clase 00 | E12: par | F12: 277.68 | G12: =IFERROR(IF(VLOOKUP($D12,'Apoio - Uniforme e EPIs'!$A:$D,4,FALSE)=0,"",VLOOKUP($D12,'Apoio - Uniforme e EPIs'!$A:$D,4,FALSE)),"") | H12: =IFERROR(IF(ISNUMBER(G12),G12*'Mão de Obra'!$D$12/12,1)*F12,"") -> 277.68 | J12: 1 | K12: 1 | L12: 1 | M12: 1
B13: 8 | D13: Luva isolante classe II | E13: par | F13: 497.13 | G13: =IFERROR(IF(VLOOKUP($D13,'Apoio - Uniforme e EPIs'!$A:$D,4,FALSE)=0,"",VLOOKUP($D13,'Apoio - Uniforme e EPIs'!$A:$D,4,FALSE)),"") | H13: =IFERROR(IF(ISNUMBER(G13),G13*'Mão de Obra'!$D$12/12,1)*F13,"") -> 497.13 | J13: 1 | K13: 1 | L13: 1 | M13: 1
B14: 9 | D14: Protetor Auricular | E14: par | F14: 35.13 | G14: =IFERROR(IF(VLOOKUP($D14,'Apoio - Uniforme e EPIs'!$A:$D,4,FALSE)=0,"",VLOOKUP($D14,'Apoio - Uniforme e EPIs'!$A:$D,4,FALSE)),"") | H14: =IFERROR(IF(ISNUMBER(G14),G14*'Mão de Obra'!$D$12/12,1)*F14,"") -> 35.13 | J14: 1 | K14: 1 | L14: 1 | M14: 1
B15: 10 | D15: ÓCULOS DE SEGURANÇA | E15: =IFERROR(VLOOKUP($D15,'Apoio - Uniforme e EPIs'!$A:$C,2,FALSE),"") -> peça | F15: =IFERROR(VLOOKUP($D15,'Apoio - Uniforme e EPIs'!$A:$D,3,FALSE),"") -> 3.22 | G15: =IFERROR(IF(VLOOKUP($D15,'Apoio - Uniforme e EPIs'!$A:$D,4,FALSE)=0,"",VLOOKUP($D15,'Apoio - Uniforme e EPIs'!$A:$D,4,FALSE)),"") | H15: =IFERROR(IF(ISNUMBER(G15),G15*'Mão de Obra'!$D$12/12,1)*F15,"") -> 3.22 | J15: 1 | K15: 1 | L15: 1 | M15: 1
B16: 11 | D16: CAMISETA MANGA CURTA EM ALGODÃO | E16: =IFERROR(VLOOKUP($D16,'Apoio - Uniforme e EPIs'!$A:$C,2,FALSE),"") -> peça | F16: =IFERROR(VLOOKUP($D16,'Apoio - Uniforme e EPIs'!$A:$D,3,FALSE),"") -> 23.03 | G16: =IFERROR(IF(VLOOKUP($D16,'Apoio - Uniforme e EPIs'!$A:$D,4,FALSE)=0,"",VLOOKUP($D16,'Apoio - Uniforme e EPIs'!$A:$D,4,FALSE)),"") | H16: =IFERROR(IF(ISNUMBER(G16),G16*'Mão de Obra'!$D$12/12,1)*F16,"") -> 23.03 | J16: 2 | K16: 2 | L16: 2 | M16: 2
B17: 12 | D17: CAMISETA MANGA LONGA EM ALGODÃO | E17: =IFERROR(VLOOKUP($D17,'Apoio - Uniforme e EPIs'!$A:$C,2,FALSE),"") -> peça | F17: =IFERROR(VLOOKUP($D17,'Apoio - Uniforme e EPIs'!$A:$D,3,FALSE),"") -> 30.53 | G17: =IFERROR(IF(VLOOKUP($D17,'Apoio - Uniforme e EPIs'!$A:$D,4,FALSE)=0,"",VLOOKUP($D17,'Apoio - Uniforme e EPIs'!$A:$D,4,FALSE)),"") | H17: =IFERROR(IF(ISNUMBER(G17),G17*'Mão de Obra'!$D$12/12,1)*F17,"") -> 30.53 | J17: 2 | K17: 2 | L17: 2 | M17: 2
B18: 13 | D18: Jaqueta eletricista inverno - classe II | E18: peça | F18: 404.52 | G18: =IFERROR(IF(VLOOKUP($D18,'Apoio - Uniforme e EPIs'!$A:$D,4,FALSE)=0,"",VLOOKUP($D18,'Apoio - Uniforme e EPIs'!$A:$D,4,FALSE)),"") | H18: =IFERROR(IF(ISNUMBER(G18),G18*'Mão de Obra'!$D$12/12,1)*F18,"") -> 404.52 | J18: 1 | K18: 1 | L18: 1 | M18: 1
B19: 14 | D19: Vestimenta para eletricista clase de risco II | E19: peça | F19: 302.09 | G19: =IFERROR(IF(VLOOKUP($D19,'Apoio - Uniforme e EPIs'!$A:$D,4,FALSE)=0,"",VLOOKUP($D19,'Apoio - Uniforme e EPIs'!$A:$D,4,FALSE)),"") | H19: =IFERROR(IF(ISNUMBER(G19),G19*'Mão de Obra'!$D$12/12,1)*F19,"") -> 302.09 | J19: 2 | K19: 2 | L19: 2 | M19: 2
B20: 15 | D20: Alicate de bico reto 8 | E20: peça | F20: 43.57 | G20: =IFERROR(IF(VLOOKUP($D20,'Apoio - Uniforme e EPIs'!$A:$D,4,FALSE)=0,"",VLOOKUP($D20,'Apoio - Uniforme e EPIs'!$A:$D,4,FALSE)),"") | H20: =IFERROR(IF(ISNUMBER(G20),G20*'Mão de Obra'!$D$12/12,1)*F20,"") -> 43.57 | J20: 1 | K20: 1 | L20: 1 | M20: 1
B21: 16 | D21: Alicate de Corte | E21: peça | F21: 33.17 | G21: =IFERROR(IF(VLOOKUP($D21,'Apoio - Uniforme e EPIs'!$A:$D,4,FALSE)=0,"",VLOOKUP($D21,'Apoio - Uniforme e EPIs'!$A:$D,4,FALSE)),"") | H21: =IFERROR(IF(ISNUMBER(G21),G21*'Mão de Obra'!$D$12/12,1)*F21,"") -> 33.17 | J21: 1 | K21: 1 | L21: 1 | M21: 1
B22: 17 | D22: Alicate Universal nº 08 Isolado | E22: peça | F22: 38.54 | G22: =IFERROR(IF(VLOOKUP($D22,'Apoio - Uniforme e EPIs'!$A:$D,4,FALSE)=0,"",VLOOKUP($D22,'Apoio - Uniforme e EPIs'!$A:$D,4,FALSE)),"") | H22: =IFERROR(IF(ISNUMBER(G22),G22*'Mão de Obra'!$D$12/12,1)*F22,"") -> 38.54 | J22: 1 | K22: 1 | L22: 1 | M22: 1
B23: 18 | D23: Alicate prensa terminal | E23: peça | F23: 139.42 | G23: =IFERROR(IF(VLOOKUP($D23,'Apoio - Uniforme e EPIs'!$A:$D,4,FALSE)=0,"",VLOOKUP($D23,'Apoio - Uniforme e EPIs'!$A:$D,4,FALSE)),"") | H23: =IFERROR(IF(ISNUMBER(G23),G23*'Mão de Obra'!$D$12/12,1)*F23,"") -> 139.42 | J23: 1 | K23: 1 | L23: 1 | M23: 1
B24: 19 | D24: Amperímetro–Alicate digital-industrial categoria segurança CAT 3-600V-1000 corrente AC e DC 1000 Amperes | E24: peça | F24: 377.88 | G24: =IFERROR(IF(VLOOKUP($D24,'Apoio - Uniforme e EPIs'!$A:$D,4,FALSE)=0,"",VLOOKUP($D24,'Apoio - Uniforme e EPIs'!$A:$D,4,FALSE)),"") | H24: =IFERROR(IF(ISNUMBER(G24),G24*'Mão de Obra'!$D$12/12,1)*F24,"") -> 377.88 | J24: 1 | K24: 1 | L24: 1 | M24: 1
B25: 20 | D25: Caixa metálica para ferramentas, sanfonada, com cadeado | E25: peça | F25: 134.48 | G25: =IFERROR(IF(VLOOKUP($D25,'Apoio - Uniforme e EPIs'!$A:$D,4,FALSE)=0,"",VLOOKUP($D25,'Apoio - Uniforme e EPIs'!$A:$D,4,FALSE)),"") | H25: =IFERROR(IF(ISNUMBER(G25),G25*'Mão de Obra'!$D$12/12,1)*F25,"") -> 134.48 | J25: 1 | K25: 1 | L25: 1 | M25: 1
B26: 21 | D26: Cartucheira | E26: peça | F26: 95.96 | G26: =IFERROR(IF(VLOOKUP($D26,'Apoio - Uniforme e EPIs'!$A:$D,4,FALSE)=0,"",VLOOKUP($D26,'Apoio - Uniforme e EPIs'!$A:$D,4,FALSE)),"") | H26: =IFERROR(IF(ISNUMBER(G26),G26*'Mão de Obra'!$D$12/12,1)*F26,"") -> 95.96 | J26: 1 | K26: 1 | L26: 1 | M26: 1
B27: 22 | D27: Chave Inglesa 10’ | E27: peça | F27: 28.09 | G27: =IFERROR(IF(VLOOKUP($D27,'Apoio - Uniforme e EPIs'!$A:$D,4,FALSE)=0,"",VLOOKUP($D27,'Apoio - Uniforme e EPIs'!$A:$D,4,FALSE)),"") | H27: =IFERROR(IF(ISNUMBER(G27),G27*'Mão de Obra'!$D$12/12,1)*F27,"") -> 28.09 | J27: 1 | K27: 1 | L27: 1 | M27: 1
B28: 23 | D28: Chave Teste | E28: peça | F28: 6.36 | G28: =IFERROR(IF(VLOOKUP($D28,'Apoio - Uniforme e EPIs'!$A:$D,4,FALSE)=0,"",VLOOKUP($D28,'Apoio - Uniforme e EPIs'!$A:$D,4,FALSE)),"") | H28: =IFERROR(IF(ISNUMBER(G28),G28*'Mão de Obra'!$D$12/12,1)*F28,"") -> 6.36 | J28: 1 | K28: 1 | L28: 1 | M28: 1
B29: 24 | D29: Conjunto de chaves de fenda 6 peças | E29: conjunto | F29: 36.83 | G29: =IFERROR(IF(VLOOKUP($D29,'Apoio - Uniforme e EPIs'!$A:$D,4,FALSE)=0,"",VLOOKUP($D29,'Apoio - Uniforme e EPIs'!$A:$D,4,FALSE)),"") | H29: =IFERROR(IF(ISNUMBER(G29),G29*'Mão de Obra'!$D$12/12,1)*F29,"") -> 36.83 | J29: 1 | K29: 1 | L29: 1 | M29: 1
... B33: 28 | D33: Jogo de chave combinada 6 X 24mm | E33: jogo | F33: 710.27 | G33: =IFERROR(IF(VLOOKUP($D33,'Apoio - Uniforme e EPIs'!$A:$D,4,FALSE)=0,"",VLOOKUP($D33,'Apoio - Uniforme e EPIs'!$A:$D,4,FALSE)),"") | H33: =IFERROR(IF(ISNUMBER(G33),G33*'Mão de Obra'!$D$12/12,1)*F33,"") -> 710.27 | J33: 1 | K33: 1 | L33: 1 | M33: 1
B34: 29 | D34: Lanterna recarregável | E34: peça | F34: =IFERROR(VLOOKUP($D34,'Apoio - Uniforme e EPIs'!$A:$D,3,FALSE),"") | G34: =IFERROR(IF(VLOOKUP($D34,'Apoio - Uniforme e EPIs'!$A:$D,4,FALSE)=0,"",VLOOKUP($D34,'Apoio - Uniforme e EPIs'!$A:$D,4,FALSE)),"") | H34: =IFERROR(IF(ISNUMBER(G34),G34*'Mão de Obra'!$D$12/12,1)*F34,"") | J34: 1 | K34: 1 | L34: 1 | M34: 1
B35: 29 | D35: Trena 5 m | E35: peça | F35: 12.61 | G35: =IFERROR(IF(VLOOKUP($D35,'Apoio - Uniforme e EPIs'!$A:$D,4,FALSE)=0,"",VLOOKUP($D35,'Apoio - Uniforme e EPIs'!$A:$D,4,FALSE)),"") | H35: =IFERROR(IF(ISNUMBER(G35),G35*'Mão de Obra'!$D$12/12,1)*F35,"") -> 12.61 | J35: 1 | K35: 1 | L35: 1 | M35: 1
B36: 30 | D36: Alicate descascador de fio auto ajustável de 8" | E36: peça | F36: 70.91 | G36: =IFERROR(IF(VLOOKUP($D36,'Apoio - Uniforme e EPIs'!$A:$D,4,FALSE)=0,"",VLOOKUP($D36,'Apoio - Uniforme e EPIs'!$A:$D,4,FALSE)),"") | H36: =IFERROR(IF(ISNUMBER(G36),G36*'Mão de Obra'!$D$12/12,1)*F36,"") -> 70.91 | J36: 1 | K36: 1 | L36: 1 | M36: 1
B37: 31 | D37: Alicate catraca crimpar terminal pré-isolado de 0,25 a 6mm²- Marca Ghétrica ou similar. | E37: peça | F37: 99.88 | G37: =IFERROR(IF(VLOOKUP($D37,'Apoio - Uniforme e EPIs'!$A:$D,4,FALSE)=0,"",VLOOKUP($D37,'Apoio - Uniforme e EPIs'!$A:$D,4,FALSE)),"") | H37: =IFERROR(IF(ISNUMBER(G37),G37*'Mão de Obra'!$D$12/12,1)*F37,"") -> 99.88 | J37: 1 | K37: 1 | L37: 1 | M37: 1
B38: 32 | D38: Cortador de tubo de 3 a 32 mm-para serviços pesado | E38: peça | F38: 117.55 | G38: =IFERROR(IF(VLOOKUP($D38,'Apoio - Uniforme e EPIs'!$A:$D,4,FALSE)=0,"",VLOOKUP($D38,'Apoio - Uniforme e EPIs'!$A:$D,4,FALSE)),"") | H38: =IFERROR(IF(ISNUMBER(G38),G38*'Mão de Obra'!$D$12/12,1)*F38,"") -> 117.55 | J38: 1 | K38: 1 | L38: 1 | M38: 1
B39: 33 | D39: Jogo de chave Allen Hexagonal- aço cromado. | E39: jogo | F39: 45.25 | G39: =IFERROR(IF(VLOOKUP($D39,'Apoio - Uniforme e EPIs'!$A:$D,4,FALSE)=0,"",VLOOKUP($D39,'Apoio - Uniforme e EPIs'!$A:$D,4,FALSE)),"") | H39: =IFERROR(IF(ISNUMBER(G39),G39*'Mão de Obra'!$D$12/12,1)*F39,"") -> 45.25 | J39: 1 | K39: 1 | L39: 1 | M39: 1
B40: 34 | D40: Jogo de chave torque tipo L longa de aço vanádio. | E40: jogo | F40: 84.86 | G40: =IFERROR(IF(VLOOKUP($D40,'Apoio - Uniforme e EPIs'!$A:$D,4,FALSE)=0,"",VLOOKUP($D40,'Apoio - Uniforme e EPIs'!$A:$D,4,FALSE)),"") | H40: =IFERROR(IF(ISNUMBER(G40),G40*'Mão de Obra'!$D$12/12,1)*F40,"") -> 84.86 | J40: 1 | K40: 1 | L40: 1 | M40: 1
B41: 35 | D41: Serra para PVC e Metal | E41: peça | F41: 64.91 | G41: =IFERROR(IF(VLOOKUP($D41,'Apoio - Uniforme e EPIs'!$A:$D,4,FALSE)=0,"",VLOOKUP($D41,'Apoio - Uniforme e EPIs'!$A:$D,4,FALSE)),"") | H41: =IFERROR(IF(ISNUMBER(G41),G41*'Mão de Obra'!$D$12/12,1)*F41,"") -> 64.91 | J41: 1 | K41: 1 | L41: 1 | M41: 1
B42: 36 | D42: Bota Impermeável em PVC | E42: Par | F42: 50.68 | G42: =IFERROR(IF(VLOOKUP($D42,'Apoio - Uniforme e EPIs'!$A:$D,4,FALSE)=0,"",VLOOKUP($D42,'Apoio - Uniforme e EPIs'!$A:$D,4,FALSE)),"") | H42: =IFERROR(IF(ISNUMBER(G42),G42*'Mão de Obra'!$D$12/12,1)*F42,"") -> 50.68 | J42: 2 | K42: 2 | L42: 2 | M42: 2

Sheet Apoio - Uniforme e EPIs
A1: Especificação do Objeto | B1: Unidade | C1: Valor Unit. (R$) | D1: Taxa de depreciação anual
G2: Preços oriundos da planilha 40466139 - Processo 24.0.000078625-6
A3: APITO COM CORDÃO | B3: peça | C3: 9.58 | G3: Data base para atualização: 08/07/2026
A4: AVENTAL DE NAPA | B4: peça | C4: 21.56
A5: AVENTAL EM TERGAL | B5: peça | C5: 27.44
A6: AVENTAL IMPERMEÁVEL EM PVC | B6: peça | C6: 11.41
A7: BLAZER EM MICROFIBRA | B7: peça | C7: 318.65
A8: BLUSA/SUETER DECOTE V | B8: peça | C8: 168.23
A9: BLUSÃO EM MOLETOM | B9: peça | C9: 61.32
A10: BOTA DE SEGURANÇA EM PVC, CANO ¾ , SOLADO ANTIDERRAPANTE | B10: par | C10: 50.68
A11: BOTA DE SEGURANÇA EM VAQUETA HIDROFUGADA | B11: par | C11: 93.89
A12: BOTA TIPO COTURNO | B12: par | C12: 253.79
A13: CALÇADO DE SEGURANÇA HIDROFUGADO | B13: par | C13: 69.24
A14: CALÇADO SOCIAL | B14: peça | C14: 109.78
A15: CALÇA OPERACIONAL EM BRIM | B15: peça | C15: 183.64
... A44: TOUCA EM TELA DE FILÓ | B44: peça | C44: 13.48

Sheet Mat Coletivo e Equipamentos
B2: CUSTOS DIRETOS COM MATERIAIS E EQUIPAMENTOS DE USO COLETIVO
B3: Nº | C3: Código | D3: Descrição | E3: Unidade | F3: Quantidade contratual | G3: Valor (R$) | H3: Taxa de depreciação anual | I3: Custo direto mensal | J3: Custo totais mensais
I4: =SUM(I5:I251) -> 2402.82 | J4: =SUM(J5:J251) -> 2658.7
B6: 1 | D6: Conjunto de chave catraca 6 a 28 mm. | E6: conjunto | F6: 4 | G6: 632.09 | H6: 0.2 | I6: =IFERROR(ROUND((IF(ISNUMBER(H6),H6*'Mão de Obra'!$D$12/12,1)*G6*F6)/'Mão de Obra'!$D$12,2),"") -> 42.14 | J6: =IFERROR(ROUND(I6*(1+ SUM( IFERROR(SUMPRODUCT('Mão de Obra'!$E$169:$II$169,'Mão de Obra'!$E$29:$II$29),0), IFERROR(SUMPRODUCT(Produtividade!$E$171:$II$171,Produtividade!$E$29:$II$29),0), IFERROR(SUMPRODUCT(Veículos!$E$81:$II$81,Veículos!$E$4:$II$4),0) ) / Proposta!$J$68),2),"") -> 46.63
B7: 2 | D7: Escada de abrir em fibra de vidro - 6 degraus. | E7: Peça | F7: 4 | G7: 746.84 | H7: 0.2 | I7: =IFERROR(ROUND((IF(ISNUMBER(H7),H7*'Mão de Obra'!$D$12/12,1)*G7*F7)/'Mão de Obra'!$D$12,2),"") -> 49.79 | J7: =IFERROR(ROUND(I7*(1+ SUM( IFERROR(SUMPRODUCT('Mão de Obra'!$E$169:$II$169,'Mão de Obra'!$E$29:$II$29),0), IFERROR(SUMPRODUCT(Produtividade!$E$171:$II$171,Produtividade!$E$29:$II$29),0), IFERROR(SUMPRODUCT(Veículos!$E$81:$II$81,Veículos!$E$4:$II$4),0) ) / Proposta!$J$68),2),"") -> 55.09
B8: 3 | D8: Relógio Ponto. | E8: Peça | F8: 4 | G8: 2063.48 | H8: 0.2 | I8: =IFERROR(ROUND((IF(ISNUMBER(H8),H8*'Mão de Obra'!$D$12/12,1)*G8*F8)/'Mão de Obra'!$D$12,2),"") -> 137.57 | J8: =IFERROR(ROUND(I8*(1+ SUM( IFERROR(SUMPRODUCT('Mão de Obra'!$E$169:$II$169,'Mão de Obra'!$E$29:$II$29),0), IFERROR(SUMPRODUCT(Produtividade!$E$171:$II$171,Produtividade!$E$29:$II$29),0), IFERROR(SUMPRODUCT(Veículos!$E$81:$II$81,Veículos!$E$4:$II$4),0) ) / Proposta!$J$68),2),"") -> 152.22
B9: 4 | D9: Tapete Isolante | E9: Peça | F9: 4 | G9: 592.66 | H9: 0.2 | I9: =IFERROR(ROUND((IF(ISNUMBER(H9),H9*'Mão de Obra'!$D$12/12,1)*G9*F9)/'Mão de Obra'!$D$12,2),"") -> 39.51 | J9: =IFERROR(ROUND(I9*(1+ SUM( IFERROR(SUMPRODUCT('Mão de Obra'!$E$169:$II$169,'Mão de Obra'!$E$29:$II$29),0), IFERROR(SUMPRODUCT(Produtividade!$E$171:$II$171,Produtividade!$E$29:$II$29),0), IFERROR(SUMPRODUCT(Veículos!$E$81:$II$81,Veículos!$E$4:$II$4),0) ) / Proposta!$J$68),2),"") -> 43.72
B10: 5 | D10: Furadeira de Impacto | E10: Peça | F10: 2 | G10: 454.17 | H10: 0.2 | I10: =IFERROR(ROUND((IF(ISNUMBER(H10),H10*'Mão de Obra'!$D$12/12,1)*G10*F10)/'Mão de Obra'!$D$12,2),"") -> 15.14 | J10: =IFERROR(ROUND(I10*(1+ SUM( IFERROR(SUMPRODUCT('Mão de Obra'!$E$169:$II$169,'Mão de Obra'!$E$29:$II$29),0), IFERROR(SUMPRODUCT(Produtividade!$E$171:$II$171,Produtividade!$E$29:$II$29),0), IFERROR(SUMPRODUCT(Veículos!$E$81:$II$81,Veículos!$E$4:$II$4),0) ) / Proposta!$J$68),2),"") -> 16.75
B11: 6 | D11: Furadeira parafusadeira | E11: Peça | F11: 5 | G11: 386 | H11: 0.2 | I11: =IFERROR(ROUND((IF(ISNUMBER(H11),H11*'Mão de Obra'!$D$12/12,1)*G11*F11)/'Mão de Obra'!$D$12,2),"") -> 32.17 | J11: =IFERROR(ROUND(I11*(1+ SUM( IFERROR(SUMPRODUCT('Mão de Obra'!$E$169:$II$169,'Mão de Obra'!$E$29:$II$29),0), IFERROR(SUMPRODUCT(Produtividade!$E$171:$II$171,Produtividade!$E$29:$II$29),0), IFERROR(SUMPRODUCT(Veículos!$E$81:$II$81,Veículos!$E$4:$II$4),0) ) / Proposta!$J$68),2),"") -> 35.6
B12: 7 | D12: Jogo de serras copo | E12: conjunto | F12: 2 | G12: 497.15 | H12: 0.2 | I12: =IFERROR(ROUND((IF(ISNUMBER(H12),H12*'Mão de Obra'!$D$12/12,1)*G12*F12)/'Mão de Obra'!$D$12,2),"") -> 16.57 | J12: =IFERROR(ROUND(I12*(1+ SUM( IFERROR(SUMPRODUCT('Mão de Obra'!$E$169:$II$169,'Mão de Obra'!$E$29:$II$29),0), IFERROR(SUMPRODUCT(Produtividade!$E$171:$II$171,Produtividade!$E$29:$II$29),0), IFERROR(SUMPRODUCT(Veículos!$E$81:$II$81,Veículos!$E$4:$II$4),0) ) / Proposta!$J$68),2),"") -> 18.33
B13: 8 | D13: Alicate catraca | E13: Peça | F13: 2 | G13: 99.88 | H13: 0.2 | I13: =IFERROR(ROUND((IF(ISNUMBER(H13),H13*'Mão de Obra'!$D$12/12,1)*G13*F13)/'Mão de Obra'!$D$12,2),"") -> 3.33 | J13: =IFERROR(ROUND(I13*(1+ SUM( IFERROR(SUMPRODUCT('Mão de Obra'!$E$169:$II$169,'Mão de Obra'!$E$29:$II$29),0), IFERROR(SUMPRODUCT(Produtividade!$E$171:$II$171,Produtividade!$E$29:$II$29),0), IFERROR(SUMPRODUCT(Veículos!$E$81:$II$81,Veículos!$E$4:$II$4),0) ) / Proposta!$J$68),2),"") -> 3.68
B14: 9 | D14: Identificador/Detector de circuitos elétrico | E14: Peça | F14: 2 | G14: 1199 | H14: 0.2 | I14: =IFERROR(ROUND((IF(ISNUMBER(H14),H14*'Mão de Obra'!$D$12/12,1)*G14*F14)/'Mão de Obra'!$D$12,2),"") -> 39.97 | J14: =IFERROR(ROUND(I14*(1+ SUM( IFERROR(SUMPRODUCT('Mão de Obra'!$E$169:$II$169,'Mão de Obra'!$E$29:$II$29),0), IFERROR(SUMPRODUCT(Produtividade!$E$171:$II$171,Produtividade!$E$29:$II$29),0), IFERROR(SUMPRODUCT(Veículos!$E$81:$II$81,Veículos!$E$4:$II$4),0) ) / Proposta!$J$68),2),"") -> 44.23
F15: 4 | G15: =IFERROR(VLOOKUP($D15,'Apoio - Mat Coletivo e Equip'!$A:$D,3,FALSE),"") | H15: =IFERROR(IF(VLOOKUP($D15,'Apoio - Mat Coletivo e Equip'!$A:$D,4,FALSE)=0,"",VLOOKUP($D15,'Apoio - Mat Coletivo e Equip'!$A:$D,4,FALSE)),"") | I15: =IFERROR(ROUND((IF(ISNUMBER(H15),H15*'Mão de Obra'!$D$12/12,1)*G15*F15)/'Mão de Obra'!$D$12,2),"") | J15: =IFERROR(ROUND(I15*(1+ SUM( IFERROR(SUMPRODUCT('Mão de Obra'!$E$169:$II$169,'Mão de Obra'!$E$29:$II$29),0), IFERROR(SUMPRODUCT(Produtividade!$E$171:$II$171,Produtividade!$E$29:$II$29),0), IFERROR(SUMPRODUCT(Veículos!$E$81:$II$81,Veículos!$E$4:$II$4),0) ) / Proposta!$J$68),2),"")
B16: 10 | D16: Capuz Eletricista risco IV | E16: Peça | F16: 4 | G16: 3401.29 | H16: =IFERROR(IF(VLOOKUP($D16,'Apoio - Mat Coletivo e Equip'!$A:$D,4,FALSE)=0,"",VLOOKUP($D16,'Apoio - Mat Coletivo e Equip'!$A:$D,4,FALSE)),"") | I16: =IFERROR(ROUND((IF(ISNUMBER(H16),H16*'Mão de Obra'!$D$12/12,1)*G16*F16)/'Mão de Obra'!$D$12,2),"") -> 1133.76 | J16: =IFERROR(ROUND(I16*(1+ SUM( IFERROR(SUMPRODUCT('Mão de Obra'!$E$169:$II$169,'Mão de Obra'!$E$29:$II$29),0), IFERROR(SUMPRODUCT(Produtividade!$E$171:$II$171,Produtividade!$E$29:$II$29),0), IFERROR(SUMPRODUCT(Veículos!$E$81:$II$81,Veículos!$E$4:$II$4),0) ) / Proposta!$J$68),2),"") -> 1254.49
B17: 11 | D17: Cinturão de segurança para trabalho em altura | E17: Peça | F17: 4 | G17: 197.16 | H17: =IFERROR(IF(VLOOKUP($D17,'Apoio - Mat Coletivo e Equip'!$A:$D,4,FALSE)=0,"",VLOOKUP($D17,'Apoio - Mat Coletivo e Equip'!$A:$D,4,FALSE)),"") | I17: =IFERROR(ROUND((IF(ISNUMBER(H17),H17*'Mão de Obra'!$D$12/12,1)*G17*F17)/'Mão de Obra'!$D$12,2),"") -> 65.72 | J17: =IFERROR(ROUND(I17*(1+ SUM( IFERROR(SUMPRODUCT('Mão de Obra'!$E$169:$II$169,'Mão de Obra'!$E$29:$II$29),0), IFERROR(SUMPRODUCT(Produtividade!$E$171:$II$171,Produtividade!$E$29:$II$29),0), IFERROR(SUMPRODUCT(Veículos!$E$81:$II$81,Veículos!$E$4:$II$4),0) ) / Proposta!$J$68),2),"") -> 72.72
B18: 12 | D18: LANTERNA RECARREGÁVEL 19 LEDS | E18: Par | F18: 2 | G18: 76.92 | H18: =IFERROR(IF(VLOOKUP($D18,'Apoio - Mat Coletivo e Equip'!$A:$D,4,FALSE)=0,"",VLOOKUP($D18,'Apoio - Mat Coletivo e Equip'!$A:$D,4,FALSE)),"") | I18: =IFERROR(ROUND((IF(ISNUMBER(H18),H18*'Mão de Obra'!$D$12/12,1)*G18*F18)/'Mão de Obra'!$D$12,2),"") -> 12.82 | J18: =IFERROR(ROUND(I18*(1+ SUM( IFERROR(SUMPRODUCT('Mão de Obra'!$E$169:$II$169,'Mão de Obra'!$E$29:$II$29),0), IFERROR(SUMPRODUCT(Produtividade!$E$171:$II$171,Produtividade!$E$29:$II$29),0), IFERROR(SUMPRODUCT(Veículos!$E$81:$II$81,Veículos!$E$4:$II$4),0) ) / Proposta!$J$68),2),"") -> 14.19
B19: 13 | D19: Vestimenta de eletricista conta arco risco IV | E19: Peça | F19: 4 | G19: 2423.68 | H19: =IFERROR(IF(VLOOKUP($D19,'Apoio - Mat Coletivo e Equip'!$A:$D,4,FALSE)=0,"",VLOOKUP($D19,'Apoio - Mat Coletivo e Equip'!$A:$D,4,FALSE)),"") | I19: =IFERROR(ROUND((IF(ISNUMBER(H19),H19*'Mão de Obra'!$D$12/12,1)*G19*F19)/'Mão de Obra'!$D$12,2),"") -> 807.89 | J19: =IFERROR(ROUND(I19*(1+ SUM( IFERROR(SUMPRODUCT('Mão de Obra'!$E$169:$II$169,'Mão de Obra'!$E$29:$II$29),0), IFERROR(SUMPRODUCT(Produtividade!$E$171:$II$171,Produtividade!$E$29:$II$29),0), IFERROR(SUMPRODUCT(Veículos!$E$81:$II$81,Veículos!$E$4:$II$4),0) ) / Proposta!$J$68),2),"") -> 893.92
B20: 14 | D20: Luvas de Pelica para proteção das luvas | E20: Par | F20: 2 | G20: 38.62 | H20: =IFERROR(IF(VLOOKUP($D20,'Apoio - Mat Coletivo e Equip'!$A:$D,4,FALSE)=0,"",VLOOKUP($D20,'Apoio - Mat Coletivo e Equip'!$A:$D,4,FALSE)),"") | I20: =IFERROR(ROUND((IF(ISNUMBER(H20),H20*'Mão de Obra'!$D$12/12,1)*G20*F20)/'Mão de Obra'!$D$12,2),"") -> 6.44 | J20: =IFERROR(ROUND(I20*(1+ SUM( IFERROR(SUMPRODUCT('Mão de Obra'!$E$169:$II$169,'Mão de Obra'!$E$29:$II$29),0), IFERROR(SUMPRODUCT(Produtividade!$E$171:$II$171,Produtividade!$E$29:$II$29),0), IFERROR(SUMPRODUCT(Veículos!$E$81:$II$81,Veículos!$E$4:$II$4),0) ) / Proposta!$J$68),2),"") -> 7.13
B21: 16 | H21: =IFERROR(IF(VLOOKUP($D21,'Apoio - Mat Coletivo e Equip'!$A:$D,4,FALSE)=0,"",VLOOKUP($D21,'Apoio - Mat Coletivo e Equip'!$A:$D,4,FALSE)),"") | I21: =IFERROR(ROUND((IF(ISNUMBER(H21),H21*'Mão de Obra'!$D$12/12,1)*G21*F21)/'Mão de Obra'!$D$12,2),"") -> 0 | J21: =IFERROR(ROUND(I21*(1+ SUM( IFERROR(SUMPRODUCT('Mão de Obra'!$E$169:$II$169,'Mão de Obra'!$E$29:$II$29),0), IFERROR(SUMPRODUCT(Produtividade!$E$171:$II$171,Produtividade!$E$29:$II$29),0), IFERROR(SUMPRODUCT(Veículos!$E$81:$II$81,Veículos!$E$4:$II$4),0) ) / Proposta!$J$68),2),"") -> 0
B22: 17 | E22: =IFERROR(VLOOKUP($D22,'Apoio - Mat Coletivo e Equip'!$A:$D,2,FALSE),"") | G22: =IFERROR(VLOOKUP($D22,'Apoio - Mat Coletivo e Equip'!$A:$D,3,FALSE),"") | H22: =IFERROR(IF(VLOOKUP($D22,'Apoio - Mat Coletivo e Equip'!$A:$D,4,FALSE)=0,"",VLOOKUP($D22,'Apoio - Mat Coletivo e Equip'!$A:$D,4,FALSE)),"") | I22: =IFERROR(ROUND((IF(ISNUMBER(H22),H22*'Mão de Obra'!$D$12/12,1)*G22*F22)/'Mão de Obra'!$D$12,2),"") | J22: =IFERROR(ROUND(I22*(1+ SUM( IFERROR(SUMPRODUCT('Mão de Obra'!$E$169:$II$169,'Mão de Obra'!$E$29:$II$29),0), IFERROR(SUMPRODUCT(Produtividade!$E$171:$II$171,Produtividade!$E$29:$II$29),0), IFERROR(SUMPRODUCT(Veículos!$E$81:$II$81,Veículos!$E$4:$II$4),0) ) / Proposta!$J$68),2),"")
B23: 18 | E23: =IFERROR(VLOOKUP($D23,'Apoio - Mat Coletivo e Equip'!$A:$D,2,FALSE),"") | G23: =IFERROR(VLOOKUP($D23,'Apoio - Mat Coletivo e Equip'!$A:$D,3,FALSE),"") | H23: =IFERROR(IF(VLOOKUP($D23,'Apoio - Mat Coletivo e Equip'!$A:$D,4,FALSE)=0,"",VLOOKUP($D23,'Apoio - Mat Coletivo e Equip'!$A:$D,4,FALSE)),"") | I23: =IFERROR(ROUND((IF(ISNUMBER(H23),H23*'Mão de Obra'!$D$12/12,1)*G23*F23)/'Mão de Obra'!$D$12,2),"") | J23: =IFERROR(ROUND(I23*(1+ SUM( IFERROR(SUMPRODUCT('Mão de Obra'!$E$169:$II$169,'Mão de Obra'!$E$29:$II$29),0), IFERROR(SUMPRODUCT(Produtividade!$E$171:$II$171,Produtividade!$E$29:$II$29),0), IFERROR(SUMPRODUCT(Veículos!$E$81:$II$81,Veículos!$E$4:$II$4),0) ) / Proposta!$J$68),2),"")
B24: 19 | E24: =IFERROR(VLOOKUP($D24,'Apoio - Mat Coletivo e Equip'!$A:$D,2,FALSE),"") | G24: =IFERROR(VLOOKUP($D24,'Apoio - Mat Coletivo e Equip'!$A:$D,3,FALSE),"") | H24: =IFERROR(IF(VLOOKUP($D24,'Apoio - Mat Coletivo e Equip'!$A:$D,4,FALSE)=0,"",VLOOKUP($D24,'Apoio - Mat Coletivo e Equip'!$A:$D,4,FALSE)),"") | I24: =IFERROR(ROUND((IF(ISNUMBER(H24),H24*'Mão de Obra'!$D$12/12,1)*G24*F24)/'Mão de Obra'!$D$12,2),"") | J24: =IFERROR(ROUND(I24*(1+ SUM( IFERROR(SUMPRODUCT('Mão de Obra'!$E$169:$II$169,'Mão de Obra'!$E$29:$II$29),0), IFERROR(SUMPRODUCT(Produtividade!$E$171:$II$171,Produtividade!$E$29:$II$29),0), IFERROR(SUMPRODUCT(Veículos!$E$81:$II$81,Veículos!$E$4:$II$4),0) ) / Proposta!$J$68),2),"")
B25: 20 | E25: =IFERROR(VLOOKUP($D25,'Apoio - Mat Coletivo e Equip'!$A:$D,2,FALSE),"") | G25: =IFERROR(VLOOKUP($D25,'Apoio - Mat Coletivo e Equip'!$A:$D,3,FALSE),"") | H25: =IFERROR(IF(VLOOKUP($D25,'Apoio - Mat Coletivo e Equip'!$A:$D,4,FALSE)=0,"",VLOOKUP($D25,'Apoio - Mat Coletivo e Equip'!$A:$D,4,FALSE)),"") | I25: =IFERROR(ROUND((IF(ISNUMBER(H25),H25*'Mão de Obra'!$D$12/12,1)*G25*F25)/'Mão de Obra'!$D$12,2),"") | J25: =IFERROR(ROUND(I25*(1+ SUM( IFERROR(SUMPRODUCT('Mão de Obra'!$E$169:$II$169,'Mão de Obra'!$E$29:$II$29),0), IFERROR(SUMPRODUCT(Produtividade!$E$171:$II$171,Produtividade!$E$29:$II$29),0), IFERROR(SUMPRODUCT(Veículos!$E$81:$II$81,Veículos!$E$4:$II$4),0) ) / Proposta!$J$68),2),"")
B26: 21 | E26: =IFERROR(VLOOKUP($D26,'Apoio - Mat Coletivo e Equip'!$A:$D,2,FALSE),"") | G26: =IFERROR(VLOOKUP($D26,'Apoio - Mat Coletivo e Equip'!$A:$D,3,FALSE),"") | H26: =IFERROR(IF(VLOOKUP($D26,'Apoio - Mat Coletivo e Equip'!$A:$D,4,FALSE)=0,"",VLOOKUP($D26,'Apoio - Mat Coletivo e Equip'!$A:$D,4,FALSE)),"") | I26: =IFERROR(ROUND((IF(ISNUMBER(H26),H26*'Mão de Obra'!$D$12/12,1)*G26*F26)/'Mão de Obra'!$D$12,2),"") | J26: =IFERROR(ROUND(I26*(1+ SUM( IFERROR(SUMPRODUCT('Mão de Obra'!$E$169:$II$169,'Mão de Obra'!$E$29:$II$29),0), IFERROR(SUMPRODUCT(Produtividade!$E$171:$II$171,Produtividade!$E$29:$II$29),0), IFERROR(SUMPRODUCT(Veículos!$E$81:$II$81,Veículos!$E$4:$II$4),0) ) / Proposta!$J$68),2),"")
B27: 22 | E27: =IFERROR(VLOOKUP($D27,'Apoio - Mat Coletivo e Equip'!$A:$D,2,FALSE),"") | G27: =IFERROR(VLOOKUP($D27,'Apoio - Mat Coletivo e Equip'!$A:$D,3,FALSE),"") | H27: =IFERROR(IF(VLOOKUP($D27,'Apoio - Mat Coletivo e Equip'!$A:$D,4,FALSE)=0,"",VLOOKUP($D27,'Apoio - Mat Coletivo e Equip'!$A:$D,4,FALSE)),"") | I27: =IFERROR(ROUND((IF(ISNUMBER(H27),H27*'Mão de Obra'!$D$12/12,1)*G27*F27)/'Mão de Obra'!$D$12,2),"") | J27: =IFERROR(ROUND(I27*(1+ SUM( IFERROR(SUMPRODUCT('Mão de Obra'!$E$169:$II$169,'Mão de Obra'!$E$29:$II$29),0), IFERROR(SUMPRODUCT(Produtividade!$E$171:$II$171,Produtividade!$E$29:$II$29),0), IFERROR(SUMPRODUCT(Veículos!$E$81:$II$81,Veículos!$E$4:$II$4),0) ) / Proposta!$J$68),2),"")
B28: 23 | E28: =IFERROR(VLOOKUP($D28,'Apoio - Mat Coletivo e Equip'!$A:$D,2,FALSE),"") | G28: =IFERROR(VLOOKUP($D28,'Apoio - Mat Coletivo e Equip'!$A:$D,3,FALSE),"") | H28: =IFERROR(IF(VLOOKUP($D28,'Apoio - Mat Coletivo e Equip'!$A:$D,4,FALSE)=0,"",VLOOKUP($D28,'Apoio - Mat Coletivo e Equip'!$A:$D,4,FALSE)),"") | I28: =IFERROR(ROUND((IF(ISNUMBER(H28),H28*'Mão de Obra'!$D$12/12,1)*G28*F28)/'Mão de Obra'!$D$12,2),"") | J28: =IFERROR(ROUND(I28*(1+ SUM( IFERROR(SUMPRODUCT('Mão de Obra'!$E$169:$II$169,'Mão de Obra'!$E$29:$II$29),0), IFERROR(SUMPRODUCT(Produtividade!$E$171:$II$171,Produtividade!$E$29:$II$29),0), IFERROR(SUMPRODUCT(Veículos!$E$81:$II$81,Veículos!$E$4:$II$4),0) ) / Proposta!$J$68),2),"")
B29: 24 | E29: =IFERROR(VLOOKUP($D29,'Apoio - Mat Coletivo e Equip'!$A:$D,2,FALSE),"") | G29: =IFERROR(VLOOKUP($D29,'Apoio - Mat Coletivo e Equip'!$A:$D,3,FALSE),"") | H29: =IFERROR(IF(VLOOKUP($D29,'Apoio - Mat Coletivo e Equip'!$A:$D,4,FALSE)=0,"",VLOOKUP($D29,'Apoio - Mat Coletivo e Equip'!$A:$D,4,FALSE)),"") | I29: =IFERROR(ROUND((IF(ISNUMBER(H29),H29*'Mão de Obra'!$D$12/12,1)*G29*F29)/'Mão de Obra'!$D$12,2),"") | J29: =IFERROR(ROUND(I29*(1+ SUM( IFERROR(SUMPRODUCT('Mão de Obra'!$E$169:$II$169,'Mão de Obra'!$E$29:$II$29),0), IFERROR(SUMPRODUCT(Produtividade!$E$171:$II$171,Produtividade!$E$29:$II$29),0), IFERROR(SUMPRODUCT(Veículos!$E$81:$II$81,Veículos!$E$4:$II$4),0) ) / Proposta!$J$68),2),"")
B30: 25 | E30: =IFERROR(VLOOKUP($D30,'Apoio - Mat Coletivo e Equip'!$A:$D,2,FALSE),"") | G30: =IFERROR(VLOOKUP($D30,'Apoio - Mat Coletivo e Equip'!$A:$D,3,FALSE),"") | H30: =IFERROR(IF(VLOOKUP($D30,'Apoio - Mat Coletivo e Equip'!$A:$D,4,FALSE)=0,"",VLOOKUP($D30,'Apoio - Mat Coletivo e Equip'!$A:$D,4,FALSE)),"") | I30: =IFERROR(ROUND((IF(ISNUMBER(H30),H30*'Mão de Obra'!$D$12/12,1)*G30*F30)/'Mão de Obra'!$D$12,2),"") | J30: =IFERROR(ROUND(I30*(1+ SUM( IFERROR(SUMPRODUCT('Mão de Obra'!$E$169:$II$169,'Mão de Obra'!$E$29:$II$29),0), IFERROR(SUMPRODUCT(Produtividade!$E$171:$II$171,Produtividade!$E$29:$II$29),0), IFERROR(SUMPRODUCT(Veículos!$E$81:$II$81,Veículos!$E$4:$II$4),0) ) / Proposta!$J$68),2),"")
B31: 26 | E31: =IFERROR(VLOOKUP($D31,'Apoio - Mat Coletivo e Equip'!$A:$D,2,FALSE),"") | G31: =IFERROR(VLOOKUP($D31,'Apoio - Mat Coletivo e Equip'!$A:$D,3,FALSE),"") | H31: =IFERROR(IF(VLOOKUP($D31,'Apoio - Mat Coletivo e Equip'!$A:$D,4,FALSE)=0,"",VLOOKUP($D31,'Apoio - Mat Coletivo e Equip'!$A:$D,4,FALSE)),"") | I31: =IFERROR(ROUND((IF(ISNUMBER(H31),H31*'Mão de Obra'!$D$12/12,1)*G31*F31)/'Mão de Obra'!$D$12,2),"") | J31: =IFERROR(ROUND(I31*(1+ SUM( IFERROR(SUMPRODUCT('Mão de Obra'!$E$169:$II$169,'Mão de Obra'!$E$29:$II$29),0), IFERROR(SUMPRODUCT(Produtividade!$E$171:$II$171,Produtividade!$E$29:$II$29),0), IFERROR(SUMPRODUCT(Veículos!$E$81:$II$81,Veículos!$E$4:$II$4),0) ) / Proposta!$J$68),2),"")
B32: 27 | E32: =IFERROR(VLOOKUP($D32,'Apoio - Mat Coletivo e Equip'!$A:$D,2,FALSE),"") | G32: =IFERROR(VLOOKUP($D32,'Apoio - Mat Coletivo e Equip'!$A:$D,3,FALSE),"") | H32: =IFERROR(IF(VLOOKUP($D32,'Apoio - Mat Coletivo e Equip'!$A:$D,4,FALSE)=0,"",VLOOKUP($D32,'Apoio - Mat Coletivo e Equip'!$A:$D,4,FALSE)),"") | I32: =IFERROR(ROUND((IF(ISNUMBER(H32),H32*'Mão de Obra'!$D$12/12,1)*G32*F32)/'Mão de Obra'!$D$12,2),"") | J32: =IFERROR(ROUND(I32*(1+ SUM( IFERROR(SUMPRODUCT('Mão de Obra'!$E$169:$II$169,'Mão de Obra'!$E$29:$II$29),0), IFERROR(SUMPRODUCT(Produtividade!$E$171:$II$171,Produtividade!$E$29:$II$29),0), IFERROR(SUMPRODUCT(Veículos!$E$81:$II$81,Veículos!$E$4:$II$4),0) ) / Proposta!$J$68),2),"")
B33: 28 | E33: =IFERROR(VLOOKUP($D33,'Apoio - Mat Coletivo e Equip'!$A:$D,2,FALSE),"") | G33: =IFERROR(VLOOKUP($D33,'Apoio - Mat Coletivo e Equip'!$A:$D,3,FALSE),"") | H33: =IFERROR(IF(VLOOKUP($D33,'Apoio - Mat Coletivo e Equip'!$A:$D,4,FALSE)=0,"",VLOOKUP($D33,'Apoio - Mat Coletivo e Equip'!$A:$D,4,FALSE)),"") | I33: =IFERROR(ROUND((IF(ISNUMBER(H33),H33*'Mão de Obra'!$D$12/12,1)*G33*F33)/'Mão de Obra'!$D$12,2),"") | J33: =IFERROR(ROUND(I33*(1+ SUM( IFERROR(SUMPRODUCT('Mão de Obra'!$E$169:$II$169,'Mão de Obra'!$E$29:$II$29),0), IFERROR(SUMPRODUCT(Produtividade!$E$171:$II$171,Produtividade!$E$29:$II$29),0), IFERROR(SUMPRODUCT(Veículos!$E$81:$II$81,Veículos!$E$4:$II$4),0) ) / Proposta!$J$68),2),"")
... B205: 200 | E205: =IFERROR(VLOOKUP($D205,'Apoio - Mat Coletivo e Equip'!$A:$D,2,FALSE),"") | G205: =IFERROR(VLOOKUP($D205,'Apoio - Mat Coletivo e Equip'!$A:$D,3,FALSE),"") | H205: =IFERROR(IF(VLOOKUP($D205,'Apoio - Mat Coletivo e Equip'!$A:$D,4,FALSE)=0,"",VLOOKUP($D205,'Apoio - Mat Coletivo e Equip'!$A:$D,4,FALSE)),"") | I205: =IFERROR(ROUND((IF(ISNUMBER(H205),H205*'Mão de Obra'!$D$12/12,1)*G205*F205)/'Mão de Obra'!$D$12,2),"") | J205: =IFERROR(ROUND(I205*(1+ SUM( IFERROR(SUMPRODUCT('Mão de Obra'!$E$169:$II$169,'Mão de Obra'!$E$29:$II$29),0), IFERROR(SUMPRODUCT(Produtividade!$E$171:$II$171,Produtividade!$E$29:$II$29),0), IFERROR(SUMPRODUCT(Veículos!$E$81:$II$81,Veículos!$E$4:$II$4),0) ) / Proposta!$J$68),2),"")

Sheet Apoio - Mat Coletivo e Equip
A1: Especificação do Objeto | B1: Unidade | C1: Valor Unit. (R$) | D1: Taxa de depreciação anual
G2: Preços oriundos da planilha 36928703 e 36964364 - Processo 24.0.000078625-6
A3: BINÓCULO | B3: Peça | C3: 427.97 | G3: Data base para atualização: 05/12/2025
A4: CASSETETE PR 24 E SUPORTE | B4: Conjunto | C4: 101.78 | D4: 0.1
A5: COLDRE | B5: Peça | C5: 213.08
A6: COLETE BALÍSTICO | B6: peça | C6: 1439.06 | D6: 0.2
A7: JET LOADER | B7: Peça | C7: 57.95
A8: LANTERNA RECARREGÁVEL 19 LEDS | B8: Peça | C8: 76.92
A9: LIVRO DE OCORRÊNCIAS | B9: Peça | C9: 20.24
A10: MUNIÇÃO CALIBRE .38 | B10: Peça | C10: 5.54
A11: PLACA DE SINALIZAÇÃO DE PISO MOLHADO | B11: Peça | C11: 44.77
A12: PLANO DE TELEFONIA (CONTROLE COM LIGAÇÕES ILIMITADAS) | B12: mês | C12: 67.63
A13: TELEFONE CELULAR | B13: Peça | C13: 976.94 | D13: 0.2
A14: REVÓLVER CALIBRE 38 | B14: Peça | C14: 5574.12 | D14: 0.2

Sheet Veículos
C2: DADOS REFERENTES À CONTRATAÇÃO | E2: Veículo A | F2: Veículo B | G2: Veículo C | H2: Veículo D | I2: Veículo E
C3: Tipo de Veículo
C4: Quantidade de veículos
C5: Quilômetros por mês
C7: DETALHAMENTO MÓDULO 1 - MANUTENÇÃO MENSAL DO VEÍCULO
B8: A | C8: Custos com Combustível
C9: Quilometragem/litro
C10: Tipo de Combustível
C11: Preço por litro
D12: Valor (R$) | E12: =IFERROR(E5*E11/E9,"") | F12: =IFERROR(F5*F11/F9,"") | G12: =IFERROR(G5*G11/G9,"") | H12: =IFERROR(H5*H11/H9,"") | I12: =IFERROR(I5*I11/I9,"")
B13: B | C13: Custos com Óleo
C14: Litros por troca
C15: Frequência da troca (em km)
C16: Preço por Litro - Óleo Motor
D17: Valor (R$) | E17: =IFERROR(IF(E3="","",E16*E14*E5/E15),"") | F17: =IFERROR(IF(F3="","",F16*F14*F5/F15),"") | G17: =IFERROR(IF(G3="","",G16*G14*G5/G15),"") | H17: =IFERROR(IF(H3="","",H16*H14*H5/H15),"") | I17: =IFERROR(IF(I3="","",I16*I14*I5/I15),"")
B18: C | C18: Custos com Filtro Óleo
C19: Frequência da troca (em km)
C20: Preço Filtro de óleo
D21: Valor (R$) | E21: =IFERROR(IF(E3="","",E20*E5/E19),"") | F21: =IFERROR(IF(F3="","",F20*F5/F19),"") | G21: =IFERROR(IF(G3="","",G20*G5/G19),"") | H21: =IFERROR(IF(H3="","",H20*H5/H19),"") | I21: =IFERROR(IF(I3="","",I20*I5/I19),"")
B22: D | C22: Custo com Pneu
C23: Custo do pneu
C24: Quantidade
C25: Durabilidade (em Km)
D26: Valor (R$) | E26: =IFERROR((E23*E24*E5/E25),"") | F26: =IFERROR((F23*F24*F5/F25),"") | G26: =IFERROR((G23*G24*G5/G25),"") | H26: =IFERROR((H23*H24*H5/H25),"") | I26: =IFERROR((I23*I24*I5/I25),"")
B27: E | C27: Custo estimado com manutenção
C28: Taxa de manutenção anual
C29: Custo de aquisição do veículo
C30: Outros custos (especificar)
C31: Outros custos (especificar)
C32: Custo de aquisição do veículo (total) | E32: =IF(E3="","",SUM(E29:E31)) | F32: =IF(F3="","",SUM(F29:F31)) | G32: =IF(G3="","",SUM(G29:G31)) | H32: =IF(H3="","",SUM(H29:H31)) | I32: =IF(I3="","",SUM(I29:I31))
D33: Valor (R$) | E33: =IF(E3="","",E28*E32/12) | F33: =IF(F3="","",F28*F32/12) | G33: =IF(G3="","",G28*G32/12) | H33: =IF(H3="","",H28*H32/12) | I33: =IF(I3="","",I28*I32/12)
C34: SUBTOTAL MÓDULO | E34: =IF(E3="","",SUM(E12,E17,E21,E26,E33)) | F34: =IF(F3="","",SUM(F12,F17,F21,F26,F33)) | G34: =IF(G3="","",SUM(G12,G17,G21,G26,G33)) | H34: =IF(H3="","",SUM(H12,H17,H21,H26,H33)) | I34: =IF(I3="","",SUM(I12,I17,I21,I26,I33))
C36: DETALHAMENTO MÓDULO 2 - CUSTOS OBRIGATÓRIOS MENSAIS DO VEÍCULO
B37: A | C37: IPVA (anual) | D37: 0.01 | E37: =IF(E3="","",E29*$D$37/12) | F37: =IF(F3="","",F29*$D$37/12) | G37: =IF(G3="","",G29*$D$37/12) | H37: =IF(H3="","",H29*$D$37/12) | I37: =IF(I3="","",I29*$D$37/12)
B38: B | C38: Seguro contra terceiros (anual) | D38: 0.02 | E38: =IF(E3="","",E32*$D$38/12) | F38: =IF(F3="","",F32*$D$38/12) | G38: =IF(G3="","",G32*$D$38/12) | H38: =IF(H3="","",H32*$D$38/12) | I38: =IF(I3="","",I32*$D$38/12)
B39: C | C39: Licenciamento
C40: Quantidade de licenciamentos no período contratual
C41: Valor do licenciamento | E41: =IF(E3="","",328.51) | F41: =IF(F3="","",328.51) | G41: =IF(G3="","",328.51) | H41: =IF(H3="","",328.51) | I41: =IF(I3="","",328.51)
D42: Valor (R$) | E42: =IF(E$3="","",E40*E41/Proposta!$J$6) | F42: =IF(F$3="","",F40*F41/Proposta!$J$6) | G42: =IF(G$3="","",G40*G41/Proposta!$J$6) | H42: =IF(H$3="","",H40*H41/Proposta!$J$6) | I42: =IF(I$3="","",I40*I41/Proposta!$J$6)
B43: D | C43: Vistoria EPTC
...

Sheet Produtividade
A2: =CONCATENATE("PREFEITURA MUNICIPAL DE PORTO ALEGRE ",D5," FORMAÇÃO DE PREÇOS DE REFERÊNCIA - CESSÃO DE MÃO DE OBRA") -> PREFEITURA MUNICIPAL DE PORTO ALEGRE FORMAÇÃO DE PREÇOS DE REFERÊNCIA - CESSÃO DE MÃO DE OBRA
C4: DADOS REFERENTES À CONTRATAÇÃO
B5: A | C5: Órgão Demandante | H5: 3
B6: B | C6: Pregão Eletrônico nº:
B7: C | C7: Processo SEI nº:
B8: D | C8: Objeto:
B9: E | C9: Responsável
B10: F | C10: Data de conclusão
B11: G | C11: Pagamento do Contrato:
B12: H | C12: Duração do Contrato em meses: | D12: ='Mão de Obra'!D12 -> 12
B13: I | C13: Regime Tributário | D13: Lucro Presumido
B14: J | C14: Receita Bruta
B15: K | C15: Salário Mínimo | D15: ='Mão de Obra'!D15:E15 -> 1621
C17: DADOS REFERENTES AOS POSTOS | E17: Aux. Limpeza | F17: Sup. Limpeza | G17: Alpinista | H17: Sup. Alpinista | I17: =CONCATENATE("Posto ",CHAR(COLUMN()+60)) -> Posto E
B18: A | C18: Função do Posto | E18: Aux. Limpeza, Serv. Gerais | F18: Aux. Limpeza, Serv. Gerais | G18: Limpador Alpinista | H18: Limpador Alpinista
B19: B | C19: Observação
B20: C | C20: Classificação Brasileira de Ocupações (CBO) | E20: =IFERROR(VLOOKUP(E$18,'Apoio - Posto'!$A:$J,2,FALSE),"") -> 5143 | F20: =IFERROR(VLOOKUP(F$18,'Apoio - Posto'!$A:$J,2,FALSE),"") -> 5143 | G20: 5143 | H20: =IFERROR(VLOOKUP(H$18,'Apoio - Posto'!$A:$J,2,FALSE),"") -> 5143 | I20: =IFERROR(VLOOKUP(I$18,'Apoio - Posto'!$A:$J,2,FALSE),"")
B21: D | C21: Valor do Piso normativo da Categoria | E21: =IFERROR(VLOOKUP(E$18,'Apoio - Posto'!$A:$AA,7,FALSE),"") -> 1765.86 | F21: =IFERROR(VLOOKUP(F$18,'Apoio - Posto'!$A:$AA,7,FALSE),"") -> 1765.86 | G21: =IFERROR(VLOOKUP(G$18,'Apoio - Posto'!$A:$AA,7,FALSE),"") -> 2243.81 | H21: =IFERROR(VLOOKUP(H$18,'Apoio - Posto'!$A:$AA,7,FALSE),"") -> 2243.81 | I21: =IFERROR(VLOOKUP(I$18,'Apoio - Posto'!$A:$AA,7,FALSE),"")
B22: E | C22: Regime de trabalho da convenção coletiva (mensal) | E22: =IFERROR(VLOOKUP(E$18,'Apoio - Posto'!$A:$AA,8,FALSE),"") -> 220 | F22: =IFERROR(VLOOKUP(F$18,'Apoio - Posto'!$A:$AA,8,FALSE),"") -> 220 | G22: =IFERROR(VLOOKUP(G$18,'Apoio - Posto'!$A:$AA,8,FALSE),"") -> 220 | H22: =IFERROR(VLOOKUP(H$18,'Apoio - Posto'!$A:$AA,8,FALSE),"") -> 220 | I22: =IFERROR(VLOOKUP(I$18,'Apoio - Posto'!$A:$AA,8,FALSE),"")
B23: F | C23: Sindicato representativo da categoria profissional | E23: =IFERROR(VLOOKUP(E$18,'Apoio - Posto'!$A:$J,3,FALSE),"") -> SINDASSEIO | F23: =IFERROR(VLOOKUP(F$18,'Apoio - Posto'!$A:$J,3,FALSE),"") -> SINDASSEIO | G23: =IFERROR(VLOOKUP(G$18,'Apoio - Posto'!$A:$J,3,FALSE),"") -> SINDASSEIO | H23: =IFERROR(VLOOKUP(H$18,'Apoio - Posto'!$A:$J,3,FALSE),"") -> SINDASSEIO | I23: =IFERROR(VLOOKUP(I$18,'Apoio - Posto'!$A:$J,3,FALSE),"")
B24: G | C24: Data base da categoria | E24: =IFERROR(VLOOKUP(E$18,'Apoio - Posto'!$A:$J,5,FALSE),"") -> 46023 | F24: =IFERROR(VLOOKUP(F$18,'Apoio - Posto'!$A:$J,5,FALSE),"") -> 46023 | G24: =IFERROR(VLOOKUP(G$18,'Apoio - Posto'!$A:$J,5,FALSE),"") -> 46023 | H24: =IFERROR(VLOOKUP(H$18,'Apoio - Posto'!$A:$J,5,FALSE),"") -> 46023 | I24: =IFERROR(VLOOKUP(I$18,'Apoio - Posto'!$A:$J,5,FALSE),"")
B25: H | C25: Registro no MTE | E25: =IFERROR(VLOOKUP(E$18,'Apoio - Posto'!$A:$J,4,FALSE),"") -> RS000041/2026 | F25: =IFERROR(VLOOKUP(F$18,'Apoio - Posto'!$A:$J,4,FALSE),"") -> RS000041/2026 | G25: =IFERROR(VLOOKUP(G$18,'Apoio - Posto'!$A:$J,4,FALSE),"") -> RS000041/2026 | H25: =IFERROR(VLOOKUP(H$18,'Apoio - Posto'!$A:$J,4,FALSE),"") -> RS000041/2026 | I25: =IFERROR(VLOOKUP(I$18,'Apoio - Posto'!$A:$J,4,FALSE),"")
B26: I | C26: Regime de trabalho do Contrato (semanal) | E26: 44h (5 dia/sem) | F26: 44h (5 dia/sem) | G26: 44h (5 dia/sem) | H26: 44h (5 dia/sem)
B27: J | C27: Quantidade de postos | E27: =8*SUM(K193:K212,K214:K216,K220:K221)/VLOOKUP(E26,'Apoio - Regime de Trabalho'!$A:$K,10,FALSE) -> 0 | F27: =1/30*E27 -> 0 | G27: =8*SUM(K212:K213,K218:K219)/VLOOKUP(G26,'Apoio - Regime de Trabalho'!$A:$K,10,FALSE) -> 0 | H27: =1/4*G27 -> 0
B28: K | C28: Quantidade de profissional por posto | E28: =IFERROR(VLOOKUP(E26,'Apoio - Regime de Trabalho'!$A:$I,2,FALSE),"") -> 1 | F28: =IFERROR(VLOOKUP(F26,'Apoio - Regime de Trabalho'!$A:$I,2,FALSE),"") -> 1 | G28: =IFERROR(VLOOKUP(G26,'Apoio - Regime de Trabalho'!$A:$I,2,FALSE),"") -> 1 | H28: =IFERROR(VLOOKUP(H26,'Apoio - Regime de Trabalho'!$A:$I,2,FALSE),"") -> 1 | I28: =IFERROR(VLOOKUP(I26,'Apoio - Regime de Trabalho'!$A:$I,10,FALSE),"")
B29: L | C29: Quantidade total de profissionais | E29: =IFERROR(IF(E18="","",E28*E27),"") -> 0 | F29: =IFERROR(IF(F18="","",F28*F27),"") -> 0 | G29: =IFERROR(IF(G18="","",G28*G27),"") -> 0 | H29: =IFERROR(IF(H18="","",H28*H27),"") -> 0 | I29: =IFERROR(IF(I18="","",I28*I27),"")
C31: MÓDULO 1: COMPOSIÇÃO DA REMUNERAÇÃO
B32: A | C32: Salário-Base | E32: =IFERROR(E21*VLOOKUP(E26,'Apoio - Regime de Trabalho'!$A:$I,8,FALSE)/(E22),"") -> 1765.86 | F32: =IFERROR(F21*VLOOKUP(F26,'Apoio - Regime de Trabalho'!$A:$I,8,FALSE)/(F22),"") -> 1765.86 | G32: =IFERROR(G21*VLOOKUP(G26,'Apoio - Regime de Trabalho'!$A:$I,8,FALSE)/(G22),"") -> 2243.81 | H32: =IFERROR(H21*VLOOKUP(H26,'Apoio - Regime de Trabalho'!$A:$I,8,FALSE)/(H22),"") -> 2243.81 | I32: =IFERROR(ROUND(I21*VLOOKUP(I26,'Apoio - Regime de Trabalho'!$A:$I,8,FALSE)/(I22),2),"")
B33: B | C33: Adicional de Periculosidade
C34: Incidência | E34: =IFERROR(VLOOKUP(E$18,'Apoio - Posto'!$A:$AA,15,FALSE),"") -> 0 | F34: =IFERROR(VLOOKUP(F$18,'Apoio - Posto'!$A:$AA,15,FALSE),"") -> 0 | G34: =IFERROR(VLOOKUP(G$18,'Apoio - Posto'!$A:$AA,15,FALSE),"") -> 0.3 | H34: =IFERROR(VLOOKUP(H$18,'Apoio - Posto'!$A:$AA,15,FALSE),"") -> 0.3 | I34: =IFERROR(VLOOKUP(I$18,'Apoio - Posto'!$A:$AA,15,FALSE),"")
D35: Valor (R$) | E35: =IFERROR((E32)*E34,"") -> 0 | F35: =IFERROR((F32)*F34,"") -> 0 | G35: =IFERROR((G32)*G34,"") -> 673.143 | H35: =IFERROR((H32)*H34,"") -> 673.143 | I35: =IFERROR(ROUND((I32)*I34,2),"")
B36: C | C36: Adicional de Insalubridade
C37: Base de incindência | E37: =IFERROR(VLOOKUP(E$18,'Apoio - Posto'!$A:$AA,14,FALSE),"") -> Salário Base | F37: =IFERROR(VLOOKUP(F$18,'Apoio - Posto'!$A:$AA,14,FALSE),"") -> Salário Base | G37: =IFERROR(VLOOKUP(G$18,'Apoio - Posto'!$A:$AA,14,FALSE),"") -> Salário Base | H37: =IFERROR(VLOOKUP(H$18,'Apoio - Posto'!$A:$AA,14,FALSE),"") -> Salário Base | I37: =IFERROR(VLOOKUP(I$18,'Apoio - Posto'!$A:$AA,14,FALSE),"")
C38: Percentual de incidência | E38: 0.4 | F38: 0.2 | I38: =IFERROR(VLOOKUP(I$18,'Apoio - Posto'!$A:$AA,13,FALSE),"")
D39: Valor (R$) | E39: =IF(E21="","",IFERROR(IF(E37="Salário Base",E$32,IF(E37="Salário Mínimo",$D$15,0))*E38,"")) -> 706.344 | F39: =IF(F21="","",IFERROR(IF(F37="Salário Base",F$32,IF(F37="Salário Mínimo",$D$15,0))*F38,"")) -> 353.172 | G39: =IF(G21="","",IFERROR(IF(G37="Salário Base",G$32,IF(G37="Salário Mínimo",$D$15,0))*G38,"")) -> 0 | H39: =IF(H21="","",IFERROR(IF(H37="Salário Base",H$32,IF(H37="Salário Mínimo",$D$15,0))*H38,"")) -> 0 | I39: =IF(I21="","",IFERROR(ROUND(IF(I37="Salário Base",I$32,IF(I37="Salário Mínimo",$D$15,0))*I38,2),""))
B40: D | C40: Gratificação de Função
C41: Percentual de incidência | F41: 0.2 | H41: 0.2
D42: Valor (R$) | E42: =IFERROR(E41*E$32,"") -> 0 | F42: =IFERROR(F41*F$32,"") -> 353.172 | G42: =IFERROR(G41*G$32,"") -> 0 | H42: =IFERROR(H41*H$32,"") -> 448.762 | I42: =IFERROR(ROUND(I41*I$32,2),"")
B43: E | C43: Adicional Noturno
C44: Número de horas noturnas por dia | E44: =IF(AND(E20=5173,E26="12x36 Noturno"),8,"") | F44: =IF(AND(F20=5173,F26="12x36 Noturno"),8,"") | G44: =IF(AND(G20=5173,G26="12x36 Noturno"),8,"") | H44: =IF(AND(H20=5173,H26="12x36 Noturno"),8,"") | I44: =IF(AND(I20=5173,I26="12x36 Noturno"),8,"")
...

Sheet Proposta
B2: PREFEITURA MUNICIPAL DE PORTO ALEGRE
B3: =IF(IFERROR(SUM(Produtividade!L196:L221)>0,FALSE()),Produtividade!D5, IF(IFERROR(Veículos!$E$3<>"",FALSE()),'Mão de Obra'!D5,'Mão de Obra'!D5)) -> SECRETARIA MUNICIPAL DA SAÚDE (SMS)
B4: PLANILHA DE CUSTOS E FORMAÇÃO DE PREÇOS
B6: Pregão Eletrônico Nº: | C6: =IF(IFERROR(SUM(Produtividade!L196:L221)>0,FALSE()),Produtividade!D6, IF(IFERROR(Veículos!$E$3<>"",FALSE()),'Mão de Obra'!D6, 'Mão de Obra'!D6)) -> 0 | G6: Tempo de Duração do Contrato: | J6: =IF(IFERROR(SUM(Produtividade!L196:L221)>0,FALSE()),Produtividade!D12, IF(IFERROR(Veículos!$E$3<>"",FALSE()),'Mão de Obra'!D12, 'Mão de Obra'!D12)) -> 12
B7: Processo SEI Nº: | C7: =IF(IFERROR(SUM(Produtividade!L196:L221)>0,FALSE()),Produtividade!D7, IF(IFERROR(Veículos!$E$3<>"",FALSE()),'Mão de Obra'!D7, 'Mão de Obra'!D7)) -> 26.0.000158828-0 | G7: Forma de Pagamento do Contrato: | J7: =IF(IFERROR(SUM(Produtividade!L196:L221)>0,FALSE()),Produtividade!D11, IF(IFERROR(Veículos!$E$3<>"",FALSE()),'Mão de Obra'!D11, 'Mão de Obra'!D11)) -> Mês
B8: =CONCATENATE("OBJETO: ", IF(IFERROR(SUM(Produtividade!L196:L221)>0,FALSE()),Produtividade!D8, IF(IFERROR(Veículos!$E$3<>"",FALSE()),'Mão de Obra'!D8, 'Mão de Obra'!D8))) -> OBJETO: Contratação de empresa para execução serviço de Eletricistas e Eletrotécnicos
B9: Nome da Empresa: | G9: Regime Tributário: | J9: =IF(IFERROR(SUM(Produtividade!L196:L221)>0,FALSE()),Produtividade!D13, IF(IFERROR(Veículos!$E$3<>"",FALSE()),'Mão de Obra'!D13, 'Mão de Obra'!D13)) -> Lucro Presumido
B10: CNPJ Matriz: | G10: Receita Bruta Anual: | J10: =IF(IFERROR(SUM(Produtividade!L196:L221)>0,FALSE()),Produtividade!D14, IF(IFERROR(Veículos!$E$3<>"",FALSE()),'Mão de Obra'!D14, 'Mão de Obra'!D14)) -> 0
B11: Endereço da Empresa: | G11: Telefone:
B12: Nome do Responsável: | G12: CPF Responsável:
