Workbook
Name familias_equipamentos: 'Apoio - Notas Explicativas'!#REF!
Name familias_equipamentos: '[1]Base Apoio - etapa 1'!#REF!
Name familias_equipamentos: '[1]Base Apoio - etapa 1'!#REF!
Name familias_equipamentos: '[2]Base Apoio - etapa 1'!#REF!
Name familias_equipamentos: '[1]Base Apoio - etapa 1'!#REF!
Name materiais: [1]Fontes!$F$3:$F$9
Name percentuais: [3]Fontes!$C$1:$C$3
Name percentuais: [2]Fontes!$C$1:$C$3
Name percentuais: [1]Fontes!$C$1:$C$3
Name Sim_não: [3]Fontes!$A$1:$A$2
Name Sim_não: [2]Fontes!$A$1:$A$2
Name Sim_não: [1]Fontes!$A$1:$A$2
Name tributaçao: 'Apoio - Notas Explicativas'!#REF!
Name tributaçao: '[2]Base Apoio - etapa 1'!$F$20:$H$20
Name tributaçao: '[1]Base Apoio - etapa 1'!$F$20:$H$20
Name Tributação: #REF!
Name Tributação: #REF!
Name Tributação: #REF!
Name Tributação: #REF!
Name Tributação: #REF!

Sheet Mão de Obra
A2: =CONCATENATE("PREFEITURA MUNICIPAL DE PORTO ALEGRE ",D5," FORMAÇÃO DE PREÇOS DE REFERÊNCIA - CESSÃO DE MÃO DE OBRA") -> PREFEITURA MUNICIPAL DE PORTO ALEGRE SECRETARIA MUNICIPAL DA SAÚDE (SMS) FORMAÇÃO DE PREÇOS DE REFERÊNCIA - CESSÃO DE MÃO DE OBRA
C4: DADOS REFERENTES À CONTRATAÇÃO
B5: A | C5: Órgão Demandante | D5: SECRETARIA MUNICIPAL DA SAÚDE (SMS) | H5: 3 | I5: 4 | J5: 5 | K5: 6 | L5: 7 | M5: 8 | N5: 9 | O5: 10 | P5: 11 | Q5: 12 | R5: 13 | S5: 14 | T5: 15 | U5: 16 | V5: 17 | W5: 18 | X5: 19
B6: B | C6: Pregão Eletrônico nº:
B7: C | C7: Processo SEI nº: | D7: 25.0.000051443-0
B8: D | C8: Objeto: | D8: Operador de Caldeira
B9: E | C9: Responsável
B10: F | C10: Data de conclusão | D10: 46097
B11: G | C11: Pagamento do Contrato:
B12: H | C12: Duração do Contrato em meses: | D12: 12
B13: I | C13: Regime Tributário | D13: Lucro Presumido
B14: J | C14: Receita Bruta
B15: K | C15: Salário Mínimo | D15: 1621
C17: DADOS REFERENTES AOS POSTOS | E17: Posto A | F17: Posto B | G17: Posto C | H17: Posto D | I17: Posto E | J17: Posto F | K17: Posto G | L17: Posto H | M17: Posto I | N17: Posto J | O17: Posto K | P17: Posto L | Q17: Posto M | R17: Posto N | S17: Posto O | T17: Posto P | U17: Posto Q | V17: Posto R | W17: Posto S | X17: Posto T
B18: A | C18: Função do Posto | E18: Operador de Caldeira | F18: Operador de Caldeira | G18: Engenheiro
B19: B | C19: Observação
B20: C | C20: Classificação Brasileira de Ocupações (CBO) | E20: 8621 | F20: 8621 | G20: =IFERROR(VLOOKUP(G$18,'Apoio - Posto'!$A:$J,2,FALSE),"") | H20: =IFERROR(VLOOKUP(H$18,'Apoio - Posto'!$A:$J,2,FALSE),"") | I20: =IFERROR(VLOOKUP(I$18,'Apoio - Posto'!$A:$J,2,FALSE),"") | J20: =IFERROR(VLOOKUP(J$18,'Apoio - Posto'!$A:$J,2,FALSE),"") | K20: =IFERROR(VLOOKUP(K$18,'Apoio - Posto'!$A:$J,2,FALSE),"") | L20: =IFERROR(VLOOKUP(L$18,'Apoio - Posto'!$A:$J,2,FALSE),"") | M20: =IFERROR(VLOOKUP(M$18,'Apoio - Posto'!$A:$J,2,FALSE),"") | N20: =IFERROR(VLOOKUP(N$18,'Apoio - Posto'!$A:$J,2,FALSE),"") | ... X20: =IFERROR(VLOOKUP(X$18,'Apoio - Posto'!$A:$J,2,FALSE),"")
B21: D | C21: Valor do Piso normativo da Categoria | E21: 2002 | F21: 2002 | G21: 10265 | H21: =IFERROR(VLOOKUP(H$18,'Apoio - Posto'!$A:$AA,7,FALSE),"") | I21: =IFERROR(VLOOKUP(I$18,'Apoio - Posto'!$A:$AA,7,FALSE),"") | J21: =IFERROR(VLOOKUP(J$18,'Apoio - Posto'!$A:$AA,7,FALSE),"") | K21: =IFERROR(VLOOKUP(K$18,'Apoio - Posto'!$A:$AA,7,FALSE),"") | L21: =IFERROR(VLOOKUP(L$18,'Apoio - Posto'!$A:$AA,7,FALSE),"") | M21: =IFERROR(VLOOKUP(M$18,'Apoio - Posto'!$A:$AA,7,FALSE),"") | N21: =IFERROR(VLOOKUP(N$18,'Apoio - Posto'!$A:$AA,7,FALSE),"") | O21: =IFERROR(VLOOKUP(O$18,'Apoio - Posto'!$A:$AA,7,FALSE),"") | ... X21: =IFERROR(VLOOKUP(X$18,'Apoio - Posto'!$A:$AA,7,FALSE),"")
B22: E | C22: Regime de trabalho da convenção coletiva (mensal) | E22: 220 | F22: 220 | G22: 220 | H22: =IFERROR(VLOOKUP(H$18,'Apoio - Posto'!$A:$AA,8,FALSE),"") | I22: =IFERROR(VLOOKUP(I$18,'Apoio - Posto'!$A:$AA,8,FALSE),"") | J22: =IFERROR(VLOOKUP(J$18,'Apoio - Posto'!$A:$AA,8,FALSE),"") | K22: =IFERROR(VLOOKUP(K$18,'Apoio - Posto'!$A:$AA,8,FALSE),"") | L22: =IFERROR(VLOOKUP(L$18,'Apoio - Posto'!$A:$AA,8,FALSE),"") | M22: =IFERROR(VLOOKUP(M$18,'Apoio - Posto'!$A:$AA,8,FALSE),"") | N22: =IFERROR(VLOOKUP(N$18,'Apoio - Posto'!$A:$AA,8,FALSE),"") | O22: =IFERROR(VLOOKUP(O$18,'Apoio - Posto'!$A:$AA,8,FALSE),"") | ... X22: =IFERROR(VLOOKUP(X$18,'Apoio - Posto'!$A:$AA,8,FALSE),"")
B23: F | C23: Sindicato representativo da categoria profissional | E23: STIMEPA | F23: STIMEPA | G23: =IFERROR(VLOOKUP(G$18,'Apoio - Posto'!$A:$J,3,FALSE),"") | H23: =IFERROR(VLOOKUP(H$18,'Apoio - Posto'!$A:$J,3,FALSE),"") | I23: =IFERROR(VLOOKUP(I$18,'Apoio - Posto'!$A:$J,3,FALSE),"") | J23: =IFERROR(VLOOKUP(J$18,'Apoio - Posto'!$A:$J,3,FALSE),"") | K23: =IFERROR(VLOOKUP(K$18,'Apoio - Posto'!$A:$J,3,FALSE),"") | L23: =IFERROR(VLOOKUP(L$18,'Apoio - Posto'!$A:$J,3,FALSE),"") | M23: =IFERROR(VLOOKUP(M$18,'Apoio - Posto'!$A:$J,3,FALSE),"") | N23: =IFERROR(VLOOKUP(N$18,'Apoio - Posto'!$A:$J,3,FALSE),"") | ... X23: =IFERROR(VLOOKUP(X$18,'Apoio - Posto'!$A:$J,3,FALSE),"")
B24: G | C24: Data base da categoria | E24: 45778 | F24: 45778 | G24: =IFERROR(VLOOKUP(G$18,'Apoio - Posto'!$A:$J,5,FALSE),"") | H24: =IFERROR(VLOOKUP(H$18,'Apoio - Posto'!$A:$J,5,FALSE),"") | I24: =IFERROR(VLOOKUP(I$18,'Apoio - Posto'!$A:$J,5,FALSE),"") | J24: =IFERROR(VLOOKUP(J$18,'Apoio - Posto'!$A:$J,5,FALSE),"") | K24: =IFERROR(VLOOKUP(K$18,'Apoio - Posto'!$A:$J,5,FALSE),"") | L24: =IFERROR(VLOOKUP(L$18,'Apoio - Posto'!$A:$J,5,FALSE),"") | M24: =IFERROR(VLOOKUP(M$18,'Apoio - Posto'!$A:$J,5,FALSE),"") | N24: =IFERROR(VLOOKUP(N$18,'Apoio - Posto'!$A:$J,5,FALSE),"") | ... X24: =IFERROR(VLOOKUP(X$18,'Apoio - Posto'!$A:$J,5,FALSE),"")
B25: H | C25: Registro no MTE | E25: RS002943/2025 | F25: RS002943/2025 | G25: =IFERROR(VLOOKUP(G$18,'Apoio - Posto'!$A:$J,4,FALSE),"") | H25: =IFERROR(VLOOKUP(H$18,'Apoio - Posto'!$A:$J,4,FALSE),"") | I25: =IFERROR(VLOOKUP(I$18,'Apoio - Posto'!$A:$J,4,FALSE),"") | J25: =IFERROR(VLOOKUP(J$18,'Apoio - Posto'!$A:$J,4,FALSE),"") | K25: =IFERROR(VLOOKUP(K$18,'Apoio - Posto'!$A:$J,4,FALSE),"") | L25: =IFERROR(VLOOKUP(L$18,'Apoio - Posto'!$A:$J,4,FALSE),"") | M25: =IFERROR(VLOOKUP(M$18,'Apoio - Posto'!$A:$J,4,FALSE),"") | N25: =IFERROR(VLOOKUP(N$18,'Apoio - Posto'!$A:$J,4,FALSE),"") | ... X25: =IFERROR(VLOOKUP(X$18,'Apoio - Posto'!$A:$J,4,FALSE),"")
B26: I | C26: Regime de trabalho do Contrato (semanal) | E26: 12x36 Diurno | F26: 12x36 Noturno | G26: 30h (5 dia/sem)
B27: J | C27: Quantidade de postos | E27: 1 | F27: 1
B28: K | C28: Quantidade de profissional por posto | E28: 2 | F28: 2 | G28: =IFERROR(VLOOKUP(G26,'Apoio - Regime de Trabalho'!$A:$I,2,FALSE),"") -> 1 | H28: =IFERROR(VLOOKUP(H26,'Apoio - Regime de Trabalho'!$A:$I,2,FALSE),"") | I28: =IFERROR(VLOOKUP(I26,'Apoio - Regime de Trabalho'!$A:$I,2,FALSE),"") | J28: =IFERROR(VLOOKUP(J26,'Apoio - Regime de Trabalho'!$A:$I,2,FALSE),"") | K28: =IFERROR(VLOOKUP(K26,'Apoio - Regime de Trabalho'!$A:$I,2,FALSE),"") | L28: =IFERROR(VLOOKUP(L26,'Apoio - Regime de Trabalho'!$A:$I,2,FALSE),"") | M28: =IFERROR(VLOOKUP(M26,'Apoio - Regime de Trabalho'!$A:$I,2,FALSE),"") | N28: =IFERROR(VLOOKUP(N26,'Apoio - Regime de Trabalho'!$A:$I,2,FALSE),"") | ... X28: =IFERROR(VLOOKUP(X26,'Apoio - Regime de Trabalho'!$A:$I,2,FALSE),"")
B29: L | C29: Quantidade total de profissionais | E29: =IFERROR(IF(E18="","",E28*E27),"") -> 2 | F29: 2 | G29: =IFERROR(IF(G18="","",G28*G27),"") -> 0 | H29: =IFERROR(IF(H18="","",H28*H27),"") | I29: =IFERROR(IF(I18="","",I28*I27),"") | J29: =IFERROR(IF(J18="","",J28*J27),"") | K29: =IFERROR(IF(K18="","",K28*K27),"") | L29: =IFERROR(IF(L18="","",L28*L27),"") | M29: =IFERROR(IF(M18="","",M28*M27),"") | N29: =IFERROR(IF(N18="","",N28*N27),"") | ... X29: =IFERROR(IF(X18="","",X28*X27),"")
C31: MÓDULO 1: COMPOSIÇÃO DA REMUNERAÇÃO
B32: A | C32: Salário-Base | E32: =IFERROR(E21*VLOOKUP(E26,'Apoio - Regime de Trabalho'!$A:$I,8,FALSE)/(E22),"") -> 2002 | F32: =IFERROR(F21*VLOOKUP(F26,'Apoio - Regime de Trabalho'!$A:$I,8,FALSE)/(F22),"") -> 2002 | G32: =IFERROR(G21*VLOOKUP(G26,'Apoio - Regime de Trabalho'!$A:$I,8,FALSE)/(G22),"") -> 6998.8636 | H32: =IFERROR(H21*VLOOKUP(H26,'Apoio - Regime de Trabalho'!$A:$I,8,FALSE)/(H22),"") | I32: =IFERROR(I21*VLOOKUP(I26,'Apoio - Regime de Trabalho'!$A:$I,8,FALSE)/(I22),"") | J32: =IFERROR(J21*VLOOKUP(J26,'Apoio - Regime de Trabalho'!$A:$I,8,FALSE)/(J22),"") | K32: =IFERROR(K21*VLOOKUP(K26,'Apoio - Regime de Trabalho'!$A:$I,8,FALSE)/(K22),"") | L32: =IFERROR(L21*VLOOKUP(L26,'Apoio - Regime de Trabalho'!$A:$I,8,FALSE)/(L22),"") | ... X32: =IFERROR(X21*VLOOKUP(X26,'Apoio - Regime de Trabalho'!$A:$I,8,FALSE)/(X22),"")
B33: B | C33: Adicional de Periculosidade
C34: Incidência | E34: 0.3 | F34: 0.3 | G34: =IFERROR(VLOOKUP(G$18,'Apoio - Posto'!$A:$AA,15,FALSE),"") | H34: =IFERROR(VLOOKUP(H$18,'Apoio - Posto'!$A:$AA,15,FALSE),"") | I34: =IFERROR(VLOOKUP(I$18,'Apoio - Posto'!$A:$AA,15,FALSE),"") | J34: =IFERROR(VLOOKUP(J$18,'Apoio - Posto'!$A:$AA,15,FALSE),"") | K34: =IFERROR(VLOOKUP(K$18,'Apoio - Posto'!$A:$AA,15,FALSE),"") | L34: =IFERROR(VLOOKUP(L$18,'Apoio - Posto'!$A:$AA,15,FALSE),"") | M34: =IFERROR(VLOOKUP(M$18,'Apoio - Posto'!$A:$AA,15,FALSE),"") | N34: =IFERROR(VLOOKUP(N$18,'Apoio - Posto'!$A:$AA,15,FALSE),"") | ... X34: =IFERROR(VLOOKUP(X$18,'Apoio - Posto'!$A:$AA,15,FALSE),"")
D35: Valor (R$) | E35: =IFERROR((E32)*E34,"") -> 600.6 | F35: =IFERROR((F32)*F34,"") -> 600.6 | G35: =IFERROR((G32)*G34,"") | H35: =IFERROR((H32)*H34,"") | I35: =IFERROR((I32)*I34,"") | J35: =IFERROR((J32)*J34,"") | K35: =IFERROR((K32)*K34,"") | L35: =IFERROR((L32)*L34,"") | ... X35: =IFERROR((X32)*X34,"")
B36: C | C36: Adicional de Insalubridade
C37: Base de incindência | E37: Não incide | F37: Não incide | G37: =IFERROR(VLOOKUP(G$18,'Apoio - Posto'!$A:$AA,14,FALSE),"") | H37: =IFERROR(VLOOKUP(H$18,'Apoio - Posto'!$A:$AA,14,FALSE),"") | I37: =IFERROR(VLOOKUP(I$18,'Apoio - Posto'!$A:$AA,14,FALSE),"") | J37: =IFERROR(VLOOKUP(J$18,'Apoio - Posto'!$A:$AA,14,FALSE),"") | K37: =IFERROR(VLOOKUP(K$18,'Apoio - Posto'!$A:$AA,14,FALSE),"") | L37: =IFERROR(VLOOKUP(L$18,'Apoio - Posto'!$A:$AA,14,FALSE),"") | M37: =IFERROR(VLOOKUP(M$18,'Apoio - Posto'!$A:$AA,14,FALSE),"") | N37: =IFERROR(VLOOKUP(N$18,'Apoio - Posto'!$A:$AA,14,FALSE),"") | ... X37: =IFERROR(VLOOKUP(X$18,'Apoio - Posto'!$A:$AA,14,FALSE),"")
C38: Percentual de incidência
D39: Valor (R$) | E39: =IF(E21="","",IFERROR(IF(E37="Salário Base",E$32,IF(E37="Salário Mínimo",$D$15,0))*E38,"")) -> 0 | F39: =IF(F21="","",IFERROR(IF(F37="Salário Base",F$32,IF(F37="Salário Mínimo",$D$15,0))*F38,"")) -> 0 | G39: =IF(G21="","",IFERROR(IF(G37="Salário Base",G$32,IF(G37="Salário Mínimo",$D$15,0))*G38,"")) -> 0 | H39: =IF(H21="","",IFERROR(IF(H37="Salário Base",H$32,IF(H37="Salário Mínimo",$D$15,0))*H38,"")) | I39: =IF(I21="","",IFERROR(IF(I37="Salário Base",I$32,IF(I37="Salário Mínimo",$D$15,0))*I38,"")) | J39: =IF(J21="","",IFERROR(IF(J37="Salário Base",J$32,IF(J37="Salário Mínimo",$D$15,0))*J38,"")) | K39: =IF(K21="","",IFERROR(IF(K37="Salário Base",K$32,IF(K37="Salário Mínimo",$D$15,0))*K38,"")) | L39: =IF(L21="","",IFERROR(IF(L37="Salário Base",L$32,IF(L37="Salário Mínimo",$D$15,0))*L38,"")) | ... X39: =IF(X21="","",IFERROR(IF(X37="Salário Base",X$32,IF(X37="Salário Mínimo",$D$15,0))*X38,""))
B40: D | C40: Gratificação de Função
C41: Percentual de incidência
D42: Valor (R$) | E42: =IFERROR(E41*E$32,"") -> 0 | F42: =IFERROR(F41*F$32,"") -> 0 | G42: =IFERROR(G41*G$32,"") -> 0 | H42: =IFERROR(H41*H$32,"") | I42: =IFERROR(I41*I$32,"") | J42: =IFERROR(J41*J$32,"") | K42: =IFERROR(K41*K$32,"") | L42: =IFERROR(L41*L$32,"") | ... X42: =IFERROR(X41*X$32,"")
B43: E | C43: Adicional Noturno
C44: Número de horas noturnas por dia | E44: =IF(AND(E20=5173,E26="12x36 Noturno"),8,"") | F44: 9 | G44: =IF(AND(G20=5173,G26="12x36 Noturno"),8,"") | H44: =IF(AND(H20=5173,H26="12x36 Noturno"),8,"") | I44: =IF(AND(I20=5173,I26="12x36 Noturno"),8,"") | J44: =IF(AND(J20=5173,J26="12x36 Noturno"),8,"") | K44: =IF(AND(K20=5173,K26="12x36 Noturno"),8,"") | L44: =IF(AND(L20=5173,L26="12x36 Noturno"),8,"") | M44: =IF(AND(M20=5173,M26="12x36 Noturno"),8,"") | N44: =IF(AND(N20=5173,N26="12x36 Noturno"),8,"") | ... X44: =IF(AND(X20=5173,X26="12x36 Noturno"),8,"")
...

Sheet Mat Individual e Uniformes
B2: UNIFORMES, MATERIAIS DE USO INDIVIDUAL, CURSOS E TREINAMENTOS | J2: QUANTIDADE CONTRATUAL POR PROFISSIONAL
B3: Nº | C3: Código | D3: Descrição | E3: Unidade | F3: Valor (R$) | G3: Taxa de depreciação anual | H3: Valor pago durante a vigência do contrato | J3: =IF(IFERROR(SUM(Produtividade!$L$193:$L$218)>0,FALSE()),Produtividade!E17,'Mão de Obra'!E17) -> Posto A | K3: =IF(IFERROR(SUM(Produtividade!$L$193:$L$218)>0,FALSE()),Produtividade!F17,'Mão de Obra'!F17) -> Posto B | L3: =IF(IFERROR(SUM(Produtividade!$L$193:$L$218)>0,FALSE()),Produtividade!G17,'Mão de Obra'!G17) -> Posto C | M3: =IF(IFERROR(SUM(Produtividade!$L$193:$L$218)>0,FALSE()),Produtividade!H17,'Mão de Obra'!H17) -> Posto D | N3: =IF(IFERROR(SUM(Produtividade!$L$193:$L$218)>0,FALSE()),Produtividade!I17,'Mão de Obra'!I17) -> Posto E | O3: =IF(IFERROR(SUM(Produtividade!$L$193:$L$218)>0,FALSE()),Produtividade!J17,'Mão de Obra'!J17) -> Posto F | P3: =IF(IFERROR(SUM(Produtividade!$L$193:$L$218)>0,FALSE()),Produtividade!K17,'Mão de Obra'!K17) -> Posto G | Q3: =IF(IFERROR(SUM(Produtividade!$L$193:$L$218)>0,FALSE()),Produtividade!L17,'Mão de Obra'!L17) -> Posto H | ... AC3: =IF(IFERROR(SUM(Produtividade!$L$193:$L$218)>0,FALSE()),Produtividade!X17,'Mão de Obra'!X17) -> Posto T
F4: TOTAL CONTRATUAL: | J4: =IFERROR(ROUND(SUMPRODUCT(J6:J1002,$H$6:$H$1002),2),"") -> 1188.04 | K4: =IFERROR(ROUND(SUMPRODUCT(K6:K1002,$H$6:$H$1002),2),"") -> 1188.04 | L4: =IFERROR(ROUND(SUMPRODUCT(L6:L1002,$H$6:$H$1002),2),"") -> 0 | M4: =IFERROR(ROUND(SUMPRODUCT(M6:M1002,$H$6:$H$1002),2),"") -> 0 | N4: =IFERROR(ROUND(SUMPRODUCT(N6:N1002,$H$6:$H$1002),2),"") -> 0 | O4: =IFERROR(ROUND(SUMPRODUCT(O6:O1002,$H$6:$H$1002),2),"") -> 0 | P4: =IFERROR(ROUND(SUMPRODUCT(P6:P1002,$H$6:$H$1002),2),"") -> 0 | Q4: =IFERROR(ROUND(SUMPRODUCT(Q6:Q1002,$H$6:$H$1002),2),"") -> 0 | ... AC4: =IFERROR(ROUND(SUMPRODUCT(AC6:AC1002,$H$6:$H$1002),2),"") -> 0
B6: 1 | D6: Botina de Segurança | E6: Par | F6: 53.24 | H6: =IFERROR(IF(ISNUMBER(G6),G6*'Mão de Obra'!$D$12/12,1)*F6,"") -> 53.24 | J6: 1 | K6: 1
B7: 2 | D7: Calça | E7: Unidade | F7: 69.49 | H7: =IFERROR(IF(ISNUMBER(G7),G7*'Mão de Obra'!$D$12/12,1)*F7,"") -> 69.49 | J7: 2 | K7: 2
B8: 3 | D8: Crachá de Indenficação | E8: Unidade | F8: 3.57 | H8: =IFERROR(IF(ISNUMBER(G8),G8*'Mão de Obra'!$D$12/12,1)*F8,"") -> 3.57 | J8: 1 | K8: 1
B9: 4 | D9: Jaleco | E9: Unidade | F9: 72.05 | H9: =IFERROR(IF(ISNUMBER(G9),G9*'Mão de Obra'!$D$12/12,1)*F9,"") -> 72.05 | J9: 2 | K9: 2
B10: 5 | D10: Luva de vaqueta | E10: Par | F10: 11.55 | H10: 11.55 | J10: 1 | K10: 1
B11: 6 | D11: Luva para alta temp. 250 graus | E11: Par | F11: 15.37 | H11: =IFERROR(IF(ISNUMBER(G11),G11*'Mão de Obra'!$D$12/12,1)*F11,"") -> 15.37 | J11: 1 | K11: 1
B12: 7 | D12: Óculos de Segurança transparente | E12: Unidade | F12: 8.12 | H12: =IFERROR(IF(ISNUMBER(G12),G12*'Mão de Obra'!$D$12/12,1)*F12,"") -> 8.12 | J12: 1 | K12: 1
B13: 8 | D13: Protetor circulaum Auricular 14dB | E13: Unidade | F13: 13.3 | H13: =IFERROR(IF(ISNUMBER(G13),G13*'Mão de Obra'!$D$12/12,1)*F13,"") -> 13.3 | J13: 1 | K13: 1
B14: 9 | D14: Controle de ponto digital | E14: Licença/mês | F14: =6.7 -> 6.7 | H14: =IFERROR(IF(ISNUMBER(G14),G14*'Mão de Obra'!$D$12/12,1)*F14,"") -> 6.7 | J14: 12 | K14: 12
B15: 10 | D15: Luva de latex | E15: par | F15: 4.4 | H15: =IFERROR(IF(ISNUMBER(G15),G15*'Mão de Obra'!$D$12/12,1)*F15,"") -> 4.4 | J15: 2 | K15: 2
B16: 11 | D16: Conjunto de chaves allen | E16: conjunto | F16: 87.78 | H16: =IFERROR(IF(ISNUMBER(G16),G16*'Mão de Obra'!$D$12/12,1)*F16,"") -> 87.78 | J16: 1 | K16: 1
B17: 12 | D17: Alicate de pressão | E17: Unidade | F17: 46.7 | H17: =IFERROR(IF(ISNUMBER(G17),G17*'Mão de Obra'!$D$12/12,1)*F17,"") -> 46.7 | J17: 1 | K17: 1
B18: 13 | D18: Alicate universal | E18: Unidade | F18: 36.28 | H18: =IFERROR(IF(ISNUMBER(G18),G18*'Mão de Obra'!$D$12/12,1)*F18,"") -> 36.28 | J18: 1 | K18: 1
B19: 14 | D19: Alicate de corte | E19: Unidade | F19: 41.26 | H19: 41.26 | J19: 1 | K19: 1
B20: 15 | D20: Conjunto de chaves de fenda e fenda Phillips (12p) | E20: conjunto | F20: 67.47 | H20: =IFERROR(IF(ISNUMBER(G20),G20*'Mão de Obra'!$D$12/12,1)*F20,"") -> 67.47 | J20: 1 | K20: 1
B21: 16 | D21: Conjunto de chaves cachimbo com catraca de 3/8 | E21: conjunto | F21: 67.72 | H21: 67.72 | J21: 1 | K21: 1
B22: 17 | D22: Conjunto de chaves grifo números 12, 14 e 24 | E22: Unidade | F22: 322.23 | H22: =IFERROR(IF(ISNUMBER(G22),G22*'Mão de Obra'!$D$12/12,1)*F22,"") -> 322.23 | J22: 1 | K22: 1
B23: 18 | D23: Chave inglesa número 10 | F23: 41.17 | H23: =IFERROR(IF(ISNUMBER(G23),G23*'Mão de Obra'!$D$12/12,1)*F23,"") -> 41.17 | J23: 1 | K23: 1

Sheet Mat Coletivo e Equipamentos
B2: CUSTOS DIRETOS COM MATERIAIS E EQUIPAMENTOS DE USO COLETIVO
B3: Nº | C3: Código | D3: Descrição | E3: Unidade | F3: Quantidade contratual | G3: Valor (R$) | H3: Taxa de depreciação anual | I3: Custo direto mensal | J3: Custo direto contratual
I4: =SUM(I5:I251) -> 0 | J4: =SUM(J5:J251) -> 0
B6: 1 | I6: =IFERROR(J6/'Mão de Obra'!$D$12,"") -> 0 | J6: =IFERROR(IF(ISNUMBER(H6),H6*'Mão de Obra'!$D$12/12,1)*G6*F6,"") -> 0
B7: 2 | I7: =IFERROR(J7/'Mão de Obra'!$D$12,"") -> 0 | J7: =IFERROR(IF(ISNUMBER(H7),H7*'Mão de Obra'!$D$12/12,1)*G7*F7,"") -> 0
B8: 3 | I8: =IFERROR(J8/'Mão de Obra'!$D$12,"") -> 0 | J8: =IFERROR(IF(ISNUMBER(H8),H8*'Mão de Obra'!$D$12/12,1)*G8*F8,"") -> 0
B9: 4 | I9: =IFERROR(J9/'Mão de Obra'!$D$12,"") -> 0 | J9: =IFERROR(IF(ISNUMBER(H9),H9*'Mão de Obra'!$D$12/12,1)*G9*F9,"") -> 0
B10: 5 | I10: =IFERROR(J10/'Mão de Obra'!$D$12,"") -> 0 | J10: =IFERROR(IF(ISNUMBER(H10),H10*'Mão de Obra'!$D$12/12,1)*G10*F10,"") -> 0
B11: 6 | I11: =IFERROR(J11/'Mão de Obra'!$D$12,"") -> 0 | J11: =IFERROR(IF(ISNUMBER(H11),H11*'Mão de Obra'!$D$12/12,1)*G11*F11,"") -> 0
B12: 7 | I12: =IFERROR(J12/'Mão de Obra'!$D$12,"") -> 0 | J12: =IFERROR(IF(ISNUMBER(H12),H12*'Mão de Obra'!$D$12/12,1)*G12*F12,"") -> 0
B13: 8 | I13: =IFERROR(J13/'Mão de Obra'!$D$12,"") -> 0 | J13: =IFERROR(IF(ISNUMBER(H13),H13*'Mão de Obra'!$D$12/12,1)*G13*F13,"") -> 0
B14: 9 | I14: =IFERROR(J14/'Mão de Obra'!$D$12,"") -> 0 | J14: =IFERROR(IF(ISNUMBER(H14),H14*'Mão de Obra'!$D$12/12,1)*G14*F14,"") -> 0
B15: 10 | I15: =IFERROR(J15/'Mão de Obra'!$D$12,"") -> 0 | J15: =IFERROR(IF(ISNUMBER(H15),H15*'Mão de Obra'!$D$12/12,1)*G15*F15,"") -> 0
B16: 11 | I16: =IFERROR(J16/'Mão de Obra'!$D$12,"") -> 0 | J16: =IFERROR(IF(ISNUMBER(H16),H16*'Mão de Obra'!$D$12/12,1)*G16*F16,"") -> 0
B17: 12 | I17: =IFERROR(J17/'Mão de Obra'!$D$12,"") -> 0 | J17: =IFERROR(IF(ISNUMBER(H17),H17*'Mão de Obra'!$D$12/12,1)*G17*F17,"") -> 0
... B205: 200 | I205: =IFERROR(J205/'Mão de Obra'!$D$12,"") -> 0 | J205: =IFERROR(IF(ISNUMBER(H205),H205*'Mão de Obra'!$D$12/12,1)*G205*F205,"") -> 0

Sheet Veículos
C2: DADOS REFERENTES À CONTRATAÇÃO | E2: Veículo A | F2: Veículo B | G2: Veículo C | H2: Veículo D | I2: Veículo E
C3: Tipo de Veículo
C4: Quantidade de veículos
C5: Quilômetros por mês
C7: DETALHAMENTO MÓDULO 1 - MANUTENÇÃO MENSAL DO VEÍCULO
B8: A | C8: Custos com Combustível
C9: Quilometragem/litro
C10: Tipo de Combustível
C11: Preço por litro
D12: Valor (R$) | E12: =IFERROR(E5*E11/E9,"") | F12: =IFERROR(F5*F11/F9,"") | G12: =IFERROR(G5*G11/G9,"") | H12: =IFERROR(H5*H11/H9,"") | I12: =IFERROR(I5*I11/I9,"")
B13: B | C13: Custos com Óleo
C14: Litros por troca
C15: Frequência da troca (em km)
C16: Preço por Litro - Óleo Motor
D17: Valor (R$) | E17: =IFERROR(IF(E3="","",E16*E14*E5/E15),"") | F17: =IFERROR(IF(F3="","",F16*F14*F5/F15),"") | G17: =IFERROR(IF(G3="","",G16*G14*G5/G15),"") | H17: =IFERROR(IF(H3="","",H16*H14*H5/H15),"") | I17: =IFERROR(IF(I3="","",I16*I14*I5/I15),"")
B18: C | C18: Custos com Filtro Óleo
C19: Frequência da troca (em km)
C20: Preço Filtro de óleo
D21: Valor (R$) | E21: =IFERROR(IF(E3="","",E20*E5/E19),"") | F21: =IFERROR(IF(F3="","",F20*F5/F19),"") | G21: =IFERROR(IF(G3="","",G20*G5/G19),"") | H21: =IFERROR(IF(H3="","",H20*H5/H19),"") | I21: =IFERROR(IF(I3="","",I20*I5/I19),"")
B22: D | C22: Custo com Pneu
C23: Custo do jogo de pneus
C24: Quantidade
C25: Durabilidade (em Km)
D26: Valor (R$) | E26: =IFERROR((E23*E24*E5/E25),"") | F26: =IFERROR((F23*F24*F5/F25),"") | G26: =IFERROR((G23*G24*G5/G25),"") | H26: =IFERROR((H23*H24*H5/H25),"") | I26: =IFERROR((I23*I24*I5/I25),"")
B27: E | C27: Custo estimado com manutenção
C28: Taxa de manutenção anual
C29: Custo de aquisição do veículo
C30: Outros custos (especificar)
C31: Outros custos (especificar)
C32: Custo de aquisição do veículo (total) | E32: =IF(E3="","",SUM(E29:E31)) | F32: =IF(F3="","",SUM(F29:F31)) | G32: =IF(G3="","",SUM(G29:G31)) | H32: =IF(H3="","",SUM(H29:H31)) | I32: =IF(I3="","",SUM(I29:I31))
D33: Valor (R$) | E33: =IF(E3="","",E28*E32/12) | F33: =IF(F3="","",F28*F32/12) | G33: =IF(G3="","",G28*G32/12) | H33: =IF(H3="","",H28*H32/12) | I33: =IF(I3="","",I28*I32/12)
C34: SUBTOTAL MÓDULO | E34: =IF(E3="","",SUM(E12,E17,E21,E26,E33)) | F34: =IF(F3="","",SUM(F12,F17,F21,F26,F33)) | G34: =IF(G3="","",SUM(G12,G17,G21,G26,G33)) | H34: =IF(H3="","",SUM(H12,H17,H21,H26,H33)) | I34: =IF(I3="","",SUM(I12,I17,I21,I26,I33))
C36: DETALHAMENTO MÓDULO 2 - CUSTOS OBRIGATÓRIOS MENSAIS DO VEÍCULO
B37: A | C37: IPVA | D37: 0.01 | E37: =IF(E3="","",E29*$D$37/Proposta!$J$6) | F37: =IF(F3="","",F29*$D$37/Proposta!$J$6) | G37: =IF(G3="","",G29*$D$37/Proposta!$J$6) | H37: =IF(H3="","",H29*$D$37/Proposta!$J$6) | I37: =IF(I3="","",I29*$D$37/Proposta!$J$6)
B38: B | C38: Licenciamento | D38: 286.94 | E38: =IF(E$3="","",$D$38/Proposta!$J$6) | F38: =IF(F$3="","",$D$38/Proposta!$J$6) | G38: =IF(G$3="","",$D$38/Proposta!$J$6) | H38: =IF(H$3="","",$D$38/Proposta!$J$6) | I38: =IF(I$3="","",$D$38/Proposta!$J$6)
B39: C | C39: Vistoria EPTC
C40: Quantidade de vistorias no período contratual
C41: Valor da vistoria | E41: =IF(E3="","",77.88) | F41: =IF(F3="","",77.88) | G41: =IF(G3="","",77.88) | H41: =IF(H3="","",77.88) | I41: =IF(I3="","",77.88)
D42: Valor (R$) | E42: =IF(E$3="","",E40*E41/Proposta!$J$6) | F42: =IF(F$3="","",F40*F41/Proposta!$J$6) | G42: =IF(G$3="","",G40*G41/Proposta!$J$6) | H42: =IF(H$3="","",H40*H41/Proposta!$J$6) | I42: =IF(I$3="","",I40*I41/Proposta!$J$6)
B43: D | C43: Seguro contra terceiros | D43: 0.02 | E43: =IF(E3="","",E32*$D$43/Proposta!$J$6) | F43: =IF(F3="","",F32*$D$43/Proposta!$J$6) | G43: =IF(G3="","",G32*$D$43/Proposta!$J$6) | H43: =IF(H3="","",H32*$D$43/Proposta!$J$6) | I43: =IF(I3="","",I32*$D$43/Proposta!$J$6)
...

Sheet Produtividade
A2: =CONCATENATE("PREFEITURA MUNICIPAL DE PORTO ALEGRE ",D5," FORMAÇÃO DE PREÇOS DE REFERÊNCIA - CESSÃO DE MÃO DE OBRA") -> PREFEITURA MUNICIPAL DE PORTO ALEGRE FORMAÇÃO DE PREÇOS DE REFERÊNCIA - CESSÃO DE MÃO DE OBRA
C4: DADOS REFERENTES À CONTRATAÇÃO
B5: A | C5: Órgão Demandante | H5: 3
B6: B | C6: Pregão Eletrônico nº:
B7: C | C7: Processo SEI nº:
B8: D | C8: Objeto:
B9: E | C9: Responsável
B10: F | C10: Data de conclusão
B11: G | C11: Pagamento do Contrato:
B12: H | C12: Duração do Contrato em meses: | D12: ='Mão de Obra'!D12 -> 12
B13: I | C13: Regime Tributário | D13: Lucro Presumido
B14: J | C14: Receita Bruta
B15: K | C15: Salário Mínimo | D15: ='Mão de Obra'!D15:E15 -> 1621
C17: DADOS REFERENTES AOS POSTOS | E17: Aux. Limpeza | F17: Sup. Limpeza | G17: Alpinista | H17: Sup. Alpinista | I17: =CONCATENATE("Posto ",CHAR(COLUMN()+60)) -> Posto E
B18: A | C18: Função do Posto | E18: Aux. Limpeza, Serv. Gerais | F18: Aux. Limpeza, Serv. Gerais | G18: Limpador Alpinista | H18: Limpador Alpinista
B19: B | C19: Observação
B20: C | C20: Classificação Brasileira de Ocupações (CBO) | E20: =IFERROR(VLOOKUP(E$18,'Apoio - Posto'!$A:$J,2,FALSE),"") -> 5143 | F20: =IFERROR(VLOOKUP(F$18,'Apoio - Posto'!$A:$J,2,FALSE),"") -> 5143 | G20: =IFERROR(VLOOKUP(G$18,'Apoio - Posto'!$A:$J,2,FALSE),"") -> 5143 | H20: =IFERROR(VLOOKUP(H$18,'Apoio - Posto'!$A:$J,2,FALSE),"") -> 5143 | I20: =IFERROR(VLOOKUP(I$18,'Apoio - Posto'!$A:$J,2,FALSE),"")
B21: D | C21: Valor do Piso normativo da Categoria | E21: =IFERROR(VLOOKUP(E$18,'Apoio - Posto'!$A:$AA,7,FALSE),"") -> 1653.58 | F21: =IFERROR(VLOOKUP(F$18,'Apoio - Posto'!$A:$AA,7,FALSE),"") -> 1653.58 | G21: =IFERROR(VLOOKUP(G$18,'Apoio - Posto'!$A:$AA,7,FALSE),"") -> 2101.14 | H21: =IFERROR(VLOOKUP(H$18,'Apoio - Posto'!$A:$AA,7,FALSE),"") -> 2101.14 | I21: =IFERROR(VLOOKUP(I$18,'Apoio - Posto'!$A:$AA,7,FALSE),"")
B22: E | C22: Regime de trabalho da convenção coletiva (mensal) | E22: =IFERROR(VLOOKUP(E$18,'Apoio - Posto'!$A:$AA,8,FALSE),"") -> 220 | F22: =IFERROR(VLOOKUP(F$18,'Apoio - Posto'!$A:$AA,8,FALSE),"") -> 220 | G22: =IFERROR(VLOOKUP(G$18,'Apoio - Posto'!$A:$AA,8,FALSE),"") -> 220 | H22: =IFERROR(VLOOKUP(H$18,'Apoio - Posto'!$A:$AA,8,FALSE),"") -> 220 | I22: =IFERROR(VLOOKUP(I$18,'Apoio - Posto'!$A:$AA,8,FALSE),"")
B23: F | C23: Sindicato representativo da categoria profissional | E23: =IFERROR(VLOOKUP(E$18,'Apoio - Posto'!$A:$J,3,FALSE),"") -> SINDASSEIO | F23: =IFERROR(VLOOKUP(F$18,'Apoio - Posto'!$A:$J,3,FALSE),"") -> SINDASSEIO | G23: =IFERROR(VLOOKUP(G$18,'Apoio - Posto'!$A:$J,3,FALSE),"") -> SINDASSEIO | H23: =IFERROR(VLOOKUP(H$18,'Apoio - Posto'!$A:$J,3,FALSE),"") -> SINDASSEIO | I23: =IFERROR(VLOOKUP(I$18,'Apoio - Posto'!$A:$J,3,FALSE),"")
B24: G | C24: Data base da categoria | E24: =IFERROR(VLOOKUP(E$18,'Apoio - Posto'!$A:$J,5,FALSE),"") -> 45658 | F24: =IFERROR(VLOOKUP(F$18,'Apoio - Posto'!$A:$J,5,FALSE),"") -> 45658 | G24: =IFERROR(VLOOKUP(G$18,'Apoio - Posto'!$A:$J,5,FALSE),"") -> 45658 | H24: =IFERROR(VLOOKUP(H$18,'Apoio - Posto'!$A:$J,5,FALSE),"") -> 45658 | I24: =IFERROR(VLOOKUP(I$18,'Apoio - Posto'!$A:$J,5,FALSE),"")
B25: H | C25: Registro no MTE | E25: =IFERROR(VLOOKUP(E$18,'Apoio - Posto'!$A:$J,4,FALSE),"") -> RS000040/2025 | F25: =IFERROR(VLOOKUP(F$18,'Apoio - Posto'!$A:$J,4,FALSE),"") -> RS000040/2025 | G25: =IFERROR(VLOOKUP(G$18,'Apoio - Posto'!$A:$J,4,FALSE),"") -> RS000040/2025 | H25: =IFERROR(VLOOKUP(H$18,'Apoio - Posto'!$A:$J,4,FALSE),"") -> RS000040/2025 | I25: =IFERROR(VLOOKUP(I$18,'Apoio - Posto'!$A:$J,4,FALSE),"")
B26: I | C26: Regime de trabalho do Contrato (semanal) | E26: 44h (5 dia/sem) | F26: 44h (5 dia/sem) | G26: 44h (5 dia/sem) | H26: 44h (5 dia/sem)
B27: J | C27: Quantidade de postos | E27: =8*SUM(K190:K209,K211:K213,K217:K218)/VLOOKUP(E26,'Apoio - Regime de Trabalho'!$A:$K,10,FALSE) -> 0 | F27: =1/30*E27 -> 0 | G27: =8*SUM(K209:K210,K215:K216)/VLOOKUP(G26,'Apoio - Regime de Trabalho'!$A:$K,10,FALSE) -> 0 | H27: =1/4*G27 -> 0
B28: K | C28: Quantidade de profissional por posto | E28: =IFERROR(VLOOKUP(E26,'Apoio - Regime de Trabalho'!$A:$I,2,FALSE),"") -> 1 | F28: =IFERROR(VLOOKUP(F26,'Apoio - Regime de Trabalho'!$A:$I,2,FALSE),"") -> 1 | G28: =IFERROR(VLOOKUP(G26,'Apoio - Regime de Trabalho'!$A:$I,2,FALSE),"") -> 1 | H28: =IFERROR(VLOOKUP(H26,'Apoio - Regime de Trabalho'!$A:$I,2,FALSE),"") -> 1 | I28: =IFERROR(VLOOKUP(I26,'Apoio - Regime de Trabalho'!$A:$I,10,FALSE),"")
B29: L | C29: Quantidade total de profissionais | E29: =IFERROR(IF(E18="","",E28*E27),"") -> 0 | F29: =IFERROR(IF(F18="","",F28*F27),"") -> 0 | G29: =IFERROR(IF(G18="","",G28*G27),"") -> 0 | H29: =IFERROR(IF(H18="","",H28*H27),"") -> 0 | I29: =IFERROR(IF(I18="","",I28*I27),"")
C31: MÓDULO 1: COMPOSIÇÃO DA REMUNERAÇÃO
B32: A | C32: Salário-Base | E32: =IFERROR(E21*VLOOKUP(E26,'Apoio - Regime de Trabalho'!$A:$I,8,FALSE)/(E22),"") -> 1653.58 | F32: =IFERROR(F21*VLOOKUP(F26,'Apoio - Regime de Trabalho'!$A:$I,8,FALSE)/(F22),"") -> 1653.58 | G32: =IFERROR(G21*VLOOKUP(G26,'Apoio - Regime de Trabalho'!$A:$I,8,FALSE)/(G22),"") -> 2101.14 | H32: =IFERROR(H21*VLOOKUP(H26,'Apoio - Regime de Trabalho'!$A:$I,8,FALSE)/(H22),"") -> 2101.14 | I32: =IFERROR(ROUND(I21*VLOOKUP(I26,'Apoio - Regime de Trabalho'!$A:$I,8,FALSE)/(I22),2),"")
B33: B | C33: Adicional de Periculosidade
C34: Incidência | E34: =IFERROR(VLOOKUP(E$18,'Apoio - Posto'!$A:$AA,15,FALSE),"") -> 0 | F34: =IFERROR(VLOOKUP(F$18,'Apoio - Posto'!$A:$AA,15,FALSE),"") -> 0 | G34: =IFERROR(VLOOKUP(G$18,'Apoio - Posto'!$A:$AA,15,FALSE),"") -> 0.3 | H34: =IFERROR(VLOOKUP(H$18,'Apoio - Posto'!$A:$AA,15,FALSE),"") -> 0.3 | I34: =IFERROR(VLOOKUP(I$18,'Apoio - Posto'!$A:$AA,15,FALSE),"")
D35: Valor (R$) | E35: =IFERROR((E32)*E34,"") -> 0 | F35: =IFERROR((F32)*F34,"") -> 0 | G35: =IFERROR((G32)*G34,"") -> 630.342 | H35: =IFERROR((H32)*H34,"") -> 630.342 | I35: =IFERROR(ROUND((I32)*I34,2),"")
B36: C | C36: Adicional de Insalubridade
C37: Base de incindência | E37: =IFERROR(VLOOKUP(E$18,'Apoio - Posto'!$A:$AA,14,FALSE),"") -> Salário Base | F37: =IFERROR(VLOOKUP(F$18,'Apoio - Posto'!$A:$AA,14,FALSE),"") -> Salário Base | G37: =IFERROR(VLOOKUP(G$18,'Apoio - Posto'!$A:$AA,14,FALSE),"") -> Salário Base | H37: =IFERROR(VLOOKUP(H$18,'Apoio - Posto'!$A:$AA,14,FALSE),"") -> Salário Base | I37: =IFERROR(VLOOKUP(I$18,'Apoio - Posto'!$A:$AA,14,FALSE),"")
C38: Percentual de incidência | E38: 0.4 | F38: 0.2 | I38: =IFERROR(VLOOKUP(I$18,'Apoio - Posto'!$A:$AA,13,FALSE),"")
D39: Valor (R$) | E39: =IF(E21="","",IFERROR(IF(E37="Salário Base",E$32,IF(E37="Salário Mínimo",$D$15,0))*E38,"")) -> 661.432 | F39: =IF(F21="","",IFERROR(IF(F37="Salário Base",F$32,IF(F37="Salário Mínimo",$D$15,0))*F38,"")) -> 330.716 | G39: =IF(G21="","",IFERROR(IF(G37="Salário Base",G$32,IF(G37="Salário Mínimo",$D$15,0))*G38,"")) -> 0 | H39: =IF(H21="","",IFERROR(IF(H37="Salário Base",H$32,IF(H37="Salário Mínimo",$D$15,0))*H38,"")) -> 0 | I39: =IF(I21="","",IFERROR(ROUND(IF(I37="Salário Base",I$32,IF(I37="Salário Mínimo",$D$15,0))*I38,2),""))
B40: D | C40: Gratificação de Função
C41: Percentual de incidência | F41: 0.2 | H41: 0.2
D42: Valor (R$) | E42: =IFERROR(E41*E$32,"") -> 0 | F42: =IFERROR(F41*F$32,"") -> 330.716 | G42: =IFERROR(G41*G$32,"") -> 0 | H42: =IFERROR(H41*H$32,"") -> 420.228 | I42: =IFERROR(ROUND(I41*I$32,2),"")
B43: E | C43: Adicional Noturno
C44: Número de horas noturnas por dia | E44: =IF(AND(E20=5173,E26="12x36 Noturno"),8,"") | F44: =IF(AND(F20=5173,F26="12x36 Noturno"),8,"") | G44: =IF(AND(G20=5173,G26="12x36 Noturno"),8,"") | H44: =IF(AND(H20=5173,H26="12x36 Noturno"),8,"") | I44: =IF(AND(I20=5173,I26="12x36 Noturno"),8,"")
...

Sheet Proposta
B2: PREFEITURA MUNICIPAL DE PORTO ALEGRE
B3: =IF(IFERROR(SUM(Produtividade!L193:L218)>0,FALSE()),Produtividade!D5, IF(IFERROR(Veículos!$E$3<>"",FALSE()),'Mão de Obra'!D5,'Mão de Obra'!D5)) -> SECRETARIA MUNICIPAL DA SAÚDE (SMS)
B4: PLANILHA DE CUSTOS E FORMAÇÃO DE PREÇOS
B6: Pregão Eletrônico Nº: | C6: =IF(IFERROR(SUM(Produtividade!L193:L218)>0,FALSE()),Produtividade!D6, IF(IFERROR(Veículos!$E$3<>"",FALSE()),'Mão de Obra'!D6, 'Mão de Obra'!D6)) -> 0 | G6: Tempo de Duração do Contrato: | J6: =IF(IFERROR(SUM(Produtividade!L193:L218)>0,FALSE()),Produtividade!D12, IF(IFERROR(Veículos!$E$3<>"",FALSE()),'Mão de Obra'!D12, 'Mão de Obra'!D12)) -> 12
B7: Processo SEI Nº: | C7: =IF(IFERROR(SUM(Produtividade!L193:L218)>0,FALSE()),Produtividade!D7, IF(IFERROR(Veículos!$E$3<>"",FALSE()),'Mão de Obra'!D7, 'Mão de Obra'!D7)) -> 25.0.000051443-0 | G7: Forma de Pagamento do Contrato: | J7: =IF(IFERROR(SUM(Produtividade!L193:L218)>0,FALSE()),Produtividade!D11, IF(IFERROR(Veículos!$E$3<>"",FALSE()),'Mão de Obra'!D11, 'Mão de Obra'!D11)) -> 0
B8: =CONCATENATE("OBJETO: ", IF(IFERROR(SUM(Produtividade!L193:L218)>0,FALSE()),Produtividade!D8, IF(IFERROR(Veículos!$E$3<>"",FALSE()),'Mão de Obra'!D8, 'Mão de Obra'!D8))) -> OBJETO: Operador de Caldeira
B9: Nome da Empresa: | G9: Regime Tributário: | J9: =IF(IFERROR(SUM(Produtividade!L193:L218)>0,FALSE()),Produtividade!D13, IF(IFERROR(Veículos!$E$3<>"",FALSE()),'Mão de Obra'!D13, 'Mão de Obra'!D13)) -> Lucro Presumido
B10: CNPJ Matriz: | G10: Receita Bruta Anual: | J10: =IF(IFERROR(SUM(Produtividade!L193:L218)>0,FALSE()),Produtividade!D14, IF(IFERROR(Veículos!$E$3<>"",FALSE()),'Mão de Obra'!D14, 'Mão de Obra'!D14)) -> 0
B11: Endereço da Empresa: | G11: Telefone:
B12: Nome do Responsável: | G12: CPF Responsável:
B13: Endereço eletrônico: | G13: Dados Bancários:
B15: DEMONSTRATIVO DE CUSTOS COM MÃO DE OBRA POR POSTO
B16: Função | C16: Posto | D16: Regime | E16: Qnt. de Postos | F16: Qnt. de Profissionais | G16: Custo hora | H16: Custo dia | I16: Custo mês | J16: Total mensal | K16: Total contratual
B17: =IF( INDEX('Mão de Obra'!$E$18:$X$18,1,ROW()-ROW($B$16))<>0, INDEX('Mão de Obra'!$E$18:$X$18,1,ROW()-ROW($B$16)), "OCULTAR ESTA LINHA" ) -> Operador de Caldeira | C17: =INDEX('Mão de Obra'!$E$17:$X$17,1,ROW()-ROW($C$16)) -> Posto A | D17: =INDEX('Mão de Obra'!$E$26:$X$26,1,ROW()-ROW($D$16)) -> 12x36 Diurno | E17: =INDEX('Mão de Obra'!$E$27:$X$27,1,ROW()-ROW($E$16)) -> 1 | F17: =INDEX('Mão de Obra'!$E$29:$X$29,1,ROW()-ROW($F$16)) -> 2 | G17: =INDEX('Mão de Obra'!$E$173:$X$173,1,ROW()-ROW($G$16)) -> 35.89 | H17: =INDEX('Mão de Obra'!$E$174:$X$174,1,ROW()-ROW($I$16)) -> 430.73 | I17: =INDEX('Mão de Obra'!$E$176:$X$176,1,ROW()-ROW($I$16)) -> 12921.88 | J17: =INDEX('Mão de Obra'!$E$182:$X$182,1,ROW()-ROW($I$16)) -> 12921.88 | K17: =INDEX('Mão de Obra'!$E$188:$X$188,1,ROW()-ROW($I$16)) -> 155062.56
B18: =IF( INDEX('Mão de Obra'!$E$18:$X$18,1,ROW()-ROW($B$16))<>0, INDEX('Mão de Obra'!$E$18:$X$18,1,ROW()-ROW($B$16)), "OCULTAR ESTA LINHA" ) -> Operador de Caldeira | C18: =INDEX('Mão de Obra'!$E$17:$X$17,1,ROW()-ROW($C$16)) -> Posto B | D18: =INDEX('Mão de Obra'!$E$26:$X$26,1,ROW()-ROW($D$16)) -> 12x36 Noturno | E18: =INDEX('Mão de Obra'!$E$27:$X$27,1,ROW()-ROW($E$16)) -> 1 | F18: =INDEX('Mão de Obra'!$E$29:$X$29,1,ROW()-ROW($F$16)) -> 2 | G18: =INDEX('Mão de Obra'!$E$173:$X$173,1,ROW()-ROW($G$16)) -> 44.76 | H18: =INDEX('Mão de Obra'!$E$174:$X$174,1,ROW()-ROW($I$16)) -> 537.1 | I18: =INDEX('Mão de Obra'!$E$176:$X$176,1,ROW()-ROW($I$16)) -> 16113.08 | J18: =INDEX('Mão de Obra'!$E$182:$X$182,1,ROW()-ROW($I$16)) -> 16113.08 | K18: =INDEX('Mão de Obra'!$E$188:$X$188,1,ROW()-ROW($I$16)) -> 193356.96
B19: =IF( INDEX('Mão de Obra'!$E$18:$X$18,1,ROW()-ROW($B$16))<>0, INDEX('Mão de Obra'!$E$18:$X$18,1,ROW()-ROW($B$16)), "OCULTAR ESTA LINHA" ) -> Engenheiro | C19: =INDEX('Mão de Obra'!$E$17:$X$17,1,ROW()-ROW($C$16)) -> Posto C | D19: =INDEX('Mão de Obra'!$E$26:$X$26,1,ROW()-ROW($D$16)) -> 30h (5 dia/sem) | E19: =INDEX('Mão de Obra'!$E$27:$X$27,1,ROW()-ROW($E$16)) -> 0 | F19: =INDEX('Mão de Obra'!$E$29:$X$29,1,ROW()-ROW($F$16)) -> 0 | G19: =INDEX('Mão de Obra'!$E$173:$X$173,1,ROW()-ROW($G$16)) -> 118.08 | H19: =INDEX('Mão de Obra'!$E$174:$X$174,1,ROW()-ROW($I$16)) -> 708.47 | I19: =INDEX('Mão de Obra'!$E$176:$X$176,1,ROW()-ROW($I$16)) -> 15586.31 | J19: =INDEX('Mão de Obra'!$E$182:$X$182,1,ROW()-ROW($I$16)) -> 0 | K19: =INDEX('Mão de Obra'!$E$188:$X$188,1,ROW()-ROW($I$16)) -> 0
B20: =IF( INDEX('Mão de Obra'!$E$18:$X$18,1,ROW()-ROW($B$16))<>0, INDEX('Mão de Obra'!$E$18:$X$18,1,ROW()-ROW($B$16)), "OCULTAR ESTA LINHA" ) -> OCULTAR ESTA LINHA | C20: =INDEX('Mão de Obra'!$E$17:$X$17,1,ROW()-ROW($C$16)) -> Posto D | D20: =INDEX('Mão de Obra'!$E$26:$X$26,1,ROW()-ROW($D$16)) -> 0 | E20: =INDEX('Mão de Obra'!$E$27:$X$27,1,ROW()-ROW($E$16)) -> 0 | F20: =INDEX('Mão de Obra'!$E$29:$X$29,1,ROW()-ROW($F$16)) | G20: =INDEX('Mão de Obra'!$E$173:$X$173,1,ROW()-ROW($G$16)) | H20: =INDEX('Mão de Obra'!$E$174:$X$174,1,ROW()-ROW($I$16)) | I20: =INDEX('Mão de Obra'!$E$176:$X$176,1,ROW()-ROW($I$16)) | J20: =INDEX('Mão de Obra'!$E$182:$X$182,1,ROW()-ROW($I$16)) | K20: =INDEX('Mão de Obra'!$E$188:$X$188,1,ROW()-ROW($I$16))
B21: =IF( INDEX('Mão de Obra'!$E$18:$X$18,1,ROW()-ROW($B$16))<>0, INDEX('Mão de Obra'!$E$18:$X$18,1,ROW()-ROW($B$16)), "OCULTAR ESTA LINHA" ) -> OCULTAR ESTA LINHA | C21: =INDEX('Mão de Obra'!$E$17:$X$17,1,ROW()-ROW($C$16)) -> Posto E | D21: =INDEX('Mão de Obra'!$E$26:$X$26,1,ROW()-ROW($D$16)) -> 0 | E21: =INDEX('Mão de Obra'!$E$27:$X$27,1,ROW()-ROW($E$16)) -> 0 | F21: =INDEX('Mão de Obra'!$E$29:$X$29,1,ROW()-ROW($F$16)) | G21: =INDEX('Mão de Obra'!$E$173:$X$173,1,ROW()-ROW($G$16)) | H21: =INDEX('Mão de Obra'!$E$174:$X$174,1,ROW()-ROW($I$16)) | I21: =INDEX('Mão de Obra'!$E$176:$X$176,1,ROW()-ROW($I$16)) | J21: =INDEX('Mão de Obra'!$E$182:$X$182,1,ROW()-ROW($I$16)) | K21: =INDEX('Mão de Obra'!$E$188:$X$188,1,ROW()-ROW($I$16))
B22: =IF( INDEX('Mão de Obra'!$E$18:$X$18,1,ROW()-ROW($B$16))<>0, INDEX('Mão de Obra'!$E$18:$X$18,1,ROW()-ROW($B$16)), "OCULTAR ESTA LINHA" ) -> OCULTAR ESTA LINHA | C22: =INDEX('Mão de Obra'!$E$17:$X$17,1,ROW()-ROW($C$16)) -> Posto F | D22: =INDEX('Mão de Obra'!$E$26:$X$26,1,ROW()-ROW($D$16)) -> 0 | E22: =INDEX('Mão de Obra'!$E$27:$X$27,1,ROW()-ROW($E$16)) -> 0 | F22: =INDEX('Mão de Obra'!$E$29:$X$29,1,ROW()-ROW($F$16)) | G22: =INDEX('Mão de Obra'!$E$173:$X$173,1,ROW()-ROW($G$16)) | H22: =INDEX('Mão de Obra'!$E$174:$X$174,1,ROW()-ROW($I$16)) | I22: =INDEX('Mão de Obra'!$E$176:$X$176,1,ROW()-ROW($I$16)) | J22: =INDEX('Mão de Obra'!$E$182:$X$182,1,ROW()-ROW($I$16)) | K22: =INDEX('Mão de Obra'!$E$188:$X$188,1,ROW()-ROW($I$16))
B23: =IF( INDEX('Mão de Obra'!$E$18:$X$18,1,ROW()-ROW($B$16))<>0, INDEX('Mão de Obra'!$E$18:$X$18,1,ROW()-ROW($B$16)), "OCULTAR ESTA LINHA" ) -> OCULTAR ESTA LINHA | C23: =INDEX('Mão de Obra'!$E$17:$X$17,1,ROW()-ROW($C$16)) -> Posto G | D23: =INDEX('Mão de Obra'!$E$26:$X$26,1,ROW()-ROW($D$16)) -> 0 | E23: =INDEX('Mão de Obra'!$E$27:$X$27,1,ROW()-ROW($E$16)) -> 0 | F23: =INDEX('Mão de Obra'!$E$29:$X$29,1,ROW()-ROW($F$16)) | G23: =INDEX('Mão de Obra'!$E$173:$X$173,1,ROW()-ROW($G$16)) | H23: =INDEX('Mão de Obra'!$E$174:$X$174,1,ROW()-ROW($I$16)) | I23: =INDEX('Mão de Obra'!$E$176:$X$176,1,ROW()-ROW($I$16)) | J23: =INDEX('Mão de Obra'!$E$182:$X$182,1,ROW()-ROW($I$16)) | K23: =INDEX('Mão de Obra'!$E$188:$X$188,1,ROW()-ROW($I$16))
B24: =IF( INDEX('Mão de Obra'!$E$18:$X$18,1,ROW()-ROW($B$16))<>0, INDEX('Mão de Obra'!$E$18:$X$18,1,ROW()-ROW($B$16)), "OCULTAR ESTA LINHA" ) -> OCULTAR ESTA LINHA | C24: =INDEX('Mão de Obra'!$E$17:$X$17,1,ROW()-ROW($C$16)) -> Posto H | D24: =INDEX('Mão de Obra'!$E$26:$X$26,1,ROW()-ROW($D$16)) -> 0 | E24: =INDEX('Mão de Obra'!$E$27:$X$27,1,ROW()-ROW($E$16)) -> 0 | F24: =INDEX('Mão de Obra'!$E$29:$X$29,1,ROW()-ROW($F$16)) | G24: =INDEX('Mão de Obra'!$E$173:$X$173,1,ROW()-ROW($G$16)) | H24: =INDEX('Mão de Obra'!$E$174:$X$174,1,ROW()-ROW($I$16)) | I24: =INDEX('Mão de Obra'!$E$176:$X$176,1,ROW()-ROW($I$16)) | J24: =INDEX('Mão de Obra'!$E$182:$X$182,1,ROW()-ROW($I$16)) | K24: =INDEX('Mão de Obra'!$E$188:$X$188,1,ROW()-ROW($I$16))
B25: =IF( INDEX('Mão de Obra'!$E$18:$X$18,1,ROW()-ROW($B$16))<>0, INDEX('Mão de Obra'!$E$18:$X$18,1,ROW()-ROW($B$16)), "OCULTAR ESTA LINHA" ) -> OCULTAR ESTA LINHA | C25: =INDEX('Mão de Obra'!$E$17:$X$17,1,ROW()-ROW($C$16)) -> Posto I | D25: =INDEX('Mão de Obra'!$E$26:$X$26,1,ROW()-ROW($D$16)) -> 0 | E25: =INDEX('Mão de Obra'!$E$27:$X$27,1,ROW()-ROW($E$16)) -> 0 | F25: =INDEX('Mão de Obra'!$E$29:$X$29,1,ROW()-ROW($F$16)) | G25: =INDEX('Mão de Obra'!$E$173:$X$173,1,ROW()-ROW($G$16)) | H25: =INDEX('Mão de Obra'!$E$174:$X$174,1,ROW()-ROW($I$16)) | I25: =INDEX('Mão de Obra'!$E$176:$X$176,1,ROW()-ROW($I$16)) | J25: =INDEX('Mão de Obra'!$E$182:$X$182,1,ROW()-ROW($I$16)) | K25: =INDEX('Mão de Obra'!$E$188:$X$188,1,ROW()-ROW($I$16))
E26: =SUM(E17:E25) -> 2 | F26: =SUM(F17:F25) -> 4 | J26: =SUM(J17:J25) -> 29034.96 | K26: =SUM(K17:K25) -> 348419.52
B28: DEMONSTRATIVO DOS CUSTOS TOTAIS COM MATERIAIS E EQUIPAMENTOS DE USO COLETIVO
B29: Materiais e equipamentos coletivos | J29: Total mensal | K29: Total contratual
B30: Materiais e equipamentos coletivos | J30: =IFERROR( 'Mat Coletivo e Equipamentos'!I4 * (1+J66/J61),0) -> 0 | K30: =IFERROR( 'Mat Coletivo e Equipamentos'!J4 * (1+J66/J61),0) -> 0
J31: =SUM(J30) -> 0 | K31: =SUM(K30) -> 0
B33: DEMONSTRATIVO DE CUSTOS COM LOCAÇÃO DE VEÍCULOS
B34: Veículo | D34: Qnt. | E34: Qnt Horas | F34: Km/mês | G34: Custo hora | H34: Custo km rodado | I34: Custo mês | J34: Total mensal | K34: Total contratual
B35: =IF( INDEX(Veículos!$E$3:$AR$3,1,ROW()-ROW(B$34))<>"", INDEX(Veículos!$E$3:$AR$3,1,ROW()-ROW(B$34)), "OCULTAR ESTA LINHA") -> OCULTAR ESTA LINHA | D35: =INDEX(Veículos!$E$4:$CS$4,1,ROW()-ROW(D$34)) -> 0 | E35: =INDEX(Veículos!$E$84:$CS$84,1,ROW()-ROW(E$34)) | F35: =INDEX(Veículos!$E$5:$AR$5,1,ROW()-ROW(F$34)) -> 0 | G35: =INDEX(Veículos!$E$85:$CS$85,1,ROW()-ROW(G$34)) | H35: =INDEX(Veículos!$E$82:$CS$82,1,ROW()-ROW(H$34)) | I35: =INDEX(Veículos!$E$90:$CS$90,1,ROW()-ROW(I$34)) | J35: =INDEX(Veículos!$E$95:$CS$95,1,ROW()-ROW(J$34)) | K35: =INDEX(Veículos!$E$96:$CS$96,1,ROW()-ROW(K$34))
B36: =IF( INDEX(Veículos!$E$3:$AR$3,1,ROW()-ROW(B$34))<>"", INDEX(Veículos!$E$3:$AR$3,1,ROW()-ROW(B$34)), "OCULTAR ESTA LINHA") -> OCULTAR ESTA LINHA | D36: =INDEX(Veículos!$E$4:$CS$4,1,ROW()-ROW(D$34)) -> 0 | E36: =INDEX(Veículos!$E$84:$CS$84,1,ROW()-ROW(E$34)) | F36: =INDEX(Veículos!$E$5:$AR$5,1,ROW()-ROW(F$34)) -> 0 | G36: =INDEX(Veículos!$E$85:$CS$85,1,ROW()-ROW(G$34)) | H36: =INDEX(Veículos!$E$82:$CS$82,1,ROW()-ROW(H$34)) | I36: =INDEX(Veículos!$E$90:$CS$90,1,ROW()-ROW(I$34)) | J36: =INDEX(Veículos!$E$95:$CS$95,1,ROW()-ROW(J$34)) | K36: =INDEX(Veículos!$E$96:$CS$96,1,ROW()-ROW(K$34))
B37: =IF( INDEX(Veículos!$E$3:$AR$3,1,ROW()-ROW(B$34))<>"", INDEX(Veículos!$E$3:$AR$3,1,ROW()-ROW(B$34)), "OCULTAR ESTA LINHA") -> OCULTAR ESTA LINHA | D37: =INDEX(Veículos!$E$4:$CS$4,1,ROW()-ROW(D$34)) -> 0 | E37: =INDEX(Veículos!$E$84:$CS$84,1,ROW()-ROW(E$34)) | F37: =INDEX(Veículos!$E$5:$AR$5,1,ROW()-ROW(F$34)) -> 0 | G37: =INDEX(Veículos!$E$85:$CS$85,1,ROW()-ROW(G$34)) | H37: =INDEX(Veículos!$E$82:$CS$82,1,ROW()-ROW(H$34)) | I37: =INDEX(Veículos!$E$90:$CS$90,1,ROW()-ROW(I$34)) | J37: =INDEX(Veículos!$E$95:$CS$95,1,ROW()-ROW(J$34)) | K37: =INDEX(Veículos!$E$96:$CS$96,1,ROW()-ROW(K$34))
B38: =IF( INDEX(Veículos!$E$3:$AR$3,1,ROW()-ROW(B$34))<>"", INDEX(Veículos!$E$3:$AR$3,1,ROW()-ROW(B$34)), "OCULTAR ESTA LINHA") -> OCULTAR ESTA LINHA | D38: =INDEX(Veículos!$E$4:$CS$4,1,ROW()-ROW(D$34)) -> 0 | E38: =INDEX(Veículos!$E$84:$CS$84,1,ROW()-ROW(E$34)) | F38: =INDEX(Veículos!$E$5:$AR$5,1,ROW()-ROW(F$34)) -> 0 | G38: =INDEX(Veículos!$E$85:$CS$85,1,ROW()-ROW(G$34)) | H38: =INDEX(Veículos!$E$82:$CS$82,1,ROW()-ROW(H$34)) | I38: =INDEX(Veículos!$E$90:$CS$90,1,ROW()-ROW(I$34)) | J38: =INDEX(Veículos!$E$95:$CS$95,1,ROW()-ROW(J$34)) | K38: =INDEX(Veículos!$E$96:$CS$96,1,ROW()-ROW(K$34))
B39: =IF( INDEX(Veículos!$E$3:$AR$3,1,ROW()-ROW(B$34))<>"", INDEX(Veículos!$E$3:$AR$3,1,ROW()-ROW(B$34)), "OCULTAR ESTA LINHA") -> OCULTAR ESTA LINHA | D39: =INDEX(Veículos!$E$4:$CS$4,1,ROW()-ROW(D$34)) -> 0 | E39: =INDEX(Veículos!$E$84:$CS$84,1,ROW()-ROW(E$34)) | F39: =INDEX(Veículos!$E$5:$AR$5,1,ROW()-ROW(F$34)) -> 0 | G39: =INDEX(Veículos!$E$85:$CS$85,1,ROW()-ROW(G$34)) | H39: =INDEX(Veículos!$E$82:$CS$82,1,ROW()-ROW(H$34)) | I39: =INDEX(Veículos!$E$90:$CS$90,1,ROW()-ROW(I$34)) | J39: =INDEX(Veículos!$E$95:$CS$95,1,ROW()-ROW(J$34)) | K39: =INDEX(Veículos!$E$96:$CS$96,1,ROW()-ROW(K$34))
J40: =SUM(J35:J39) -> 0 | K40: =SUM(K35:K39) -> 0
B42: DEMONSTRATIVO DE CUSTOS COM MÃO DE OBRA POR PRODUTIVIDADE
B43: Tipo de Piso | F43: Código | G43: Tipo de Área | H43: Área (m²) | I43: Custo por m² | J43: Custo mensal | K43: Custo total
B44: =IF( 'Apoio - Dados'!J2<>"", 'Apoio - Dados'!J2, "OCULTAR ESTA LINHA") -> OCULTAR ESTA LINHA | F44: =IFERROR(INDEX(Produtividade!B:B,MATCH($B44,Produtividade!C:C,0)),"") | G44: =IFERROR(INDEX('Apoio - Dados'!F:F,MATCH($B44,'Apoio - Dados'!E:E,0)),"") | H44: =IFERROR(INDEX(Produtividade!L:L,MATCH($B44,Produtividade!C:C,0)),"") | I44: =IFERROR(INDEX(Produtividade!M:M,MATCH($B44,Produtividade!C:C,0)),"") | J44: =IFERROR(INDEX(Produtividade!N:N,MATCH($B44,Produtividade!C:C,0)),"") | K44: =IFERROR(INDEX(Produtividade!O:O,MATCH($B44,Produtividade!C:C,0)),"")
B45: =IF( 'Apoio - Dados'!J3<>"", 'Apoio - Dados'!J3, "OCULTAR ESTA LINHA") -> OCULTAR ESTA LINHA | F45: =IFERROR(INDEX(Produtividade!B:B,MATCH($B45,Produtividade!C:C,0)),"") | G45: =IFERROR(INDEX('Apoio - Dados'!F:F,MATCH($B45,'Apoio - Dados'!E:E,0)),"") | H45: =IFERROR(INDEX(Produtividade!L:L,MATCH($B45,Produtividade!C:C,0)),"") | I45: =IFERROR(INDEX(Produtividade!M:M,MATCH($B45,Produtividade!C:C,0)),"") | J45: =IFERROR(INDEX(Produtividade!N:N,MATCH($B45,Produtividade!C:C,0)),"") | K45: =IFERROR(INDEX(Produtividade!O:O,MATCH($B45,Produtividade!C:C,0)),"")
B46: =IF( 'Apoio - Dados'!J4<>"", 'Apoio - Dados'!J4, "OCULTAR ESTA LINHA") -> OCULTAR ESTA LINHA | F46: =IFERROR(INDEX(Produtividade!B:B,MATCH($B46,Produtividade!C:C,0)),"") | G46: =IFERROR(INDEX('Apoio - Dados'!F:F,MATCH($B46,'Apoio - Dados'!E:E,0)),"") | H46: =IFERROR(INDEX(Produtividade!L:L,MATCH($B46,Produtividade!C:C,0)),"") | I46: =IFERROR(INDEX(Produtividade!M:M,MATCH($B46,Produtividade!C:C,0)),"") | J46: =IFERROR(INDEX(Produtividade!N:N,MATCH($B46,Produtividade!C:C,0)),"") | K46: =IFERROR(INDEX(Produtividade!O:O,MATCH($B46,Produtividade!C:C,0)),"")
...

Sheet Apoio - Regime de Trabalho
A1: Regime | B1: Funcionários por posto | C1: Contratação | E1: Dias Semana | F1: Horas Semana | G1: Dias Mês | H1: Horas mês remuneradas | I1: Horas mês trabalhadas | J1: Horas mês dia
A3: 12x36 Diurno | B3: 2 | C3: Mensal | E3: - | G3: 15 | H3: 220 | I3: =G3*12 -> 180 | J3: =I3/G3 -> 12
A4: 12x36 Noturno | B4: 2 | C4: Mensal | E4: - | G4: 15 | H4: 220 | I4: =G4*12 -> 180 | J4: =I4/G4 -> 12
A5: 4h (1 dia/sem) | B5: 1 | C5: Mensal | E5: 1 | F5: 4 | G5: =E5*4 -> 4 | H5: =F5*30/6 -> 20 | I5: =F5*4 -> 16 | J5: =I5/G5 -> 4
A6: 6h (1 dia/sem) | B6: 1 | C6: Mensal | E6: 1 | F6: 6 | G6: =E6*4 -> 4 | H6: =F6*30/6 -> 30 | I6: =F6*4 -> 24 | J6: =I6/G6 -> 6
A7: 8h (1 dia/sem) | B7: 1 | C7: Mensal | E7: 1 | F7: 8 | G7: =E7*4 -> 4 | H7: =F7*30/6 -> 40 | I7: =F7*4 -> 32 | J7: =I7/G7 -> 8
A8: 12h (2 dia/sem) | B8: 1 | C8: Mensal | E8: 2 | F8: 12 | G8: =E8*4 -> 8 | H8: =F8*30/6 -> 60 | I8: =F8*4 -> 48 | J8: =I8/G8 -> 6
A9: 16h (2 dia/sem) | B9: 1 | C9: Mensal | E9: 2 | F9: 16 | G9: =E9*4 -> 8 | H9: =F9*30/6 -> 80 | I9: =F9*4 -> 64 | J9: =I9/G9 -> 8
A10: 20h (5 dia/sem) | B10: 1 | C10: Mensal | E10: 5 | F10: 20 | G10: =E10*4+2 -> 22 | H10: =F10*30/6 -> 100 | I10: =F10*4+2*4 -> 88 | J10: =I10/G10 -> 4
A11: 30h (5 dia/sem) | B11: 1 | C11: Mensal | E11: 5 | F11: 30 | G11: =E11*4+2 -> 22 | H11: =F11*30/6 -> 150 | I11: =F11*4+2*6 -> 132 | J11: =I11/G11 -> 6
A12: 35h (5 dia/sem) | B12: 1 | C12: Mensal | E12: 5 | F12: 35 | G12: =E12*4+2 -> 22 | H12: 175 | I12: =F12*4+2*7 -> 154 | J12: =I12/G12 -> 7
A13: 36h (6 dia/sem) | B13: 1 | C13: Mensal | E13: 6 | F13: 36 | G13: =E13*4+2 -> 26 | H13: =F13*30/6 -> 180 | I13: =F13*4+2*6 -> 156 | J13: =I13/G13 -> 6
A14: 40h (5 dia/sem) | B14: 1 | C14: Mensal | E14: 5 | F14: 40 | G14: =E14*4+2 -> 22 | H14: =F14*30/6 -> 200 | I14: =F14*4+2*8 -> 176 | J14: =I14/G14 -> 8
A15: 44h (5 dia/sem) | B15: 1 | C15: Mensal | E15: 5 | F15: 44 | G15: =E15*4+2 -> 22 | H15: =F15*30/6 -> 220 | I15: =F15*4+2*8 -> 192 | J15: =I15/G15 -> 8.7272727
A16: 44h (6 dia/sem) | B16: 1 | C16: Mensal | E16: 6 | F16: 44 | G16: =E16*4+2 -> 26 | H16: =F16*30/6 -> 220 | I16: =F16*4+2*8 -> 192 | J16: =I16/G16 -> 7.3846154

Sheet Apoio - Notas Explicativas
C2: Equivalência temporal
B3: A | C3: Dias na Semana | D3: 7
B4: B | C4: Dias no Ano | D4: 365.25
B5: C | C5: Dias no Mês | D5: 30
B6: D | C6: Dias úteis no Mês | D6: 22
B7: E | C7: Semanas no Mês | D7: =D9/D10 -> 4.3482143 | F7: =""
B8: F | C8: Quinzenas no Mês | D8: =D7/2 -> 2.1741071
B9: G | C9: Semanas no Ano | D9: =D4/7 -> 52.178571
B10: H | C10: Meses no Ano | D10: 12
B11: I | C11: Hora Normal (em minutos) | D11: 60
B12: J | C12: Hora Noturna (em minutos) | D12: 52.5
D14: MEMÓRIA DE CÁLCULO | E14: FUNDAMENTO | F14: OBSERVAÇÕES | H14: Regime tributário
H15: Lucro Presumido | I15: Lucro Real | J15: Cooperativa | K15: Simples | L15: Simples | M15: Simples | N15: Simples | O15: Simples | P15: Simples | Q15: Considerado
K16: Faixa 1 | L16: Faixa 2 | M16: Faixa 3 | N16: Faixa 4 | O16: Faixa 5 | P16: Faixa 6
C17: Faturamento máximo | K17: 180000 | L17: 360000 | M17: 720000 | N17: 1800000 | O17: 3600000 | P17: 4800000 | Q17: =IF(IFERROR(SUM(Produtividade!L193:L218)>0,FALSE()),Produtividade!D13, IF(IFERROR(Veículos!$E$3<>"",FALSE()),'Mão de Obra'!D13,'Mão de Obra'!D13)) -> Lucro Presumido
C18: Valor a Deduzir | K18: 0 | L18: 9360 | M18: 17640 | N18: 35640 | O18: 125640 | P18: 648000 | Q18: =IF(Q17="Simples", IF(IFERROR(SUM(Produtividade!L193:L218)>0,FALSE()),Produtividade!D14, IF(IFERROR(Veículos!$E$3<>"",FALSE()),'Mão de Obra'!D14,'Mão de Obra'!D14)),"")
C19: Percentual da faixa | K19: 0.06 | L19: 0.112 | M19: 0.135 | N19: 0.16 | O19: 0.21 | P19: 0.33
C21: MÓDULO 1: COMPOSIÇÃO DA REMUNERAÇÃO
B22: A | C22: Salário Base Mensal | E22: Artigo 457 e 458 da CLT. | F22: Salário mensal definido em acordo, dissídio ou convenção coletiva de trabalho no momento da publicação do edital, conforme Instrução Normativa SEGES/MGI nº 176, de 25/11/2024. Na ausência de normativos legais ou coletivos fixando o piso salarial de determinada categoria profissional, o valor do salário de referência poderá ser aquele definido pelo próprio mercado, podendo assumir o valor do salário mínimo. Importante ressaltar que a planilha de custos é baseada em empregados mensalistas, desse modo consideram-se já remunerados os dias de repouso semanal no salário mensal nos termos do § 2º do art. 7º da Lei 605/1949.
B23: B | C23: Adicional Periculosidade | D23: Salário Base x 30% | E23: Súmula 132 TST. Artigo 193 a 197 da CLT. Artigo 7º, inciso XXIII da CF/88. NR 16 do MTE. | F23: O percentual definido pelo art. 193 da CLT, deve ser calculados sobre salário base sem os acréscimos resultantes de gratificações, prêmios ou participações nos lucros da empresa, com exceção à categoria dos eletricitários, em que o cálculo deverá ser feito sobre a totalidade das parcelas de natureza salarial. A caracterização e a classificação da periculosidade far-se-ão por meio de perícia a cargo de Médico do Trabalho ou Engenheiro do Trabalho registrados no Ministério do Trabalho. A Norma Regulamentadora nº 16 estabelece em seus anexos as atividades e as operações perigosas que acarretam ao recebimento do adicional de periculosidade pelo empregado. As Leis nºs 12.740/2012 e 12.997/2014 estenderam o adicional de periculosidade, respectivamente, às atividades profissionais de segurança pessoal ou patrimonial e trabalhador em motocicleta.
B24: C | C24: Adicional Insalubridade | D24: Salário Mínimo ou Base estipulado em instrumento coletivo x (10%, 20% ou 40%) | E24: Regras do instrumento coletivo da categoria, se houver. Artigo 189 a 192 da CLT (10%, 20% ou 40%). Art. 7º, inc. XXIII CF/88. NR 15 do MTE. | F24: Os percentuais definidos pelo art. 192 da CLT, segundo as classificações nos graus máximo, médio e mínimo, devem ser calculados com base no salário mínimo, salvo critério mais vantajoso estabelecido em lei ou em instrumento coletivo de trabalho (Súmula Vinculante nº. 4). O direito ao recebimento do adicional somente pode ser reconhecido mediante laudo pericial que aponte estar a atividade insalubre prevista na relação oficial elaborada pelo Ministério do Trabalho, tal como definido pela NR-15 da Portaria n. 3.214 de 1978.
B25: D | C25: Gratificação de Função | D25: Salário Base x % de incidência | E25: Informada na Convenção Coletiva de Trabalho da categoria profissional a ser contratada ou Termo de Referência. | F25: Convenções Coletivas também podem determinar regras, inclusive para empregados que acumulam funções, conforme Instrução Normativa SEGES/MGI nº 176, de 25/11/2024.
B26: E | C26: Adicional Noturno | D26: (Salário base + adicionais periculosidade/insalubridade) ÷ total de horas mensais (conforme jornada de trabalho da categoria) x 20% x qtde. de horas noturnas x qtde de dias laborados a noite). | E26: Artigo 73 da CLT e artigo 7º, inciso IX da CF. Súmula nº 60 do TST e OJ nº 97 TST/SDI. | F26: A jornada noturna é compreendida entre 22h da noite e 05h da manhã seguinte (considerando que a hora noturna corresponde a 52min e 30 seg), com remuneração adicional de 20%, de acordo com o Art.73 da CLT. Além do ad. noturno e redução da hora noturna, se houver prorrogação do horário noturno, as horas trabalhadas após as 05 horas da manhã, também serão remuneradas com adicional noturno e com aplicação da hora noturna reduzida, nos termos do art. 73, § 5º da CLT e Súmula 60, II, do TST. Com a edição da Lei nº 13.467/2017, a reforma trabalhista, o entendimento da Súmula 60 do TST não é mais aplicado para as jornadas em turnos de revezamento 12x36, pois nesse caso, conforme § 1° do art. 59-A da CLT, serão considerados compensados dentro da jornada, sem necessidade de pagamento de adicional.
B27: F | C27: Adicional de Hora Noturna Reduzida | D27: Qtde. de horas noturnas x qtde de dias laborados a noite x 0,142857 x (Salário base + adicionais periculosidade/insalubridade) ÷ total de horas mensais x 120% | E27: Artigo 73 da CLT e artigo 7º, inciso IX da CF. Súmula nº 60 do TST e OJ nº 97 TST/SDI. | F27: A hora do trabalho noturno será computada como de 52 minutos e 30 segundos.
B28: G | C28: Horas Extras (com adicionais) | D28: (Salário base + adicionais periculosidade/insalubridade/noturno ) ÷ total de horas mensais (conforme jornada de trabalho da categoria) x %de incidência x qtde. de horas extras mensal). | E28: Artigo 7º, inciso XVI, da CF/88. Artigo 59 da CLT. Súmulas 60 e 132 TST. | F28: Indispensável haver justificativa técnica no processo da necessidade de serviço superior a jornada legal e vantajosidade frente a outra solução de jornada. Máximo prorrogação de 2 horas por dia estabelecido no art. 59 da CLT , salvo exceções do art. 61 da CLT.
B29: H | C29: Descanso Semanal Remunerado | D29: (Adicional noturmo + Adicional de hora reduzida+Horas extras+ Adicional de troca de uniforme) x 20% | E29: Artigos 67 a 70 da CLT. Art. 7º, inciso XV CF/88. | F29: Para fins de cálculo: Dias úteis ÷ feriados e domingos ou 25÷5 =20%
B30: I | C30: Adicional de Troca de Uniforme | D30: (Salário base + adicionais periculosidade) ÷ (total de horas mensais (conforme jornada de trabalho da categoria) ÷ 6) x qtde de dias | E30: Súmula nº 366 do TST | F30: O tempo despreendido para a troca de uniforme será remunerado (5 minutos para colocar e 5 minutos para retirar) na proporção de 1/6 do valor da hora normal de trabalho. CCT Sindivigilante.
B31: J | C31: Outras remunerações (especificar)
C33: MÓDULO 2 - ENCARGOS E BENEFÍCIOS ANUAIS, MENSAIS E DIÁRIOS
C35: SUBMÓDULO 2.1 - 13º Salário, Férias e Adicional de Férias
B36: A | C36: 13º salário | D36: ((1÷12) x 100) ≅ 8,33% | E36: Art. 7º, VIII, CF/88. Decreto nº. 57.155/1965. Acórdão TCU nº 6.771/2009 | F36: Gratificação de Natal, instituída pela Lei nº 4.090/1962. O percentual dessa rubrica pode ser obtido pelo cálculo: ((1/12) x 100) = 8,33%. | H36: =(1/12) -> 0.083333333 | I36: =(1/12) -> 0.083333333 | J36: =(1/12) -> 0.083333333 | K36: =(1/12) -> 0.083333333 | L36: =(1/12) -> 0.083333333 | M36: =(1/12) -> 0.083333333 | N36: =(1/12) -> 0.083333333 | O36: =(1/12) -> 0.083333333 | P36: =(1/12) -> 0.083333333 | Q36: =IFERROR(ROUND(IF($Q$17="Simples", INDEX(H36:P36,MATCH($Q$18,$H$18:$P$18,1)), INDEX(H36:P36,MATCH($Q$17,$H$15:$P$15,0)) ),4),"") -> 0.0833
B37: B | C37: Férias e Adicional de Férias | D37: ((1÷12) x 100) + ((1÷3) x (1÷12) x 100) ≅ 11,11% | E37: Art. 7º, XVII, CF/88. Acórdão TCU nº 6.771/2009. | F37: A CF/88, em seu art. 7º, inciso XVII, prevê que as férias sejam pagas com adicional de, pelo menos, 1/3 (um terço) da remuneração do mês. Assim, a provisão para atender as despesas relativas as férias e adicional de férias corresponde a: ((1/12) x 100) + ((1/3) x (1/12) x 100) ≅ 11,11% | H37: =(1/12) +( 1/3)/12 -> 0.11111111 | I37: =(1/12) +( 1/3)/12 -> 0.11111111 | J37: =(1/12) +( 1/3)/12 -> 0.11111111 | K37: =(1/12) +( 1/3)/12 -> 0.11111111 | L37: =(1/12) +( 1/3)/12 -> 0.11111111 | M37: =(1/12) +( 1/3)/12 -> 0.11111111 | N37: =(1/12) +( 1/3)/12 -> 0.11111111 | O37: =(1/12) +( 1/3)/12 -> 0.11111111 | P37: =(1/12) +( 1/3)/12 -> 0.11111111 | Q37: =IFERROR(ROUND(IF($Q$17="Simples", INDEX(H37:P37,MATCH($Q$18,$H$18:$P$18,1)), INDEX(H37:P37,MATCH($Q$17,$H$15:$P$15,0)) ),4),"") -> 0.1111
B38: C | C38: Incidência no Submódulo 2.2 sobre 13º salário e Férias | D38: ((1÷12) x 100) + ((1÷12) x 100) + ((1÷3) x (1÷12) x 100) x Submódulo 2.2 | F38: Sobre o somatório dos itens de custo 13º salário e férias com adicional de férias, há incidência de Encargos Previdenciários e FGTS do submódulo 2.2 | H38: =(H36+H37)*H51 -> 0.071555556 | I38: =(I36+I37)*I51 -> 0.071555556 | J38: =(J36+J37)*J51 -> 0.060277778 | K38: =(K36+K37)*K51 -> 0.060277778 | L38: =(L36+L37)*L51 -> 0.060277778 | M38: =(M36+M37)*M51 -> 0.060277778 | N38: =(N36+N37)*N51 -> 0.060277778 | O38: =(O36+O37)*O51 -> 0.060277778 | P38: =(P36+P37)*P51 -> 0.060277778 | Q38: =IFERROR(ROUND(IF($Q$17="Simples", INDEX(H38:P38,MATCH($Q$18,$H$18:$P$18,1)), INDEX(H38:P38,MATCH($Q$17,$H$15:$P$15,0)) ),4),"") -> 0.0716
C40: SUBMÓDULO 2.2- Encargos Previdenciários (GPS) e FGTS
B41: A | C41: INSS | E41: Art. 22, Inciso I, da Lei nº 8.212/91. Lei nº 13.161/2015 - Contribuição Previdenciária sobre a Receita Bruta (CPRB). | F41: Os encargos previdenciários das empresas dependem: do regime de tributação adotado e segmento econômico ao qual pertencem. | H41: 0.2 | I41: 0.2 | J41: 0.2 | K41: 0.2 | L41: 0.2 | M41: 0.2 | N41: 0.2 | O41: 0.2 | P41: 0.2 | Q41: =IFERROR(ROUND(IF($Q$17="Simples", INDEX(H41:P41,MATCH($Q$18,$H$18:$P$18,1)), INDEX(H41:P41,MATCH($Q$17,$H$15:$P$15,0)) ),4),"") -> 0.2
B42: B | C42: SESI OU SESC | E42: IN RFB nº 2110/2022 ; art. 30 da Lei n° 8.036/90; art. 1°da Lei n° 8.154/90; art. 240 da CF/88. | F42: Os encargos previdenciários das empresas dependem: do regime de tributação adotado e segmento econômico ao qual pertencem. Simples Nacional: dispensa custos de terceiros - LC nº123/06, Art. 13, VI e §3º e Art. 18, §5º C) | H42: 0.015 | I42: 0.015 | Q42: =IFERROR(ROUND(IF($Q$17="Simples", INDEX(H42:P42,MATCH($Q$18,$H$18:$P$18,1)), INDEX(H42:P42,MATCH($Q$17,$H$15:$P$15,0)) ),4),"") -> 0.015
B43: C | C43: SENAI OU SENAC | E43: IN RFB nº 2110/2022; Decreto n.º 2.318/86. | F43: Os encargos previdenciários das empresas dependem: do regime de tributação adotado e segmento econômico ao qual pertencem. Simples Nacional: dispensa custos de terceiros - LC nº123/06, Art. 13, VI e §3º e Art. 18, §5º C) | H43: 0.01 | I43: 0.01 | Q43: =IFERROR(ROUND(IF($Q$17="Simples", INDEX(H43:P43,MATCH($Q$18,$H$18:$P$18,1)), INDEX(H43:P43,MATCH($Q$17,$H$15:$P$15,0)) ),4),"") -> 0.01
B44: D | C44: INCRA | E44: IN RFB nº 2110/2022; Lei nº 7.787/89; DL nº 1.146/70; Lei Complementar nº 11/71. | F44: Os encargos previdenciários das empresas dependem: do regime de tributação adotado e segmento econômico ao qual pertencem. Simples Nacional: dispensa custos de terceiros - LC nº123/06, Art. 13, VI e §3º e Art. 18, §5º C) | H44: 0.002 | I44: 0.002 | Q44: =IFERROR(ROUND(IF($Q$17="Simples", INDEX(H44:P44,MATCH($Q$18,$H$18:$P$18,1)), INDEX(H44:P44,MATCH($Q$17,$H$15:$P$15,0)) ),4),"") -> 0.002
B45: E | C45: Salário educação | E45: IN RFB nº 2110/2022 ; art. 3°, inciso I do Decreto n° 87.043/1982; art. 15 – Lei nº 9.424/96; art. 1º § 1º - Decreto nº 6.003/2006; art. 212 § 5º da CF/88; Súmula nº 732 do STF. | F45: Os encargos previdenciários das empresas dependem: do regime de tributação adotado e segmento econômico ao qual pertencem. Simples Nacional: dispensa custos de terceiros - LC nº123/06, Art. 13, VI e §3º e Art. 18, §5º C) | H45: 0.025 | I45: 0.025 | Q45: =IFERROR(ROUND(IF($Q$17="Simples", INDEX(H45:P45,MATCH($Q$18,$H$18:$P$18,1)), INDEX(H45:P45,MATCH($Q$17,$H$15:$P$15,0)) ),4),"") -> 0.025
B46: F | C46: FGTS | E46: Art. 15, Lei nº 8.036/90 e Art. 7º, III. | H46: 0.08 | I46: 0.08 | J46: 0.08 | K46: 0.08 | L46: 0.08 | M46: 0.08 | N46: 0.08 | O46: 0.08 | P46: 0.08 | Q46: =IFERROR(ROUND(IF($Q$17="Simples", INDEX(H46:P46,MATCH($Q$18,$H$18:$P$18,1)), INDEX(H46:P46,MATCH($Q$17,$H$15:$P$15,0)) ),4),"") -> 0.08
...

Sheet Apoio - Posto
