Workbook

Sheet dados
A1: DADOS DO ORÇAMENTO
A2: SECRETARIA: | B2: SECRETARIA MUNICIPAL DE OBRAS E INFRAESTRUTURA
A3: OBJETO: | B3: Reforço de Fundação em Estaca Mega - Unidade de Saúde Cruzeiro do Sul
A4: ENDEREÇO: | B4: Rua Dona Malvina Acesso A, nº 195, Santa Teresa, Porto Alegre, RS
A5: AUTOR: | B5: Paulo Lima Loge
A6: TÍTULO: | B6: Arquiteto e urbanista
A7: CONSELHO: | B7: CAU A21295-4
A8: REVISÃO: | B8: 46064
A9: DATA BASE: | B9: 46054
A10: ENCARGOS SOCIAIS: | B10: Desonerado
A11: PERCENTUAL DE MÃO DE OBRA EM RELAÇÃO AO VALOR TOTAL DO ORÇAMENTO: | C11: =SUM(orcamento!L10:L82)/orcamento!N83 -> 0.58344704

Sheet orcamento
D1: PREFEITURA MUNICIPAL DE PORTO ALEGRE
D2: =dados!B2 -> SECRETARIA MUNICIPAL DE OBRAS E INFRAESTRUTURA
D3: ="Objeto: "&dados!B3 -> Objeto: Reforço de Fundação em Estaca Mega - Unidade de Saúde Cruzeiro do Sul
D4: ="Endereço: "&dados!B4 -> Endereço: Rua Dona Malvina Acesso A, nº 195, Santa Teresa, Porto Alegre, RS
D6: ="Orçamento ("&dados!B10&")" -> Orçamento (Desonerado)
A8: ITEM | B8: CÓDIGO | C8: FONTE | D8: DESCRIÇÃO | E8: UNID. | F8: QUANT. | H8: Custo Unitário | J8: BDI | K8: Preço Unitário | M8: Preço Total
G9: Mão de obra | H9: Material+Equip. | I9: Total | L9: Mão de obra | M9: Material+Equip. | N9: Total
A10: 1 | D10: SERVIÇOS DE ESCRITÓRIO
A11: 1.1 | B11: CCU 01 | C11: COMPOSICAO_PROPRIA | D11: =VLOOKUP(B11,composicoes!$A:$K,2,0) -> EQUIPE DE ADMINISTRAÇÃO LOCAL | E11: =VLOOKUP(B11,composicoes!$A:$K,8,0) -> UN | F11: 1 | G11: =VLOOKUP(B11,composicoes!$A:$K,10,0) -> 116109.36 | H11: =VLOOKUP(B11,composicoes!$A:$K,11,0) -> 1477.8 | I11: =G11+H11 -> 117587.16 | J11: 0.289 | K11: =I11+ROUND(I11*J11,2) -> 151569.85 | L11: =TRUNC(TRUNC(G11*(1+J11),2)*F11,2) -> 149664.96 | M11: =N11-L11 -> 1904.89 | N11: =ROUND(F11*K11,2) -> 151569.85
A12: 1.2 | B12: CCU 02 | C12: COMPOSICAO_PROPRIA | D12: =VLOOKUP(B12,composicoes!$A:$K,2,0) -> SERVIÇO DE VIGIÂNCIA NOTURNA (DIÁRIA) E DIURNA (FINAIS DE SEMANA) | E12: =VLOOKUP(B12,composicoes!$A:$K,8,0) -> MÊS | F12: 8 | G12: =VLOOKUP(B12,composicoes!$A:$K,10,0) -> 6895.64 | H12: =VLOOKUP(B12,composicoes!$A:$K,11,0) -> 1100.09 | I12: =G12+H12 -> 7995.73 | J12: 0.289 | K12: =I12+ROUND(I12*J12,2) -> 10306.5 | L12: =TRUNC(TRUNC(G12*(1+J12),2)*F12,2) -> 71107.76 | M12: =N12-L12 -> 11344.24 | N12: =ROUND(F12*K12,2) -> 82452
A13: 1.3 | B13: TAB 01 | C13: COTACAO | D13: =VLOOKUP(B13,tabelas!$A:$L,4,0) -> DOCUMENTO DE RESPONSABILIDADE TÉCNICA | E13: =VLOOKUP(B13,tabelas!$A:$L,5,0) -> UN | F13: 1 | G13: 0 | H13: =VLOOKUP($B13,tabelas!$A:$L,12,0) -> 285.59 | I13: =G13+H13 -> 285.59 | J13: 0.289 | K13: =I13+ROUND(I13*J13,2) -> 368.13 | L13: =TRUNC(TRUNC(G13*(1+J13),2)*F13,2) -> 0 | M13: =N13-L13 -> 368.13 | N13: =ROUND(F13*K13,2) -> 368.13
A14: 1.4 | B14: CCU 03 | C14: COMPOSICAO_PROPRIA | D14: =VLOOKUP(B14,composicoes!$A:$K,2,0) -> PLANO DE ATAQUE | E14: =VLOOKUP(B14,composicoes!$A:$K,8,0) -> UN | F14: 1 | G14: =VLOOKUP(B14,composicoes!$A:$K,10,0) -> 902.58 | H14: =VLOOKUP(B14,composicoes!$A:$K,11,0) -> 0 | I14: =G14+H14 -> 902.58 | J14: 0.289 | K14: =I14+ROUND(I14*J14,2) -> 1163.43 | L14: =TRUNC(TRUNC(G14*(1+J14),2)*F14,2) -> 1163.42 | M14: =N14-L14 -> 0.01 | N14: =ROUND(F14*K14,2) -> 1163.43
A15: 1.5 | B15: CCU 04 | C15: COMPOSICAO_PROPRIA | D15: =VLOOKUP(B15,composicoes!$A:$K,2,0) -> PLANO DE GERENCIAMENTO DE RESÍDUOS NA CONSTRUÇÃO CIVIL - PGRCC | E15: =VLOOKUP(B15,composicoes!$A:$K,8,0) -> UN | F15: 1 | G15: =VLOOKUP(B15,composicoes!$A:$K,10,0) -> 1085.44 | H15: =VLOOKUP(B15,composicoes!$A:$K,11,0) -> 0 | I15: =G15+H15 -> 1085.44 | J15: 0.289 | K15: =I15+ROUND(I15*J15,2) -> 1399.13 | L15: =TRUNC(TRUNC(G15*(1+J15),2)*F15,2) -> 1399.13 | M15: =N15-L15 -> 0 | N15: =ROUND(F15*K15,2) -> 1399.13
A16: 1.6 | B16: CCU 05 | C16: COMPOSICAO_PROPRIA | D16: =VLOOKUP(B16,composicoes!$A:$K,2,0) -> PROJETO DE SEGURANÇA NO TRABALHO | E16: =VLOOKUP(B16,composicoes!$A:$K,8,0) -> UN | F16: 1 | G16: =VLOOKUP(B16,composicoes!$A:$K,10,0) -> 1079.58 | H16: =VLOOKUP(B16,composicoes!$A:$K,11,0) -> 0 | I16: =G16+H16 -> 1079.58 | J16: 0.289 | K16: =I16+ROUND(I16*J16,2) -> 1391.58 | L16: =TRUNC(TRUNC(G16*(1+J16),2)*F16,2) -> 1391.57 | M16: =N16-L16 -> 0.01 | N16: =ROUND(F16*K16,2) -> 1391.58
A17: 2 | D17: SERVIÇOS PROVISÓRIOS
A18: 2.1 | B18: 34498 | C18: SINAPI | D18: =IF(C18="SINAPI",IFERROR(VLOOKUP(B18,'SINAPI-comp'!$B:$H,2,0),VLOOKUP(B18,'SINAPI-insumo'!$B:$H,2,0))) -> CONE DE SINALIZACAO EM PVC FLEXIVEL, H = 70 / 76 CM (NBR 15071) | E18: =IF(C18="SINAPI",IFERROR(VLOOKUP(B18,'SINAPI-comp'!$B:$H,3,0),VLOOKUP(B18,'SINAPI-insumo'!$B:$H,3,0))) -> UN | F18: 4 | G18: =IFERROR(VLOOKUP(B18,'SINAPI-comp'!$B:$H,4,0)-H18,0) -> 0 | H18: =IF(C18="SINAPI",IFERROR(VLOOKUP(B18,'SINAPI-comp'!$B:$H,7,0),VLOOKUP(B18,'SINAPI-insumo'!$B:$H,7,0))) -> 132.8 | I18: =G18+H18 -> 132.8 | J18: 0.289 | K18: =I18+ROUND(I18*J18,2) -> 171.18 | L18: =TRUNC(TRUNC(G18*(1+J18),2)*F18,2) -> 0 | M18: =N18-L18 -> 684.72 | N18: =ROUND(F18*K18,2) -> 684.72
A19: 2.2 | B19: CCU 07 | C19: COMPOSICAO_PROPRIA | D19: =VLOOKUP(B19,composicoes!$A:$K,2,0) -> TELA TAPUME LARANJA - FORNECIMENTO E INSTALAÇÃO COM MADEIRA | E19: =VLOOKUP(B19,composicoes!$A:$K,8,0) -> M | F19: 50 | G19: =VLOOKUP(B19,composicoes!$A:$K,10,0) -> 7.19 | H19: =VLOOKUP(B19,composicoes!$A:$K,11,0) -> 10.44 | I19: =G19+H19 -> 17.63 | J19: 0.289 | K19: =I19+ROUND(I19*J19,2) -> 22.73 | L19: =TRUNC(TRUNC(G19*(1+J19),2)*F19,2) -> 463 | M19: =N19-L19 -> 673.5 | N19: =ROUND(F19*K19,2) -> 1136.5
A20: 2.3 | B20: CCU 08 | C20: COMPOSICAO_PROPRIA | D20: =VLOOKUP(B20,composicoes!$A:$K,2,0) -> CARGA E TRANSPORTE DE CONTAINER | E20: =VLOOKUP(B20,composicoes!$A:$K,8,0) -> UN | F20: 2 | G20: =VLOOKUP(B20,composicoes!$A:$K,10,0) -> 84.44 | H20: =VLOOKUP(B20,composicoes!$A:$K,11,0) -> 526.24 | I20: =G20+H20 -> 610.68 | J20: 0.289 | K20: =I20+ROUND(I20*J20,2) -> 787.17 | L20: =TRUNC(TRUNC(G20*(1+J20),2)*F20,2) -> 217.68 | M20: =N20-L20 -> 1356.66 | N20: =ROUND(F20*K20,2) -> 1574.34
A21: 2.4 | B21: 10775 | C21: SINAPI | D21: =IF(C21="SINAPI",IFERROR(VLOOKUP(B21,'SINAPI-comp'!$B:$H,2,0),VLOOKUP(B21,'SINAPI-insumo'!$B:$H,2,0))) -> LOCACAO DE CONTAINER 2,30 X 6,00 M, ALT. 2,50 M, COM 1 SANITARIO, PARA ESCRITORIO, COMPLETO, SEM DIVISORIAS INTERNAS (NAO INCLUI MOBILIZACAO/DESMOBILIZACAO) | E21: =IF(C21="SINAPI",IFERROR(VLOOKUP(B21,'SINAPI-comp'!$B:$H,3,0),VLOOKUP(B21,'SINAPI-insumo'!$B:$H,3,0))) -> MES | F21: 8 | G21: =IFERROR(VLOOKUP(B21,'SINAPI-comp'!$B:$H,4,0)-H21,0) -> 0 | H21: =IF(C21="SINAPI",IFERROR(VLOOKUP(B21,'SINAPI-comp'!$B:$H,7,0),VLOOKUP(B21,'SINAPI-insumo'!$B:$H,7,0))) -> 1100 | I21: =G21+H21 -> 1100 | J21: 0.2094 | K21: =I21+ROUND(I21*J21,2) -> 1330.34 | L21: =TRUNC(TRUNC(G21*(1+J21),2)*F21,2) -> 0 | M21: =N21-L21 -> 10642.72 | N21: =ROUND(F21*K21,2) -> 10642.72
A22: 2.5 | B22: 10779 | C22: SINAPI | D22: =IF(C22="SINAPI",IFERROR(VLOOKUP(B22,'SINAPI-comp'!$B:$H,2,0),VLOOKUP(B22,'SINAPI-insumo'!$B:$H,2,0))) -> LOCACAO DE CONTAINER 2,30 X 4,30 M, ALT. 2,50 M, P/ SANITARIO, C/ 5 BACIAS, 1 LAVATORIO E 4 MICTORIOS (NAO INCLUI MOBILIZACAO/DESMOBILIZACAO) | E22: =IF(C22="SINAPI",IFERROR(VLOOKUP(B22,'SINAPI-comp'!$B:$H,3,0),VLOOKUP(B22,'SINAPI-insumo'!$B:$H,3,0))) -> MES | F22: 8 | G22: =IFERROR(VLOOKUP(B22,'SINAPI-comp'!$B:$H,4,0)-H22,0) -> 0 | H22: =IF(C22="SINAPI",IFERROR(VLOOKUP(B22,'SINAPI-comp'!$B:$H,7,0),VLOOKUP(B22,'SINAPI-insumo'!$B:$H,7,0))) -> 1375 | I22: =G22+H22 -> 1375 | J22: 0.2094 | K22: =I22+ROUND(I22*J22,2) -> 1662.93 | L22: =TRUNC(TRUNC(G22*(1+J22),2)*F22,2) -> 0 | M22: =N22-L22 -> 13303.44 | N22: =ROUND(F22*K22,2) -> 13303.44
A23: 2.6 | B23: CCU 06 | C23: COMPOSICAO_PROPRIA | D23: =VLOOKUP(B23,composicoes!$A:$K,2,0) -> PLACA DE OBRA EM CHAPA GALVANIZADA *N. 22*, ADESIVADA, INCLUSO MADEIRAMENTO E INSTALAÇÃO | E23: =VLOOKUP(B23,composicoes!$A:$K,8,0) -> M2 | F23: 6 | G23: =VLOOKUP(B23,composicoes!$A:$K,10,0) -> 75.48 | H23: =VLOOKUP(B23,composicoes!$A:$K,11,0) -> 440.18 | I23: =G23+H23 -> 515.66 | J23: 0.289 | K23: =I23+ROUND(I23*J23,2) -> 664.69 | L23: =TRUNC(TRUNC(G23*(1+J23),2)*F23,2) -> 583.74 | M23: =N23-L23 -> 3404.4 | N23: =ROUND(F23*K23,2) -> 3988.14
A24: 2.7 | B24: 98458 | C24: SINAPI | D24: =IF(C24="SINAPI",IFERROR(VLOOKUP(B24,'SINAPI-comp'!$B:$H,2,0),VLOOKUP(B24,'SINAPI-insumo'!$B:$H,2,0))) -> TAPUME COM COMPENSADO DE MADEIRA. AF_03/2024 | E24: =IF(C24="SINAPI",IFERROR(VLOOKUP(B24,'SINAPI-comp'!$B:$H,3,0),VLOOKUP(B24,'SINAPI-insumo'!$B:$H,3,0))) -> M2 | F24: 213.4 | G24: =IFERROR(VLOOKUP(B24,'SINAPI-comp'!$B:$H,4,0)-H24,0) -> 36.63 | H24: =IF(C24="SINAPI",IFERROR(VLOOKUP(B24,'SINAPI-comp'!$B:$H,7,0),VLOOKUP(B24,'SINAPI-insumo'!$B:$H,7,0))) -> 63.58 | I24: =G24+H24 -> 100.21 | J24: 0.289 | K24: =I24+ROUND(I24*J24,2) -> 129.17 | L24: =TRUNC(TRUNC(G24*(1+J24),2)*F24,2) -> 10074.61 | M24: =N24-L24 -> 17490.27 | N24: =ROUND(F24*K24,2) -> 27564.88
A25: 2.8 | B25: 94649 | C25: SINAPI | D25: =IF(C25="SINAPI",IFERROR(VLOOKUP(B25,'SINAPI-comp'!$B:$H,2,0),VLOOKUP(B25,'SINAPI-insumo'!$B:$H,2,0))) -> TUBO, PVC, SOLDÁVEL, DE 32MM, INSTALADO EM RESERVAÇÃO PREDIAL DE ÁGUA - FORNECIMENTO E INSTALAÇÃO. AF_04/2024 | E25: =IF(C25="SINAPI",IFERROR(VLOOKUP(B25,'SINAPI-comp'!$B:$H,3,0),VLOOKUP(B25,'SINAPI-insumo'!$B:$H,3,0))) -> M | F25: 25 | G25: =IFERROR(VLOOKUP(B25,'SINAPI-comp'!$B:$H,4,0)-H25,0) -> 3.14 | H25: =IF(C25="SINAPI",IFERROR(VLOOKUP(B25,'SINAPI-comp'!$B:$H,7,0),VLOOKUP(B25,'SINAPI-insumo'!$B:$H,7,0))) -> 11.55 | I25: =G25+H25 -> 14.69 | J25: 0.289 | K25: =I25+ROUND(I25*J25,2) -> 18.94 | L25: =TRUNC(TRUNC(G25*(1+J25),2)*F25,2) -> 101 | M25: =N25-L25 -> 372.5 | N25: =ROUND(F25*K25,2) -> 473.5
A26: 2.9 | B26: 103038 | C26: SINAPI | D26: =IF(C26="SINAPI",IFERROR(VLOOKUP(B26,'SINAPI-comp'!$B:$H,2,0),VLOOKUP(B26,'SINAPI-insumo'!$B:$H,2,0))) -> REGISTRO DE ESFERA, PVC, ROSCÁVEL, COM VOLANTE, 1 1/4" - FORNECIMENTO E INSTALAÇÃO. AF_08/2021 | E26: =IF(C26="SINAPI",IFERROR(VLOOKUP(B26,'SINAPI-comp'!$B:$H,3,0),VLOOKUP(B26,'SINAPI-insumo'!$B:$H,3,0))) -> UN | F26: 1 | G26: =IFERROR(VLOOKUP(B26,'SINAPI-comp'!$B:$H,4,0)-H26,0) -> 102.51 | H26: =IF(C26="SINAPI",IFERROR(VLOOKUP(B26,'SINAPI-comp'!$B:$H,7,0),VLOOKUP(B26,'SINAPI-insumo'!$B:$H,7,0))) -> 0 | I26: =G26+H26 -> 102.51 | J26: 0.289 | K26: =I26+ROUND(I26*J26,2) -> 132.14 | L26: =TRUNC(TRUNC(G26*(1+J26),2)*F26,2) -> 132.13 | M26: =N26-L26 -> 0.01 | N26: =ROUND(F26*K26,2) -> 132.14
A27: 2.10 | B27: 94674 | C27: SINAPI | D27: =IF(C27="SINAPI",IFERROR(VLOOKUP(B27,'SINAPI-comp'!$B:$H,2,0),VLOOKUP(B27,'SINAPI-insumo'!$B:$H,2,0))) -> JOELHO 90 GRAUS, PVC, SOLDÁVEL, DN 32 MM INSTALADO EM RESERVAÇÃO PREDIAL DE ÁGUA - FORNECIMENTO E INSTALAÇÃO. AF_04/2024 | E27: =IF(C27="SINAPI",IFERROR(VLOOKUP(B27,'SINAPI-comp'!$B:$H,3,0),VLOOKUP(B27,'SINAPI-insumo'!$B:$H,3,0))) -> UN | F27: 10 | G27: =IFERROR(VLOOKUP(B27,'SINAPI-comp'!$B:$H,4,0)-H27,0) -> 3.89 | H27: =IF(C27="SINAPI",IFERROR(VLOOKUP(B27,'SINAPI-comp'!$B:$H,7,0),VLOOKUP(B27,'SINAPI-insumo'!$B:$H,7,0))) -> 4.81 | I27: =G27+H27 -> 8.7 | J27: 0.289 | K27: =I27+ROUND(I27*J27,2) -> 11.21 | L27: =TRUNC(TRUNC(G27*(1+J27),2)*F27,2) -> 50.1 | M27: =N27-L27 -> 62 | N27: =ROUND(F27*K27,2) -> 112.1
A28: 2.11 | B28: 86913 | C28: SINAPI | D28: =IF(C28="SINAPI",IFERROR(VLOOKUP(B28,'SINAPI-comp'!$B:$H,2,0),VLOOKUP(B28,'SINAPI-insumo'!$B:$H,2,0))) -> TORNEIRA CROMADA 1/2" OU 3/4" PARA TANQUE, PADRÃO POPULAR - FORNECIMENTO E INSTALAÇÃO. AF_01/2020 | E28: =IF(C28="SINAPI",IFERROR(VLOOKUP(B28,'SINAPI-comp'!$B:$H,3,0),VLOOKUP(B28,'SINAPI-insumo'!$B:$H,3,0))) -> UN | F28: 1 | G28: =IFERROR(VLOOKUP(B28,'SINAPI-comp'!$B:$H,4,0)-H28,0) -> 5.35 | H28: =IF(C28="SINAPI",IFERROR(VLOOKUP(B28,'SINAPI-comp'!$B:$H,7,0),VLOOKUP(B28,'SINAPI-insumo'!$B:$H,7,0))) -> 88.41 | I28: =G28+H28 -> 93.76 | J28: 0.289 | K28: =I28+ROUND(I28*J28,2) -> 120.86 | L28: =TRUNC(TRUNC(G28*(1+J28),2)*F28,2) -> 6.89 | M28: =N28-L28 -> 113.97 | N28: =ROUND(F28*K28,2) -> 120.86
A29: 2.12 | B29: 89714 | C29: SINAPI | D29: =IF(C29="SINAPI",IFERROR(VLOOKUP(B29,'SINAPI-comp'!$B:$H,2,0),VLOOKUP(B29,'SINAPI-insumo'!$B:$H,2,0))) -> TUBO PVC, SERIE NORMAL, ESGOTO PREDIAL, DN 100 MM, FORNECIDO E INSTALADO EM RAMAL DE DESCARGA OU RAMAL DE ESGOTO SANITÁRIO. AF_08/2022 | E29: =IF(C29="SINAPI",IFERROR(VLOOKUP(B29,'SINAPI-comp'!$B:$H,3,0),VLOOKUP(B29,'SINAPI-insumo'!$B:$H,3,0))) -> M | F29: 25 | G29: =IFERROR(VLOOKUP(B29,'SINAPI-comp'!$B:$H,4,0)-H29,0) -> 23.08 | H29: =IF(C29="SINAPI",IFERROR(VLOOKUP(B29,'SINAPI-comp'!$B:$H,7,0),VLOOKUP(B29,'SINAPI-insumo'!$B:$H,7,0))) -> 18.83 | I29: =G29+H29 -> 41.91 | J29: 0.289 | K29: =I29+ROUND(I29*J29,2) -> 54.02 | L29: =TRUNC(TRUNC(G29*(1+J29),2)*F29,2) -> 743.75 | M29: =N29-L29 -> 606.75 | N29: =ROUND(F29*K29,2) -> 1350.5
A30: 2.13 | B30: 89778 | C30: SINAPI | D30: =IF(C30="SINAPI",IFERROR(VLOOKUP(B30,'SINAPI-comp'!$B:$H,2,0),VLOOKUP(B30,'SINAPI-insumo'!$B:$H,2,0))) -> LUVA SIMPLES, PVC, SERIE NORMAL, ESGOTO PREDIAL, DN 100 MM, JUNTA ELÁSTICA, FORNECIDO E INSTALADO EM RAMAL DE DESCARGA OU RAMAL DE ESGOTO SANITÁRIO. AF_08/2022 | E30: =IF(C30="SINAPI",IFERROR(VLOOKUP(B30,'SINAPI-comp'!$B:$H,3,0),VLOOKUP(B30,'SINAPI-insumo'!$B:$H,3,0))) -> UN | F30: 3 | G30: =IFERROR(VLOOKUP(B30,'SINAPI-comp'!$B:$H,4,0)-H30,0) -> 6.66 | H30: =IF(C30="SINAPI",IFERROR(VLOOKUP(B30,'SINAPI-comp'!$B:$H,7,0),VLOOKUP(B30,'SINAPI-insumo'!$B:$H,7,0))) -> 13.7 | I30: =G30+H30 -> 20.36 | J30: 0.289 | K30: =I30+ROUND(I30*J30,2) -> 26.24 | L30: =TRUNC(TRUNC(G30*(1+J30),2)*F30,2) -> 25.74 | M30: =N30-L30 -> 52.98 | N30: =ROUND(F30*K30,2) -> 78.72
A31: 2.14 | B31: 89746 | C31: SINAPI | D31: =IF(C31="SINAPI",IFERROR(VLOOKUP(B31,'SINAPI-comp'!$B:$H,2,0),VLOOKUP(B31,'SINAPI-insumo'!$B:$H,2,0))) -> JOELHO 45 GRAUS, PVC, SERIE NORMAL, ESGOTO PREDIAL, DN 100 MM, JUNTA ELÁSTICA, FORNECIDO E INSTALADO EM RAMAL DE DESCARGA OU RAMAL DE ESGOTO SANITÁRIO. AF_08/2022 | E31: =IF(C31="SINAPI",IFERROR(VLOOKUP(B31,'SINAPI-comp'!$B:$H,3,0),VLOOKUP(B31,'SINAPI-insumo'!$B:$H,3,0))) -> UN | F31: 5 | G31: =IFERROR(VLOOKUP(B31,'SINAPI-comp'!$B:$H,4,0)-H31,0) -> 10.01 | H31: =IF(C31="SINAPI",IFERROR(VLOOKUP(B31,'SINAPI-comp'!$B:$H,7,0),VLOOKUP(B31,'SINAPI-insumo'!$B:$H,7,0))) -> 21 | I31: =G31+H31 -> 31.01 | J31: 0.289 | K31: =I31+ROUND(I31*J31,2) -> 39.97 | L31: =TRUNC(TRUNC(G31*(1+J31),2)*F31,2) -> 64.5 | M31: =N31-L31 -> 135.35 | N31: =ROUND(F31*K31,2) -> 199.85
A32: 2.15 | B32: 89711 | C32: SINAPI | D32: =IF(C32="SINAPI",IFERROR(VLOOKUP(B32,'SINAPI-comp'!$B:$H,2,0),VLOOKUP(B32,'SINAPI-insumo'!$B:$H,2,0))) -> TUBO PVC, SERIE NORMAL, ESGOTO PREDIAL, DN 40 MM, FORNECIDO E INSTALADO EM RAMAL DE DESCARGA OU RAMAL DE ESGOTO SANITÁRIO. AF_08/2022 | E32: =IF(C32="SINAPI",IFERROR(VLOOKUP(B32,'SINAPI-comp'!$B:$H,3,0),VLOOKUP(B32,'SINAPI-insumo'!$B:$H,3,0))) -> M | F32: 5 | G32: =IFERROR(VLOOKUP(B32,'SINAPI-comp'!$B:$H,4,0)-H32,0) -> 15.22 | H32: =IF(C32="SINAPI",IFERROR(VLOOKUP(B32,'SINAPI-comp'!$B:$H,7,0),VLOOKUP(B32,'SINAPI-insumo'!$B:$H,7,0))) -> 8.22 | I32: =G32+H32 -> 23.44 | J32: 0.289 | K32: =I32+ROUND(I32*J32,2) -> 30.21 | L32: =TRUNC(TRUNC(G32*(1+J32),2)*F32,2) -> 98.05 | M32: =N32-L32 -> 53 | N32: =ROUND(F32*K32,2) -> 151.05
A33: 2.16 | B33: 89726 | C33: SINAPI | D33: =IF(C33="SINAPI",IFERROR(VLOOKUP(B33,'SINAPI-comp'!$B:$H,2,0),VLOOKUP(B33,'SINAPI-insumo'!$B:$H,2,0))) -> JOELHO 45 GRAUS, PVC, SERIE NORMAL, ESGOTO PREDIAL, DN 40 MM, JUNTA SOLDÁVEL, FORNECIDO E INSTALADO EM RAMAL DE DESCARGA OU RAMAL DE ESGOTO SANITÁRIO. AF_08/2022 | E33: =IF(C33="SINAPI",IFERROR(VLOOKUP(B33,'SINAPI-comp'!$B:$H,3,0),VLOOKUP(B33,'SINAPI-insumo'!$B:$H,3,0))) -> UN | F33: 5 | G33: =IFERROR(VLOOKUP(B33,'SINAPI-comp'!$B:$H,4,0)-H33,0) -> 6.6 | H33: =IF(C33="SINAPI",IFERROR(VLOOKUP(B33,'SINAPI-comp'!$B:$H,7,0),VLOOKUP(B33,'SINAPI-insumo'!$B:$H,7,0))) -> 5.05 | I33: =G33+H33 -> 11.65 | J33: 0.289 | K33: =I33+ROUND(I33*J33,2) -> 15.02 | L33: =TRUNC(TRUNC(G33*(1+J33),2)*F33,2) -> 42.5 | M33: =N33-L33 -> 32.6 | N33: =ROUND(F33*K33,2) -> 75.1
A34: 2.17 | B34: 93671 | C34: SINAPI | D34: =IF(C34="SINAPI",IFERROR(VLOOKUP(B34,'SINAPI-comp'!$B:$H,2,0),VLOOKUP(B34,'SINAPI-insumo'!$B:$H,2,0))) -> DISJUNTOR TRIPOLAR TIPO DIN, CORRENTE NOMINAL DE 32A - FORNECIMENTO E INSTALAÇÃO. AF_07/2025 | E34: =IF(C34="SINAPI",IFERROR(VLOOKUP(B34,'SINAPI-comp'!$B:$H,3,0),VLOOKUP(B34,'SINAPI-insumo'!$B:$H,3,0))) -> UN | F34: 2 | G34: =IFERROR(VLOOKUP(B34,'SINAPI-comp'!$B:$H,4,0)-H34,0) -> 14.39 | H34: =IF(C34="SINAPI",IFERROR(VLOOKUP(B34,'SINAPI-comp'!$B:$H,7,0),VLOOKUP(B34,'SINAPI-insumo'!$B:$H,7,0))) -> 65.63 | I34: =G34+H34 -> 80.02 | J34: 0.289 | K34: =I34+ROUND(I34*J34,2) -> 103.15 | L34: =TRUNC(TRUNC(G34*(1+J34),2)*F34,2) -> 37.08 | M34: =N34-L34 -> 169.22 | N34: =ROUND(F34*K34,2) -> 206.3
A35: 2.18 | B35: 91931 | C35: SINAPI | D35: =IF(C35="SINAPI",IFERROR(VLOOKUP(B35,'SINAPI-comp'!$B:$H,2,0),VLOOKUP(B35,'SINAPI-insumo'!$B:$H,2,0))) -> CABO DE COBRE FLEXÍVEL ISOLADO, 6 MM², ANTI-CHAMA 0,6/1,0 KV, PARA CIRCUITOS TERMINAIS - FORNECIMENTO E INSTALAÇÃO. AF_03/2023 | E35: =IF(C35="SINAPI",IFERROR(VLOOKUP(B35,'SINAPI-comp'!$B:$H,3,0),VLOOKUP(B35,'SINAPI-insumo'!$B:$H,3,0))) -> M | F35: 60 | G35: =IFERROR(VLOOKUP(B35,'SINAPI-comp'!$B:$H,4,0)-H35,0) -> 2.81 | H35: =IF(C35="SINAPI",IFERROR(VLOOKUP(B35,'SINAPI-comp'!$B:$H,7,0),VLOOKUP(B35,'SINAPI-insumo'!$B:$H,7,0))) -> 7.73 | I35: =G35+H35 -> 10.54 | J35: 0.289 | K35: =I35+ROUND(I35*J35,2) -> 13.59 | L35: =TRUNC(TRUNC(G35*(1+J35),2)*F35,2) -> 217.2 | M35: =N35-L35 -> 598.2 | N35: =ROUND(F35*K35,2) -> 815.4
A36: 2.19 | B36: CCU 09 | C36: COMPOSICAO_PROPRIA | D36: =VLOOKUP(B36,composicoes!$A:$K,2,0) -> RESERVATÓRIO EM POLIESTER REFORCADO COM FIBRA DE VIDRO, 1.500 LITROS | E36: =VLOOKUP(B36,composicoes!$A:$K,8,0) -> UN | F36: 1 | G36: =VLOOKUP(B36,composicoes!$A:$K,10,0) -> 76.2 | H36: =VLOOKUP(B36,composicoes!$A:$K,11,0) -> 1001.33 | I36: =G36+H36 -> 1077.53 | J36: 0.289 | K36: =I36+ROUND(I36*J36,2) -> 1388.94 | L36: =TRUNC(TRUNC(G36*(1+J36),2)*F36,2) -> 98.22 | M36: =N36-L36 -> 1290.72 | N36: =ROUND(F36*K36,2) -> 1388.94
A37: 2.20 | B37: 37460 | C37: SINAPI | D37: =IF(C37="SINAPI",IFERROR(VLOOKUP(B37,'SINAPI-comp'!$B:$H,2,0),VLOOKUP(B37,'SINAPI-insumo'!$B:$H,2,0))) -> MANGUEIRA CRISTAL TRANCADA, PVC COM REFORCO, PRESSAO DE TRABALHO (PT) 250 LBS/POL2, DE 1" X *3,1* MM | E37: =IF(C37="SINAPI",IFERROR(VLOOKUP(B37,'SINAPI-comp'!$B:$H,3,0),VLOOKUP(B37,'SINAPI-insumo'!$B:$H,3,0))) -> M | F37: 30 | G37: =IFERROR(VLOOKUP(B37,'SINAPI-comp'!$B:$H,4,0)-H37,0) -> 0 | H37: =IF(C37="SINAPI",IFERROR(VLOOKUP(B37,'SINAPI-comp'!$B:$H,7,0),VLOOKUP(B37,'SINAPI-insumo'!$B:$H,7,0))) -> 22.21 | I37: =G37+H37 -> 22.21 | J37: 0.289 | K37: =I37+ROUND(I37*J37,2) -> 28.63 | L37: =TRUNC(TRUNC(G37*(1+J37),2)*F37,2) -> 0 | M37: =N37-L37 -> 858.9 | N37: =ROUND(F37*K37,2) -> 858.9
A38: 2.21 | B38: 93358 | C38: SINAPI | D38: =IF(C38="SINAPI",IFERROR(VLOOKUP(B38,'SINAPI-comp'!$B:$H,2,0),VLOOKUP(B38,'SINAPI-insumo'!$B:$H,2,0))) -> ESCAVAÇÃO MANUAL DE VALA. AF_09/2024 | E38: =IF(C38="SINAPI",IFERROR(VLOOKUP(B38,'SINAPI-comp'!$B:$H,3,0),VLOOKUP(B38,'SINAPI-insumo'!$B:$H,3,0))) -> M3 | F38: =TRUNC(F25*0.3*0.4,2) -> 3 | G38: =IFERROR(VLOOKUP(B38,'SINAPI-comp'!$B:$H,4,0)-H38,0) -> 92.88 | H38: =IF(C38="SINAPI",IFERROR(VLOOKUP(B38,'SINAPI-comp'!$B:$H,7,0),VLOOKUP(B38,'SINAPI-insumo'!$B:$H,7,0))) -> 0 | I38: =G38+H38 -> 92.88 | J38: 0.289 | K38: =I38+ROUND(I38*J38,2) -> 119.72 | L38: =TRUNC(TRUNC(G38*(1+J38),2)*F38,2) -> 359.16 | M38: =N38-L38 -> 0 | N38: =ROUND(F38*K38,2) -> 359.16
A39: 2.22 | B39: 104737 | C39: SINAPI | D39: =IF(C39="SINAPI",IFERROR(VLOOKUP(B39,'SINAPI-comp'!$B:$H,2,0),VLOOKUP(B39,'SINAPI-insumo'!$B:$H,2,0))) -> REATERRO MANUAL DE VALAS, COM PLACA VIBRATÓRIA. AF_08/2023 | E39: =IF(C39="SINAPI",IFERROR(VLOOKUP(B39,'SINAPI-comp'!$B:$H,3,0),VLOOKUP(B39,'SINAPI-insumo'!$B:$H,3,0))) -> M3 | F39: =F38 -> 3 | G39: =IFERROR(VLOOKUP(B39,'SINAPI-comp'!$B:$H,4,0)-H39,0) -> 20.83 | H39: =IF(C39="SINAPI",IFERROR(VLOOKUP(B39,'SINAPI-comp'!$B:$H,7,0),VLOOKUP(B39,'SINAPI-insumo'!$B:$H,7,0))) -> 2.72 | I39: =G39+H39 -> 23.55 | J39: 0.289 | K39: =I39+ROUND(I39*J39,2) -> 30.36 | L39: =TRUNC(TRUNC(G39*(1+J39),2)*F39,2) -> 80.52 | M39: =N39-L39 -> 10.56 | N39: =ROUND(F39*K39,2) -> 91.08
A40: 3 | D40: DEMOLIÇÕES E RETIRADAS
A41: 3.1 | B41: 97627 | C41: SINAPI | D41: =IF(C41="SINAPI",IFERROR(VLOOKUP(B41,'SINAPI-comp'!$B:$H,2,0),VLOOKUP(B41,'SINAPI-insumo'!$B:$H,2,0))) -> DEMOLIÇÃO DE PILARES E VIGAS EM CONCRETO ARMADO, DE FORMA MECANIZADA COM MARTELETE, SEM REAPROVEITAMENTO. AF_09/2023 | E41: =IF(C41="SINAPI",IFERROR(VLOOKUP(B41,'SINAPI-comp'!$B:$H,3,0),VLOOKUP(B41,'SINAPI-insumo'!$B:$H,3,0))) -> M3 | F41: 3 | G41: =IFERROR(VLOOKUP(B41,'SINAPI-comp'!$B:$H,4,0)-H41,0) -> 35.33 | H41: =IF(C41="SINAPI",IFERROR(VLOOKUP(B41,'SINAPI-comp'!$B:$H,7,0),VLOOKUP(B41,'SINAPI-insumo'!$B:$H,7,0))) -> 15.41 | I41: =G41+H41 -> 50.74 | J41: 0.289 | K41: =I41+ROUND(I41*J41,2) -> 65.4 | L41: =TRUNC(TRUNC(G41*(1+J41),2)*F41,2) -> 136.62 | M41: =N41-L41 -> 59.58 | N41: =ROUND(F41*K41,2) -> 196.2
A42: 3.2 | B42: 97624 | C42: SINAPI | D42: =IF(C42="SINAPI",IFERROR(VLOOKUP(B42,'SINAPI-comp'!$B:$H,2,0),VLOOKUP(B42,'SINAPI-insumo'!$B:$H,2,0))) -> DEMOLIÇÃO DE ALVENARIA DE TIJOLO MACIÇO, DE FORMA MANUAL, SEM REAPROVEITAMENTO. AF_09/2023 | E42: =IF(C42="SINAPI",IFERROR(VLOOKUP(B42,'SINAPI-comp'!$B:$H,3,0),VLOOKUP(B42,'SINAPI-insumo'!$B:$H,3,0))) -> M3 | F42: 10 | G42: =IFERROR(VLOOKUP(B42,'SINAPI-comp'!$B:$H,4,0)-H42,0) -> 115.65 | H42: =IF(C42="SINAPI",IFERROR(VLOOKUP(B42,'SINAPI-comp'!$B:$H,7,0),VLOOKUP(B42,'SINAPI-insumo'!$B:$H,7,0))) -> 0 | I42: =G42+H42 -> 115.65 | J42: 0.289 | K42: =I42+ROUND(I42*J42,2) -> 149.07 | L42: =TRUNC(TRUNC(G42*(1+J42),2)*F42,2) -> 1490.7 | M42: =N42-L42 -> 0 | N42: =ROUND(F42*K42,2) -> 1490.7
...

Sheet composicoes
B1: PREFEITURA MUNICIPAL DE PORTO ALEGRE
B2: SECRETARIA MUNICIPAL DE OBRAS E INFRAESTRUTURA
B3: =orcamento!D3 -> Objeto: Reforço de Fundação em Estaca Mega - Unidade de Saúde Cruzeiro do Sul
B4: =orcamento!D4 -> Endereço: Rua Dona Malvina Acesso A, nº 195, Santa Teresa, Porto Alegre, RS
B6: COMPOSIÇÕES DE CUSTOS UNITÁRIAS
A8: CÓDIGO: | B8: DESCRIÇÃO: | H8: UNIDADE: | I8: PRAZO (mês): | J8: CUSTO TOTAL (MO): | K8: CUSTO TOTAL (MAT):
A9: CCU 01 | B9: EQUIPE DE ADMINISTRAÇÃO LOCAL | H9: UN | I9: 8 | J9: =TRUNC(SUM(J11:J15),2) -> 116109.36 | K9: =TRUNC(SUM(K11:K15),2) -> 1477.8
A10: ITEM | B10: DESCRIÇÃO | C10: UNID. | D10: COEF. | E10: REFERENCIAL COEF. | F10: CUSTO UNITARIO (MO) | G10: CUSTO UNITARIO (MAT) | H10: REFERENCIAL CUSTO | J10: CUSTO TOTAL (MO) | K10: CUSTO TOTAL (MAT)
A11: 1 | B11: =IF(OR(H11="SINAPI",H11="SINAPI-I"),IFERROR(VLOOKUP(I11,'SINAPI-comp'!$B:$H,2,0),VLOOKUP(I11,'SINAPI-insumo'!$B:$H,2,0))) -> ENGENHEIRO CIVIL DE OBRA PLENO COM ENCARGOS COMPLEMENTARES | C11: =IF(OR(H11="SINAPI",H11="SINAPI-I"),IFERROR(VLOOKUP(I11,'SINAPI-comp'!$B:$H,3,0),VLOOKUP(I11,'SINAPI-insumo'!$B:$H,3,0))) -> H | D11: =I9*(20*0.5) -> 80 | E11: 0,5h/dia | F11: =IFERROR(VLOOKUP(I11,'SINAPI-comp'!$B:$H,4,0)-G11,0) -> 135.68 | G11: =IF(OR(H11="SINAPI",H11="SINAPI-I"),IFERROR(VLOOKUP(I11,'SINAPI-comp'!$B:$H,7,0),VLOOKUP(I11,'SINAPI-insumo'!$B:$H,7,0))) -> 0 | H11: SINAPI | I11: 90778 | J11: =TRUNC($D11*F11,4) -> 10854.4 | K11: =TRUNC($D11*G11,4) -> 0
A12: 2 | B12: =IF(OR(H12="SINAPI",H12="SINAPI-I"),IFERROR(VLOOKUP(I12,'SINAPI-comp'!$B:$H,2,0),VLOOKUP(I12,'SINAPI-insumo'!$B:$H,2,0))) -> TÉCNICO EM SEGURANÇA DO TRABALHO COM ENCARGOS COMPLEMENTARES | C12: =IF(OR(H12="SINAPI",H12="SINAPI-I"),IFERROR(VLOOKUP(I12,'SINAPI-comp'!$B:$H,3,0),VLOOKUP(I12,'SINAPI-insumo'!$B:$H,3,0))) -> H | D12: =I9*20*0.5 -> 80 | E12: 1h/semana | F12: =IFERROR(VLOOKUP(I12,'SINAPI-comp'!$B:$H,4,0)-G12,0) -> 44.25 | G12: =IF(OR(H12="SINAPI",H12="SINAPI-I"),IFERROR(VLOOKUP(I12,'SINAPI-comp'!$B:$H,7,0),VLOOKUP(I12,'SINAPI-insumo'!$B:$H,7,0))) -> 0 | H12: SINAPI | I12: 100309 | J12: =TRUNC($D12*F12,4) -> 3540 | K12: =TRUNC($D12*G12,4) -> 0
A13: 3 | B13: =IF(OR(H13="SINAPI",H13="SINAPI-I"),IFERROR(VLOOKUP(I13,'SINAPI-comp'!$B:$H,2,0),VLOOKUP(I13,'SINAPI-insumo'!$B:$H,2,0))) -> ENCARREGADO GERAL DE OBRAS COM ENCARGOS COMPLEMENTARES | C13: =IF(OR(H13="SINAPI",H13="SINAPI-I"),IFERROR(VLOOKUP(I13,'SINAPI-comp'!$B:$H,3,0),VLOOKUP(I13,'SINAPI-insumo'!$B:$H,3,0))) -> MES | D13: =I9 -> 8 | F13: =IFERROR(VLOOKUP(I13,'SINAPI-comp'!$B:$H,4,0)-G13,0) -> 12481.17 | G13: =IF(OR(H13="SINAPI",H13="SINAPI-I"),IFERROR(VLOOKUP(I13,'SINAPI-comp'!$B:$H,7,0),VLOOKUP(I13,'SINAPI-insumo'!$B:$H,7,0))) -> 0 | H13: SINAPI | I13: 93572 | J13: =TRUNC($D13*F13,4) -> 99849.36 | K13: =TRUNC($D13*G13,4) -> 0
A14: 4 | B14: =IF(OR(H14="SINAPI",H14="SINAPI-I"),IFERROR(VLOOKUP(I14,'SINAPI-comp'!$B:$H,2,0),VLOOKUP(I14,'SINAPI-insumo'!$B:$H,2,0))) -> AUXILIAR DE SERVIÇOS GERAIS COM ENCARGOS COMPLEMENTARES | C14: =IF(OR(H14="SINAPI",H14="SINAPI-I"),IFERROR(VLOOKUP(I14,'SINAPI-comp'!$B:$H,3,0),VLOOKUP(I14,'SINAPI-insumo'!$B:$H,3,0))) -> H | D14: =D11 -> 80 | E14: 1h/dia | F14: =IFERROR(VLOOKUP(I14,'SINAPI-comp'!$B:$H,4,0)-G14,0) -> 23.32 | G14: =IF(OR(H14="SINAPI",H14="SINAPI-I"),IFERROR(VLOOKUP(I14,'SINAPI-comp'!$B:$H,7,0),VLOOKUP(I14,'SINAPI-insumo'!$B:$H,7,0))) -> 0 | H14: SINAPI | I14: 88252 | J14: =TRUNC($D14*F14,4) -> 1865.6 | K14: =TRUNC($D14*G14,4) -> 0
A15: 5 | B15: =VLOOKUP(I15,tabelas!$A:$L,4,0) -> Veículo leve - 53 kW (sem motorista) | C15: =VLOOKUP(I15,tabelas!$A:$L,5,0) -> CHP | D15: =D12*0.5 -> 40 | F15: 0 | G15: =VLOOKUP($I15,tabelas!$A:$L,12,0) -> 36.945 | H15: COTACAO | I15: TAB 03.01 | J15: =TRUNC($D15*F15,4) -> 0 | K15: =TRUNC($D15*G15,4) -> 1477.8
A18: CÓDIGO: | B18: DESCRIÇÃO: | H18: UNIDADE: | J18: CUSTO TOTAL (MO): | K18: CUSTO TOTAL (MAT):
A19: CCU 02 | B19: SERVIÇO DE VIGIÂNCIA NOTURNA (DIÁRIA) E DIURNA (FINAIS DE SEMANA) | H19: MÊS | J19: =TRUNC(SUM(J21:J29),2) -> 6895.64 | K19: =TRUNC(SUM(K21:K29),2) -> 1100.09
A20: ITEM | B20: DESCRIÇÃO | C20: UNID. | D20: COEF. | E20: REFERENCIAL COEF. | F20: CUSTO UNITARIO (MO) | G20: CUSTO UNITARIO (MAT) | H20: REFERENCIAL CUSTO | J20: CUSTO TOTAL (MO) | K20: CUSTO TOTAL (MAT)
A21: 1 | B21: =IF(OR(H21="SINAPI",H21="SINAPI-I"),IFERROR(VLOOKUP(I21,'SINAPI-comp'!$B:$H,2,0),VLOOKUP(I21,'SINAPI-insumo'!$B:$H,2,0))) -> VIGIA DIURNO COM ENCARGOS COMPLEMENTARES | C21: =IF(OR(H21="SINAPI",H21="SINAPI-I"),IFERROR(VLOOKUP(I21,'SINAPI-comp'!$B:$H,3,0),VLOOKUP(I21,'SINAPI-insumo'!$B:$H,3,0))) -> H | D21: =12*2*4 -> 96 | F21: =IFERROR(VLOOKUP(I21,'SINAPI-comp'!$B:$H,4,0)-G21,0) -> 25.18 | G21: =IF(OR(H21="SINAPI",H21="SINAPI-I"),IFERROR(VLOOKUP(I21,'SINAPI-comp'!$B:$H,7,0),VLOOKUP(I21,'SINAPI-insumo'!$B:$H,7,0))) -> 0 | H21: SINAPI | I21: 100289 | J21: =TRUNC($D21*F21,4) -> 2417.28 | K21: =TRUNC($D21*G21,4) -> 0
A22: 2.1 | B22: =IF(OR(H22="SINAPI",H22="SINAPI-I"),IFERROR(VLOOKUP(I22,'SINAPI-comp'!$B:$H,2,0),VLOOKUP(I22,'SINAPI-insumo'!$B:$H,2,0))) -> VIGIA DIURNO (MENSALISTA) | C22: =IF(OR(H22="SINAPI",H22="SINAPI-I"),IFERROR(VLOOKUP(I22,'SINAPI-comp'!$B:$H,3,0),VLOOKUP(I22,'SINAPI-insumo'!$B:$H,3,0))) -> MES | D22: 1.3715 | F22: =IF(OR(H22="SINAPI",H22="SINAPI-I"),IFERROR(VLOOKUP(I22,'SINAPI-comp'!$B:$H,7,0),VLOOKUP(I22,'SINAPI-insumo'!$B:$H,7,0))) -> 3256.21 | G22: 0 | H22: SINAPI-I | I22: 41096 | J22: =TRUNC($D22*F22,4) -> 4465.892 | K22: =TRUNC($D22*G22,4) -> 0
A23: 2.2 | B23: =IF(OR(H23="SINAPI",H23="SINAPI-I"),IFERROR(VLOOKUP(I23,'SINAPI-comp'!$B:$H,2,0),VLOOKUP(I23,'SINAPI-insumo'!$B:$H,2,0))) -> CURSO DE CAPACITAÇÃO PARA VIGIA DIURNO (ENCARGOS COMPLEMENTARES) - MENSALISTA | C23: =IF(OR(H23="SINAPI",H23="SINAPI-I"),IFERROR(VLOOKUP(I23,'SINAPI-comp'!$B:$H,3,0),VLOOKUP(I23,'SINAPI-insumo'!$B:$H,3,0))) -> MES | D23: 1 | F23: =IFERROR(VLOOKUP(I23,'SINAPI-comp'!$B:$H,4,0)-G23,0) -> 12.47 | G23: =IF(OR(H23="SINAPI",H23="SINAPI-I"),IFERROR(VLOOKUP(I23,'SINAPI-comp'!$B:$H,7,0),VLOOKUP(I23,'SINAPI-insumo'!$B:$H,7,0))) -> 0 | H23: SINAPI | I23: 101372 | J23: =TRUNC($D23*F23,4) -> 12.47 | K23: =TRUNC($D23*G23,4) -> 0
A24: 2.3 | B24: =IF(OR(H24="SINAPI",H24="SINAPI-I"),IFERROR(VLOOKUP(I24,'SINAPI-comp'!$B:$H,2,0),VLOOKUP(I24,'SINAPI-insumo'!$B:$H,2,0))) -> ALIMENTACAO - MENSALISTA (COLETADO CAIXA - ENCARGOS COMPLEMENTARES) | C24: =IF(OR(H24="SINAPI",H24="SINAPI-I"),IFERROR(VLOOKUP(I24,'SINAPI-comp'!$B:$H,3,0),VLOOKUP(I24,'SINAPI-insumo'!$B:$H,3,0))) -> MES | D24: 1 | F24: =IFERROR(VLOOKUP(I24,'SINAPI-comp'!$B:$H,4,0)-G24,0) -> 0 | G24: =IF(OR(H24="SINAPI",H24="SINAPI-I"),IFERROR(VLOOKUP(I24,'SINAPI-comp'!$B:$H,7,0),VLOOKUP(I24,'SINAPI-insumo'!$B:$H,7,0))) -> 304 | H24: SINAPI-I | I24: 40862 | J24: =TRUNC($D24*F24,4) -> 0 | K24: =TRUNC($D24*G24,4) -> 304
A25: 2.4 | B25: =IF(OR(H25="SINAPI",H25="SINAPI-I"),IFERROR(VLOOKUP(I25,'SINAPI-comp'!$B:$H,2,0),VLOOKUP(I25,'SINAPI-insumo'!$B:$H,2,0))) -> EPI - FAMILIA SERVENTE - MENSALISTA (ENCARGOS COMPLEMENTARES - COLETADO CAIXA) | C25: =IF(OR(H25="SINAPI",H25="SINAPI-I"),IFERROR(VLOOKUP(I25,'SINAPI-comp'!$B:$H,3,0),VLOOKUP(I25,'SINAPI-insumo'!$B:$H,3,0))) -> MES | D25: =D24 -> 1 | F25: =IFERROR(VLOOKUP(I25,'SINAPI-comp'!$B:$H,4,0)-G25,0) -> 0 | G25: =IF(OR(H25="SINAPI",H25="SINAPI-I"),IFERROR(VLOOKUP(I25,'SINAPI-comp'!$B:$H,7,0),VLOOKUP(I25,'SINAPI-insumo'!$B:$H,7,0))) -> 284.18 | H25: SINAPI-I | I25: 43503 | J25: =TRUNC($D25*F25,4) -> 0 | K25: =TRUNC($D25*G25,4) -> 284.18
A26: 2.5 | B26: =IF(OR(H26="SINAPI",H26="SINAPI-I"),IFERROR(VLOOKUP(I26,'SINAPI-comp'!$B:$H,2,0),VLOOKUP(I26,'SINAPI-insumo'!$B:$H,2,0))) -> EXAMES - MENSALISTA (COLETADO CAIXA - ENCARGOS COMPLEMENTARES) | C26: =IF(OR(H26="SINAPI",H26="SINAPI-I"),IFERROR(VLOOKUP(I26,'SINAPI-comp'!$B:$H,3,0),VLOOKUP(I26,'SINAPI-insumo'!$B:$H,3,0))) -> MES | D26: =D25 -> 1 | F26: =IFERROR(VLOOKUP(I26,'SINAPI-comp'!$B:$H,4,0)-G26,0) -> 0 | G26: =IF(OR(H26="SINAPI",H26="SINAPI-I"),IFERROR(VLOOKUP(I26,'SINAPI-comp'!$B:$H,7,0),VLOOKUP(I26,'SINAPI-insumo'!$B:$H,7,0))) -> 227.2 | H26: SINAPI-I | I26: 40863 | J26: =TRUNC($D26*F26,4) -> 0 | K26: =TRUNC($D26*G26,4) -> 227.2
A27: 2.6 | B27: =IF(OR(H27="SINAPI",H27="SINAPI-I"),IFERROR(VLOOKUP(I27,'SINAPI-comp'!$B:$H,2,0),VLOOKUP(I27,'SINAPI-insumo'!$B:$H,2,0))) -> FERRAMENTAS - FAMILIA SERVENTE - MENSALISTA (ENCARGOS COMPLEMENTARES - COLETADO CAIXA) | C27: =IF(OR(H27="SINAPI",H27="SINAPI-I"),IFERROR(VLOOKUP(I27,'SINAPI-comp'!$B:$H,3,0),VLOOKUP(I27,'SINAPI-insumo'!$B:$H,3,0))) -> MES | D27: =D26 -> 1 | F27: =IFERROR(VLOOKUP(I27,'SINAPI-comp'!$B:$H,4,0)-G27,0) -> 0 | G27: =IF(OR(H27="SINAPI",H27="SINAPI-I"),IFERROR(VLOOKUP(I27,'SINAPI-comp'!$B:$H,7,0),VLOOKUP(I27,'SINAPI-insumo'!$B:$H,7,0))) -> 96.38 | H27: SINAPI-I | I27: 43479 | J27: =TRUNC($D27*F27,4) -> 0 | K27: =TRUNC($D27*G27,4) -> 96.38
A28: 2.7 | B28: =IF(OR(H28="SINAPI",H28="SINAPI-I"),IFERROR(VLOOKUP(I28,'SINAPI-comp'!$B:$H,2,0),VLOOKUP(I28,'SINAPI-insumo'!$B:$H,2,0))) -> SEGURO - MENSALISTA (COLETADO CAIXA - ENCARGOS COMPLEMENTARES) | C28: =IF(OR(H28="SINAPI",H28="SINAPI-I"),IFERROR(VLOOKUP(I28,'SINAPI-comp'!$B:$H,3,0),VLOOKUP(I28,'SINAPI-insumo'!$B:$H,3,0))) -> MES | D28: =D27 -> 1 | F28: =IFERROR(VLOOKUP(I28,'SINAPI-comp'!$B:$H,4,0)-G28,0) -> 0 | G28: =IF(OR(H28="SINAPI",H28="SINAPI-I"),IFERROR(VLOOKUP(I28,'SINAPI-comp'!$B:$H,7,0),VLOOKUP(I28,'SINAPI-insumo'!$B:$H,7,0))) -> 18.28 | H28: SINAPI-I | I28: 40864 | J28: =TRUNC($D28*F28,4) -> 0 | K28: =TRUNC($D28*G28,4) -> 18.28
A29: 2.8 | B29: =IF(OR(H29="SINAPI",H29="SINAPI-I"),IFERROR(VLOOKUP(I29,'SINAPI-comp'!$B:$H,2,0),VLOOKUP(I29,'SINAPI-insumo'!$B:$H,2,0))) -> TRANSPORTE - MENSALISTA (COLETADO CAIXA - ENCARGOS COMPLEMENTARES) | C29: =IF(OR(H29="SINAPI",H29="SINAPI-I"),IFERROR(VLOOKUP(I29,'SINAPI-comp'!$B:$H,3,0),VLOOKUP(I29,'SINAPI-insumo'!$B:$H,3,0))) -> MES | D29: =D28 -> 1 | F29: =IFERROR(VLOOKUP(I29,'SINAPI-comp'!$B:$H,4,0)-G29,0) -> 0 | G29: =IF(OR(H29="SINAPI",H29="SINAPI-I"),IFERROR(VLOOKUP(I29,'SINAPI-comp'!$B:$H,7,0),VLOOKUP(I29,'SINAPI-insumo'!$B:$H,7,0))) -> 170.05 | H29: SINAPI-I | I29: 40861 | J29: =TRUNC($D29*F29,4) -> 0 | K29: =TRUNC($D29*G29,4) -> 170.05
A32: CÓDIGO: | B32: DESCRIÇÃO: | H32: UNIDADE: | J32: CUSTO TOTAL (MO): | K32: CUSTO TOTAL (MAT):
A33: CCU 03 | B33: PLANO DE ATAQUE | H33: UN | J33: =TRUNC(SUM(J35:J36),2) -> 902.58 | K33: =TRUNC(SUM(K35:K36),2) -> 0
A34: ITEM | B34: DESCRIÇÃO | C34: UNID. | D34: COEF. | E34: REFERENCIAL COEF. | F34: CUSTO UNITARIO (MO) | G34: CUSTO UNITARIO (MAT) | H34: REFERENCIAL CUSTO | J34: CUSTO TOTAL (MO) | K34: CUSTO TOTAL (MAT)
A35: 1 | B35: =IF(OR(H35="SINAPI",H35="SINAPI-I"),IFERROR(VLOOKUP(I35,'SINAPI-comp'!$B:$H,2,0),VLOOKUP(I35,'SINAPI-insumo'!$B:$H,2,0))) -> ENGENHEIRO CIVIL DE OBRA PLENO COM ENCARGOS COMPLEMENTARES | C35: =IF(OR(H35="SINAPI",H35="SINAPI-I"),IFERROR(VLOOKUP(I35,'SINAPI-comp'!$B:$H,3,0),VLOOKUP(I35,'SINAPI-insumo'!$B:$H,3,0))) -> H | D35: 6 | F35: =IFERROR(VLOOKUP(I35,'SINAPI-comp'!$B:$H,4,0)-G35,0) -> 135.68 | G35: =IF(OR(H35="SINAPI",H35="SINAPI-I"),IFERROR(VLOOKUP(I35,'SINAPI-comp'!$B:$H,7,0),VLOOKUP(I35,'SINAPI-insumo'!$B:$H,7,0))) -> 0 | H35: SINAPI | I35: 90778 | J35: =TRUNC($D35*F35,4) -> 814.08 | K35: =TRUNC($D35*G35,4) -> 0
A36: 2 | B36: =IF(OR(H36="SINAPI",H36="SINAPI-I"),IFERROR(VLOOKUP(I36,'SINAPI-comp'!$B:$H,2,0),VLOOKUP(I36,'SINAPI-insumo'!$B:$H,2,0))) -> TÉCNICO EM SEGURANÇA DO TRABALHO COM ENCARGOS COMPLEMENTARES | C36: =IF(OR(H36="SINAPI",H36="SINAPI-I"),IFERROR(VLOOKUP(I36,'SINAPI-comp'!$B:$H,3,0),VLOOKUP(I36,'SINAPI-insumo'!$B:$H,3,0))) -> H | D36: 2 | F36: =IFERROR(VLOOKUP(I36,'SINAPI-comp'!$B:$H,4,0)-G36,0) -> 44.25 | G36: =IF(OR(H36="SINAPI",H36="SINAPI-I"),IFERROR(VLOOKUP(I36,'SINAPI-comp'!$B:$H,7,0),VLOOKUP(I36,'SINAPI-insumo'!$B:$H,7,0))) -> 0 | H36: SINAPI | I36: 100309 | J36: =TRUNC($D36*F36,4) -> 88.5 | K36: =TRUNC($D36*G36,4) -> 0
A39: CÓDIGO: | B39: DESCRIÇÃO: | H39: UNIDADE: | J39: CUSTO TOTAL (MO): | K39: CUSTO TOTAL (MAT):
A40: CCU 04 | B40: PLANO DE GERENCIAMENTO DE RESÍDUOS NA CONSTRUÇÃO CIVIL - PGRCC | H40: UN | J40: =TRUNC(SUM(J42:J42),2) -> 1085.44 | K40: =TRUNC(SUM(K42:K42),2) -> 0
A41: ITEM | B41: DESCRIÇÃO | C41: UNID. | D41: COEF. | E41: REFERENCIAL COEF. | F41: CUSTO UNITARIO (MO) | G41: CUSTO UNITARIO (MAT) | H41: REFERENCIAL CUSTO | J41: CUSTO TOTAL (MO) | K41: CUSTO TOTAL (MAT)
A42: 1 | B42: =IF(OR(H42="SINAPI",H42="SINAPI-I"),IFERROR(VLOOKUP(I42,'SINAPI-comp'!$B:$H,2,0),VLOOKUP(I42,'SINAPI-insumo'!$B:$H,2,0))) -> ENGENHEIRO CIVIL DE OBRA PLENO COM ENCARGOS COMPLEMENTARES | C42: =IF(OR(H42="SINAPI",H42="SINAPI-I"),IFERROR(VLOOKUP(I42,'SINAPI-comp'!$B:$H,3,0),VLOOKUP(I42,'SINAPI-insumo'!$B:$H,3,0))) -> H | D42: 8 | F42: =IFERROR(VLOOKUP(I42,'SINAPI-comp'!$B:$H,4,0)-G42,0) -> 135.68 | G42: =IF(OR(H42="SINAPI",H42="SINAPI-I"),IFERROR(VLOOKUP(I42,'SINAPI-comp'!$B:$H,7,0),VLOOKUP(I42,'SINAPI-insumo'!$B:$H,7,0))) -> 0 | H42: SINAPI | I42: 90778 | J42: =TRUNC($D42*F42,4) -> 1085.44 | K42: =TRUNC($D42*G42,4) -> 0
A45: CÓDIGO: | B45: DESCRIÇÃO: | H45: UNIDADE: | J45: CUSTO TOTAL (MO): | K45: CUSTO TOTAL (MAT):
A46: CCU 05 | B46: PROJETO DE SEGURANÇA NO TRABALHO | H46: UN | J46: =TRUNC(SUM(J48:J49),2) -> 1079.58 | K46: =TRUNC(SUM(K48:K49),2) -> 0
A47: ITEM | B47: DESCRIÇÃO | C47: UNID. | D47: COEF. | E47: REFERENCIAL COEF. | F47: CUSTO UNITARIO (MO) | G47: CUSTO UNITARIO (MAT) | H47: REFERENCIAL CUSTO | J47: CUSTO TOTAL (MO) | K47: CUSTO TOTAL (MAT)
A48: 1 | B48: =IF(OR(H48="SINAPI",H48="SINAPI-I"),IFERROR(VLOOKUP(I48,'SINAPI-comp'!$B:$H,2,0),VLOOKUP(I48,'SINAPI-insumo'!$B:$H,2,0))) -> ENGENHEIRO CIVIL DE OBRA PLENO COM ENCARGOS COMPLEMENTARES | C48: =IF(OR(H48="SINAPI",H48="SINAPI-I"),IFERROR(VLOOKUP(I48,'SINAPI-comp'!$B:$H,3,0),VLOOKUP(I48,'SINAPI-insumo'!$B:$H,3,0))) -> H | D48: 6 | F48: =IFERROR(VLOOKUP(I48,'SINAPI-comp'!$B:$H,4,0)-G48,0) -> 135.68 | G48: =IF(OR(H48="SINAPI",H48="SINAPI-I"),IFERROR(VLOOKUP(I48,'SINAPI-comp'!$B:$H,7,0),VLOOKUP(I48,'SINAPI-insumo'!$B:$H,7,0))) -> 0 | H48: SINAPI | I48: 90778 | J48: =TRUNC($D48*F48,4) -> 814.08 | K48: =TRUNC($D48*G48,4) -> 0
A49: 2 | B49: =IF(OR(H49="SINAPI",H49="SINAPI-I"),IFERROR(VLOOKUP(I49,'SINAPI-comp'!$B:$H,2,0),VLOOKUP(I49,'SINAPI-insumo'!$B:$H,2,0))) -> TÉCNICO EM SEGURANÇA DO TRABALHO COM ENCARGOS COMPLEMENTARES | C49: =IF(OR(H49="SINAPI",H49="SINAPI-I"),IFERROR(VLOOKUP(I49,'SINAPI-comp'!$B:$H,3,0),VLOOKUP(I49,'SINAPI-insumo'!$B:$H,3,0))) -> H | D49: 6 | F49: =IFERROR(VLOOKUP(I49,'SINAPI-comp'!$B:$H,4,0)-G49,0) -> 44.25 | G49: =IF(OR(H49="SINAPI",H49="SINAPI-I"),IFERROR(VLOOKUP(I49,'SINAPI-comp'!$B:$H,7,0),VLOOKUP(I49,'SINAPI-insumo'!$B:$H,7,0))) -> 0 | H49: SINAPI-I | I49: 100309 | J49: =TRUNC($D49*F49,4) -> 265.5 | K49: =TRUNC($D49*G49,4) -> 0
A52: CÓDIGO: | B52: DESCRIÇÃO: | H52: UNIDADE: | J52: CUSTO TOTAL (MO): | K52: CUSTO TOTAL (MAT):
...

Sheet cotacoes
B1: PREFEITURA MUNICIPAL DE PORTO ALEGRE
B2: SECRETARIA MUNICIPAL DE OBRAS E INFRAESTRUTURA
B3: =orcamento!D3 -> Objeto: Reforço de Fundação em Estaca Mega - Unidade de Saúde Cruzeiro do Sul
B4: =orcamento!D4 -> Endereço: Rua Dona Malvina Acesso A, nº 195, Santa Teresa, Porto Alegre, RS
B6: COTAÇÕES DE MERCADO
A8: COT 01 | B8: ESTACA MEGA | E8: Valor adotado: | F8: =TRUNC(IF(MEDIAN(G10:G13)<AVERAGE(G10:G13),MEDIAN(G10:G13),AVERAGE(G10:G13)),2) -> 1973.5 | G8: M
B9: Fornecedor | C9: CNPJ | D9: Contato/Site | E9: Telefone | F9: Data da cotação | G9: Valor da cotação
A10: a) | B10: ELV Engenheiros e Construtores | C10: 94.044.526/0001-17 | D10: SEI nº 25.0.000046634-7 | E10: (51) 3333-2533 | F10: 45748 | G10: =TRUNC((93187/(6*7))) -> 2218
A11: b) | B11: ACL Arquitetos | C11: 35.297.636/0001-21 | D11: SEI nº 25.0.000046634-7 | E11: (51) 99121-2162 | F11: 45741 | G11: =TRUNC((83000/(6*8))) -> 1729
A12: c) | B12: RP Engenharia e Consultoria | C12: 55.859.634/0001-96 | D12: SEI nº 25.0.000046634-7 | E12: (51) 981424-6811 | F12: 45744 | G12: =TRUNC((139678/(6*8))) -> 2909
A13: d) | B13: Solidus Engenharia | C13: 36.689.285/0001-67 | D13: SEI nº 25.0.000046634-7 | E13: (51) 99961-6767 | F13: 45749 | G13: =TRUNC((57058.12/(6*7))) -> 1358

Sheet tabelas
B1: PREFEITURA MUNICIPAL DE PORTO ALEGRE
B2: =dados!B2 -> SECRETARIA MUNICIPAL DE OBRAS E INFRAESTRUTURA
B3: ="Objeto: "&dados!B3 -> Objeto: Reforço de Fundação em Estaca Mega - Unidade de Saúde Cruzeiro do Sul
B4: ="Endereço: "&dados!B4 -> Endereço: Rua Dona Malvina Acesso A, nº 195, Santa Teresa, Porto Alegre, RS
B6: TABELAS PÚBLICAS
A8: CÓDIGO | B8: FONTE | C8: CÓDIGO | D8: DESCRIÇÃO | E8: UNID. | F8: DATA ORIGEM | G8: CUSTO ORIGEM | I8: REAJUSTE PARA: | J8: =dados!B9 -> 46054 | L8: CUSTO ATUAL
H9: Índice | I9: i0 | J9: i1 | K9: %
A10: TAB 01 | B10: CREA RS | C10: acima de R$15mil | D10: DOCUMENTO DE RESPONSABILIDADE TÉCNICA | E10: UN | F10: 46023 | G10: 285.59 | L10: =G10 -> 285.59
A11: TAB 02 | B11: SINAPI RS (*) | F11: =J8 -> 46054
A13: TAB 03.01 | B13: SICRO RS | C13: E9093 | D13: Veículo leve - 53 kW (sem motorista) | E13: CHP | F13: 45931 | G13: 36.945 | L13: =TRUNC(G13*(1+K13),4) -> 36.945
A14: TAB 03.02 | B14: SICRO RS | C14: E9587 | D14: SERRA PARA CORTE DE CONCRETO - 4 KW | E14: CHP | F14: 45931 | G14: 10.3498 | L14: =TRUNC(G14*(1+K14),4) -> 10.3498
A15: TAB 03.03 | B15: SICRO RS | C15: E9061 | D15: LIXADEIRA ELÉTRICA MANUAL ANGULAR - 2 KW | E15: CHP | F15: 45931 | G15: 0.3442 | L15: =TRUNC(G15*(1+K15),4) -> 0.3442
A16: TAB 03.04 | B16: SICRO RS | C16: M0719 | D16: DILUENTE EPÓXI | E16: L | F16: 45931 | G16: 38.0243 | L16: =TRUNC(G16*(1+K16),4) -> 38.0243
A17: TAB 03.05 | B17: SICRO RS | C17: M1405 | D17: DISCO DIAMANTADO PARA DESBASTE - D = 180 MM | E17: UN | F17: 45931 | G17: 562.8702 | L17: =TRUNC(G17*(1+K17),4) -> 562.8702
A19: TAB 04.01 | B19: ORSE SE | C19: 7265 | D19: MANTA EM LÃ DE ROCHA DE 25MM | E19: KG | F19: 45962 | G19: 35.7 | L19: =TRUNC(G19*(1+K19),4) -> 35.7
A21: TAB 05.01 | B21: SIURB SP | C21: 37542 | D21: ESCOVA RETANGULAR COM CERDAS DE AÇO:ALTURA DAS CERDAS 30 MM COMPRIMENTO: 192 MM; LARGURA 57 MM - SEM CABO | E21: UN | F21: 45839 | G21: 22.83 | L21: =TRUNC(G21*(1+K21),4) -> 22.83
A23: TAB 08.01 | B23: AGESUL | C23: 8036 | D23: LOCAÇÃO CAÇAMBA ESTACIONÁRIA 4 M3 - TRANSPORTE E DESTINAÇÃO FINAL | E23: UN | F23: 45809 | G23: 350 | L23: =TRUNC(G23*(1+K23),4) -> 350
D24: (*) conforme tabela anexa (aba oculta)

Sheet cronograma
B1: PREFEITURA MUNICIPAL DE PORTO ALEGRE
B2: SECRETARIA MUNICIPAL DE OBRAS E INFRAESTRUTURA
B3: =orcamento!D3 -> Objeto: Reforço de Fundação em Estaca Mega - Unidade de Saúde Cruzeiro do Sul
B4: =orcamento!D4 -> Endereço: Rua Dona Malvina Acesso A, nº 195, Santa Teresa, Porto Alegre, RS
B6: CRONOGRAMA FISICO-FINANCEIRO
A8: ITEM | B8: DESCRIÇÃO | C8: QUANT. | D8: UNID. | E8: PREÇO UNITARIO | F8: MÊS 01 | H8: MÊS 02 | J8: MÊS 03 | L8: MÊS 04 | N8: MÊS 05 | P8: MÊS 06 | R8: MÊS 07 | T8: MÊS 08 | V8: TOTAL
F9: R$ | G9: QUANT. | H9: R$ | I9: QUANT. | J9: R$ | K9: QUANT. | L9: R$ | M9: QUANT. | N9: R$ | O9: QUANT. | P9: R$ | Q9: QUANT. | R9: R$ | S9: QUANT. | T9: R$ | U9: QUANT. | V9: R$ | W9: QUANT.
A10: =orcamento!A10 -> 1 | B10: =orcamento!D10 -> SERVIÇOS DE ESCRITÓRIO
A11: =orcamento!A11 -> 1.1 | B11: =orcamento!D11 -> EQUIPE DE ADMINISTRAÇÃO LOCAL | C11: =orcamento!F11 -> 1 | D11: =orcamento!E11 -> UN | E11: =orcamento!K11 -> 151569.85 | F11: =ROUND(G11*$E11,2) -> 34861.07 | G11: =TRUNC((SUMPRODUCT(G12:G82,$E$12:$E$82))/(SUMPRODUCT($C$12:$C$82,$E$12:$E$82)),2) -> 0.23 | H11: =ROUND(I11*$E11,2) -> 27282.57 | I11: =TRUNC((SUMPRODUCT(I12:I82,$E$12:$E$82))/(SUMPRODUCT($C$12:$C$82,$E$12:$E$82)),2) -> 0.18 | J11: =ROUND(K11*$E11,2) -> 25766.87 | K11: =TRUNC((SUMPRODUCT(K12:K82,$E$12:$E$82))/(SUMPRODUCT($C$12:$C$82,$E$12:$E$82)),2) -> 0.17 | L11: =ROUND(M11*$E11,2) -> 13641.29 | M11: =TRUNC((SUMPRODUCT(M12:M82,$E$12:$E$82))/(SUMPRODUCT($C$12:$C$82,$E$12:$E$82)),2) -> 0.09 | N11: =ROUND(O11*$E11,2) -> 9094.19 | O11: =TRUNC((SUMPRODUCT(O12:O82,$E$12:$E$82))/(SUMPRODUCT($C$12:$C$82,$E$12:$E$82)),2) -> 0.06 | P11: =ROUND(Q11*$E11,2) -> 16672.68 | Q11: =TRUNC((SUMPRODUCT(Q12:Q82,$E$12:$E$82))/(SUMPRODUCT($C$12:$C$82,$E$12:$E$82)),2) -> 0.11 | R11: =ROUND(S11*$E11,2) -> 9094.19 | S11: =TRUNC((SUMPRODUCT(S12:S82,$E$12:$E$82))/(SUMPRODUCT($C$12:$C$82,$E$12:$E$82)),2) -> 0.06 | T11: =E11-(F11+H11+J11+L11+N11+P11+R11) -> 15156.99 | U11: =1-(G11+I11+K11+M11+O11+Q11+S11) -> 0.1 | V11: =F11+H11+J11+L11+N11+P11+R11+T11 -> 151569.85 | W11: =G11+I11+K11+M11+O11+Q11+S11+U11 -> 1
A12: =orcamento!A12 -> 1.2 | B12: =orcamento!D12 -> SERVIÇO DE VIGIÂNCIA NOTURNA (DIÁRIA) E DIURNA (FINAIS DE SEMANA) | C12: =orcamento!F12 -> 8 | D12: =orcamento!E12 -> MÊS | E12: =orcamento!K12 -> 10306.5 | F12: =ROUND(G12*$E12,2) -> 10306.5 | G12: 1 | H12: =ROUND(I12*$E12,2) -> 10306.5 | I12: 1 | J12: =ROUND(K12*$E12,2) -> 10306.5 | K12: 1 | L12: =ROUND(M12*$E12,2) -> 10306.5 | M12: 1 | N12: =ROUND(O12*$E12,2) -> 10306.5 | O12: 1 | P12: =ROUND(Q12*$E12,2) -> 10306.5 | Q12: 1 | R12: =ROUND(S12*$E12,2) -> 10306.5 | S12: 1 | T12: =ROUND(U12*$E12,2) -> 10306.5 | U12: 1 | V12: =F12+H12+J12+L12+N12+P12+R12+T12 -> 82452 | W12: =G12+I12+K12+M12+O12+Q12+S12+U12 -> 8
A13: =orcamento!A13 -> 1.3 | B13: =orcamento!D13 -> DOCUMENTO DE RESPONSABILIDADE TÉCNICA | C13: =orcamento!F13 -> 1 | D13: =orcamento!E13 -> UN | E13: =orcamento!K13 -> 368.13 | F13: =ROUND(G13*$E13,2) -> 368.13 | G13: =C13 -> 1 | V13: =F13+H13+J13+L13+N13+P13+R13+T13 -> 368.13 | W13: =G13+I13+K13+M13+O13+Q13+S13+U13 -> 1
A14: =orcamento!A14 -> 1.4 | B14: =orcamento!D14 -> PLANO DE ATAQUE | C14: =orcamento!F14 -> 1 | D14: =orcamento!E14 -> UN | E14: =orcamento!K14 -> 1163.43 | F14: =ROUND(G14*$E14,2) -> 1163.43 | G14: =C14 -> 1 | V14: =F14+H14+J14+L14+N14+P14+R14+T14 -> 1163.43 | W14: =G14+I14+K14+M14+O14+Q14+S14+U14 -> 1
A15: =orcamento!A15 -> 1.5 | B15: =orcamento!D15 -> PLANO DE GERENCIAMENTO DE RESÍDUOS NA CONSTRUÇÃO CIVIL - PGRCC | C15: =orcamento!F15 -> 1 | D15: =orcamento!E15 -> UN | E15: =orcamento!K15 -> 1399.13 | F15: =ROUND(G15*$E15,2) -> 1399.13 | G15: =C15 -> 1 | V15: =F15+H15+J15+L15+N15+P15+R15+T15 -> 1399.13 | W15: =G15+I15+K15+M15+O15+Q15+S15+U15 -> 1
A16: =orcamento!A16 -> 1.6 | B16: =orcamento!D16 -> PROJETO DE SEGURANÇA NO TRABALHO | C16: =orcamento!F16 -> 1 | D16: =orcamento!E16 -> UN | E16: =orcamento!K16 -> 1391.58 | F16: =ROUND(G16*$E16,2) -> 1391.58 | G16: =C16 -> 1 | V16: =F16+H16+J16+L16+N16+P16+R16+T16 -> 1391.58 | W16: =G16+I16+K16+M16+O16+Q16+S16+U16 -> 1
A17: =orcamento!A17 -> 2 | B17: =orcamento!D17 -> SERVIÇOS PROVISÓRIOS
A18: =orcamento!A18 -> 2.1 | B18: =orcamento!D18 -> CONE DE SINALIZACAO EM PVC FLEXIVEL, H = 70 / 76 CM (NBR 15071) | C18: =orcamento!F18 -> 4 | D18: =orcamento!E18 -> UN | E18: =orcamento!K18 -> 171.18 | F18: =ROUND(G18*$E18,2) -> 684.72 | G18: =C18 -> 4 | V18: =F18+H18+J18+L18+N18+P18+R18+T18 -> 684.72 | W18: =G18+I18+K18+M18+O18+Q18+S18+U18 -> 4
A19: =orcamento!A19 -> 2.2 | B19: =orcamento!D19 -> TELA TAPUME LARANJA - FORNECIMENTO E INSTALAÇÃO COM MADEIRA | C19: =orcamento!F19 -> 50 | D19: =orcamento!E19 -> M | E19: =orcamento!K19 -> 22.73 | F19: =ROUND(G19*$E19,2) -> 1136.5 | G19: =C19 -> 50 | V19: =F19+H19+J19+L19+N19+P19+R19+T19 -> 1136.5 | W19: =G19+I19+K19+M19+O19+Q19+S19+U19 -> 50
A20: =orcamento!A20 -> 2.3 | B20: =orcamento!D20 -> CARGA E TRANSPORTE DE CONTAINER | C20: =orcamento!F20 -> 2 | D20: =orcamento!E20 -> UN | E20: =orcamento!K20 -> 787.17 | F20: =ROUND(G20*$E20,2) -> 1574.34 | G20: =C20 -> 2 | V20: =F20+H20+J20+L20+N20+P20+R20+T20 -> 1574.34 | W20: =G20+I20+K20+M20+O20+Q20+S20+U20 -> 2
A21: =orcamento!A21 -> 2.4 | B21: =orcamento!D21 -> LOCACAO DE CONTAINER 2,30 X 6,00 M, ALT. 2,50 M, COM 1 SANITARIO, PARA ESCRITORIO, COMPLETO, SEM DIVISORIAS INTERNAS (NAO INCLUI MOBILIZACAO/DESMOBILIZACAO) | C21: =orcamento!F21 -> 8 | D21: =orcamento!E21 -> MES | E21: =orcamento!K21 -> 1330.34 | F21: =ROUND(G21*$E21,2) -> 1330.34 | G21: 1 | H21: =ROUND(I21*$E21,2) -> 1330.34 | I21: 1 | J21: =ROUND(K21*$E21,2) -> 1330.34 | K21: 1 | L21: =ROUND(M21*$E21,2) -> 1330.34 | M21: 1 | N21: =ROUND(O21*$E21,2) -> 1330.34 | O21: 1 | P21: =ROUND(Q21*$E21,2) -> 1330.34 | Q21: 1 | R21: =ROUND(S21*$E21,2) -> 1330.34 | S21: 1 | T21: =ROUND(U21*$E21,2) -> 1330.34 | U21: 1 | V21: =F21+H21+J21+L21+N21+P21+R21+T21 -> 10642.72 | W21: =G21+I21+K21+M21+O21+Q21+S21+U21 -> 8
A22: =orcamento!A22 -> 2.5 | B22: =orcamento!D22 -> LOCACAO DE CONTAINER 2,30 X 4,30 M, ALT. 2,50 M, P/ SANITARIO, C/ 5 BACIAS, 1 LAVATORIO E 4 MICTORIOS (NAO INCLUI MOBILIZACAO/DESMOBILIZACAO) | C22: =orcamento!F22 -> 8 | D22: =orcamento!E22 -> MES | E22: =orcamento!K22 -> 1662.93 | F22: =ROUND(G22*$E22,2) -> 1662.93 | G22: 1 | H22: =ROUND(I22*$E22,2) -> 1662.93 | I22: 1 | J22: =ROUND(K22*$E22,2) -> 1662.93 | K22: 1 | L22: =ROUND(M22*$E22,2) -> 1662.93 | M22: 1 | N22: =ROUND(O22*$E22,2) -> 1662.93 | O22: 1 | P22: =ROUND(Q22*$E22,2) -> 1662.93 | Q22: 1 | R22: =ROUND(S22*$E22,2) -> 1662.93 | S22: 1 | T22: =ROUND(U22*$E22,2) -> 1662.93 | U22: 1 | V22: =F22+H22+J22+L22+N22+P22+R22+T22 -> 13303.44 | W22: =G22+I22+K22+M22+O22+Q22+S22+U22 -> 8
A23: =orcamento!A23 -> 2.6 | B23: =orcamento!D23 -> PLACA DE OBRA EM CHAPA GALVANIZADA *N. 22*, ADESIVADA, INCLUSO MADEIRAMENTO E INSTALAÇÃO | C23: =orcamento!F23 -> 6 | D23: =orcamento!E23 -> M2 | E23: =orcamento!K23 -> 664.69 | F23: =ROUND(G23*$E23,2) -> 3988.14 | G23: =C23 -> 6 | V23: =F23+H23+J23+L23+N23+P23+R23+T23 -> 3988.14 | W23: =G23+I23+K23+M23+O23+Q23+S23+U23 -> 6
A24: =orcamento!A24 -> 2.7 | B24: =orcamento!D24 -> TAPUME COM COMPENSADO DE MADEIRA. AF_03/2024 | C24: =orcamento!F24 -> 213.4 | D24: =orcamento!E24 -> M2 | E24: =orcamento!K24 -> 129.17 | F24: =ROUND(G24*$E24,2) -> 27564.88 | G24: =C24 -> 213.4 | V24: =F24+H24+J24+L24+N24+P24+R24+T24 -> 27564.88 | W24: =G24+I24+K24+M24+O24+Q24+S24+U24 -> 213.4
A25: =orcamento!A25 -> 2.8 | B25: =orcamento!D25 -> TUBO, PVC, SOLDÁVEL, DE 32MM, INSTALADO EM RESERVAÇÃO PREDIAL DE ÁGUA - FORNECIMENTO E INSTALAÇÃO. AF_04/2024 | C25: =orcamento!F25 -> 25 | D25: =orcamento!E25 -> M | E25: =orcamento!K25 -> 18.94 | F25: =ROUND(G25*$E25,2) -> 473.5 | G25: =C25 -> 25 | V25: =F25+H25+J25+L25+N25+P25+R25+T25 -> 473.5 | W25: =G25+I25+K25+M25+O25+Q25+S25+U25 -> 25
A26: =orcamento!A26 -> 2.9 | B26: =orcamento!D26 -> REGISTRO DE ESFERA, PVC, ROSCÁVEL, COM VOLANTE, 1 1/4" - FORNECIMENTO E INSTALAÇÃO. AF_08/2021 | C26: =orcamento!F26 -> 1 | D26: =orcamento!E26 -> UN | E26: =orcamento!K26 -> 132.14 | F26: =ROUND(G26*$E26,2) -> 132.14 | G26: =C26 -> 1 | V26: =F26+H26+J26+L26+N26+P26+R26+T26 -> 132.14 | W26: =G26+I26+K26+M26+O26+Q26+S26+U26 -> 1
A27: =orcamento!A27 -> 2.10 | B27: =orcamento!D27 -> JOELHO 90 GRAUS, PVC, SOLDÁVEL, DN 32 MM INSTALADO EM RESERVAÇÃO PREDIAL DE ÁGUA - FORNECIMENTO E INSTALAÇÃO. AF_04/2024 | C27: =orcamento!F27 -> 10 | D27: =orcamento!E27 -> UN | E27: =orcamento!K27 -> 11.21 | F27: =ROUND(G27*$E27,2) -> 112.1 | G27: =C27 -> 10 | V27: =F27+H27+J27+L27+N27+P27+R27+T27 -> 112.1 | W27: =G27+I27+K27+M27+O27+Q27+S27+U27 -> 10
A28: =orcamento!A28 -> 2.11 | B28: =orcamento!D28 -> TORNEIRA CROMADA 1/2" OU 3/4" PARA TANQUE, PADRÃO POPULAR - FORNECIMENTO E INSTALAÇÃO. AF_01/2020 | C28: =orcamento!F28 -> 1 | D28: =orcamento!E28 -> UN | E28: =orcamento!K28 -> 120.86 | F28: =ROUND(G28*$E28,2) -> 120.86 | G28: =C28 -> 1 | V28: =F28+H28+J28+L28+N28+P28+R28+T28 -> 120.86 | W28: =G28+I28+K28+M28+O28+Q28+S28+U28 -> 1
A29: =orcamento!A29 -> 2.12 | B29: =orcamento!D29 -> TUBO PVC, SERIE NORMAL, ESGOTO PREDIAL, DN 100 MM, FORNECIDO E INSTALADO EM RAMAL DE DESCARGA OU RAMAL DE ESGOTO SANITÁRIO. AF_08/2022 | C29: =orcamento!F29 -> 25 | D29: =orcamento!E29 -> M | E29: =orcamento!K29 -> 54.02 | F29: =ROUND(G29*$E29,2) -> 1350.5 | G29: =C29 -> 25 | V29: =F29+H29+J29+L29+N29+P29+R29+T29 -> 1350.5 | W29: =G29+I29+K29+M29+O29+Q29+S29+U29 -> 25
A30: =orcamento!A30 -> 2.13 | B30: =orcamento!D30 -> LUVA SIMPLES, PVC, SERIE NORMAL, ESGOTO PREDIAL, DN 100 MM, JUNTA ELÁSTICA, FORNECIDO E INSTALADO EM RAMAL DE DESCARGA OU RAMAL DE ESGOTO SANITÁRIO. AF_08/2022 | C30: =orcamento!F30 -> 3 | D30: =orcamento!E30 -> UN | E30: =orcamento!K30 -> 26.24 | F30: =ROUND(G30*$E30,2) -> 78.72 | G30: =C30 -> 3 | V30: =F30+H30+J30+L30+N30+P30+R30+T30 -> 78.72 | W30: =G30+I30+K30+M30+O30+Q30+S30+U30 -> 3
A31: =orcamento!A31 -> 2.14 | B31: =orcamento!D31 -> JOELHO 45 GRAUS, PVC, SERIE NORMAL, ESGOTO PREDIAL, DN 100 MM, JUNTA ELÁSTICA, FORNECIDO E INSTALADO EM RAMAL DE DESCARGA OU RAMAL DE ESGOTO SANITÁRIO. AF_08/2022 | C31: =orcamento!F31 -> 5 | D31: =orcamento!E31 -> UN | E31: =orcamento!K31 -> 39.97 | F31: =ROUND(G31*$E31,2) -> 199.85 | G31: =C31 -> 5 | V31: =F31+H31+J31+L31+N31+P31+R31+T31 -> 199.85 | W31: =G31+I31+K31+M31+O31+Q31+S31+U31 -> 5
A32: =orcamento!A32 -> 2.15 | B32: =orcamento!D32 -> TUBO PVC, SERIE NORMAL, ESGOTO PREDIAL, DN 40 MM, FORNECIDO E INSTALADO EM RAMAL DE DESCARGA OU RAMAL DE ESGOTO SANITÁRIO. AF_08/2022 | C32: =orcamento!F32 -> 5 | D32: =orcamento!E32 -> M | E32: =orcamento!K32 -> 30.21 | F32: =ROUND(G32*$E32,2) -> 151.05 | G32: =C32 -> 5 | V32: =F32+H32+J32+L32+N32+P32+R32+T32 -> 151.05 | W32: =G32+I32+K32+M32+O32+Q32+S32+U32 -> 5
A33: =orcamento!A33 -> 2.16 | B33: =orcamento!D33 -> JOELHO 45 GRAUS, PVC, SERIE NORMAL, ESGOTO PREDIAL, DN 40 MM, JUNTA SOLDÁVEL, FORNECIDO E INSTALADO EM RAMAL DE DESCARGA OU RAMAL DE ESGOTO SANITÁRIO. AF_08/2022 | C33: =orcamento!F33 -> 5 | D33: =orcamento!E33 -> UN | E33: =orcamento!K33 -> 15.02 | F33: =ROUND(G33*$E33,2) -> 75.1 | G33: =C33 -> 5 | V33: =F33+H33+J33+L33+N33+P33+R33+T33 -> 75.1 | W33: =G33+I33+K33+M33+O33+Q33+S33+U33 -> 5
A34: =orcamento!A34 -> 2.17 | B34: =orcamento!D34 -> DISJUNTOR TRIPOLAR TIPO DIN, CORRENTE NOMINAL DE 32A - FORNECIMENTO E INSTALAÇÃO. AF_07/2025 | C34: =orcamento!F34 -> 2 | D34: =orcamento!E34 -> UN | E34: =orcamento!K34 -> 103.15 | F34: =ROUND(G34*$E34,2) -> 206.3 | G34: =C34 -> 2 | V34: =F34+H34+J34+L34+N34+P34+R34+T34 -> 206.3 | W34: =G34+I34+K34+M34+O34+Q34+S34+U34 -> 2
... A39: =orcamento!A39 -> 2.22 | B39: =orcamento!D39 -> REATERRO MANUAL DE VALAS, COM PLACA VIBRATÓRIA. AF_08/2023 | C39: =orcamento!F39 -> 3 | D39: =orcamento!E39 -> M3 | E39: =orcamento!K39 -> 30.36 | F39: =ROUND(G39*$E39,2) -> 91.08 | G39: =C39 -> 3 | V39: =F39+H39+J39+L39+N39+P39+R39+T39 -> 91.08 | W39: =G39+I39+K39+M39+O39+Q39+S39+U39 -> 3
A40: =orcamento!A40 -> 3 | B40: =orcamento!D40 -> DEMOLIÇÕES E RETIRADAS
A41: =orcamento!A41 -> 3.1 | B41: =orcamento!D41 -> DEMOLIÇÃO DE PILARES E VIGAS EM CONCRETO ARMADO, DE FORMA MECANIZADA COM MARTELETE, SEM REAPROVEITAMENTO. AF_09/2023 | C41: =orcamento!F41 -> 3 | D41: =orcamento!E41 -> M3 | E41: =orcamento!K41 -> 65.4 | F41: =ROUND(G41*$E41,2) -> 196.2 | G41: =C41 -> 3 | V41: =F41+H41+J41+L41+N41+P41+R41+T41 -> 196.2 | W41: =G41+I41+K41+M41+O41+Q41+S41+U41 -> 3
A42: =orcamento!A42 -> 3.2 | B42: =orcamento!D42 -> DEMOLIÇÃO DE ALVENARIA DE TIJOLO MACIÇO, DE FORMA MANUAL, SEM REAPROVEITAMENTO. AF_09/2023 | C42: =orcamento!F42 -> 10 | D42: =orcamento!E42 -> M3 | E42: =orcamento!K42 -> 149.07 | F42: =ROUND(G42*$E42,2) -> 1490.7 | G42: =C42 -> 10 | V42: =F42+H42+J42+L42+N42+P42+R42+T42 -> 1490.7 | W42: =G42+I42+K42+M42+O42+Q42+S42+U42 -> 10
A43: =orcamento!A43 -> 3.3 | B43: =orcamento!D43 -> ESCAVAÇÃO MANUAL DE VALA. AF_09/2024 | C43: =orcamento!F43 -> 10 | D43: =orcamento!E43 -> M3 | E43: =orcamento!K43 -> 119.72 | F43: =ROUND(G43*$E43,2) -> 1197.2 | G43: =C43 -> 10 | V43: =F43+H43+J43+L43+N43+P43+R43+T43 -> 1197.2 | W43: =G43+I43+K43+M43+O43+Q43+S43+U43 -> 10
A44: =orcamento!A44 -> 3.4 | B44: =orcamento!D44 -> REMOÇÃO DE GRADIL/PORTÃO METALICOS (COM REAPROVEITAMENTO) | C44: =orcamento!F44 -> 10 | D44: =orcamento!E44 -> M2 | E44: =orcamento!K44 -> 33.89 | F44: =ROUND(G44*$E44,2) -> 338.9 | G44: =C44 -> 10 | V44: =F44+H44+J44+L44+N44+P44+R44+T44 -> 338.9 | W44: =G44+I44+K44+M44+O44+Q44+S44+U44 -> 10
A45: =orcamento!A45 -> 3.5 | B45: =orcamento!D45 -> CARGA E TRANSPORTE DE ENTULHO DENTRO DO CANTEIRO | C45: =orcamento!F45 -> 18.2 | D45: =orcamento!E45 -> M3 | E45: =orcamento!K45 -> 30.27 | F45: =ROUND(G45*$E45,2) -> 550.91 | G45: =C45 -> 18.2 | V45: =F45+H45+J45+L45+N45+P45+R45+T45 -> 550.91 | W45: =G45+I45+K45+M45+O45+Q45+S45+U45 -> 18.2
A46: =orcamento!A46 -> 4 | B46: =orcamento!D46 -> VERGAS E ISOLAMENTO TÉRMICO SOBRE A LAJE
...

Sheet curva ABC
A1: PREFEITURA MUNICIPAL DE PORTO ALEGRE
A2: SECRETARIA MUNICIPAL DE OBRAS E INFRAESTRUTURA
A3: =orcamento!D3 -> Objeto: Reforço de Fundação em Estaca Mega - Unidade de Saúde Cruzeiro do Sul
A4: =orcamento!D4 -> Endereço: Rua Dona Malvina Acesso A, nº 195, Santa Teresa, Porto Alegre, RS
A6: CURVA ABC
A8: DESCRIÇÃO SERVIÇO | B8: PREÇO TOTAL | C8: % SOBRE TOTAL | D8: % ACUMULADO
A9: EQUIPE DE ADMINISTRAÇÃO LOCAL | B9: 151569.85 | C9: =B9/$B$66 -> 0.32249896 | D9: =C9 -> 0.32249896
A10: ESTACA MEGA | B10: 82887 | C10: =B10/$B$66 -> 0.17636075 | D10: =C10+D9 -> 0.49885971
A11: SERVIÇO DE VIGIÂNCIA NOTURNA (DIÁRIA) E DIURNA (FINAIS DE SEMANA) | B11: 82452 | C11: =B11/$B$66 -> 0.17543518 | D11: =C11+D10 -> 0.67429489
A12: TAPUME COM COMPENSADO DE MADEIRA. AF_03/2024 | B12: 27564.88 | C12: =B12/$B$66 -> 0.058650485 | D12: =C12+D11 -> 0.73294538
A13: LOCACAO DE CONTAINER 2,30 X 4,30 M, ALT. 2,50 M, P/ SANITARIO, C/ 5 BACIAS, 1 LAVATORIO E 4 MICTORIOS (NAO INCLUI MOBILIZACAO/DESMOBILIZACAO) | B13: 13303.44 | C13: =B13/$B$66 -> 0.028306062 | D13: =C13+D12 -> 0.76125144
A14: TELHAMENTO COM TELHA ONDULADA DE FIBROCIMENTO E = 6 MM, COM RECOBRIMENTO LATERAL DE 1 1/4 DE ONDA PARA TELHADO COM INCLINAÇÃO MÁXIMA DE 10°, COM ATÉ 2 ÁGUAS, INCLUSO IÇAMENTO. AF_07/2019 | B14: 13024 | C14: =B14/$B$66 -> 0.027711491 | D14: =C14+D13 -> 0.78896293
A15: LOCAÇÃO CAÇAMBA ESTACIONÁRIA 4 M3 - TRANSPORTE E DESTINAÇÃO FINAL | B15: 11852.12 | C15: =B15/$B$66 -> 0.025218052 | D15: =C15+D14 -> 0.81418099
A16: LOCACAO DE CONTAINER 2,30 X 6,00 M, ALT. 2,50 M, COM 1 SANITARIO, PARA ESCRITORIO, COMPLETO, SEM DIVISORIAS INTERNAS (NAO INCLUI MOBILIZACAO/DESMOBILIZACAO) | B16: 10642.72 | C16: =B16/$B$66 -> 0.022644782 | D16: =C16+D15 -> 0.83682577
A17: ISOLAMENTO TERMOACÚSTICO COM LÃ MINERAL NA SUBCOBERTURA | B17: 10124 | C17: =B17/$B$66 -> 0.021541088 | D17: =C17+D16 -> 0.85836686
A18: DEMOLIÇÃO DE ALVENARIA DE TIJOLO MACIÇO, DE FORMA MANUAL, SEM REAPROVEITAMENTO. AF_09/2023 | B18: 7453.5 | C18: =B18/$B$66 -> 0.015858999 | D18: =C18+D17 -> 0.87422585
A19: ALVENARIA DE VEDAÇÃO DE BLOCOS CERÂMICOS MACIÇOS DE 5X10X20CM (ESPESSURA 10CM) E ARGAMASSA DE ASSENTAMENTO COM PREPARO EM BETONEIRA. AF_05/2020 | B19: 7198.61 | C19: =B19/$B$66 -> 0.015316663 | D19: =C19+D18 -> 0.88954252
A20: PLACA DE OBRA EM CHAPA GALVANIZADA *N. 22*, ADESIVADA, INCLUSO MADEIRAMENTO E INSTALAÇÃO | B20: 3988.14 | C20: =B20/$B$66 -> 0.0084856653 | D20: =C20+D19 -> 0.89802818
A21: TRATAMENTO DAS FISSURAS/TRINCA DAS PAREDES INTERNAS (DELIMITAÇÃO E APICOAMENTO DA REGIÃO, ABERTURA DE SULCO, LIMPEZA, APLICAÇÃO DE TELA ANTI-FISSURAÇÃO, COLMATAÇÃO E ACABAMENTO) | B21: 3805.65 | C21: =B21/$B$66 -> 0.0080973768 | D21: =C21+D20 -> 0.90612556
... A65: JOELHO 45 GRAUS, PVC, SERIE NORMAL, ESGOTO PREDIAL, DN 40 MM, JUNTA SOLDÁVEL, FORNECIDO E INSTALADO EM RAMAL DE DESCARGA OU RAMAL DE ESGOTO SANITÁRIO. AF_08/2022 | B65: 75.1 | C65: =B65/$B$66 -> 0.00015979215 | D65: =C65+D64 -> 1
A66: TOTAL | B66: =SUM(B9:B65) -> 469985.54

Sheet BDI
A1: PARCELAS | B1: EDIFICAÇÕES
B2: BDI INTEGRAL | C2: BDI DIFERENCIADO
A3: (AC) - Administraçã o Central | B3: 0.0532 | C3: 0.0266
A4: (S) + (G) - Seguro e Garantia | B4: 0.008 | C4: 0.0039
A5: (R) - Risco | B5: 0.0127 | C5: 0.007
A6: (DF) - Despesas Financeiras | B6: 0.0187 | C6: 0.0187
A7: (L) - Lucro | B7: 0.074 | C7: 0.043
A8: Impostos (I= I1+I2+I3):
A9: (I1) - PIS | B9: 0.0065 | C9: 0.0065
A10: (I2 ) - COFINS | B10: 0.03 | C10: 0.03
A11: (I3 ) - ISSQN | B11: 0.025 | C11: 0.025
A12: (I4 ) - Contribuição Previdenciária (CPRB) | B12: 0.027 | C12: 0.027
A13: BDI | B13: =ROUND((((1+(B3+B4+B5))*(1+B6)*(1+B7))/(1-(B9+B10+B11+B12))-1),4) -> 0.289 | C13: =ROUNDDOWN((((1+(C3+C4+C5))*(1+C6)*(1+C7))/(1-(C9+C10+C11+C12))-1),4) -> 0.2093
A14: Fonte: Decreto 23.379/2025 | B14: BDI = ( 1 + ( AC + S + G + R ) ) (1 + DF) ( 1+ L) - 1
B15: ( 1 - l1 + l2 + l3 + l4 )

Sheet encargos
A1: TABELA DE ENCARGOS SOCIAIS
A2: CÓD. | B2: DESCRIÇÃO | C2: =dados!B10 -> Desonerado
A3: GRUPO A: ENCARGOS BÁSICOS PREVIDENCIÁRIOS | C3: Horista | D3: Mensalista
A4: A1 | B4: INSS | C4: 0.1 | D4: 0.1
A5: A2 | B5: SESI | C5: 0.015 | D5: 0.015
A6: A3 | B6: SENAI | C6: 0.01 | D6: 0.01
A7: A4 | B7: INCRA | C7: 0.002 | D7: 0.002
A8: A5 | B8: SEBRAE | C8: 0.006 | D8: 0.006
A9: A6 | B9: SALÁRIO-EDUCAÇÃO | C9: 0.025 | D9: 0.025
A10: A7 | B10: SEGURO-ACIDENTE | C10: 0.03 | D10: 0.03
A11: A8 | B11: FGTS | C11: 0.08 | D11: 0.08
A12: A9 | B12: SECONDI | C12: 0 | D12: 0
A13: TOTAL GRUPO A | C13: =SUM(C4:C12) -> 0.268 | D13: =SUM(D4:D12) -> 0.268
A14: GRUPO B: ENCARGOS QUE RECEBEM INCIDÊNCIA DE A
A15: B1 | B15: REPOUSO SEMANAL REMUNERADO | C15: 0.1793 | D15: 0
A16: B2 | B16: FERIADOS | C16: 0.0424 | D16: 0
A17: B3 | B17: AUXÍLIO-ENFERMIDADE | C17: 0.0085 | D17: 0.0065
A18: B4 | B18: 13º SALÁRIO | C18: 0.1096 | D18: 0.0833
A19: B5 | B19: LICENÇA-PATERNIDADE | C19: 0.0007 | D19: 0.0005
A20: B6 | B20: FALTAS JUSTIFICADAS | C20: 0.0073 | D20: 0.0056
A21: B7 | B21: DIAS DE CHUVAS | C21: 0.0153 | D21: 0
A22: B8 | B22: ACIDENTES DE TRABALHO | C22: 0.001 | D22: 0.0007
A23: B9 | B23: FÉRIAS | C23: 0.1061 | D23: 0.0806
A24: B10 | B24: SALARIO MATERNIDADE | C24: 0.0003 | D24: 0.0003
A25: TOTAL GRUPO B | C25: =SUM(C15:C24) -> 0.4705 | D25: =SUM(D15:D24) -> 0.1775
A26: GRUPO C: ENCARGOS QUE NÃO RECEBEM A INCIDÊNCIA DE A
A27: C1 | B27: AVISO PRÉVIO INDENIZADO | C27: 0.0457 | D27: 0.0347
A28: C2 | B28: AVISO PRÉVIO TRABALHADO | C28: 0.0011 | D28: 0.0008
A29: C3 | B29: FÉRIAS INDENIZADAS + 1/3 | C29: 0.0346 | D29: 0.0263
A30: C4 | B30: DEPOSITO POR DESPEDIDA INJUSTA | C30: 0.0275 | D30: 0.0209
A31: C5 | B31: INDENIZAÇÃO ADICIONAL | C31: 0.0038 | D31: 0.0029
A32: TOTAL GRUPO C | C32: =SUM(C27:C31) -> 0.1127 | D32: =SUM(D27:D31) -> 0.0856
A33: GRUPO D: INCIDÊNCIA DE ENCARGOS
A34: D1 | B34: REINCIDÊNCIA DE A SOBRE B | C34: =ROUND(C13*(C25-C18)+C18*(C13-C4),4) -> 0.1151 | D34: =ROUND(D13*(D25-D18)+D18*(D13-D4),4) -> 0.0392
A35: D2 | B35: REINCIDÊNCIA DE A SOBRE C2 + REINCIDÊNCIA DE FGTS SOBRE C1 | C35: =ROUND((C13*C28)+(C11*C27),4) -> 0.004 | D35: =ROUND((D13*D28)+(D11*D27),4) -> 0.003
A36: TOTAL GRUPO D | C36: =SUM(C34:C35) -> 0.1191 | D36: =SUM(D34:D35) -> 0.0422
B37: TOTAL GERAL A + B + C + D | C37: =SUM(C13,C25,C32,C36) -> 0.9703 | D37: =SUM(D13,D25,D32,D36) -> 0.5733
B38: Fonte: SINAPI

Sheet SINAPI-comp
A1: SINAPI - Sistema Nacional de Pesquisa de Custos e Índices da Construção Civil
