Workbook

Sheet Orçamento
A1: PLANILHA ORÇAMENTÁRIA
A3: Obra: Reforma da Unidade Básica do Despique
A5: Local: | B5: Estrada Municipal Despique, Pareci Novo - RS
A8: Item | B8: Código | C8: Fonte | D8: Descrição | E8: Quantidade | F8: Un | G8: V. unitário s/ BDI | J8: Valor Unitário c/ BDI | M8: Valor Total | O8: Total
G9: V. unit s/ BDI | H9: Material (R$) | I9: Mão de obra (R$) | J9: Material (R$) | K9: Mão de obra (R$) | L9: Total (R$) C/ BDI | M9: Material (R$) | N9: Mão de obra(R$)
A10: 1 | D10: SERVIÇOS PRELIMINARES - REMOÇÕES
A12: 1.1 | B12: 103689 | D12: Placa de obra em chapa galvanizada e estrutura de madeira | E12: 4.5 | F12: m² | G12: 309.01 | H12: 277.79 | I12: 31.22 | J12: =ROUND(H12*1.24,2) -> 344.46 | K12: =ROUND(I12*1.24,2) -> 38.71 | L12: =J12+K12 -> 383.17 | M12: =ROUND(E12*J12,2) -> 1550.07 | N12: =ROUND(E12*K12,2) -> 174.2 | O12: =M12+N12 -> 1724.27
A13: 1.2 | B13: 97649 | D13: Remoção de telha de fibrocimento, com reaproveitamento, com guindaste | E13: =63.71*1.077 -> 68.62 | F13: m² | G13: 4.69 | H13: =0.61+0.93 -> 1.54 | I13: 3.15 | J13: =ROUND(H13*1.24,2) -> 1.91 | K13: =ROUND(I13*1.24,2) -> 3.91 | L13: =J13+K13 -> 5.82 | M13: =ROUND(E13*J13,2) -> 131.06 | N13: =ROUND(E13*K13,2) -> 268.3 | O13: =M13+N13 -> 399.36
A14: 1.3 | B14: 97649 | D14: Remoção de telha cerâmica, com reaproveitamento, com guindaste | E14: =109.75*1.077 -> 118.2 | F14: m² | G14: 4.69 | H14: =H13 -> 1.54 | I14: =I13 -> 3.15 | J14: =ROUND(H14*1.24,2) -> 1.91 | K14: =ROUND(I14*1.24,2) -> 3.91 | L14: =J14+K14 -> 5.82 | M14: =ROUND(E14*J14,2) -> 225.76 | N14: =ROUND(E14*K14,2) -> 462.16 | O14: =M14+N14 -> 687.92
A15: 1.4 | B15: 97650 | D15: Remoção de trama de madeira, com reaproveitamento | E15: =E13 -> 68.62 | F15: m² | G15: 7.89 | H15: 1.88 | I15: 6.01 | J15: =ROUND(H15*1.24,2) -> 2.33 | K15: =ROUND(I15*1.24,2) -> 7.45 | L15: =J15+K15 -> 9.78 | M15: =ROUND(E15*J15,2) -> 159.88 | N15: =ROUND(E15*K15,2) -> 511.22 | O15: =M15+N15 -> 671.1
A16: 1.5 | B16: 104803 | D16: Remoção de calha, de forma manual, sem reaproveitamento | E16: 8.6 | F16: m | G16: 4.67 | H16: 1.06 | I16: 3.61 | J16: =ROUND(H16*1.24,2) -> 1.31 | K16: =ROUND(I16*1.24,2) -> 4.48 | L16: =J16+K16 -> 5.79 | M16: =ROUND(E16*J16,2) -> 11.27 | N16: =ROUND(E16*K16,2) -> 38.53 | O16: =M16+N16 -> 49.8
A17: 1.6 | B17: 97649 | D17: Remoção de estrutura de madeira do telhado, com reaproveitamento | E17: =E15 -> 68.62 | F17: m² | G17: =G13 -> 4.69 | H17: =H13 -> 1.54 | I17: =I13 -> 3.15 | J17: =ROUND(H17*1.24,2) -> 1.91 | K17: =ROUND(I17*1.24,2) -> 3.91 | L17: =J17+K17 -> 5.82 | M17: =ROUND(E17*J17,2) -> 131.06 | N17: =ROUND(E17*K17,2) -> 268.3 | O17: =M17+N17 -> 399.36
D18: Total do Grupo | M18: =SUM(M12:M17) -> 2209.1 | N18: =SUM(N12:N17) -> 1722.71 | O18: =SUM(M18+N18) -> 3931.81
A20: 2 | D20: COBERTURA
A21: 2.1 | B21: 92539 | D21: Trama de madeira, com reaproveitamento da madeira existente | E21: =E13 -> 68.62 | F21: m² | G21: =56.81-4.97-11.06-15.55 -> 25.23 | H21: =G21*0.85 -> 21.45 | I21: =G21*0.15 -> 3.78 | J21: =ROUND(H21*1.24,2) -> 26.6 | K21: =ROUND(I21*1.24,2) -> 4.69 | L21: =J21+K21 -> 31.29 | M21: =ROUND(E21*J21,2) -> 1825.29 | N21: =ROUND(E21*K21,2) -> 321.83 | O21: =M21+N21 -> 2147.12
A22: 2.2 | B22: 4408 | D22: Ripa não aparelhada 1,5x5cm em macaranduba/massaranduba, angelim ou equivalente | E22: =11.35*4+12.8*6 -> 122.2 | F22: m | G22: 4.97 | H22: 4.97 | I22: 0 | J22: =ROUND(H22*1.24,2) -> 6.16 | K22: =ROUND(I22*1.24,2) -> 0 | L22: =J22+K22 -> 6.16 | M22: =ROUND(E22*J22,2) -> 752.75 | N22: =ROUND(E22*K22,2) -> 0 | O22: =M22+N22 -> 752.75
A23: 2.3 | B23: 4425 | D23: Viga não aparelhada 6x12cm, em macaranduba/massaranduba, angelim ou equivalente | E23: =5.7*10 -> 57 | F23: m | G23: 3.73 | H23: 3.73 | I23: 0 | J23: =ROUND(H23*1.24,2) -> 4.63 | K23: =ROUND(I23*1.24,2) -> 0 | L23: =J23+K23 -> 4.63 | M23: =ROUND(E23*J23,2) -> 263.91 | N23: =ROUND(E23*K23,2) -> 0 | O23: =M23+N23 -> 263.91
A24: 2.4 | B24: 100382 | D24: Estrutura pontalentada de madeira, com reaproveitamento da madeira existente | E24: =E21 -> 68.62 | F24: m² | G24: =16.73-3.73-4.42-1.55 -> 7.03 | H24: =G24*0.2 -> 1.41 | I24: =G24*0.8 -> 5.62 | J24: =ROUND(H24*1.24,2) -> 1.75 | K24: =ROUND(I24*1.24,2) -> 6.97 | L24: =J24+K24 -> 8.72 | M24: =ROUND(E24*J24,2) -> 120.09 | N24: =ROUND(E24*K24,2) -> 478.28 | O24: =M24+N24 -> 598.37
A25: 2.5 | B25: 94207 | D25: Telhamento com telha ondulada de fibrocimento e=6mm, com recobrimento lateral de 1/4 de onda, incluso içamento, com reaproveitamento da telha existente | E25: =E24 -> 68.62 | F25: m² | G25: =48.35-36.12 -> 12.23 | H25: =G25*0.2 -> 2.45 | I25: =G25*0.8 -> 9.78 | J25: =ROUND(H25*1.24,2) -> 3.04 | K25: =ROUND(I25*1.24,2) -> 12.13 | L25: =J25+K25 -> 15.17 | M25: =ROUND(E25*J25,2) -> 208.6 | N25: =ROUND(E25*K25,2) -> 832.36 | O25: =M25+N25 -> 1040.96
A26: 2.6 | B26: 94207 | D26: Telhamento com telha ondulada de fibrocimento e=6mm, com recobrimento lateral de 1/4 de onda, incluso içamento, com fornecimento da telha | E26: =E14 -> 118.2 | F26: m² | G26: 48.35 | H26: 43.13 | I26: 5.22 | J26: =ROUND(H26*1.24,2) -> 53.48 | K26: =ROUND(I26*1.24,2) -> 6.47 | L26: =J26+K26 -> 59.95 | M26: =ROUND(E26*J26,2) -> 6321.34 | N26: =ROUND(E26*K26,2) -> 764.75 | O26: =M26+N26 -> 7086.09
A27: 2.7 | B27: 94223 | D27: Cumeeira para telha de fibrociimento ondulada e=6mm | E27: 12.8 | F27: m | G27: 82.98 | H27: 80.43 | I27: 2.55 | J27: =ROUND(H27*1.24,2) -> 99.73 | K27: =ROUND(I27*1.24,2) -> 3.16 | L27: =J27+K27 -> 102.89 | M27: =ROUND(E27*J27,2) -> 1276.54 | N27: =ROUND(E27*K27,2) -> 40.45 | O27: =M27+N27 -> 1316.99
A28: 2.8 | B28: 94228 | D28: Calha em chapa de aço galvanizado, desenvolvimento 50 cm | E28: 8.6 | F28: m | G28: 92.46 | H28: 79.62 | I28: 12.84 | J28: =ROUND(H28*1.24,2) -> 98.73 | K28: =ROUND(I28*1.24,2) -> 15.92 | L28: =J28+K28 -> 114.65 | M28: =ROUND(E28*J28,2) -> 849.08 | N28: =ROUND(E28*K28,2) -> 136.91 | O28: =M28+N28 -> 985.99
A29: 2.9 | B29: 94231 | D29: Rufo em chapa de aço galvanizado | E29: 4.5 | F29: m | G29: 54.82 | H29: 48.13 | I29: 6.69 | J29: =ROUND(H29*1.24,2) -> 59.68 | K29: =ROUND(I29*1.24,2) -> 8.3 | L29: =J29+K29 -> 67.98 | M29: =ROUND(E29*J29,2) -> 268.56 | N29: =ROUND(E29*K29,2) -> 37.35 | O29: =M29+N29 -> 305.91
A30: 2.10 | B30: 142 | D30: Selante elástico PU para vedação das calhas e rufos existentes | E30: =(70.1+12.8*2+8.6)*0.081 -> 8.45 | F30: unid | G30: 36.21 | H30: =G30 -> 36.21 | I30: 0 | J30: =ROUND(H30*1.24,2) -> 44.9 | K30: =ROUND(I30*1.24,2) -> 0 | L30: =J30+K30 -> 44.9 | M30: =ROUND(E30*J30,2) -> 379.41 | N30: =ROUND(E30*K30,2) -> 0 | O30: =M30+N30 -> 379.41
A31: 2.11 | B31: 88323 | D31: Telhadista para vedação das calhas e rufos existentes | E31: 6 | F31: H | G31: 26.43 | H31: 0 | I31: =G31 -> 26.43 | J31: =ROUND(H31*1.24,2) -> 0 | K31: =ROUND(I31*1.24,2) -> 32.77 | L31: =J31+K31 -> 32.77 | M31: =ROUND(E31*J31,2) -> 0 | N31: =ROUND(E31*K31,2) -> 196.62 | O31: =M31+N31 -> 196.62
D32: Total do Grupo | M32: =SUM(M21:M31) -> 12265.57 | N32: =SUM(N21:N31) -> 2808.55 | O32: =M32+N32 -> 15074.12
A34: 3 | D34: PINTURA
A35: 3.1 | D35: PINTURA EXTERNA
A36: 3.1.1 | B36: 88489 | D36: Pintura látex acrílica premium, aplicação manual em paredes externas, duas demãos | E36: =70.1*4.5 -> 315.45 | F36: m² | G36: 13.65 | H36: 9.32 | I36: 4.33 | J36: =ROUND(H36*1.24,2) -> 11.56 | K36: =ROUND(I36*1.24,2) -> 5.37 | L36: =J36+K36 -> 16.93 | M36: =ROUND(E36*J36,2) -> 3646.6 | N36: =ROUND(E36*K36,2) -> 1693.97 | O36: =M36+N36 -> 5340.57
A37: 3.2 | D37: PINTURA INTERNA
A38: 3.2.1 | B38: CP1 | D38: Pintura, aplicação manual em paredes, duas demãos | E38: 125 | F38: m² | G38: 35.17 | H38: =G38*0.8 -> 28.14 | I38: =G38*0.2 -> 7.03 | J38: =ROUND(H38*1.24,2) -> 34.89 | K38: =ROUND(I38*1.24,2) -> 8.72 | L38: =J38+K38 -> 43.61 | M38: =ROUND(E38*J38,2) -> 4361.25 | N38: =ROUND(E38*K38,2) -> 1090 | O38: =M38+N38 -> 5451.25
A39: 3.2.2 | B39: CP2 | D39: Pintura do teto com tinta epoxi | E39: 173.78 | F39: m² | G39: 27.16 | H39: =G39*0.8 -> 21.73 | I39: =G39*0.2 -> 5.43 | J39: =ROUND(H39*1.24,2) -> 26.95 | K39: =ROUND(I39*1.24,2) -> 6.73 | L39: =J39+K39 -> 33.68 | M39: =ROUND(E39*J39,2) -> 4683.37 | N39: =ROUND(E39*K39,2) -> 1169.54 | O39: =M39+N39 -> 5852.91
A40: 3.2.3 | B40: 96121 | D40: Acabamento perfil plástico para junta de dilatação | E40: =3+3+2.2 -> 8.2 | F40: m | G40: 14.89 | H40: 9.1 | I40: 5.79 | J40: =ROUND(H40*1.24,2) -> 11.28 | K40: =ROUND(I40*1.24,2) -> 7.18 | L40: =J40+K40 -> 18.46 | M40: =ROUND(E40*J40,2) -> 92.5 | N40: =ROUND(E40*K40,2) -> 58.88 | O40: =M40+N40 -> 151.38
D41: Total do Grupo | M41: =SUM(M35:M40) -> 12783.72 | N41: =SUM(N35:N40) -> 4012.39 | O41: =M41+N41 -> 16796.11
D44: TOTAL GERAL | M44: =SUM(M18,M32,M41) -> 27258.39 | N44: =SUM(N18,N32,N41) -> 8543.65 | O44: =SUM(O18,O32,O41) -> 35802.04
A47: BDI UTILIZADO= 24,00%
A48: BASE SINAPI: 07/2024 - NÃO DESONERADO | O48: Pareci Novo, 21 de agosto de 2024.
D56: Alice Fell | K56: Paulo Alexandre Barth
D57: Engenheiro Civil - CREA/RS 089571-D | K57: Prefeito Municipal
D58: Engenheira Civil - CREA/RS 240.203 | K58: Prefeito Municipal

Sheet Encargos sociais

Sheet Cronograma
A1: CRONOGRAMA FÍSICO FINANCEIRO
A3: Obra: Reforma Unidade Básica de Saúde do Despique
A5: Local: | B5: Estrada Municipal Despique, Despique, Pareci Novo - RS
A8: ITEM | B8: SERVIÇOS E MATERIAIS | C8: PRAZO DE EXECUÇÃO
C9: 1º MÊS | D9: 2º MÊS | E9: 3º MÊS | F9: 4º MÊS | G9: TOTAL ACUMULADO
A10: 1 | B10: =Orçamento!D10 -> SERVIÇOS PRELIMINARES - REMOÇÕES | C10: =1*G10 -> 3931.81 | G10: =Orçamento!O18 -> 3931.81
A11: 2 | B11: =Orçamento!D20 -> COBERTURA | C11: =1*G11 -> 15074.12 | G11: =Orçamento!O32 -> 15074.12
A12: 3 | B12: =Orçamento!D34 -> PINTURA | D12: =1*G12 -> 16796.11 | G12: =Orçamento!O41 -> 16796.11
A14: TOTAL PERÍODO | C14: =SUM(C10:C12) -> 19005.93 | D14: =D12 -> 16796.11 | E14: =SUM(E10:E13) -> 0 | F14: =SUM(F10:F13) -> 0 | G14: =SUM(G10:G12) -> 35802.04
A15: TOTAL ACUMULADO | C15: =C14 -> 19005.93 | D15: =C15+D14 -> 35802.04 | E15: =D15+E14 -> 35802.04 | F15: =E15+F14 -> 35802.04 | G15: =G14 -> 35802.04
G18: Pareci Novo, 21 de agosto de 2024.
B24: Alice Fell | E24: Paulo Alexandre Barth
B25: Engenheira Civil - CREA/RS 240.203 | E25: Prefeito Municipal

Sheet Plan1
A4: PINTURA TINTA EPÓXI APLICADA MANUALMENTE EM PAREDES, DUAS DEMÃOS
A5: Item | B5: Código | C5: Descrição | D5: Quant | E5: unid | F5: valor unit | G5: valor total
A6: 1.1 | B6: 7304 | C6: Tinta epóxi base água premium branca | D6: 0.2285 | E6: l | F6: 80.17 | G6: =D6*F6 -> 18.32
A7: 1.2 | B7: 88312 | C7: Pintor para tinta epóxi com encargos | D7: 0.1631 | E7: H | F7: 28.55 | G7: =D7*F7 -> 4.66
A8: 1.3 | B8: 99316 | C8: Servente com encargos | D8: 0.544 | E8: H | F8: 22.4 | G8: =D8*F8 -> 12.19
C11: Valor total (p/m²): | G11: =SUM(G6:G8) -> 35.17
A13: PINTURA TINTA EPÓXI APLICADA MANUALMENTE EM TETO, DUAS DEMÃOS
A14: Item | B14: Código | C14: Descrição | D14: Quant | E14: unid | F14: valor unit | G14: valor total
A15: 1.1 | B15: 7304 | C15: Tinta epóxi base água premium branca | D15: 0.2367 | E15: l | F15: 80.17 | G15: =D15*F15 -> 18.98
A16: 1.2 | B16: 88310 | C16: Pintor com encargos | D16: 0.227 | E16: H | F16: 28.55 | G16: =D16*F16 -> 6.48
A17: 1.3 | B17: 99316 | C17: Servente com encargos | D17: 0.0757 | E17: H | F17: 22.4 | G17: =D17*F17 -> 1.7
C20: Valor total (p/m²): | G20: =SUM(G15:G17) -> 27.16
F24: 6
F25: 4.7
F26: 2.88
F27: 5.6
D28: 10 | F28: 11.4
D29: 8.7 | F29: 6.84
D30: 11.44 | F30: 13.82
D31: 6.8 | F31: 10.6
D32: 13.6 | F32: 6.77
D33: 24.8 | F33: 9.12
D34: 11.2 | F34: 4.97
D35: 23.9 | F35: 15.96
D36: 12.4 | F36: 12
D37: 10.7 | F37: 21.83
D38: 9.1 | F38: 11.54
D39: 19.6 | F39: 5.9
... D42: 14 | F42: 6.25
D43: 14.2
D44: 16
F45: =SUM(F24:F42) -> 173.78
D46: =SUM(D28:D44) -> 227.14
