Workbook

Sheet ORÇAMENTO 
B1: PREFEITURA MUNICIPAL DE NOVA SANTA RITA SECRETARIA MUNICIPAL DE SAÚDE SECRETARIA MUNICIPAL DE DESENVOLVIMENTO URBANO
B8: Obra: | D8: Reforma da E.M.E.F. Hélio Fraga | F8: PLANILHA ORÇAMENTÁRIA | J8: ENCARGOS SOCIAIS SOBRE PREÇOS DA MÃO-DE-OBRA: 83,25%(HORA), 46,08%(MENSALISTA)
B9: Data ref. Técnica: | D9: SINAPI SETEMBRO/2024 - SEM DESONERAÇÃO
B10: Unidade Federativa: | D10: Nova Santa Rita - RS | J10: BDI 1: | L10: DESONERADO
B11: ITEM | C11: FONTE | D11: CÓDIGO | E11: DESCRIÇÃO DOS SERVIÇOS | F11: UN. | G11: QUANT. | H11: PREÇO SEM BDI (R$) | I11: PREÇO COM BDI (R$) | J11: VALOR (R$) | K11: Peso % | L11: Especificação - Descrição das características de materiais e serviços necessários para execução da obra.
E13: ADMINISTRAÇÃO DE OBRA | J13: =SUM(J14:J15) -> 0
B14: 1 | C14: SINAPI | D14: 101739 | E14: ENGENHEIRO CVIL DE OBRA PLENO COM ENCARGOS COMPLEMENTARES | F14: H | G14: 40 | I14: =ROUND((($K$10*H14)+H14),2) -> 0 | J14: =ROUND((G14*I14),2) -> 0
B15: 2 | C15: SINAPI | D15: 93523 | E15: AUXILIAR TÉCNICO DE ENGENHARIA COM ENCARGOS COMPLENTARES | F15: H | G15: 40 | I15: =ROUND((($K$10*H15)+H15),2) -> 0 | J15: =ROUND((G15*I15),2) -> 0
B16: A | E16: SERVIÇOS PRELIMINARES | J16: =SUM(J17:J17) -> 0
B17: 3 | C17: SINAPI | D17: 112208 | E17: FORNECIMENTO E INSTALAÇÃO DE PLACA DE OBRA COM CHAPA GALVANIZADA E ESTRUTURA DE MADEIRA. AF_03/2022_PS | F17: m² | G17: 2.25 | I17: =ROUND((($K$10*H17)+H17),2) -> 0 | J17: =ROUND((G17*I17),2) -> 0
B18: B | E18: PISOS | J18: =SUM(J19:J22) -> 0
B19: 4 | C19: SINAPI | D19: 95977 | E19: DEMOLIÇÃO DE REVESTIMENTO CERÂMICO, DE FORMA MANUAL, SEM REAPROVEITAMENTO. AF_09/2023 | F19: m² | G19: 400 | I19: =ROUND(((1+$K$10)*H19),2) -> 0 | J19: =ROUND((G19*I19),2) -> 0
B20: 5 | C20: SINAPI | D20: 110793 | E20: REVESTIMENTO CERÂMICO PARA PISO COM PLACAS TIPO ESMALTADA EXTRA DE DIMENSÕES 60X60 CM APLICADA EM AMBIENTES DE ÁREA MAIOR QUE 10 M2. AF_02/2023_PE | F20: m² | G20: 400 | I20: =ROUND(((1+$K$10)*H20),2) -> 0 | J20: =ROUND((G20*I20),2) -> 0
B21: 6 | C21: SINAPI | D21: 111506 | E21: TRATAMENTO DE JUNTA DE DILATAÇÃO, COM TARUGO DE POLIETILENO E SELANTE PU, INCLUSO PREENCHIMENTO COM ESPUMA EXPANSIVA PU. AF_09/2023 | F21: m | G21: 51 | I21: =ROUND(((1+$K$10)*H21),2) -> 0 | J21: =ROUND((G21*I21),2) -> 0
B22: 7 | C22: SINAPI | D22: 110795 | E22: LIMPEZA DE PISO CERÂMICO OU PORCELANATO UTILIZANDO DETERGENTE NEUTRO E ESCOVAÇÃO MANUAL. AF_04/2019 | F22: m² | G22: 400 | I22: =ROUND(((1+$K$10)*H22),2) -> 0 | J22: =ROUND((G22*I22),2) -> 0
B23: C | E23: ACABAMENTOS | J23: =J25+J24 -> 0
B24: 8 | C24: SINAPI | D24: 95978 | E24: DEMOLIÇÃO DE RODAPÉ CERÂMICO, DE FORMA MANUAL, SEM REAPROVEITAMENTO. AF_09/2023 | F24: m | G24: 237.11 | I24: =ROUND(((1+$K$10)*H24),2) -> 0 | J24: =ROUND((G24*I24),2) -> 0
B25: 9 | C25: SINAPI | D25: 108105 | E25: RODAPÉ CERÂMICO DE 7CM DE ALTURA COM PLACAS TIPO ESMALTADA EXTRA DE DIMENSÕES 60X60CM. AF_02/2023 | F25: m | G25: 237.11 | I25: =ROUND(((1+$K$10)*H25),2) -> 0 | J25: =ROUND((G25*I25),2) -> 0
B26: D | E26: OUTROS | J26: =SUM(J27:J28) -> 0
B27: 10 | C27: SINAPI | D27: 113170 | E27: CARGA, MANOBRA E DESCARGA DE ENTULHO EM CAMINHÃO BASCULANTE 14 M³ - CARGA COM ESCAVADEIRA HIDRÁULICA (CAÇAMBA DE 0,80 M³ / 111 HP) E DESCARGA LIVRE (UNIDADE: M3). AF_07/2020 | F27: m³ | G27: 26 | I27: =ROUND(((1+$K$10)*H27),2) -> 0 | J27: =ROUND((G27*I27),2) -> 0
B28: 11 | C28: COMPOSIÇÃO PRÓPRIA | D28: 108715 | E28: TRANSPORTE DE ENTULHO COM CAMINHÃO BASCULANTE, RODOVIA PAVIMENTADA | F28: M3XKM | G28: 26 | I28: =ROUND(((1+$K$10)*H28),2) -> 0 | J28: =ROUND((G28*I28),2) -> 0
E29: CUSTO TOTAL (CUSTO DIRETO TOTAL + BDI) | J29: =SUM(J13,J16,J18,J23,J26) -> 0
F32: Assinatura:

Sheet COMPOSIÇÕES
B1: PREFEITURA MUNICIPAL DE NOVA SANTA RITA SECRETARIA MUNICIPAL DE EDUCAÇÃO SECRETARIA MUNICIPAL DE DESENVOLVIMENTO URBANO
B9: PRÓPRIA | C9: COMP_2 | D9: TRANSPORTE DE ENTULHO COM CAMINHÃO BASCULANTE, RODOVIA PAVIMENTADA | E9: M3XKM | F9: Tipo | G9: Coef. | H9: Valor Material | I9: Valor Mão de Obra | J9: Total Material | K9: Total Mão de Obra
B10: COMPOSIÇÃO | C10: 5811 | D10: CAMINHÃO BASCULANTE 6 M3, PESO BRUTO TOTAL 16.000 KG, CARGA ÚTIL MÁXIMA 13.071 KG, DISTÂNCIA ENTRE EIXOS 4,80 M, POTÊNCIA 230 CV INCLUSIVE CAÇAMBA METÁLICA - CHP DIURNO. AF_06/2014 | E10: CHP | F10: MAT | G10: 0.034 | H10: 210.23 | J10: =H10*G10 -> 7.14782
B11: Observação: | J11: =SUM(J10)+SUM(K10) -> 7.14782
E13: Assinatura:

Sheet BDI
B1: PREFEITURA MUNICIPAL DE NOVA SANTA RITA SECRETARIA MUNICIPAL DE EDUCAÇÃO SECRETARIA MUNICIPAL DE DESENVOLVIMENTO URBANO | D1: DETALHAMENTO DO BDI 1
B2: IDENTIFICAÇÃO
B3: OBRA: | C3: EMEF Hélio Fraga
B4: TIPO DE OBRA: | C4: 1 - Construção de Edifícios
B5: Item | C5: Composição do BDI | E5: Adotado | F5: Mín | G5: Máx
B7: 1 | C7: ADMINISTRAÇÃO CENTRAL | D7: AC | E7: 0.03 | F7: 0.03 | G7: 0.055
B8: 1.1 | C8: ESCRITÓRIO CENTRAL
B9: 1.2 | C9: VIAGENS
B10: 1.3 | C10: OUTROS
B11: 2 | C11: SEGURO e GARANTIA | D11: S + G | E11: 0.0082 | F11: 0.008 | G11: 0.01
B12: 3 | C12: RISCO | D12: R | E12: 0.01 | F12: 0.0097 | G12: 0.0127
B13: 4 | C13: DESPESAS FINANCEIRAS | D13: DF | E13: 0.006 | F13: 0.0059 | G13: 0.0139
B14: 5 | C14: LUCRO | D14: L | E14: 0.062 | F14: 0.0616 | G14: 0.0896
B15: 6 | C15: IMPOSTOS
B16: 6.1 | C16: PIS | D16: I1 | E16: 0.0065 | F16: Conf. Legislação
B17: 6.2 | C17: COFINS | D17: I2 | E17: 0.03 | F17: Conf. Legislação
B18: 6.3 | C18: ISSQN | D18: I3 | E18: 0.02 | F18: Conf. Legislação
B19: 6.4 | C19: PIS, COFINS, ISSQN (S/ DESONERAÇÃO) | D19: I4 | E19: 0.0565 | F19: Conf. Legislação
B20: 6.5 | C20: PIS, COFINS, ISSQN (DESONERADO) | D20: I5 | E20: 0.0765 | F20: Conf. Legislação + 2%
B21: BDI RESULTANTE | F21: Mín | G21: Máx
B22: BDI Sem Desoneração: | E22: =SUM(E7:E19) -> 0.2292 | F22: 0.2034 | G22: 0.25
B23: BDI Com Desoneração: | E23: =SUM(E7:E18)+E20 -> 0.2492
B24: BDI ADOTADO: | E24: =E22 -> 0.2292
B26: OBSERVAÇÕES:
B27: BDI CALCULADO CONFORME ACÓRDÃO Nº 2369/2011 – TCU
B30: Fórmula de Cálculo do BDI
B34: AC = Administração central
B35: S = Seguros
B36: R = Riscos e imprevistos
B37: G = Garantias exigidas em edital
B38: DF = Despesas financeiras
B39: L = Remuneração bruta do construtor
B40: I = Tributos sobre o preço de venda (PIS, Cofins, CPRB e ISS).
B43: Assinatura:

Sheet DEM. ENCARGOS SOCIAIS
B1: Estado do Rio Grande do Sul PREFEITURA MUNICIPAL DE NOVA SANTA RITA SECRETARIA MUNICIPAL DE EDUCAÇÃO SECRETARIA MUNICIPAL DE DESENVOLVIMENTO URBANO
B4: Proponente: | C4: PREFEITURA MUNICIPAL DE NOVA SANTA RITA
B5: OBRA: | C5: EMEF Hélio Fraga | D5: BDI: 24,92%
B6: Endereço: | C6: Avenida Santa Rita, 1901 - Centro - Nova Santa Rita
B7: Base de encargos sociais: SINAPI RS a partir de 12/2023
B8: ENCARGOS SOCIAIS SOBRE A MÃO DE OBRA
B9: CÓDIGO | C9: DESCRIÇÃO | D9: DESONERADO
D11: HORISTA | E11: MENSALISTA
B12: GRUPO A
B13: A1 | C13: INSS | D13: 0 | E13: 0
B14: A2 | C14: SESI | D14: 0.015 | E14: 0.015
B15: A3 | C15: SENAI | D15: 0.01 | E15: 0.01
B16: A4 | C16: INCRA | D16: 0.002 | E16: 0.002
B17: A5 | C17: SEBRAE | D17: 0.006 | E17: 0.006
B18: A6 | C18: Salário Educação | D18: 0.025 | E18: 0.025
B19: A7 | C19: Seguro Contra Acidentes de Trabalho | D19: 0.03 | E19: 0.03
B20: A8 | C20: FGTS | D20: 0.08 | E20: 0.08
B21: A9 | C21: SECONCI | D21: 0 | E21: 0
B22: A | C22: Total | D22: =SUM(D13:D21) -> 0.168 | E22: =SUM(E13:E21) -> 0.168
B23: GRUPO B
B24: B1 | C24: Repouso Semanal Remunerado | D24: 0.1793 | E24: Não incide
B25: B2 | C25: Feriados | D25: 0.0424 | E25: Não incide
B26: B3 | C26: Auxílio - Enfermidade | D26: 0.0085 | E26: 0.0064
B27: B4 | C27: 13º Salário | D27: 0.1102 | E27: 0.0833
B28: B5 | C28: Licença Paternidade | D28: 0.0006 | E28: 0.0004
B29: B6 | C29: Faltas Justificadas | D29: 0.0073 | E29: 0.0056
B30: B7 | C30: Dias de Chuvas | D30: 0.0155 | E30: Não incide
B31: B8 | C31: Auxílio Acidente de Trabalho | D31: 0.001 | E31: 0.0008
B32: B9 | C32: Férias Gozadas | D32: 0.1156 | E32: 0.0874
B33: B10 | C33: Salário Maternidade | D33: 0.0004 | E33: 0.0003
B34: B | C34: Total | D34: =SUM(D24:D33) -> 0.4808 | E34: =SUM(E24:E33) -> 0.1842
B35: GRUPO C
B36: C1 | C36: Aviso Prévio Indenizado | D36: 0.0459 | E36: 0.0347
B37: C2 | C37: Aviso Prévio Trabalhado | D37: 0.0011 | E37: 0.0008
B38: C3 | C38: Férias Indenizadas | D38: 0.0226 | E38: 0.0171
B39: C4 | C39: Depósito Rescisão Sem Justa Causa | D39: 0.0255 | E39: 0.0193
B40: C5 | C40: Indenização Adicional | D40: 0.0039 | E40: 0.0029
B41: C | C41: Total | D41: =SUM(D36:D40) -> 0.099 | E41: =SUM(E36:E40) -> 0.0748
B42: GRUPO D
B43: D1 | C43: Reincidência de Grupo A sobre Grupo B | D43: 0.0808 | E43: 0.0309
...

Sheet CRONOGRAMA FÍS - FIN
B1: PREFEITURA MUNICIPAL DE NOVA SANTA RITA SECRETARIA MUNICIPAL DE EDUCAÇÃO SECRETARIA MUNICIPAL DE DESENVOLVIMENTO URBANO | I1: CRONOGRAMA FISICO - FINANCEIRO (Desonerado)
B3: IDENTIFICAÇÃO | H3: BDI: | I3: 0.2492
B4: OBRA: | C4: E.M.E.F Hélio Fraga
B5: ITEM | C5: DESCRIÇÃO | G5: VALOR (R$) COM BDI | I5: % | J5: 30 dias
J6: R$ | K6: % | L6: % ACUM
C7: Administração da Obra | G7: ='ORÇAMENTO '!J13 -> 0 | I7: =G7*1/$G$12 -> #DIV/0! | J7: =G7 -> 0 | K7: 100 | L7: 100
B8: A | C8: Serviços preliminares | G8: ='ORÇAMENTO '!J16 -> 0 | I8: =G8*1/$G$12 -> #DIV/0! | J8: =G8 -> 0 | K8: 100 | L8: 100
B9: B | C9: Pisos | G9: ='ORÇAMENTO '!J18 -> 0 | I9: =G9*1/$G$12 -> #DIV/0! | J9: =G9 -> 0 | K9: 100 | L9: 100
B10: C | C10: Acabamentos | G10: ='ORÇAMENTO '!J23 -> 0 | I10: =G10*1/$G$12 -> #DIV/0! | J10: =G10 -> 0 | K10: 100 | L10: 100
B11: D | C11: Outros | G11: ='ORÇAMENTO '!J26 -> 0 | I11: =G11*1/$G$12 -> #DIV/0! | J11: =G11 -> 0 | K11: 100 | L11: 100
B12: TOTAL GERAL | G12: =SUM(G7:H11) -> 0 | I12: =SUM(I7:I11) -> #DIV/0! | J12: =SUM(J7:J11) -> 0
G13: TOTAL ACUMULADO | J13: =J12 -> 0
B14: Perpiodo: | D14: Mensal | G14: % ACUMULADO | J14: =(J13*1)/G12 -> #DIV/0!
B17: Assinatura:
