Workbook

Sheet Orçamento
A4: Obra: CONSTRUÇÃO DE UBS PORTE 3 - BERTO CÍRIO | I4: BDI Padrão: | J4: BDI Padrão:
A5: Bancos: SINAPI: RS 4/2025, SEINFRA: CE 10/2023, SETOP: CENTRAL 10/2023, EDUCACAO-SP: SP 1/2025, SICRO3: RS 1/2025, SIURB: SP 1/2025, EMOP: RJ 3/2025 OBRAS-SP: SP 2/2025, DER-ES-EDIFICA: ES 2/2025, SUDECAP: BH 1/2025, ORSE: SE 3/2025, SBC 4/2025 | I5: Não Desonerado
A6: Planilha Sintética Simples | I6: Encargos Sociais Horista: 112,84% | J6: Encargos Sociais Horista: 112,84% | K6: Mensalista: 69,95%
A8: Item | B8: Tipo | C8: Banco | D8: Código | E8: Descrição | F8: Un. | G8: Qtd. | H8: Preço Unit | I8: Preço com BDI | J8: Total sem BDI | K8: Total
A10: LOTE 1 - CONSTRUÇÃO UBS PORTE III
A12: A | E12: SERVIÇOS PRELIMINARES E INDIRETOS | K12: =K13+K24+K27+K29 -> 0
A13: A.1 | E13: CANTEIRO DE OBRAS | K13: =SUM(K14:K23) -> 0
A14: 1 | B14: Composição | C14: OBRAS-SP | D14: 02.02.150 | E14: Locação de container tipo depósito - área mínima de 13,80 m² | F14: MES | G14: 12 | I14: =ROUND(H14*(1+$K$4),2) -> 0 | J14: =ROUND(G14*H14,2) -> 0 | K14: =ROUND(G14*I14,2) -> 0 | M14: =K14/$K$531 -> #DIV/0!
A15: =A14+1 -> 2 | B15: Composição | C15: ORSE | D15: 11703 | E15: Barracão aberto para apoio à produção (carpintaria, central de armação, oficina, etc.) c/ tesouras, telha 4mm, piso em concreto desempolado | F15: M2 | G15: 25 | I15: =ROUND(H15*(1+$K$4),2) -> 0 | J15: =ROUND(G15*H15,2) -> 0 | K15: =ROUND(G15*I15,2) -> 0 | M15: =K15/$K$531 -> #DIV/0!
A16: =A15+1 -> 3 | B16: Composição | C16: ORSE(A) | D16: 4656 | E16: Locação de container - Banheiro com chuveiros e vasos - 4,30 x 2,30m | F16: MÊS | G16: 12 | I16: =ROUND(H16*(1+$K$4),2) -> 0 | J16: =ROUND(G16*H16,2) -> 0 | K16: =ROUND(G16*I16,2) -> 0 | M16: =K16/$K$531 -> #DIV/0!
A17: =A16+1 -> 4 | B17: Composição | C17: Próprio | D17: SBC 012208 | E17: BARRACÃO PARA REFEITORIO EM OBRAS EM COMPENSADO | F17: M2 | G17: 35 | I17: =ROUND(H17*(1+$K$4),2) -> 0 | J17: =ROUND(G17*H17,2) -> 0 | K17: =ROUND(G17*I17,2) -> 0 | M17: =K17/$K$531 -> #DIV/0!
A18: =A17+1 -> 5 | B18: Composição | C18: SINAPI | D18: 95648 | E18: KIT CAVALETE PARA MEDIÇÃO DE ÁGUA - ENTRADA INDIVIDUALIZADA, EM CPVC DN 28 MM (1"), PARA 1 MEDIDOR - FORNECIMENTO E INSTALAÇÃO (EXCLUSIVE HIDRÔMETRO). AF_03/2024 | F18: UN | G18: 1 | I18: =ROUND(H18*(1+$K$4),2) -> 0 | J18: =ROUND(G18*H18,2) -> 0 | K18: =ROUND(G18*I18,2) -> 0 | M18: =K18/$K$531 -> #DIV/0!
A19: =A18+1 -> 6 | B19: Composição | C19: SINAPI | D19: 95673 | E19: HIDRÔMETRO DN 1/2", 1,5 M3/H - FORNECIMENTO E INSTALAÇÃO. AF_03/2024 | F19: UN | G19: 1 | I19: =ROUND(H19*(1+$K$4),2) -> 0 | J19: =ROUND(G19*H19,2) -> 0 | K19: =ROUND(G19*I19,2) -> 0 | M19: =K19/$K$531 -> #DIV/0!
A20: =A19+1 -> 7 | B20: Composição | C20: SINAPI | D20: 101509 | E20: ENTRADA DE ENERGIA ELÉTRICA, AÉREA, TRIFÁSICA, COM CAIXA DE EMBUTIR, CABO DE 10 MM2 E DISJUNTOR DIN 50A (NÃO INCLUSO O POSTE DE CONCRETO). AF_07/2020 | F20: UN | G20: 1 | I20: =ROUND(H20*(1+$K$4),2) -> 0 | J20: =ROUND(G20*H20,2) -> 0 | K20: =ROUND(G20*I20,2) -> 0 | M20: =K20/$K$531 -> #DIV/0!
A21: =A20+1 -> 8 | B21: Composição | C21: SINAPI | D21: 103689 | E21: FORNECIMENTO E INSTALAÇÃO DE PLACA DE OBRA COM CHAPA GALVANIZADA E ESTRUTURA DE MADEIRA. AF_03/2022_PS | F21: M2 | G21: 6 | I21: =ROUND(H21*(1+$K$4),2) -> 0 | J21: =ROUND(G21*H21,2) -> 0 | K21: =ROUND(G21*I21,2) -> 0 | M21: =K21/$K$531 -> #DIV/0!
A22: =A21+1 -> 9 | B22: Composição | C22: OBRAS-SP | D22: 05.07.040 | E22: Remoção de entulho separado de obra com caçamba metálica - terra, alvenaria, concreto, argamassa, madeira, papel, plástico ou metal | F22: M3 | G22: 280 | I22: =ROUND(H22*(1+$K$4),2) -> 0 | J22: =ROUND(G22*H22,2) -> 0 | K22: =ROUND(G22*I22,2) -> 0 | M22: =K22/$K$531 -> #DIV/0!
A23: =A22+1 -> 10 | B23: Composição | C23: SINAPI | D23: 98459 | E23: TAPUME COM TELHA METÁLICA. AF_03/2024 | F23: M2 | G23: 500 | I23: =ROUND(H23*(1+$K$4),2) -> 0 | J23: =ROUND(G23*H23,2) -> 0 | K23: =ROUND(G23*I23,2) -> 0 | M23: =K23/$K$531 -> #DIV/0!
A24: A.2 | E24: ADMINISTRAÇÃO LOCAL DE OBRA | K24: =SUM(K25:K26) -> 0
A25: =A23+1 -> 11 | B25: Composição | C25: SINAPI | D25: 90777 | E25: ENGENHEIRO CIVIL DE OBRA JUNIOR COM ENCARGOS COMPLEMENTARES | F25: H | G25: 320 | I25: =ROUND(H25*(1+$K$4),2) -> 0 | J25: =ROUND(G25*H25,2) -> 0 | K25: =ROUND(G25*I25,2) -> 0 | M25: =K25/$K$531 -> #DIV/0!
A26: =A25+1 -> 12 | B26: Composição | C26: SINAPI | D26: 93572 | E26: ENCARREGADO GERAL DE OBRAS COM ENCARGOS COMPLEMENTARES | F26: MES | G26: 12 | I26: =ROUND(H26*(1+$K$4),2) -> 0 | J26: =ROUND(G26*H26,2) -> 0 | K26: =ROUND(G26*I26,2) -> 0 | M26: =K26/$K$531 -> #DIV/0!
A27: A.3 | E27: MOBILIZAÇÃO E DESMOBILIZAÇÃO | K27: =SUM(K28) -> 0
A28: =A26+1 -> 13 | B28: Composição | C28: Próprio | D28: SBC 12689 | E28: MOBILIZAÇÃO E DESMOBILIZAÇÃO DE CANTEIRO | F28: UN | G28: 1 | I28: =ROUND(H28*(1+$K$4),2) -> 0 | J28: =ROUND(G28*H28,2) -> 0 | K28: =ROUND(G28*I28,2) -> 0 | M28: =K28/$K$531 -> #DIV/0!
A29: A.4 | E29: EQUIPAMENTOS DE APOIO | K29: =SUM(K30:K31) -> 0
A30: =A28+1 -> 14 | B30: Insumo | C30: SINAPI | D30: 20193 | E30: LOCACAO DE ANDAIME METALICO TIPO FACHADEIRO, PECAS COM APROXIMADAMENTE 1,20 M DE LARGURA E 2,0 M DE ALTURA, INCLUINDO DIAGONAIS EM X, BARRAS DE LIGACAO, SAPATAS E DEMAIS ITENS NECESSARIOS A MONTAGEM (NAO INCLUI INSTALACAO) | F30: M2XMES | G30: 1072.18 | I30: =ROUND(H30*(1+$K$4),2) -> 0 | J30: =ROUND(G30*H30,2) -> 0 | K30: =ROUND(G30*I30,2) -> 0 | M30: =K30/$K$531 -> #DIV/0!
A31: =A30+1 -> 15 | B31: Composição | C31: SINAPI | D31: 97065 | E31: MONTAGEM E DESMONTAGEM DE ANDAIME MULTIDIRECIONAL (EXCLUSIVE ANDAIME E LIMPEZA). AF_03/2024 | F31: M3 | G31: 1072.18 | I31: =ROUND(H31*(1+$K$4),2) -> 0 | J31: =ROUND(G31*H31,2) -> 0 | K31: =ROUND(G31*I31,2) -> 0 | M31: =K31/$K$531 -> #DIV/0!
A32: B | E32: FUNDAÇÃO | K32: =K33+K35+K38+K49 -> 0
A33: B.1 | E33: SERVIÇOS INICIAIS | K33: =SUM(K34) -> 0
A34: =A31+1 -> 16 | B34: Composição | C34: SINAPI | D34: 99059 | E34: LOCAÇÃO CONVENCIONAL DE OBRA, UTILIZANDO GABARITO DE TÁBUAS CORRIDAS PONTALETADAS A CADA 2,00M - 2 UTILIZAÇÕES. AF_03/2024 | F34: M | G34: 150 | I34: =ROUND(H34*(1+$K$4),2) -> 0 | J34: =ROUND(G34*H34,2) -> 0 | K34: =ROUND(G34*I34,2) -> 0 | M34: =K34/$K$531 -> #DIV/0!
A35: B.2 | E35: ESTAQUEAMENTO | K35: =SUM(K36:K37) -> 0
A36: =A34+1 -> 17 | B36: Composição | C36: Próprio | D36: CPU 013 - UBS | E36: ESTACA ESCAVADA MECANICAMENTE, SEM FLUIDO ESTABILIZANTE, COM 30 CM DE DIÂMETRO, CONCRETO LANÇADO POR CAMINHÃO BETONEIRA (EXCLUSIVE MOBILIZAÇÃO E DESMOBILIZAÇÃO) | F36: M | G36: 504 | I36: =ROUND(H36*(1+$K$4),2) -> 0 | J36: =ROUND(G36*H36,2) -> 0 | K36: =ROUND(G36*I36,2) -> 0 | M36: =K36/$K$531 -> #DIV/0!
A37: =A36+1 -> 18 | B37: Composição | C37: SINAPI | D37: 95601 | E37: ARRASAMENTO MECANICO DE ESTACA DE CONCRETO ARMADO, DIAMETROS DE ATÉ 40 CM. AF_05/2021 | F37: UN | G37: 84 | I37: =ROUND(H37*(1+$K$4),2) -> 0 | J37: =ROUND(G37*H37,2) -> 0 | K37: =ROUND(G37*I37,2) -> 0 | M37: =K37/$K$531 -> #DIV/0!
A38: B.3 | E38: BLOCOS DE FUNDAÇÃO | K38: =SUM(K39:K48) -> 0
A39: =A37+1 -> 19 | B39: Composição | C39: SINAPI | D39: 90100 | E39: ESCAVAÇÃO MECANIZADA DE VALA COM PROF. ATÉ 1,5 M (MÉDIA MONTANTE E JUSANTE/UMA COMPOSIÇÃO POR TRECHO), RETROESCAV. (0,26 M3), LARG. DE 0,8 M A 1,5 M, EM SOLO DE 1A CATEGORIA, EM LOCAIS COM ALTO NÍVEL DE INTERFERÊNCIA. AF_09/2024 | F39: M3 | G39: 116.43 | I39: =ROUND(H39*(1+$K$4),2) -> 0 | J39: =ROUND(G39*H39,2) -> 0 | K39: =ROUND(G39*I39,2) -> 0 | M39: =K39/$K$531 -> #DIV/0!
A40: =A39+1 -> 20 | B40: Composição | C40: SINAPI | D40: 93382 | E40: REATERRO MANUAL DE VALAS, COM COMPACTADOR DE SOLOS DE PERCUSSÃO. AF_08/2023 | F40: M3 | G40: 51.15 | I40: =ROUND(H40*(1+$K$4),2) -> 0 | J40: =ROUND(G40*H40,2) -> 0 | K40: =ROUND(G40*I40,2) -> 0 | M40: =K40/$K$531 -> #DIV/0!
A41: =A40+1 -> 21 | B41: Composição | C41: SINAPI | D41: 100324 | E41: LASTRO COM MATERIAL GRANULAR (PEDRA BRITADA N.1 E PEDRA BRITADA N.2), APLICADO EM PISOS OU LAJES SOBRE SOLO, ESPESSURA DE *10 CM*. AF_01/2024 | F41: M3 | G41: 2.7 | I41: =ROUND(H41*(1+$K$4),2) -> 0 | J41: =ROUND(G41*H41,2) -> 0 | K41: =ROUND(G41*I41,2) -> 0 | M41: =K41/$K$531 -> #DIV/0!
A42: =A41+1 -> 22 | B42: Composição | C42: SINAPI | D42: 96534 | E42: FABRICAÇÃO, MONTAGEM E DESMONTAGEM DE FÔRMA PARA BLOCO DE COROAMENTO, EM MADEIRA SERRADA, E=25 MM, 4 UTILIZAÇÕES. AF_01/2024 | F42: M2 | G42: 114.42 | I42: =ROUND(H42*(1+$K$4),2) -> 0 | J42: =ROUND(G42*H42,2) -> 0 | K42: =ROUND(G42*I42,2) -> 0 | M42: =K42/$K$531 -> #DIV/0!
A43: =A42+1 -> 23 | B43: Composição | C43: SINAPI | D43: 96543 | E43: ARMAÇÃO DE BLOCO UTILIZANDO AÇO CA-60 DE 5 MM - MONTAGEM. AF_01/2024 | F43: KG | G43: 37.1 | I43: =ROUND(H43*(1+$K$4),2) -> 0 | J43: =ROUND(G43*H43,2) -> 0 | K43: =ROUND(G43*I43,2) -> 0 | M43: =K43/$K$531 -> #DIV/0!
A44: =A43+1 -> 24 | B44: Composição | C44: SINAPI | D44: 96544 | E44: ARMAÇÃO DE BLOCO UTILIZANDO AÇO CA-50 DE 6,3 MM - MONTAGEM. AF_01/2024 | F44: KG | G44: 78 | I44: =ROUND(H44*(1+$K$4),2) -> 0 | J44: =ROUND(G44*H44,2) -> 0 | K44: =ROUND(G44*I44,2) -> 0 | M44: =K44/$K$531 -> #DIV/0!
A45: =A44+1 -> 25 | B45: Composição | C45: SINAPI | D45: 96545 | E45: ARMAÇÃO DE BLOCO UTILIZANDO AÇO CA-50 DE 8 MM - MONTAGEM. AF_01/2024 | F45: KG | G45: 375.7 | I45: =ROUND(H45*(1+$K$4),2) -> 0 | J45: =ROUND(G45*H45,2) -> 0 | K45: =ROUND(G45*I45,2) -> 0 | M45: =K45/$K$531 -> #DIV/0!
A46: =A45+1 -> 26 | B46: Composição | C46: SINAPI | D46: 104920 | E46: ARMAÇÃO DE BLOCO, SAPATA ISOLADA, VIGA BALDRAME E SAPATA CORRIDA UTILIZANDO AÇO CA-50 DE 12,5 MM - MONTAGEM. AF_01/2024 | F46: KG | G46: 8.4 | I46: =ROUND(H46*(1+$K$4),2) -> 0 | J46: =ROUND(G46*H46,2) -> 0 | K46: =ROUND(G46*I46,2) -> 0 | M46: =K46/$K$531 -> #DIV/0!
A47: =A46+1 -> 27 | B47: Composição | C47: SINAPI | D47: 96557 | E47: CONCRETAGEM DE BLOCO DE COROAMENTO OU VIGA BALDRAME, FCK 30 MPA, COM USO DE BOMBA - LANÇAMENTO, ADENSAMENTO E ACABAMENTO. AF_01/2024 | F47: M3 | G47: 13.8 | I47: =ROUND(H47*(1+$K$4),2) -> 0 | J47: =ROUND(G47*H47,2) -> 0 | K47: =ROUND(G47*I47,2) -> 0 | M47: =K47/$K$531 -> #DIV/0!
A48: =A47+1 -> 28 | B48: Composição | C48: Próprio | D48: SBC 128 | E48: CONTROLE TECNOLÓGICO DE CONCRETOS | F48: M3 | G48: 13.8 | I48: =ROUND(H48*(1+$K$4),2) -> 0 | J48: =ROUND(G48*H48,2) -> 0 | K48: =ROUND(G48*I48,2) -> 0 | M48: =K48/$K$531 -> #DIV/0!
A49: B.5 | E49: VIGAS DE FUNDAÇÃO | K49: =SUM(K50:K61) -> 0
A50: =A48+1 -> 29 | B50: Composição | C50: SINAPI | D50: 93358 | E50: ESCAVAÇÃO MANUAL DE VALA. AF_09/2024 | F50: M3 | G50: 23.34 | I50: =ROUND(H50*(1+$K$4),2) -> 0 | J50: =ROUND(G50*H50,2) -> 0 | K50: =ROUND(G50*I50,2) -> 0 | M50: =K50/$K$531 -> #DIV/0!
A51: =A50+1 -> 30 | B51: Composição | C51: SINAPI | D51: 96622 | E51: LASTRO COM MATERIAL GRANULAR, APLICADO EM PISOS OU LAJES SOBRE SOLO, ESPESSURA DE *5 CM*. AF_01/2024 | F51: M3 | G51: 84.46 | I51: =ROUND(H51*(1+$K$4),2) -> 0 | J51: =ROUND(G51*H51,2) -> 0 | K51: =ROUND(G51*I51,2) -> 0 | M51: =K51/$K$531 -> #DIV/0!
A52: =A51+1 -> 31 | B52: Composição | C52: SINAPI | D52: 96536 | E52: FABRICAÇÃO, MONTAGEM E DESMONTAGEM DE FÔRMA PARA VIGA BALDRAME, EM MADEIRA SERRADA, E=25 MM, 4 UTILIZAÇÕES. AF_01/2024 | F52: M2 | G52: 231.97 | I52: =ROUND(H52*(1+$K$4),2) -> 0 | J52: =ROUND(G52*H52,2) -> 0 | K52: =ROUND(G52*I52,2) -> 0 | M52: =K52/$K$531 -> #DIV/0!
A53: =A52+1 -> 32 | B53: Composição | C53: SINAPI | D53: 104916 | E53: ARMAÇÃO DE SAPATA ISOLADA, VIGA BALDRAME E SAPATA CORRIDA UTILIZANDO AÇO CA-60 DE 5 MM - MONTAGEM. AF_01/2024 | F53: KG | G53: 278.1 | I53: =ROUND(H53*(1+$K$4),2) -> 0 | J53: =ROUND(G53*H53,2) -> 0 | K53: =ROUND(G53*I53,2) -> 0 | M53: =K53/$K$531 -> #DIV/0!
A54: =A53+1 -> 33 | B54: Composição | C54: SINAPI | D54: 104917 | E54: ARMAÇÃO DE SAPATA ISOLADA, VIGA BALDRAME E SAPATA CORRIDA UTILIZANDO AÇO CA-50 DE 6,3 MM - MONTAGEM. AF_01/2024 | F54: KG | G54: 64.4 | I54: =ROUND(H54*(1+$K$4),2) -> 0 | J54: =ROUND(G54*H54,2) -> 0 | K54: =ROUND(G54*I54,2) -> 0 | M54: =K54/$K$531 -> #DIV/0!
A55: =A54+1 -> 34 | B55: Composição | C55: SINAPI | D55: 104918 | E55: ARMAÇÃO DE SAPATA ISOLADA, VIGA BALDRAME E SAPATA CORRIDA UTILIZANDO AÇO CA-50 DE 8 MM - MONTAGEM. AF_01/2024 | F55: KG | G55: 211.8 | I55: =ROUND(H55*(1+$K$4),2) -> 0 | J55: =ROUND(G55*H55,2) -> 0 | K55: =ROUND(G55*I55,2) -> 0 | M55: =K55/$K$531 -> #DIV/0!
A56: =A55+1 -> 35 | B56: Composição | C56: SINAPI | D56: 104919 | E56: ARMAÇÃO DE SAPATA ISOLADA, VIGA BALDRAME E SAPATA CORRIDA UTILIZANDO AÇO CA-50 DE 10 MM - MONTAGEM. AF_01/2024 | F56: KG | G56: 227.2 | I56: =ROUND(H56*(1+$K$4),2) -> 0 | J56: =ROUND(G56*H56,2) -> 0 | K56: =ROUND(G56*I56,2) -> 0 | M56: =K56/$K$531 -> #DIV/0!
A57: =A56+1 -> 36 | B57: Composição | C57: SINAPI | D57: 104920 | E57: ARMAÇÃO DE BLOCO, SAPATA ISOLADA, VIGA BALDRAME E SAPATA CORRIDA UTILIZANDO AÇO CA-50 DE 12,5 MM - MONTAGEM. AF_01/2024 | F57: KG | G57: 517.2 | I57: =ROUND(H57*(1+$K$4),2) -> 0 | J57: =ROUND(G57*H57,2) -> 0 | K57: =ROUND(G57*I57,2) -> 0 | M57: =K57/$K$531 -> #DIV/0!
A58: =A57+1 -> 37 | B58: Composição | C58: SINAPI | D58: 104921 | E58: ARMAÇÃO DE BLOCO, SAPATA ISOLADA, VIGA BALDRAME E SAPATA CORRIDA UTILIZANDO AÇO CA-50 DE 16 MM - MONTAGEM. AF_01/2024 | F58: KG | G58: 230.8 | I58: =ROUND(H58*(1+$K$4),2) -> 0 | J58: =ROUND(G58*H58,2) -> 0 | K58: =ROUND(G58*I58,2) -> 0 | M58: =K58/$K$531 -> #DIV/0!
A59: =A58+1 -> 38 | B59: Composição | C59: SINAPI | D59: 96557 | E59: CONCRETAGEM DE BLOCO DE COROAMENTO OU VIGA BALDRAME, FCK 30 MPA, COM USO DE BOMBA - LANÇAMENTO, ADENSAMENTO E ACABAMENTO. AF_01/2024 | F59: M3 | G59: 17.8 | I59: =ROUND(H59*(1+$K$4),2) -> 0 | J59: =ROUND(G59*H59,2) -> 0 | K59: =ROUND(G59*I59,2) -> 0 | M59: =K59/$K$531 -> #DIV/0!
A60: =A59+1 -> 39 | B60: Composição | C60: SINAPI | D60: 98557 | E60: IMPERMEABILIZAÇÃO DE SUPERFÍCIE COM EMULSÃO ASFÁLTICA, 2 DEMÃOS. AF_09/2023 | F60: M2 | G60: 388.18 | I60: =ROUND(H60*(1+$K$4),2) -> 0 | J60: =ROUND(G60*H60,2) -> 0 | K60: =ROUND(G60*I60,2) -> 0 | M60: =K60/$K$531 -> #DIV/0!
A61: =A60+1 -> 40 | B61: Composição | C61: Próprio | D61: SBC 128 | E61: CONTROLE TECNOLÓGICO DE CONCRETOS | F61: M3 | G61: 17.8 | I61: =ROUND(H61*(1+$K$4),2) -> 0 | J61: =ROUND(G61*H61,2) -> 0 | K61: =ROUND(G61*I61,2) -> 0 | M61: =K61/$K$531 -> #DIV/0!
A62: C | E62: ESTRUTURAS | K62: =K63+K71+K82+K94 -> 0
A63: C.1 | E63: PILARES | K63: =SUM(K64:K70) -> 0
A64: =A61+1 -> 41 | B64: Composição | C64: SINAPI | D64: 92762 | E64: ARMAÇÃO DE PILAR OU VIGA DE ESTRUTURA CONVENCIONAL DE CONCRETO ARMADO UTILIZANDO AÇO CA-50 DE 10,0 MM - MONTAGEM. AF_06/2022 | F64: KG | G64: 856.2 | I64: =ROUND(H64*(1+$K$4),2) -> 0 | J64: =ROUND(G64*H64,2) -> 0 | K64: =ROUND(G64*I64,2) -> 0 | M64: =K64/$K$531 -> #DIV/0!
A65: =A64+1 -> 42 | B65: Composição | C65: SINAPI | D65: 92423 | E65: MONTAGEM E DESMONTAGEM DE FÔRMA DE PILARES RETANGULARES E ESTRUTURAS SIMILARES, PÉ-DIREITO SIMPLES, EM CHAPA DE MADEIRA COMPENSADA RESINADA, 6 UTILIZAÇÕES. AF_09/2020 | F65: M2 | G65: 344.2 | I65: =ROUND(H65*(1+$K$4),2) -> 0 | J65: =ROUND(G65*H65,2) -> 0 | K65: =ROUND(G65*I65,2) -> 0 | M65: =K65/$K$531 -> #DIV/0!
A66: =A65+1 -> 43 | B66: Composição | C66: SINAPI | D66: 92763 | E66: ARMAÇÃO DE PILAR OU VIGA DE ESTRUTURA CONVENCIONAL DE CONCRETO ARMADO UTILIZANDO AÇO CA-50 DE 12,5 MM - MONTAGEM. AF_06/2022 | F66: KG | G66: 85.6 | I66: =ROUND(H66*(1+$K$4),2) -> 0 | J66: =ROUND(G66*H66,2) -> 0 | K66: =ROUND(G66*I66,2) -> 0 | M66: =K66/$K$531 -> #DIV/0!
A67: =A66+1 -> 44 | B67: Composição | C67: SINAPI | D67: 92764 | E67: ARMAÇÃO DE PILAR OU VIGA DE ESTRUTURA CONVENCIONAL DE CONCRETO ARMADO UTILIZANDO AÇO CA-50 DE 16,0 MM - MONTAGEM. AF_06/2022 | F67: KG | G67: 343.7 | I67: =ROUND(H67*(1+$K$4),2) -> 0 | J67: =ROUND(G67*H67,2) -> 0 | K67: =ROUND(G67*I67,2) -> 0 | M67: =K67/$K$531 -> #DIV/0!
A68: =A67+1 -> 45 | B68: Composição | C68: SINAPI | D68: 92759 | E68: ARMAÇÃO DE PILAR OU VIGA DE ESTRUTURA CONVENCIONAL DE CONCRETO ARMADO UTILIZANDO AÇO CA-60 DE 5,0 MM - MONTAGEM. AF_06/2022 | F68: KG | G68: 496.3 | I68: =ROUND(H68*(1+$K$4),2) -> 0 | J68: =ROUND(G68*H68,2) -> 0 | K68: =ROUND(G68*I68,2) -> 0 | M68: =K68/$K$531 -> #DIV/0!
A69: =A68+1 -> 46 | B69: Composição | C69: Próprio | D69: CPU 001 - UBS | E69: CONCRETAGEM DE PILARES, FCK = 30 MPA, COM USO DE BOMBA - LANÇAMENTO, ADENSAMENTO E ACABAMENTO. | F69: M3 | G69: 22.3 | I69: =ROUND(H69*(1+$K$4),2) -> 0 | J69: =ROUND(G69*H69,2) -> 0 | K69: =ROUND(G69*I69,2) -> 0 | M69: =K69/$K$531 -> #DIV/0!
A70: =A69+1 -> 47 | B70: Composição | C70: Próprio | D70: SBC 128 | E70: CONTROLE TECNOLÓGICO DE CONCRETOS | F70: M3 | G70: 22.3 | I70: =ROUND(H70*(1+$K$4),2) -> 0 | J70: =ROUND(G70*H70,2) -> 0 | K70: =ROUND(G70*I70,2) -> 0 | M70: =K70/$K$531 -> #DIV/0!
A71: C.2 | E71: VIGAS | K71: =SUM(K72:K81) -> 0
A72: =A70+1 -> 48 | B72: Composição | C72: SINAPI | D72: 92460 | E72: MONTAGEM E DESMONTAGEM DE FÔRMA DE VIGA, ESCORAMENTO METÁLICO, PÉ-DIREITO SIMPLES, EM CHAPA DE MADEIRA RESINADA, 6 UTILIZAÇÕES. AF_09/2020 | F72: M2 | G72: 380.9 | I72: =ROUND(H72*(1+$K$4),2) -> 0 | J72: =ROUND(G72*H72,2) -> 0 | K72: =ROUND(G72*I72,2) -> 0 | M72: =K72/$K$531 -> #DIV/0!
A73: =A72+1 -> 49 | B73: Composição | C73: SINAPI | D73: 92760 | E73: ARMAÇÃO DE PILAR OU VIGA DE ESTRUTURA CONVENCIONAL DE CONCRETO ARMADO UTILIZANDO AÇO CA-50 DE 6,3 MM - MONTAGEM. AF_06/2022 | F73: KG | G73: 384.8 | I73: =ROUND(H73*(1+$K$4),2) -> 0 | J73: =ROUND(G73*H73,2) -> 0 | K73: =ROUND(G73*I73,2) -> 0 | M73: =K73/$K$531 -> #DIV/0!
A74: =A73+1 -> 50 | B74: Composição | C74: SINAPI | D74: 92761 | E74: ARMAÇÃO DE PILAR OU VIGA DE ESTRUTURA CONVENCIONAL DE CONCRETO ARMADO UTILIZANDO AÇO CA-50 DE 8,0 MM - MONTAGEM. AF_06/2022 | F74: KG | G74: 113.6 | I74: =ROUND(H74*(1+$K$4),2) -> 0 | J74: =ROUND(G74*H74,2) -> 0 | K74: =ROUND(G74*I74,2) -> 0 | M74: =K74/$K$531 -> #DIV/0!
A75: =A74+1 -> 51 | B75: Composição | C75: SINAPI | D75: 92762 | E75: ARMAÇÃO DE PILAR OU VIGA DE ESTRUTURA CONVENCIONAL DE CONCRETO ARMADO UTILIZANDO AÇO CA-50 DE 10,0 MM - MONTAGEM. AF_06/2022 | F75: KG | G75: 930.4 | I75: =ROUND(H75*(1+$K$4),2) -> 0 | J75: =ROUND(G75*H75,2) -> 0 | K75: =ROUND(G75*I75,2) -> 0 | M75: =K75/$K$531 -> #DIV/0!
A76: =A75+1 -> 52 | B76: Composição | C76: SINAPI | D76: 92763 | E76: ARMAÇÃO DE PILAR OU VIGA DE ESTRUTURA CONVENCIONAL DE CONCRETO ARMADO UTILIZANDO AÇO CA-50 DE 12,5 MM - MONTAGEM. AF_06/2022 | F76: KG | G76: 745.5 | I76: =ROUND(H76*(1+$K$4),2) -> 0 | J76: =ROUND(G76*H76,2) -> 0 | K76: =ROUND(G76*I76,2) -> 0 | M76: =K76/$K$531 -> #DIV/0!
A77: =A76+1 -> 53 | B77: Composição | C77: SINAPI | D77: 92764 | E77: ARMAÇÃO DE PILAR OU VIGA DE ESTRUTURA CONVENCIONAL DE CONCRETO ARMADO UTILIZANDO AÇO CA-50 DE 16,0 MM - MONTAGEM. AF_06/2022 | F77: KG | G77: 323.5 | I77: =ROUND(H77*(1+$K$4),2) -> 0 | J77: =ROUND(G77*H77,2) -> 0 | K77: =ROUND(G77*I77,2) -> 0 | M77: =K77/$K$531 -> #DIV/0!
A78: =A77+1 -> 54 | B78: Composição | C78: SINAPI | D78: 92765 | E78: ARMAÇÃO DE PILAR OU VIGA DE ESTRUTURA CONVENCIONAL DE CONCRETO ARMADO UTILIZANDO AÇO CA-50 DE 20,0 MM - MONTAGEM. AF_06/2022 | F78: KG | G78: 53.2 | I78: =ROUND(H78*(1+$K$4),2) -> 0 | J78: =ROUND(G78*H78,2) -> 0 | K78: =ROUND(G78*I78,2) -> 0 | M78: =K78/$K$531 -> #DIV/0!
A79: =A78+1 -> 55 | B79: Composição | C79: SINAPI | D79: 92759 | E79: ARMAÇÃO DE PILAR OU VIGA DE ESTRUTURA CONVENCIONAL DE CONCRETO ARMADO UTILIZANDO AÇO CA-60 DE 5,0 MM - MONTAGEM. AF_06/2022 | F79: KG | G79: 582.4 | I79: =ROUND(H79*(1+$K$4),2) -> 0 | J79: =ROUND(G79*H79,2) -> 0 | K79: =ROUND(G79*I79,2) -> 0 | M79: =K79/$K$531 -> #DIV/0!
A80: =A79+1 -> 56 | B80: Composição | C80: Próprio | D80: CPU 002 - UBS | E80: CONCRETAGEM DE VIGAS E LAJES, FCK = 30 MPA, PARA LAJES MACIÇAS OU NERVURADAS COM USO DE BOMBA - LANÇAMENTO, ADENSAMENTO E ACABAMENTO. | F80: M3 | G80: 41.1 | I80: =ROUND(H80*(1+$K$4),2) -> 0 | J80: =ROUND(G80*H80,2) -> 0 | K80: =ROUND(G80*I80,2) -> 0 | M80: =K80/$K$531 -> #DIV/0!
A81: =A80+1 -> 57 | B81: Composição | C81: Próprio | D81: SBC 128 | E81: CONTROLE TECNOLÓGICO DE CONCRETOS | F81: M3 | G81: 41.1 | I81: =ROUND(H81*(1+$K$4),2) -> 0 | J81: =ROUND(G81*H81,2) -> 0 | K81: =ROUND(G81*I81,2) -> 0 | M81: =K81/$K$531 -> #DIV/0!
A82: C.3 | E82: LAJES | K82: =SUM(K83:K93) -> 0
A83: =A81+1 -> 58 | B83: Composição | C83: SINAPI | D83: 92515 | E83: MONTAGEM E DESMONTAGEM DE FÔRMA DE LAJE MACIÇA, PÉ-DIREITO DUPLO, EM CHAPA DE MADEIRA COMPENSADA RESINADA, 6 UTILIZAÇÕES. AF_09/2020 | F83: M2 | G83: 58.5 | I83: =ROUND(H83*(1+$K$4),2) -> 0 | J83: =ROUND(G83*H83,2) -> 0 | K83: =ROUND(G83*I83,2) -> 0 | M83: =K83/$K$531 -> #DIV/0!
A84: =A83+1 -> 59 | B84: Composição | C84: SINAPI | D84: 92768 | E84: ARMAÇÃO DE LAJE DE ESTRUTURA CONVENCIONAL DE CONCRETO ARMADO UTILIZANDO AÇO CA-60 DE 5,0 MM - MONTAGEM. AF_06/2022 | F84: KG | G84: 458.5 | I84: =ROUND(H84*(1+$K$4),2) -> 0 | J84: =ROUND(G84*H84,2) -> 0 | K84: =ROUND(G84*I84,2) -> 0 | M84: =K84/$K$531 -> #DIV/0!
A85: =A84+1 -> 60 | B85: Composição | C85: SINAPI | D85: 92769 | E85: ARMAÇÃO DE LAJE DE ESTRUTURA CONVENCIONAL DE CONCRETO ARMADO UTILIZANDO AÇO CA-50 DE 6,3 MM - MONTAGEM. AF_06/2022 | F85: KG | G85: 373.1 | I85: =ROUND(H85*(1+$K$4),2) -> 0 | J85: =ROUND(G85*H85,2) -> 0 | K85: =ROUND(G85*I85,2) -> 0 | M85: =K85/$K$531 -> #DIV/0!
A86: =A85+1 -> 61 | B86: Composição | C86: SINAPI | D86: 92770 | E86: ARMAÇÃO DE LAJE DE ESTRUTURA CONVENCIONAL DE CONCRETO ARMADO UTILIZANDO AÇO CA-50 DE 8,0 MM - MONTAGEM. AF_06/2022 | F86: KG | G86: 605.6 | I86: =ROUND(H86*(1+$K$4),2) -> 0 | J86: =ROUND(G86*H86,2) -> 0 | K86: =ROUND(G86*I86,2) -> 0 | M86: =K86/$K$531 -> #DIV/0!
A87: =A86+1 -> 62 | B87: Composição | C87: SINAPI | D87: 92771 | E87: ARMAÇÃO DE LAJE DE ESTRUTURA CONVENCIONAL DE CONCRETO ARMADO UTILIZANDO AÇO CA-50 DE 10,0 MM - MONTAGEM. AF_06/2022 | F87: KG | G87: 73.6 | I87: =ROUND(H87*(1+$K$4),2) -> 0 | J87: =ROUND(G87*H87,2) -> 0 | K87: =ROUND(G87*I87,2) -> 0 | M87: =K87/$K$531 -> #DIV/0!
A88: =A87+1 -> 63 | B88: Composição | C88: SINAPI | D88: 92773 | E88: ARMAÇÃO DE LAJE DE ESTRUTURA CONVENCIONAL DE CONCRETO ARMADO UTILIZANDO AÇO CA-50 DE 16,0 MM - MONTAGEM. AF_06/2022 | F88: KG | G88: 38.4 | I88: =ROUND(H88*(1+$K$4),2) -> 0 | J88: =ROUND(G88*H88,2) -> 0 | K88: =ROUND(G88*I88,2) -> 0 | M88: =K88/$K$531 -> #DIV/0!
A89: =A88+1 -> 64 | B89: Composição | C89: Próprio | D89: CPU 002 - UBS | E89: CONCRETAGEM DE VIGAS E LAJES, FCK = 30 MPA, PARA LAJES MACIÇAS OU NERVURADAS COM USO DE BOMBA - LANÇAMENTO, ADENSAMENTO E ACABAMENTO. | F89: M3 | G89: 49.5 | I89: =ROUND(H89*(1+$K$4),2) -> 0 | J89: =ROUND(G89*H89,2) -> 0 | K89: =ROUND(G89*I89,2) -> 0 | M89: =K89/$K$531 -> #DIV/0!
A90: =A89+1 -> 65 | B90: Composição | C90: Próprio | D90: SBC 128 | E90: CONTROLE TECNOLÓGICO DE CONCRETOS | F90: M3 | G90: 49.5 | I90: =ROUND(H90*(1+$K$4),2) -> 0 | J90: =ROUND(G90*H90,2) -> 0 | K90: =ROUND(G90*I90,2) -> 0 | M90: =K90/$K$531 -> #DIV/0!
A91: =A90+1 -> 66 | B91: Composição | C91: OBRAS-SP | D91: 13.01.310 | E91: Laje pré-fabricada unidirecional em viga treliçada/lajota em EPS LT 12 (8 + 4), com capa de concreto de 25 MPa | F91: M2 | G91: 43.5 | I91: =ROUND(H91*(1+$K$4),2) -> 0 | J91: =ROUND(G91*H91,2) -> 0 | K91: =ROUND(G91*I91,2) -> 0 | M91: =K91/$K$531 -> #DIV/0!
A92: =A91+1 -> 67 | B92: Composição | C92: OBRAS-SP | D92: 13.01.320 | E92: Laje pré-fabricada unidirecional em viga treliçada/lajota em EPS LT 16 (12 + 4), com capa de concreto de 25 MPa | F92: M2 | G92: 508.13 | I92: =ROUND(H92*(1+$K$4),2) -> 0 | J92: =ROUND(G92*H92,2) -> 0 | K92: =ROUND(G92*I92,2) -> 0 | M92: =K92/$K$531 -> #DIV/0!
A93: =A92+1 -> 68 | B93: Composição | C93: SINAPI | D93: 101792 | E93: ESCORAMENTO DE FÔRMAS DE LAJE EM MADEIRA NÃO APARELHADA, PÉ-DIREITO SIMPLES, INCLUSO TRAVAMENTO, 4 UTILIZAÇÕES. AF_09/2020 | F93: M3 | G93: 2003.55 | I93: =ROUND(H93*(1+$K$4),2) -> 0 | J93: =ROUND(G93*H93,2) -> 0 | K93: =ROUND(G93*I93,2) -> 0 | M93: =K93/$K$531 -> #DIV/0!
A94: C.4 | E94: BASE RESEVATÓRIO | K94: =SUM(K95) -> 0
A95: =A93+1 -> 69 | B95: Composição | C95: SINAPI | D95: 97103 | E95: EXECUÇÃO DE RADIER, ESPESSURA DE 20 CM, FCK = 30 MPA, COM USO DE FORMAS EM MADEIRA SERRADA. AF_09/2021 | F95: M2 | G95: 6.25 | I95: =ROUND(H95*(1+$K$4),2) -> 0 | J95: =ROUND(G95*H95,2) -> 0 | K95: =ROUND(G95*I95,2) -> 0 | M95: =K95/$K$531 -> #DIV/0!
A96: D | E96: ALVENARIA, VEDAÇÕES E DIVISÓRIAS | K96: =K97+K104+K109 -> 0
A97: D.1 | E97: ALVENARIA DE VEDAÇÃO | K97: =SUM(K98:K103) -> 0
A98: =A95+1 -> 70 | B98: Composição | C98: SINAPI | D98: 103322 | E98: ALVENARIA DE VEDAÇÃO DE BLOCOS CERÂMICOS FURADOS NA VERTICAL DE 9X19X39 CM (ESPESSURA 9 CM) E ARGAMASSA DE ASSENTAMENTO COM PREPARO EM BETONEIRA. AF_12/2021 | F98: M2 | G98: 5.63 | I98: =ROUND(H98*(1+$K$4),2) -> 0 | J98: =ROUND(G98*H98,2) -> 0 | K98: =ROUND(G98*I98,2) -> 0 | M98: =K98/$K$531 -> #DIV/0!
A99: =A98+1 -> 71 | B99: Composição | C99: SINAPI | D99: 103324 | E99: ALVENARIA DE VEDAÇÃO DE BLOCOS CERÂMICOS FURADOS NA VERTICAL DE 14X19X39 CM (ESPESSURA 14 CM) E ARGAMASSA DE ASSENTAMENTO COM PREPARO EM BETONEIRA. AF_12/2021 | F99: M2 | G99: 1104.49 | I99: =ROUND(H99*(1+$K$4),2) -> 0 | J99: =ROUND(G99*H99,2) -> 0 | K99: =ROUND(G99*I99,2) -> 0 | M99: =K99/$K$531 -> #DIV/0!
A100: =A99+1 -> 72 | B100: Composição | C100: ORSE | D100: 10783 | E100: Cobogo de cimento (elemento vazado, circular), 30 x 30 x 5cm, assentado com argamassa de cimento e areia | F100: M2 | G100: 149.87 | I100: =ROUND(H100*(1+$K$4),2) -> 0 | J100: =ROUND(G100*H100,2) -> 0 | K100: =ROUND(G100*I100,2) -> 0 | M100: =K100/$K$531 -> #DIV/0!
A101: =A100+1 -> 73 | B101: Composição | C101: SINAPI | D101: 93191 | E101: VERGA MOLDADA IN LOCO COM UTILIZAÇÃO DE BLOCOS CANALETA, ESPESSURA DE *20* CM. AF_03/2024 | F101: M | G101: 176.1 | I101: =ROUND(H101*(1+$K$4),2) -> 0 | J101: =ROUND(G101*H101,2) -> 0 | K101: =ROUND(G101*I101,2) -> 0 | M101: =K101/$K$531 -> #DIV/0!
A102: =A101+1 -> 74 | B102: Composição | C102: SINAPI | D102: 93199 | E102: CONTRAVERGA MOLDADA IN LOCO COM UTILIZAÇÃO DE BLOCOS CANALETA, ESPESSURA DE *20* CM. AF_03/2024 | F102: M | G102: 121.1 | I102: =ROUND(H102*(1+$K$4),2) -> 0 | J102: =ROUND(G102*H102,2) -> 0 | K102: =ROUND(G102*I102,2) -> 0 | M102: =K102/$K$531 -> #DIV/0!
A103: =A102+1 -> 75 | B103: Composição | C103: SINAPI | D103: 93200 | E103: FIXAÇÃO (ENCUNHAMENTO) DE ALVENARIA DE VEDAÇÃO COM ARGAMASSA APLICADA COM BISNAGA. AF_03/2024 | F103: M | G103: 528.57 | I103: =ROUND(H103*(1+$K$4),2) -> 0 | J103: =ROUND(G103*H103,2) -> 0 | K103: =ROUND(G103*I103,2) -> 0 | M103: =K103/$K$531 -> #DIV/0!
A104: D.2 | E104: DRYWALL | K104: =SUM(K105:K108) -> 0
A105: =A103+1 -> 76 | B105: Composição | C105: Próprio | D105: CPU 003 - UBS | E105: PAREDE COM SISTEMA EM CHAPAS DE GESSO RU PARA DRYWALL, USO INTERNO, COM DUAS FACES SIMPLES E ESTRUTURA METÁLICA COM GUIAS SIMPLES PARA PAREDES COM ÁREA LÍQUIDA MAIOR OU IGUAL A 6 M2, COM VÃOS. | F105: M2 | G105: 210.3 | I105: =ROUND(H105*(1+$K$4),2) -> 0 | J105: =ROUND(G105*H105,2) -> 0 | K105: =ROUND(G105*I105,2) -> 0 | M105: =K105/$K$531 -> #DIV/0!
A106: =A105+1 -> 77 | B106: Composição | C106: Próprio | D106: CPU 004 - UBS | E106: PAREDE COM SISTEMA EM CHAPAS DE GESSO ST PARA DRYWALL COM ISOLAMENTO ACUSTICO, USO INTERNO, COM DUAS FACES SIMPLES E ESTRUTURA METÁLICA COM GUIAS SIMPLES PARA PAREDES COM ÁREA LÍQUIDA MAIOR OU IGUAL A 6 M2, COM VÃOS. | F106: M2 | G106: 296.95 | I106: =ROUND(H106*(1+$K$4),2) -> 0 | J106: =ROUND(G106*H106,2) -> 0 | K106: =ROUND(G106*I106,2) -> 0 | M106: =K106/$K$531 -> #DIV/0!
...

Sheet CRONOGRAMA
E2: CRONOGRAMA FÍSICO-FINANCEIRO
G3: Construção de UBS TIPO 3 - Bairro Berto Círio
B5: LOTE 1 - CONSTRUÇÃO UBS PORTE 3
B6: ITEM | C6: DESCRIÇÃO DOS SERVIÇOS | D6: VALOR (R$) | E6: 1 | F6: 2 | G6: 3 | H6: 4 | I6: 5 | J6: 6 | K6: 7 | L6: 8 | M6: 9 | N6: 10 | O6: 11 | P6: 12
B8: A | C8: =Orçamento!$E$12 -> SERVIÇOS PRELIMINARES E INDIRETOS | D8: =Orçamento!$K$12 -> 0 | E8: 0.24999999 | F8: 0.07 | G8: 0.08 | H8: 0.08 | I8: 0.05 | J8: 0.07 | K8: 0.07 | L8: 0.05 | M8: 0.07 | N8: 0.07 | O8: 0.07 | P8: 0.07 | Q8: =SUM(E8:P8) -> 0.99999999
E9: =ROUND(E8*$D$8,2) -> 0 | F9: =ROUND(F8*$D$8,2) -> 0 | G9: =ROUND(G8*$D$8,2) -> 0 | H9: =ROUND(H8*$D$8,2) -> 0 | I9: =ROUND(I8*$D$8,2) -> 0 | J9: =ROUND(J8*$D$8,2) -> 0 | K9: =ROUND(K8*$D$8,2) -> 0 | L9: =ROUND(L8*$D$8,2) -> 0 | ... P9: =ROUND(P8*$D$8,2) -> 0 | Q9: =SUM(E9:P9) -> 0
B10: B | C10: =Orçamento!$E$32 -> FUNDAÇÃO | D10: =Orçamento!$K$32 -> 0 | E10: 0.4 | F10: 0.6 | Q10: =SUM(E10:P10) -> 1
E11: =ROUND(E10*$D$10,2) -> 0 | F11: =ROUND(F10*$D$10,2) -> 0 | Q11: =SUM(E11:P11) -> 0
B12: C | C12: =Orçamento!$E$62 -> ESTRUTURAS | D12: =Orçamento!$K$62 -> 0 | F12: 0.3 | G12: 0.4 | H12: 0.3 | Q12: =SUM(E12:P12) -> 1
F13: =ROUND(F12*$D$12,2) -> 0 | G13: =ROUND(G12*$D$12,2) -> 0 | H13: =ROUND(H12*$D$12,2) -> 0 | Q13: =SUM(E13:P13) -> 0
B14: D | C14: =Orçamento!$E$96 -> ALVENARIA, VEDAÇÕES E DIVISÓRIAS | D14: =Orçamento!$K$96 -> 0 | G14: 0.4 | H14: 0.3 | I14: 0.15 | J14: 0.15 | Q14: =SUM(E14:P14) -> 1
G15: =ROUND(G14*$D$14,2) -> 0 | H15: =ROUND(H14*$D$14,2) -> 0 | I15: =ROUND(I14*$D$14,2) -> 0 | J15: =ROUND(J14*$D$14,2) -> 0 | Q15: =SUM(E15:P15) -> 0
B16: E | C16: =Orçamento!$E$113 -> COBERTURA | D16: =Orçamento!$K$113 -> 0 | I16: 0.6 | J16: 0.4 | Q16: =SUM(E16:P16) -> 1
I17: =ROUND(I16*$D$16,2) -> 0 | J17: =ROUND(J16*$D$16,2) -> 0 | Q17: =SUM(E17:P17) -> 0
B18: F | C18: =Orçamento!$E$125 -> IMPERMEABILIZAÇÃO | D18: =Orçamento!$K$125 -> 0 | I18: 0.7 | J18: 0.3 | Q18: =SUM(E18:P18) -> 1
I19: =ROUND(I18*$D$18,2) -> 0 | J19: =ROUND(J18*$D$18,2) -> 0 | Q19: =SUM(E19:P19) -> 0
B20: G | C20: =Orçamento!$E$129 -> ESQUADRIAS | D20: =Orçamento!$K$129 -> 0 | M20: 0.4 | N20: 0.6 | Q20: =SUM(E20:P20) -> 1
M21: =ROUND(M20*$D$20,2) -> 0 | N21: =ROUND(N20*$D$20,2) -> 0 | Q21: =SUM(E21:P21) -> 0
B22: H | C22: =Orçamento!$E$161 -> REVESTIMENTO DE PAREDE | D22: =Orçamento!$K$161 -> 0 | L22: 0.5 | M22: 0.5 | Q22: =SUM(E22:P22) -> 1
L23: =ROUND(L22*$D$22,2) -> 0 | M23: =ROUND(M22*$D$22,2) -> 0 | Q23: =SUM(E23:P23) -> 0
B24: I | C24: =Orçamento!$E$168 -> REVESTIMENTO DE PISO INTERNO | D24: =Orçamento!$K$168 -> 0 | K24: 0.5 | L24: 0.5 | Q24: =SUM(E24:P24) -> 1
K25: =ROUND(K24*$D$24,2) -> 0 | L25: =ROUND(L24*$D$24,2) -> 0 | Q25: =SUM(E25:P25) -> 0
B26: J | C26: =Orçamento!$E$176 -> REVESTIMENTO DE PISO EXTERNO | D26: =Orçamento!$K$176 -> 0 | N26: 0.5 | O26: 0.5 | Q26: =SUM(E26:P26) -> 1
N27: =ROUND(N26*$D$26,2) -> 0 | O27: =ROUND(O26*$D$26,2) -> 0 | Q27: =SUM(E27:P27) -> 0
B28: K | C28: =Orçamento!$E$179 -> REVESTIMENTO DE TETO | D28: =Orçamento!$K$179 -> 0 | K28: 0.5 | L28: 0.5 | Q28: =SUM(E28:P28) -> 1
K29: =ROUND(K28*$D$28,2) -> 0 | L29: =ROUND(L28*$D$28,2) -> 0 | Q29: =SUM(E29:P29) -> 0
B30: L | C30: =Orçamento!$E$185 -> PINTURA | D30: =Orçamento!$K$185 -> 0 | O30: 0.3 | P30: 0.7 | Q30: =SUM(E30:P30) -> 1
O31: =ROUND(O30*$D$30,2) -> 0 | P31: =ROUND(P30*$D$30,2) -> 0 | Q31: =SUM(E31:P31) -> 0
B32: M | C32: =Orçamento!$E$198 -> MARMORARIA | D32: =Orçamento!$K$198 -> 0 | P32: 1 | Q32: =SUM(E32:P32) -> 1
P33: =ROUND(P32*$D$32,2) -> 0 | Q33: =SUM(E33:P33) -> 0
B34: N | C34: =Orçamento!$E$201 -> LOUÇAS, METAIS E ACESSÓRIOS | D34: =Orçamento!$K$201 -> 0 | O34: 0.5 | P34: 0.5 | Q34: =SUM(E34:P34) -> 1
O35: =ROUND(O34*$D$34,2) -> 0 | P35: =ROUND(P34*$D$34,2) -> 0 | Q35: =SUM(E35:P35) -> 0
B36: O | C36: =Orçamento!$E$229 -> INSTALAÇÕES HIDROSSANITÁRIAS | D36: =Orçamento!$K$229 -> 0 | F36: 0.1 | H36: 0.3 | J36: 0.3 | K36: 0.3 | Q36: =SUM(E36:P36) -> 1
F37: =ROUND(F36*$D$36,2) -> 0 | H37: =ROUND(H36*$D$36,2) -> 0 | J37: =ROUND(J36*$D$36,2) -> 0 | K37: =ROUND(K36*$D$36,2) -> 0 | Q37: =SUM(E37:P37) -> 0
B38: P | C38: =Orçamento!$E$353 -> INSTALAÇÕES ELÉTRICAS | D38: =Orçamento!$K$353 -> 0 | H38: 0.15 | J38: 0.25 | K38: 0.3 | O38: 0.3 | Q38: =SUM(E38:P38) -> 1
H39: =ROUND(H38*$D$38,2) -> 0 | J39: =ROUND(J38*$D$38,2) -> 0 | K39: =ROUND(K38*$D$38,2) -> 0 | O39: =ROUND(O38*$D$38,2) -> 0 | Q39: =SUM(E39:P39) -> 0
B40: Q | C40: =Orçamento!$E$463 -> CLIMATIZAÇÃO | D40: =Orçamento!$K$463 -> 0 | K40: 0.4 | P40: 0.6 | Q40: =SUM(E40:P40) -> 1
K41: =ROUND(K40*$D$40,2) -> 0 | P41: =ROUND(P40*$D$40,2) -> 0 | Q41: =SUM(E41:P41) -> 0
B42: R | C42: =Orçamento!$E$484 -> DADOS E VOZ | D42: =Orçamento!$K$484 -> 0 | H42: 0.15 | M42: 0.3 | O42: 0.4 | P42: 0.15 | Q42: =SUM(E42:P42) -> 1
H43: =ROUND(H42*$D$42,2) -> 0 | M43: =ROUND(M42*$D$42,2) -> 0 | O43: =(O42*$D$42) -> 0 | P43: =ROUND(P42*$D$42,2) -> 0 | Q43: =SUM(E43:P43) -> 0
B44: S | C44: =Orçamento!$E$506 -> GASES MEDICINAIS | D44: =Orçamento!$K$506 -> 0 | O44: 0.5 | P44: 0.5 | Q44: =SUM(E44:P44) -> 1
O45: =O44*$D$44 -> 0 | P45: =P44*$D$44 -> 0 | Q45: =SUM(E45:P45) -> 0
B46: T | C46: =Orçamento!$E$516 -> URBANIZAÇÃO | D46: =Orçamento!$K$516 -> 0 | N46: 0.25 | O46: 0.25 | P46: 0.49999999 | Q46: =SUM(E46:P46) -> 0.99999999
N47: =ROUND(N46*$D$46,2) -> 0 | O47: =ROUND(O46*$D$46,2) -> 0 | P47: =ROUND(P46*$D$46,2) -> 0 | Q47: =SUM(E47:P47) -> 0
B49: Valores Totais | D49: =SUM(D8:D47) -> 0 | E49: =E9+E11+E13+E15+E17+E19+E21+E23+E25+E27+E29+E31+E33+E35+E37+E39+E41+E43+E45+E47 -> 0 | F49: =F9+F11+F13+F15+F17+F19+F21+F23+F25+F27+F29+F31+F33+F35+F37+F39+F41+F43+F45+F47 -> 0 | G49: =G9+G11+G13+G15+G17+G19+G21+G23+G25+G27+G29+G31+G33+G35+G37+G39+G41+G43+G45+G47 -> 0 | H49: =H9+H11+H13+H15+H17+H19+H21+H23+H25+H27+H29+H31+H33+H35+H37+H39+H41+H43+H45+H47 -> 0 | I49: =I9+I11+I13+I15+I17+I19+I21+I23+I25+I27+I29+I31+I33+I35+I37+I39+I41+I43+I45+I47 -> 0 | J49: =J9+J11+J13+J15+J17+J19+J21+J23+J25+J27+J29+J31+J33+J35+J37+J39+J41+J43+J45+J47 -> 0 | K49: =K9+K11+K13+K15+K17+K19+K21+K23+K25+K27+K29+K31+K33+K35+K37+K39+K41+K43+K45+K47 -> 0 | L49: =L9+L11+L13+L15+L17+L19+L21+L23+L25+L27+L29+L31+L33+L35+L37+L39+L41+L43+L45+L47 -> 0 | ... P49: =P9+P11+P13+P15+P17+P19+P21+P23+P25+P27+P29+P31+P33+P35+P37+P39+P41+P43+P45+P47 -> 0
D50: ACUMULADO | E50: =E49 -> 0 | F50: =E50+F49 -> 0 | G50: =F50+G49 -> 0 | H50: =G50+H49 -> 0 | I50: =H50+I49 -> 0 | J50: =I50+J49 -> 0 | K50: =J50+K49 -> 0 | L50: =K50+L49 -> 0 | M50: =L50+M49 -> 0 | ... P50: =O50+P49 -> 0
