Workbook

Sheet Orçamento
A4: Obra: CONSTRUÇÃO DE UBS PORTE 3 - BERTO CÍRIO | I4: BDI Padrão: | J4: BDI Padrão:
A5: Bancos: SINAPI: RS 4/2025, SEINFRA: CE 10/2023, SETOP: CENTRAL 10/2023, EDUCACAO-SP: SP 1/2025, SICRO3: RS 1/2025, SIURB: SP 1/2025, EMOP: RJ 3/2025 OBRAS-SP: SP 2/2025, DER-ES-EDIFICA: ES 2/2025, SUDECAP: BH 1/2025, ORSE: SE 3/2025, SBC 4/2025 | I5: Não Desonerado
A6: Planilha Sintética Simples | I6: Encargos Sociais Horista: 112,84% | J6: Encargos Sociais Horista: 112,84% | K6: Mensalista: 69,95%
A8: Item | B8: Tipo | C8: Banco | D8: Código | E8: Descrição | F8: Un. | G8: Qtd. | H8: Preço Unit | I8: Preço com BDI | J8: Total sem BDI | K8: Total
A10: LOTE 1 - CONSTRUÇÃO UBS PORTE III
A12: A | E12: SERVIÇOS PRELIMINARES E INDIRETOS | K12: =K13+K24+K27+K29 -> 0
A13: A.1 | E13: CANTEIRO DE OBRAS | K13: =SUM(K14:K23) -> 0
A14: 1 | B14: Composição | C14: OBRAS-SP | D14: 02.02.150 | E14: Locação de container tipo depósito - área mínima de 13,80 m² | F14: MES | G14: 12 | I14: =ROUND(H14*(1+$K$4),2) -> 0 | J14: =ROUND(G14*H14,2) -> 0 | K14: =ROUND(G14*I14,2) -> 0 | M14: =K14/$K$531 -> #DIV/0!
A15: =A14+1 -> 2 | B15: Composição | C15: ORSE | D15: 11703 | E15: Barracão aberto para apoio à produção (carpintaria, central de armação, oficina, etc.) c/ tesouras, telha 4mm, piso em concreto desempolado | F15: M2 | G15: 25 | I15: =ROUND(H15*(1+$K$4),2) -> 0 | J15: =ROUND(G15*H15,2) -> 0 | K15: =ROUND(G15*I15,2) -> 0 | M15: =K15/$K$531 -> #DIV/0!
A16: =A15+1 -> 3 | B16: Composição | C16: ORSE(A) | D16: 4656 | E16: Locação de container - Banheiro com chuveiros e vasos - 4,30 x 2,30m | F16: MÊS | G16: 12 | I16: =ROUND(H16*(1+$K$4),2) -> 0 | J16: =ROUND(G16*H16,2) -> 0 | K16: =ROUND(G16*I16,2) -> 0 | M16: =K16/$K$531 -> #DIV/0!
A17: =A16+1 -> 4 | B17: Composição | C17: Próprio | D17: SBC 012208 | E17: BARRACÃO PARA REFEITORIO EM OBRAS EM COMPENSADO | F17: M2 | G17: 35 | I17: =ROUND(H17*(1+$K$4),2) -> 0 | J17: =ROUND(G17*H17,2) -> 0 | K17: =ROUND(G17*I17,2) -> 0 | M17: =K17/$K$531 -> #DIV/0!
A18: =A17+1 -> 5 | B18: Composição | C18: SINAPI | D18: 95648 | E18: KIT CAVALETE PARA MEDIÇÃO DE ÁGUA - ENTRADA INDIVIDUALIZADA, EM CPVC DN 28 MM (1"), PARA 1 MEDIDOR - FORNECIMENTO E INSTALAÇÃO (EXCLUSIVE HIDRÔMETRO). AF_03/2024 | F18: UN | G18: 1 | I18: =ROUND(H18*(1+$K$4),2) -> 0 | J18: =ROUND(G18*H18,2) -> 0 | K18: =ROUND(G18*I18,2) -> 0 | M18: =K18/$K$531 -> #DIV/0!
A19: =A18+1 -> 6 | B19: Composição | C19: SINAPI | D19: 95673 | E19: HIDRÔMETRO DN 1/2", 1,5 M3/H - FORNECIMENTO E INSTALAÇÃO. AF_03/2024 | F19: UN | G19: 1 | I19: =ROUND(H19*(1+$K$4),2) -> 0 | J19: =ROUND(G19*H19,2) -> 0 | K19: =ROUND(G19*I19,2) -> 0 | M19: =K19/$K$531 -> #DIV/0!
A20: =A19+1 -> 7 | B20: Composição | C20: SINAPI | D20: 101509 | E20: ENTRADA DE ENERGIA ELÉTRICA, AÉREA, TRIFÁSICA, COM CAIXA DE EMBUTIR, CABO DE 10 MM2 E DISJUNTOR DIN 50A (NÃO INCLUSO O POSTE DE CONCRETO). AF_07/2020 | F20: UN | G20: 1 | I20: =ROUND(H20*(1+$K$4),2) -> 0 | J20: =ROUND(G20*H20,2) -> 0 | K20: =ROUND(G20*I20,2) -> 0 | M20: =K20/$K$531 -> #DIV/0!
A21: =A20+1 -> 8 | B21: Composição | C21: SINAPI | D21: 103689 | E21: FORNECIMENTO E INSTALAÇÃO DE PLACA DE OBRA COM CHAPA GALVANIZADA E ESTRUTURA DE MADEIRA. AF_03/2022_PS | F21: M2 | G21: 6 | I21: =ROUND(H21*(1+$K$4),2) -> 0 | J21: =ROUND(G21*H21,2) -> 0 | K21: =ROUND(G21*I21,2) -> 0 | M21: =K21/$K$531 -> #DIV/0!
A22: =A21+1 -> 9 | B22: Composição | C22: OBRAS-SP | D22: 05.07.040 | E22: Remoção de entulho separado de obra com caçamba metálica - terra, alvenaria, concreto, argamassa, madeira, papel, plástico ou metal | F22: M3 | G22: 280 | I22: =ROUND(H22*(1+$K$4),2) -> 0 | J22: =ROUND(G22*H22,2) -> 0 | K22: =ROUND(G22*I22,2) -> 0 | M22: =K22/$K$531 -> #DIV/0!
A23: =A22+1 -> 10 | B23: Composição | C23: SINAPI | D23: 98459 | E23: TAPUME COM TELHA METÁLICA. AF_03/2024 | F23: M2 | G23: 500 | I23: =ROUND(H23*(1+$K$4),2) -> 0 | J23: =ROUND(G23*H23,2) -> 0 | K23: =ROUND(G23*I23,2) -> 0 | M23: =K23/$K$531 -> #DIV/0!
A24: A.2 | E24: ADMINISTRAÇÃO LOCAL DE OBRA | K24: =SUM(K25:K26) -> 0
A25: =A23+1 -> 11 | B25: Composição | C25: SINAPI | D25: 90777 | E25: ENGENHEIRO CIVIL DE OBRA JUNIOR COM ENCARGOS COMPLEMENTARES | F25: H | G25: 320 | I25: =ROUND(H25*(1+$K$4),2) -> 0 | J25: =ROUND(G25*H25,2) -> 0 | K25: =ROUND(G25*I25,2) -> 0 | M25: =K25/$K$531 -> #DIV/0!
A26: =A25+1 -> 12 | B26: Composição | C26: SINAPI | D26: 93572 | E26: ENCARREGADO GERAL DE OBRAS COM ENCARGOS COMPLEMENTARES | F26: MES | G26: 12 | I26: =ROUND(H26*(1+$K$4),2) -> 0 | J26: =ROUND(G26*H26,2) -> 0 | K26: =ROUND(G26*I26,2) -> 0 | M26: =K26/$K$531 -> #DIV/0!
A27: A.3 | E27: MOBILIZAÇÃO E DESMOBILIZAÇÃO | K27: =SUM(K28) -> 0
A28: =A26+1 -> 13 | B28: Composição | C28: Próprio | D28: SBC 12689 | E28: MOBILIZAÇÃO E DESMOBILIZAÇÃO DE CANTEIRO | F28: UN | G28: 1 | I28: =ROUND(H28*(1+$K$4),2) -> 0 | J28: =ROUND(G28*H28,2) -> 0 | K28: =ROUND(G28*I28,2) -> 0 | M28: =K28/$K$531 -> #DIV/0!
A29: A.4 | E29: EQUIPAMENTOS DE APOIO | K29: =SUM(K30:K31) -> 0
A30: =A28+1 -> 14 | B30: Insumo | C30: SINAPI | D30: 20193 | E30: LOCACAO DE ANDAIME METALICO TIPO FACHADEIRO, PECAS COM APROXIMADAMENTE 1,20 M DE LARGURA E 2,0 M DE ALTURA, INCLUINDO DIAGONAIS EM X, BARRAS DE LIGACAO, SAPATAS E DEMAIS ITENS NECESSARIOS A MONTAGEM (NAO INCLUI INSTALACAO) | F30: M2XMES | G30: 1072.18 | I30: =ROUND(H30*(1+$K$4),2) -> 0 | J30: =ROUND(G30*H30,2) -> 0 | K30: =ROUND(G30*I30,2) -> 0 | M30: =K30/$K$531 -> #DIV/0!
A31: =A30+1 -> 15 | B31: Composição | C31: SINAPI | D31: 97065 | E31: MONTAGEM E DESMONTAGEM DE ANDAIME MULTIDIRECIONAL (EXCLUSIVE ANDAIME E LIMPEZA). AF_03/2024 | F31: M3 | G31: 1072.18 | I31: =ROUND(H31*(1+$K$4),2) -> 0 | J31: =ROUND(G31*H31,2) -> 0 | K31: =ROUND(G31*I31,2) -> 0 | M31: =K31/$K$531 -> #DIV/0!
A32: B | E32: FUNDAÇÃO | K32: =K33+K35+K38+K49 -> 0
A33: B.1 | E33: SERVIÇOS INICIAIS | K33: =SUM(K34) -> 0
A34: =A31+1 -> 16 | B34: Composição | C34: SINAPI | D34: 99059 | E34: LOCAÇÃO CONVENCIONAL DE OBRA, UTILIZANDO GABARITO DE TÁBUAS CORRIDAS PONTALETADAS A CADA 2,00M - 2 UTILIZAÇÕES. AF_03/2024 | F34: M | G34: 150 | I34: =ROUND(H34*(1+$K$4),2) -> 0 | J34: =ROUND(G34*H34,2) -> 0 | K34: =ROUND(G34*I34,2) -> 0 | M34: =K34/$K$531 -> #DIV/0!
A35: B.2 | E35: ESTAQUEAMENTO | K35: =SUM(K36:K37) -> 0
A36: =A34+1 -> 17 | B36: Composição | C36: Próprio | D36: CPU 013 - UBS | E36: ESTACA ESCAVADA MECANICAMENTE, SEM FLUIDO ESTABILIZANTE, COM 30 CM DE DIÂMETRO, CONCRETO LANÇADO POR CAMINHÃO BETONEIRA (EXCLUSIVE MOBILIZAÇÃO E DESMOBILIZAÇÃO) | F36: M | G36: 504 | I36: =ROUND(H36*(1+$K$4),2) -> 0 | J36: =ROUND(G36*H36,2) -> 0 | K36: =ROUND(G36*I36,2) -> 0 | M36: =K36/$K$531 -> #DIV/0!
A37: =A36+1 -> 18 | B37: Composição | C37: SINAPI | D37: 95601 | E37: ARRASAMENTO MECANICO DE ESTACA DE CONCRETO ARMADO, DIAMETROS DE ATÉ 40 CM. AF_05/2021 | F37: UN | G37: 84 | I37: =ROUND(H37*(1+$K$4),2) -> 0 | J37: =ROUND(G37*H37,2) -> 0 | K37: =ROUND(G37*I37,2) -> 0 | M37: =K37/$K$531 -> #DIV/0!
A38: B.3 | E38: BLOCOS DE FUNDAÇÃO | K38: =SUM(K39:K48) -> 0
A39: =A37+1 -> 19 | B39: Composição | C39: SINAPI | D39: 90100 | E39: ESCAVAÇÃO MECANIZADA DE VALA COM PROF. ATÉ 1,5 M (MÉDIA MONTANTE E JUSANTE/UMA COMPOSIÇÃO POR TRECHO), RETROESCAV. (0,26 M3), LARG. DE 0,8 M A 1,5 M, EM SOLO DE 1A CATEGORIA, EM LOCAIS COM ALTO NÍVEL DE INTERFERÊNCIA. AF_09/2024 | F39: M3 | G39: 116.43 | I39: =ROUND(H39*(1+$K$4),2) -> 0 | J39: =ROUND(G39*H39,2) -> 0 | K39: =ROUND(G39*I39,2) -> 0 | M39: =K39/$K$531 -> #DIV/0!
A40: =A39+1 -> 20 | B40: Composição | C40: SINAPI | D40: 93382 | E40: REATERRO MANUAL DE VALAS, COM COMPACTADOR DE SOLOS DE PERCUSSÃO. AF_08/2023 | F40: M3 | G40: 51.15 | I40: =ROUND(H40*(1+$K$4),2) -> 0 | J40: =ROUND(G40*H40,2) -> 0 | K40: =ROUND(G40*I40,2) -> 0 | M40: =K40/$K$531 -> #DIV/0!
A41: =A40+1 -> 21 | B41: Composição | C41: SINAPI | D41: 100324 | E41: LASTRO COM MATERIAL GRANULAR (PEDRA BRITADA N.1 E PEDRA BRITADA N.2), APLICADO EM PISOS OU LAJES SOBRE SOLO, ESPESSURA DE *10 CM*. AF_01/2024 | F41: M3 | G41: 2.7 | I41: =ROUND(H41*(1+$K$4),2) -> 0 | J41: =ROUND(G41*H41,2) -> 0 | K41: =ROUND(G41*I41,2) -> 0 | M41: =K41/$K$531 -> #DIV/0!
A42: =A41+1 -> 22 | B42: Composição | C42: SINAPI | D42: 96534 | E42: FABRICAÇÃO, MONTAGEM E DESMONTAGEM DE FÔRMA PARA BLOCO DE COROAMENTO, EM MADEIRA SERRADA, E=25 MM, 4 UTILIZAÇÕES. AF_01/2024 | F42: M2 | G42: 114.42 | I42: =ROUND(H42*(1+$K$4),2) -> 0 | J42: =ROUND(G42*H42,2) -> 0 | K42: =ROUND(G42*I42,2) -> 0 | M42: =K42/$K$531 -> #DIV/0!
A43: =A42+1 -> 23 | B43: Composição | C43: SINAPI | D43: 96543 | E43: ARMAÇÃO DE BLOCO UTILIZANDO AÇO CA-60 DE 5 MM - MONTAGEM. AF_01/2024 | F43: KG | G43: 37.1 | I43: =ROUND(H43*(1+$K$4),2) -> 0 | J43: =ROUND(G43*H43,2) -> 0 | K43: =ROUND(G43*I43,2) -> 0 | M43: =K43/$K$531 -> #DIV/0!
A44: =A43+1 -> 24 | B44: Composição | C44: SINAPI | D44: 96544 | E44: ARMAÇÃO DE BLOCO UTILIZANDO AÇO CA-50 DE 6,3 MM - MONTAGEM. AF_01/2024 | F44: KG | G44: 78 | I44: =ROUND(H44*(1+$K$4),2) -> 0 | J44: =ROUND(G44*H44,2) -> 0 | K44: =ROUND(G44*I44,2) -> 0 | M44: =K44/$K$531 -> #DIV/0!
A45: =A44+1 -> 25 | B45: Composição | C45: SINAPI | D45: 96545 | E45: ARMAÇÃO DE BLOCO UTILIZANDO AÇO CA-50 DE 8 MM - MONTAGEM. AF_01/2024 | F45: KG | G45: 375.7 | I45: =ROUND(H45*(1+$K$4),2) -> 0 | J45: =ROUND(G45*H45,2) -> 0 | K45: =ROUND(G45*I45,2) -> 0 | M45: =K45/$K$531 -> #DIV/0!
A46: =A45+1 -> 26 | B46: Composição | C46: SINAPI | D46: 104920 | E46: ARMAÇÃO DE BLOCO, SAPATA ISOLADA, VIGA BALDRAME E SAPATA CORRIDA UTILIZANDO AÇO CA-50 DE 12,5 MM - MONTAGEM. AF_01/2024 | F46: KG | G46: 8.4 | I46: =ROUND(H46*(1+$K$4),2) -> 0 | J46: =ROUND(G46*H46,2) -> 0 | K46: =ROUND(G46*I46,2) -> 0 | M46: =K46/$K$531 -> #DIV/0!
...

Sheet CRONOGRAMA
E2: CRONOGRAMA FÍSICO-FINANCEIRO
G3: Construção de UBS TIPO 3 - Bairro Berto Círio
B5: LOTE 1 - CONSTRUÇÃO UBS PORTE 3
B6: ITEM | C6: DESCRIÇÃO DOS SERVIÇOS | D6: VALOR (R$) | E6: 1 | F6: 2 | G6: 3 | H6: 4 | I6: 5 | J6: 6 | K6: 7 | L6: 8 | M6: 9 | N6: 10 | O6: 11 | P6: 12
B8: A | C8: =Orçamento!$E$12 -> SERVIÇOS PRELIMINARES E INDIRETOS | D8: =Orçamento!$K$12 -> 0 | E8: 0.24999999 | F8: 0.07 | G8: 0.08 | H8: 0.08 | I8: 0.05 | J8: 0.07 | K8: 0.07 | L8: 0.05 | M8: 0.07 | N8: 0.07 | O8: 0.07 | P8: 0.07 | Q8: =SUM(E8:P8) -> 0.99999999
E9: =ROUND(E8*$D$8,2) -> 0 | F9: =ROUND(F8*$D$8,2) -> 0 | G9: =ROUND(G8*$D$8,2) -> 0 | H9: =ROUND(H8*$D$8,2) -> 0 | I9: =ROUND(I8*$D$8,2) -> 0 | J9: =ROUND(J8*$D$8,2) -> 0 | K9: =ROUND(K8*$D$8,2) -> 0 | L9: =ROUND(L8*$D$8,2) -> 0 | ... P9: =ROUND(P8*$D$8,2) -> 0 | Q9: =SUM(E9:P9) -> 0
B10: B | C10: =Orçamento!$E$32 -> FUNDAÇÃO | D10: =Orçamento!$K$32 -> 0 | E10: 0.4 | F10: 0.6 | Q10: =SUM(E10:P10) -> 1
E11: =ROUND(E10*$D$10,2) -> 0 | F11: =ROUND(F10*$D$10,2) -> 0 | Q11: =SUM(E11:P11) -> 0
B12: C | C12: =Orçamento!$E$62 -> ESTRUTURAS | D12: =Orçamento!$K$62 -> 0 | F12: 0.3 | G12: 0.4 | H12: 0.3 | Q12: =SUM(E12:P12) -> 1
F13: =ROUND(F12*$D$12,2) -> 0 | G13: =ROUND(G12*$D$12,2) -> 0 | H13: =ROUND(H12*$D$12,2) -> 0 | Q13: =SUM(E13:P13) -> 0
B14: D | C14: =Orçamento!$E$96 -> ALVENARIA, VEDAÇÕES E DIVISÓRIAS | D14: =Orçamento!$K$96 -> 0 | G14: 0.4 | H14: 0.3 | I14: 0.15 | J14: 0.15 | Q14: =SUM(E14:P14) -> 1
G15: =ROUND(G14*$D$14,2) -> 0 | H15: =ROUND(H14*$D$14,2) -> 0 | I15: =ROUND(I14*$D$14,2) -> 0 | J15: =ROUND(J14*$D$14,2) -> 0 | Q15: =SUM(E15:P15) -> 0
B16: E | C16: =Orçamento!$E$113 -> COBERTURA | D16: =Orçamento!$K$113 -> 0 | I16: 0.6 | J16: 0.4 | Q16: =SUM(E16:P16) -> 1
I17: =ROUND(I16*$D$16,2) -> 0 | J17: =ROUND(J16*$D$16,2) -> 0 | Q17: =SUM(E17:P17) -> 0
B18: F | C18: =Orçamento!$E$125 -> IMPERMEABILIZAÇÃO | D18: =Orçamento!$K$125 -> 0 | I18: 0.7 | J18: 0.3 | Q18: =SUM(E18:P18) -> 1
I19: =ROUND(I18*$D$18,2) -> 0 | J19: =ROUND(J18*$D$18,2) -> 0 | Q19: =SUM(E19:P19) -> 0
B20: G | C20: =Orçamento!$E$129 -> ESQUADRIAS | D20: =Orçamento!$K$129 -> 0 | M20: 0.4 | N20: 0.6 | Q20: =SUM(E20:P20) -> 1
M21: =ROUND(M20*$D$20,2) -> 0 | N21: =ROUND(N20*$D$20,2) -> 0 | Q21: =SUM(E21:P21) -> 0
B22: H | C22: =Orçamento!$E$161 -> REVESTIMENTO DE PAREDE | D22: =Orçamento!$K$161 -> 0 | L22: 0.5 | M22: 0.5 | Q22: =SUM(E22:P22) -> 1
L23: =ROUND(L22*$D$22,2) -> 0 | M23: =ROUND(M22*$D$22,2) -> 0 | Q23: =SUM(E23:P23) -> 0
B24: I | C24: =Orçamento!$E$168 -> REVESTIMENTO DE PISO INTERNO | D24: =Orçamento!$K$168 -> 0 | K24: 0.5 | L24: 0.5 | Q24: =SUM(E24:P24) -> 1
K25: =ROUND(K24*$D$24,2) -> 0 | L25: =ROUND(L24*$D$24,2) -> 0 | Q25: =SUM(E25:P25) -> 0
B26: J | C26: =Orçamento!$E$176 -> REVESTIMENTO DE PISO EXTERNO | D26: =Orçamento!$K$176 -> 0 | N26: 0.5 | O26: 0.5 | Q26: =SUM(E26:P26) -> 1
N27: =ROUND(N26*$D$26,2) -> 0 | O27: =ROUND(O26*$D$26,2) -> 0 | Q27: =SUM(E27:P27) -> 0
B28: K | C28: =Orçamento!$E$179 -> REVESTIMENTO DE TETO | D28: =Orçamento!$K$179 -> 0 | K28: 0.5 | L28: 0.5 | Q28: =SUM(E28:P28) -> 1
K29: =ROUND(K28*$D$28,2) -> 0 | L29: =ROUND(L28*$D$28,2) -> 0 | Q29: =SUM(E29:P29) -> 0
B30: L | C30: =Orçamento!$E$185 -> PINTURA | D30: =Orçamento!$K$185 -> 0 | O30: 0.3 | P30: 0.7 | Q30: =SUM(E30:P30) -> 1
O31: =ROUND(O30*$D$30,2) -> 0 | P31: =ROUND(P30*$D$30,2) -> 0 | Q31: =SUM(E31:P31) -> 0
B32: M | C32: =Orçamento!$E$198 -> MARMORARIA | D32: =Orçamento!$K$198 -> 0 | P32: 1 | Q32: =SUM(E32:P32) -> 1
P33: =ROUND(P32*$D$32,2) -> 0 | Q33: =SUM(E33:P33) -> 0
B34: N | C34: =Orçamento!$E$201 -> LOUÇAS, METAIS E ACESSÓRIOS | D34: =Orçamento!$K$201 -> 0 | O34: 0.5 | P34: 0.5 | Q34: =SUM(E34:P34) -> 1
O35: =ROUND(O34*$D$34,2) -> 0 | P35: =ROUND(P34*$D$34,2) -> 0 | Q35: =SUM(E35:P35) -> 0
B36: O | C36: =Orçamento!$E$229 -> INSTALAÇÕES HIDROSSANITÁRIAS | D36: =Orçamento!$K$229 -> 0 | F36: 0.1 | H36: 0.3 | J36: 0.3 | K36: 0.3 | Q36: =SUM(E36:P36) -> 1
F37: =ROUND(F36*$D$36,2) -> 0 | H37: =ROUND(H36*$D$36,2) -> 0 | J37: =ROUND(J36*$D$36,2) -> 0 | K37: =ROUND(K36*$D$36,2) -> 0 | Q37: =SUM(E37:P37) -> 0
B38: P | C38: =Orçamento!$E$353 -> INSTALAÇÕES ELÉTRICAS | D38: =Orçamento!$K$353 -> 0 | H38: 0.15 | J38: 0.25 | K38: 0.3 | O38: 0.3 | Q38: =SUM(E38:P38) -> 1
H39: =ROUND(H38*$D$38,2) -> 0 | J39: =ROUND(J38*$D$38,2) -> 0 | K39: =ROUND(K38*$D$38,2) -> 0 | O39: =ROUND(O38*$D$38,2) -> 0 | Q39: =SUM(E39:P39) -> 0
B40: Q | C40: =Orçamento!$E$463 -> CLIMATIZAÇÃO | D40: =Orçamento!$K$463 -> 0 | K40: 0.4 | P40: 0.6 | Q40: =SUM(E40:P40) -> 1
K41: =ROUND(K40*$D$40,2) -> 0 | P41: =ROUND(P40*$D$40,2) -> 0 | Q41: =SUM(E41:P41) -> 0
B42: R | C42: =Orçamento!$E$484 -> DADOS E VOZ | D42: =Orçamento!$K$484 -> 0 | H42: 0.15 | M42: 0.3 | O42: 0.4 | P42: 0.15 | Q42: =SUM(E42:P42) -> 1
H43: =ROUND(H42*$D$42,2) -> 0 | M43: =ROUND(M42*$D$42,2) -> 0 | O43: =(O42*$D$42) -> 0 | P43: =ROUND(P42*$D$42,2) -> 0 | Q43: =SUM(E43:P43) -> 0
...
