Workbook

Sheet Recepcionista 40h
A1: PLANILHA DE CUSTOS E FORMAÇÃO DE PREÇOS DE SERVIÇOS CONTINUADOS COM DEDICAÇÃO EXCLUSIVA DE MÃO DE OBRA
A2: PROCESSO: | C2: 16150/26 | E2: REGIME DE TRIBUTAÇÃO: LUCRO PRESUMIDO
A3: LICITAÇÃO/EDITAL | C3: PE/59/2026 | E3: ABERTURA: | F3: 46314
A5: Cargo/Função: | D5: Recepcionista (4221) | G5: =IF(D6="12x36","Regime de trabalho:","Quantidade de HORAS/MÊS") -> Quantidade de HORAS/MÊS | I5: =IF(D6="12x36",D6,5*D6) -> 200
A6: =IF(D6="12x36","Regime de trabalho:","Regime de trabalho (horas semanais):") -> Regime de trabalho (horas semanais): | D6: 40
A7: Convenção Coletiva de Trabalho: | D7: RS000041/2026 | G7: INSALUBRIDADE (10%, 20%, 40%) | I7: 0.2
A8: Origem do salário: | D8: CONVENÇÃO COLETIVA DE TRABALHO RS000041/2026
A9: Cidade: | D9: Nova Santa Rita | G9: PERICULOSIDADE (30%) | I9: Não aplicável
A10: Salário Normativo | G10: Vlr. do salário e nº de horas correspondentes | H10: 220 | I10: 1996.44
A11: ISS | G11: =D9 -> Nova Santa Rita | H11: Alíquota | I11: 0.02
A12: Tarifa Transporte | G12: CCT | H12: Vr. Unitário | I12: 8
H13: Dias | I13: 22
H14: Desconto | I14: 0.06
A15: Auxílio Alimentação - CLÁUSULA 20ª DA CCT. | G15: CCT | H15: Vr. Unitário | I15: 27.15
H16: Dias | I16: 22
H17: Desconto | I17: 0.19
A18: Auxílio Lanche - CLÁUSULA 21ª DA CCT. | G18: CCT | H18: Vr. Unitário | I18: 13.57
H19: Dias | I19: 0
H20: Desconto | I20: 0.19
A21: PLANO DE BENEFÍCIO SOCIAL FAMILIAR CLÁUSULA 31ª DA CCT. | G21: CCT | H21: Valor mensal | I21: 25.52
A22: PRÊMIO ASSIDUIDADE CLÁUSULA 19ª DA CCT. | G22: CCT | H22: Valor mensal | I22: 80
A23: Adicional de Supervisor (37%) | H23: Porcentagem | I23: Não aplicável
A24: Base de cálculo da insalubridade | H24: Valor | I24: =I32 -> 1814.9455
A25: Quantitativo de horas trabalhadas em feriados no mês (estimado) - Não aplicável para postos 12x36 | H25: Horas por mês | I25: Não aplicável
H26: Acréscimo da hora extra | I26: Não aplicável
A27: Hora Intervalar (somente para postos 12x36, quando for o caso) | H27: Horas por mês | I27: Não aplicável
A28: Sem fornecimento de materiais ou apenas fornecimento de EPIs ou uniformes, utilizar 10%. Com fornecimento de materiais ou equipamentos, utilizar 20%. (Decreto 52.768/2015, alterado pelo Decreto 53.424/2017) | H28: Porcentagem | I28: 0.2
A30: MONTANTE A
A31: I | B31: Remuneração - Grupo I | H31: % | I31: Valor Mensal/unidade de serviço (R$)
A32: 1 | B32: Salário | H32: =I32/$I$41 -> 0.83333333 | I32: =IF(D6="12x36",I10,I10/H10*I5) -> 1814.9455
A33: =A32+1 -> 2 | B33: Adicional Periculosidade 30% (Ver súmulas 364, 132 e 191 do TST) | H33: =I33/$I$41 -> 0 | I33: =IF(I9=30%,I32*I9,0) -> 0
A34: =A33+1 -> 3 | B34: Adicional Insalubridade 10% (Ver súmula 228 e 139 TST) | H34: =I34/$I$41 -> 0 | I34: =IF(I7=10%,I24*I7,0) -> 0
A35: =A34+1 -> 4 | B35: Adicional Insalubridade 20% (Ver súmula 228 e 139 TST) | H35: =I35/$I$41 -> 0.16666667 | I35: =IF(I7=20%,I24*I7,0) -> 362.98909
A36: =A35+1 -> 5 | B36: Adicional Insalubridade 40% (Ver súmula 228 e 139 TST) | H36: =I36/$I$41 -> 0 | I36: =IF(I7=40%,I24*I7,0) -> 0
A37: =A36+1 -> 6 | B37: Adicional de Supervisor (IN 05/2017 MPOG SLTI) | H37: =I37/$I$41 -> 0 | I37: =IF(I23="Não aplicável",0,I32*I23) -> 0
A38: =A37+1 -> 7 | B38: Feriados | H38: =I38/$I$41 -> 0 | I38: =IF(I25="Não aplicável",0,(I32+I33+I34+I35+I36+I37+I40)/I5*I25*(1+I26)) -> 0
A39: =A38+1 -> 8 | B39: DSR = número total das horas extras do mês / número de dias úteis X domingos e feriados do mês X valor da hora extra com acréscimo | H39: =I39/$I$41 -> 0 | I39: =IF(I25="Não aplicável",0,I25/I13*5*(I10/H10*(1+I26))) -> 0
A40: =A39+1 -> 9 | B40: =IF(D6="12x36","Para postos 12x36 os feriados são considerados compensados, conforme parágrafo único, Art. 59-A da CLT","Outros") -> Outros | H40: =I40/$I$41 -> 0 | I40: 0
A41: Total de Remuneração | H41: =SUM(H32:H40) -> 1 | I41: =SUM(I32:I40) -> 2177.9345
A43: II | B43: Encargos Sociais - Grupo II: Obrigações Sociais | H43: % | I43: Valor Mensal/unidade de serviço (R$)
...

Sheet Recepcionista 40h sem insalubr
A1: PLANILHA DE CUSTOS E FORMAÇÃO DE PREÇOS DE SERVIÇOS CONTINUADOS COM DEDICAÇÃO EXCLUSIVA DE MÃO DE OBRA
A2: PROCESSO: | C2: 16150/26 | E2: REGIME DE TRIBUTAÇÃO: LUCRO PRESUMIDO
A3: LICITAÇÃO/EDITAL | C3: PE/59/2026 | E3: ABERTURA: | F3: 46314
A5: Cargo/Função: | D5: Recepcionista (4221) | G5: =IF(D6="12x36","Regime de trabalho:","Quantidade de HORAS/MÊS") -> Quantidade de HORAS/MÊS | I5: =IF(D6="12x36",D6,5*D6) -> 200
A6: =IF(D6="12x36","Regime de trabalho:","Regime de trabalho (horas semanais):") -> Regime de trabalho (horas semanais): | D6: 40
A7: Convenção Coletiva de Trabalho: | D7: RS000041/2026 | G7: INSALUBRIDADE (10%, 20%, 40%) | I7: 0
A8: Origem do salário: | D8: CONVENÇÃO COLETIVA DE TRABALHO RS000041/2026
A9: Cidade: | D9: Nova Santa Rita | G9: PERICULOSIDADE (30%) | I9: Não aplicável
A10: Salário Normativo | G10: Vlr. do salário e nº de horas correspondentes | H10: 220 | I10: 1996.44
A11: ISS | G11: =D9 -> Nova Santa Rita | H11: Alíquota | I11: 0.02
A12: Tarifa Transporte | G12: CCT | H12: Vr. Unitário | I12: 8
H13: Dias | I13: 22
H14: Desconto | I14: 0.06
A15: Auxílio Alimentação - CLÁUSULA 20ª DA CCT. | G15: CCT | H15: Vr. Unitário | I15: 27.15
H16: Dias | I16: 22
H17: Desconto | I17: 0.19
A18: Auxílio Lanche - CLÁUSULA 21ª DA CCT. | G18: CCT | H18: Vr. Unitário | I18: 13.57
H19: Dias | I19: 0
H20: Desconto | I20: 0.19
A21: PLANO DE BENEFÍCIO SOCIAL FAMILIAR CLÁUSULA 31ª DA CCT. | G21: CCT | H21: Valor mensal | I21: 25.52
A22: PRÊMIO ASSIDUIDADE CLÁUSULA 19ª DA CCT. | G22: CCT | H22: Valor mensal | I22: 80
A23: Adicional de Supervisor (37%) | H23: Porcentagem | I23: Não aplicável
A24: Base de cálculo da insalubridade | H24: Valor | I24: =I32 -> 1814.9455
A25: Quantitativo de horas trabalhadas em feriados no mês (estimado) - Não aplicável para postos 12x36 | H25: Horas por mês | I25: Não aplicável
H26: Acréscimo da hora extra | I26: Não aplicável
A27: Hora Intervalar (somente para postos 12x36, quando for o caso) | H27: Horas por mês | I27: Não aplicável
A28: Sem fornecimento de materiais ou apenas fornecimento de EPIs ou uniformes, utilizar 10%. Com fornecimento de materiais ou equipamentos, utilizar 20%. (Decreto 52.768/2015, alterado pelo Decreto 53.424/2017) | H28: Porcentagem | I28: 0.2
A30: MONTANTE A
A31: I | B31: Remuneração - Grupo I | H31: % | I31: Valor Mensal/unidade de serviço (R$)
A32: 1 | B32: Salário | H32: =I32/$I$41 -> 1 | I32: =IF(D6="12x36",I10,I10/H10*I5) -> 1814.9455
A33: =A32+1 -> 2 | B33: Adicional Periculosidade 30% (Ver súmulas 364, 132 e 191 do TST) | H33: =I33/$I$41 -> 0 | I33: =IF(I9=30%,I32*I9,0) -> 0
A34: =A33+1 -> 3 | B34: Adicional Insalubridade 10% (Ver súmula 228 e 139 TST) | H34: =I34/$I$41 -> 0 | I34: =IF(I7=10%,I24*I7,0) -> 0
A35: =A34+1 -> 4 | B35: Adicional Insalubridade 20% (Ver súmula 228 e 139 TST) | H35: =I35/$I$41 -> 0 | I35: =IF(I7=20%,I24*I7,0) -> 0
A36: =A35+1 -> 5 | B36: Adicional Insalubridade 40% (Ver súmula 228 e 139 TST) | H36: =I36/$I$41 -> 0 | I36: =IF(I7=40%,I24*I7,0) -> 0
A37: =A36+1 -> 6 | B37: Adicional de Supervisor (IN 05/2017 MPOG SLTI) | H37: =I37/$I$41 -> 0 | I37: =IF(I23="Não aplicável",0,I32*I23) -> 0
A38: =A37+1 -> 7 | B38: Feriados | H38: =I38/$I$41 -> 0 | I38: =IF(I25="Não aplicável",0,(I32+I33+I34+I35+I36+I37+I40)/I5*I25*(1+I26)) -> 0
A39: =A38+1 -> 8 | B39: DSR = número total das horas extras do mês / número de dias úteis X domingos e feriados do mês X valor da hora extra com acréscimo | H39: =I39/$I$41 -> 0 | I39: =IF(I25="Não aplicável",0,I25/I13*5*(I10/H10*(1+I26))) -> 0
A40: =A39+1 -> 9 | B40: =IF(D6="12x36","Para postos 12x36 os feriados são considerados compensados, conforme parágrafo único, Art. 59-A da CLT","Outros") -> Outros | H40: =I40/$I$41 -> 0 | I40: 0
A41: Total de Remuneração | H41: =SUM(H32:H40) -> 1 | I41: =SUM(I32:I40) -> 1814.9455
A43: II | B43: Encargos Sociais - Grupo II: Obrigações Sociais | H43: % | I43: Valor Mensal/unidade de serviço (R$)
...

Sheet Recepcionsta 12x36h Diurno
A1: PLANILHA DE CUSTOS E FORMAÇÃO DE PREÇOS DE SERVIÇOS CONTINUADOS COM DEDICAÇÃO EXCLUSIVA DE MÃO DE OBRA
A2: PROCESSO: | C2: 16150/26 | E2: REGIME DE TRIBUTAÇÃO: LUCRO PRESUMIDO
A3: LICITAÇÃO/EDITAL | C3: PE/59/2026 | E3: ABERTURA: | F3: 46314
A5: Cargo/Função: | D5: Recepcionista (4221) | G5: =IF(D6="12x36","Regime de trabalho:","Quantidade de HORAS/MÊS") -> Regime de trabalho: | I5: =IF(D6="12x36",D6,5*D6) -> 12x36
A6: =IF(D6="12x36","Regime de trabalho:","Regime de trabalho (horas semanais):") -> Regime de trabalho: | D6: 12x36
A7: Convenção Coletiva de Trabalho: | D7: RS000041/2026 | G7: INSALUBRIDADE (10%, 20%, 40%) | I7: 0.2
A8: Origem do salário: | D8: CONVENÇÃO COLETIVA DE TRABALHO RS000041/2026
A9: Cidade: | D9: Nova Santa Rita | G9: PERICULOSIDADE (30%) | I9: Não aplicável
A10: Salário Normativo | G10: Vlr. do salário e nº de horas correspondentes | H10: 220 | I10: 1996.44
A11: ISS | H11: Alíquota | I11: 0.02
A12: Quantidade de dias trabalhados no mês | I12: 15
A13: Tarifa Transporte | G13: CCT | H13: Vr. Unitário | I13: 8
H14: Dias | I14: =I12 -> 15
H15: Desconto | I15: 0.06
A16: Auxílio Alimentação - CLÁUSULA 20ª DA CCT. | G16: CCT | H16: Vr. Unitário | I16: 27.15
H17: Dias | I17: =I12 -> 15
H18: Desconto | I18: 0.19
A19: Auxílio Lanche - CLÁUSULA 21ª DA CCT. | G19: CCT | H19: Vr. Unitário | I19: 13.57
H20: Dias | I20: 0
H21: Desconto | I21: 0.19
A22: PLANO DE BENEFÍCIO SOCIAL FAMILIAR CLÁUSULA 31ª DA CCT. | G22: CCT | H22: Valor mensal | I22: 25.52
A23: PRÊMIO ASSIDUIDADE CLÁUSULA 19ª DA CCT. | G23: CCT | H23: Valor mensal | I23: 80
A24: Adicional de Supervisor (37%) | H24: Porcentagem | I24: Não aplicável
A25: Base de cálculo da insalubridade | H25: Valor | I25: =I31 -> 1996.44
A26: Hora Intervalar (indenizada) | H26: Horas por mês | I26: 15
A27: Sem fornecimento de materiais ou apenas fornecimento de EPIs ou uniformes, utilizar 10%. Com fornecimento de materiais ou equipamentos, utilizar 20%. (Decreto 52.768/2015, alterado pelo Decreto 53.424/2017) | H27: Porcentagem | I27: 0.2
A29: MONTANTE A
A30: I | B30: Remuneração - Grupo I | H30: % | I30: Valor Mensal/unidade de serviço (R$)
A31: 1 | B31: Salário | H31: =I31/$I$39 -> 0.83333333 | I31: =IF(D6="12x36",I10,I10/H10*I5) -> 1996.44
A32: =A31+1 -> 2 | B32: Adicional Periculosidade 30% | H32: =I32/$I$39 -> 0 | I32: =IF(I9=30%,(I31)*I9,0) -> 0
A33: =A32+1 -> 3 | B33: Adicional Insalubridade 10% (Ver súmula 228 e 139 TST) | H33: =I33/$I$39 -> 0 | I33: =IF(I7=10%,I25*I7,0) -> 0
A34: =A33+1 -> 4 | B34: Adicional Insalubridade 20% (Ver súmula 228 e 139 TST) | H34: =I34/$I$39 -> 0.16666667 | I34: =IF(I7=20%,I25*I7,0) -> 399.288
A35: =A34+1 -> 5 | B35: Adicional Insalubridade 40% (Ver súmula 228 e 139 TST) | H35: =I35/$I$39 -> 0 | I35: =IF(I7=40%,I25*I7,0) -> 0
A36: =A35+1 -> 6 | B36: Adicional de Supervisor (IN 02/2008 MPOG SLTI) | H36: =I36/$I$39 -> 0 | I36: =IF(I24="Não aplicável",0,I31*I24) -> 0
A37: =A36+1 -> 7 | B37: DSR - Descanso Semanal Remunerado | H37: =I37/$I$39 -> 0 | I37: 0
A38: =A37+1 -> 8 | B38: =IF(D6="12x36","Para postos 12x36 os feriados são considerados compensados, conforme parágrafo único, Art. 59-A da CLT","Outros") -> Para postos 12x36 os feriados são considerados compensados, conforme parágrafo único, Art. 59-A da CLT | H38: =I38/$I$39 -> 0 | I38: 0
A39: Total de Remuneração | H39: =SUM(H31:H38) -> 1 | I39: =SUM(I31:I38) -> 2395.728
A41: II | B41: Encargos Sociais - Grupo II: Obrigações Sociais | H41: % | I41: Valor Mensal/unidade de serviço (R$)
A42: 1 | B42: INSS (art. 22, inc. I, Lei nº 8.212/91) | H42: 0.2 | I42: =$I$39*H42 -> 479.1456
A43: 2 | B43: SESI ou SESC (art. 30, Lei nº 8.036/90) | H43: 0.015 | I43: =$I$39*H43 -> 35.93592
...

Sheet Recepcionsta 12x36h Noturno
A1: PLANILHA DE CUSTOS E FORMAÇÃO DE PREÇOS DE SERVIÇOS CONTINUADOS COM DEDICAÇÃO EXCLUSIVA DE MÃO DE OBRA
A2: PROCESSO: | C2: 16150/26 | E2: REGIME DE TRIBUTAÇÃO: LUCRO PRESUMIDO
A3: LICITAÇÃO/EDITAL | C3: PE/59/2026 | E3: ABERTURA: | F3: 46314
A5: Cargo/Função: | D5: Recepcionista (4221) | G5: =IF(D6="12x36","Regime de trabalho:","Quantidade de HORAS/MÊS") -> Regime de trabalho: | I5: =IF(D6="12x36",D6,5*D6) -> 12x36
A6: =IF(D6="12x36","Regime de trabalho:","Regime de trabalho (horas semanais):") -> Regime de trabalho: | D6: 12x36
A7: Convenção Coletiva de Trabalho: | D7: RS000041/2026 | G7: INSALUBRIDADE (10%, 20%, 40%) | I7: 0.2
A8: Origem do salário: | D8: CONVENÇÃO COLETIVA DE TRABALHO RS000041/2026
A9: Cidade: | D9: Nova Santa Rita | G9: PERICULOSIDADE (30%) | I9: Não aplicável
A10: Salário Normativo | G10: Vlr. do salário e nº de horas correspondentes | H10: 220 | I10: 1996.44
A11: ISS | G11: =D9 -> Nova Santa Rita | H11: Alíquota | I11: 0.02
A12: Quantidade de dias trabalhados no mês | I12: 15
A13: Tarifa Transporte | G13: CCT | H13: Vr. Unitário | I13: 8
H14: Dias | I14: =I12 -> 15
H15: Desconto | I15: 0.06
A16: Auxílio Alimentação - CLÁUSULA 20ª DA CCT. | G16: CCT | H16: Vr. Unitário | I16: 27.15
H17: Dias | I17: =I12 -> 15
H18: Desconto | I18: 0.19
A19: Auxílio Lanche - CLÁUSULA 21ª DA CCT. | G19: CCT | H19: Vr. Unitário | I19: 13.57
H20: Dias | I20: 0
H21: Desconto | I21: 0.19
A22: PLANO DE BENEFÍCIO SOCIAL FAMILIAR CLÁUSULA 31ª DA CCT. | G22: CCT | H22: Valor mensal | I22: 25.52
A23: PRÊMIO ASSIDUIDADE CLÁUSULA 19ª DA CCT. | G23: CCT | H23: Valor mensal | I23: 80
A24: Adicional de Supervisor (37%) | H24: Porcentagem | I24: Não aplicável
A25: Base de cálculo da insalubridade | H25: Valor | I25: =I35 -> 1996.44
A26: Hora Intervalar (indenizada) | H26: Horas por mês | I26: 15
A27: Sem fornecimento de materiais ou apenas fornecimento de EPIs ou uniformes, utilizar 10%. Com fornecimento de materiais ou equipamentos, utilizar 20%. (Decreto 52.768/2015, alterado pelo Decreto 53.424/2017) | H27: Porcentagem | I27: 0.2
A28: Adicional Noturno: Horas: [(60/52,5) x Nº de horas noturnas diárias] x Nº de dias trabalhados com hora noturna Valor hora: (vlr. do salário/nº de horas correspondente do salário) x 20% (noturno) | G28: CCT | H28: Nº horas | I28: =((60/52.5)*7)*15 -> 120
H29: Vr. Hora | I29: =ROUND(I10/H10*20%,2) -> 1.81
A30: Reduzida Noturna Horas Reduzidas: 60/52,5=1,143 x 7h noturnas = 8h noturnas 5h diurnas + 8h noturnas = 13h X 15 dias = 195 horas mensais 195h - 190,67 = 4,33 horas Valor hora: (vlr. do salário/nº de horas correspondente do salário) x 150% (H.Extra) | G30: CCT | H30: Nº horas | I30: =((5+7+1)*15)-190.67 -> 4.33
H31: Vr. Hora | I31: =ROUND((I10/H10)*1.5,2) -> 13.61
A33: MONTANTE A
A34: I | B34: Remuneração - Grupo I | H34: % | I34: Valor Mensal/unidade de serviço (R$)
A35: 1 | B35: Salário | H35: =I35/$I$46 -> 0.73207824 | I35: =IF(D6="12x36",I10,I10/H10*I5) -> 1996.44
A36: =A35+1 -> 2 | B36: Adicional Noturno 20% (Ver súmula 60 TST) | H36: =I36/$I$46 -> 0 | I36: 0
A37: =A36+1 -> 3 | B37: Adicional Periculosidade 30% | H37: =I37/$I$46 -> 0 | I37: =IF(I9=30%,(I35+I42+I43+I44)*I9,0) -> 0
A38: =A37+1 -> 4 | B38: Adicional Insalubridade 10% (Ver súmula 228 e 139 TST) | H38: =I38/$I$46 -> 0 | I38: =IF(I7=10%,I25*I7,0) -> 0
A39: =A38+1 -> 5 | B39: Adicional Insalubridade 20% (Ver súmula 228 e 139 TST) | H39: =I39/$I$46 -> 0.14641565 | I39: =IF(I7=20%,I25*I7,0) -> 399.288
A40: =A39+1 -> 6 | B40: Adicional Insalubridade 40% (Ver súmula 228 e 139 TST) | H40: =I40/$I$46 -> 0 | I40: =IF(I7=40%,I25*I7,0) -> 0
A41: =A40+1 -> 7 | B41: Adicional de Supervisor (IN 02/2008 MPOG SLTI) | H41: =I41/$I$46 -> 0 | I41: =IF(I24="Não aplicável",0,I35*I24) -> 0
A42: =A41+1 -> 8 | B42: Reduzida Noturna | H42: =I42/$I$46 -> 0.021609626 | I42: =I30*I31 -> 58.9313
...

Sheet Auxiliar de Limpeza 40h
A1: PLANILHA DE CUSTOS E FORMAÇÃO DE PREÇOS DE SERVIÇOS CONTINUADOS COM DEDICAÇÃO EXCLUSIVA DE MÃO DE OBRA
A2: PROCESSO: | C2: 16150/26 | E2: REGIME DE TRIBUTAÇÃO: LUCRO PRESUMIDO
A3: LICITAÇÃO/EDITAL | C3: PE/59/2026 | E3: ABERTURA: | F3: 46314
A5: Cargo/Função: | D5: Auxiliar de Limpeza (5143) | G5: =IF(D6="12x36","Regime de trabalho:","Quantidade de HORAS/MÊS") -> Quantidade de HORAS/MÊS | I5: =IF(D6="12x36",D6,5*D6) -> 200
A6: =IF(D6="12x36","Regime de trabalho:","Regime de trabalho (horas semanais):") -> Regime de trabalho (horas semanais): | D6: 40
A7: Convenção Coletiva de Trabalho: | D7: RS000041/2026 | G7: INSALUBRIDADE (10%, 20%, 40%) | I7: 0.4
A8: Origem do salário: | D8: CONVENÇÃO COLETIVA DE TRABALHO RS000041/2026
A9: Cidade: | D9: Nova Santa Rita | G9: PERICULOSIDADE (30%) | I9: Não aplicável
A10: Salário Normativo | G10: Vlr. do salário e nº de horas correspondentes | H10: 220 | I10: 1765.86
A11: ISS | G11: =D9 -> Nova Santa Rita | H11: Alíquota | I11: 0.02
A12: Tarifa Transporte | G12: CCT | H12: Vr. Unitário | I12: 8
H13: Dias | I13: 22
H14: Desconto | I14: 0.06
A15: Auxílio Alimentação - CLÁUSULA 20ª DA CCT. | G15: CCT | H15: Vr. Unitário | I15: 27.15
H16: Dias | I16: 22
H17: Desconto | I17: 0.19
A18: Auxílio Lanche - CLÁUSULA 21ª DA CCT. | G18: CCT | H18: Vr. Unitário | I18: 13.57
H19: Dias | I19: 0
H20: Desconto | I20: 0.19
A21: PLANO DE BENEFÍCIO SOCIAL FAMILIAR CLÁUSULA 31ª DA CCT. | G21: CCT | H21: Valor mensal | I21: 25.52
A22: PRÊMIO ASSIDUIDADE CLÁUSULA 19ª DA CCT. | G22: CCT | H22: Valor mensal | I22: 80
A23: Adicional de Supervisor (37%) | H23: Porcentagem | I23: Não aplicável
A24: Base de cálculo da insalubridade | H24: Valor | I24: =I32 -> 1605.3273
A25: Quantitativo de horas trabalhadas em feriados no mês (estimado) - Não aplicável para postos 12x36 | H25: Horas por mês | I25: Não aplicável
H26: Acréscimo da hora extra | I26: Não aplicável
A27: Hora Intervalar (somente para postos 12x36, quando for o caso) | H27: Horas por mês | I27: Não aplicável
A28: Sem fornecimento de materiais ou apenas fornecimento de EPIs ou uniformes, utilizar 10%. Com fornecimento de materiais ou equipamentos, utilizar 20%. (Decreto 52.768/2015, alterado pelo Decreto 53.424/2017) | H28: Porcentagem | I28: 0.2
A30: MONTANTE A
A31: I | B31: Remuneração - Grupo I | H31: % | I31: Valor Mensal/unidade de serviço (R$)
A32: 1 | B32: Salário | H32: =I32/$I$41 -> 0.71428571 | I32: =IF(D6="12x36",I10,I10/H10*I5) -> 1605.3273
A33: =A32+1 -> 2 | B33: Adicional Periculosidade 30% (Ver súmulas 364, 132 e 191 do TST) | H33: =I33/$I$41 -> 0 | I33: =IF(I9=30%,I32*I9,0) -> 0
A34: =A33+1 -> 3 | B34: Adicional Insalubridade 10% (Ver súmula 228 e 139 TST) | H34: =I34/$I$41 -> 0 | I34: =IF(I7=10%,I24*I7,0) -> 0
A35: =A34+1 -> 4 | B35: Adicional Insalubridade 20% (Ver súmula 228 e 139 TST) | H35: =I35/$I$41 -> 0 | I35: =IF(I7=20%,I24*I7,0) -> 0
A36: =A35+1 -> 5 | B36: Adicional Insalubridade 40% (Ver súmula 228 e 139 TST) | H36: =I36/$I$41 -> 0.28571429 | I36: =IF(I7=40%,I24*I7,0) -> 642.13091
A37: =A36+1 -> 6 | B37: Adicional de Supervisor (IN 05/2017 MPOG SLTI) | H37: =I37/$I$41 -> 0 | I37: =IF(I23="Não aplicável",0,I32*I23) -> 0
A38: =A37+1 -> 7 | B38: Feriados | H38: =I38/$I$41 -> 0 | I38: =IF(I25="Não aplicável",0,(I32+I33+I34+I35+I36+I37+I40)/I5*I25*(1+I26)) -> 0
A39: =A38+1 -> 8 | B39: DSR = número total das horas extras do mês / número de dias úteis X domingos e feriados do mês X valor da hora extra com acréscimo | H39: =I39/$I$41 -> 0 | I39: =IF(I25="Não aplicável",0,I25/I13*5*(I10/H10*(1+I26))) -> 0
A40: =A39+1 -> 9 | B40: =IF(D6="12x36","Para postos 12x36 os feriados são considerados compensados, conforme parágrafo único, Art. 59-A da CLT","Outros") -> Outros | H40: =I40/$I$41 -> 0 | I40: 0
A41: Total de Remuneração | H41: =SUM(H32:H40) -> 1 | I41: =SUM(I32:I40) -> 2247.4582
A43: II | B43: Encargos Sociais - Grupo II: Obrigações Sociais | H43: % | I43: Valor Mensal/unidade de serviço (R$)
...

Sheet Aux. Limpeza 12x36h Diurno
A1: PLANILHA DE CUSTOS E FORMAÇÃO DE PREÇOS DE SERVIÇOS CONTINUADOS COM DEDICAÇÃO EXCLUSIVA DE MÃO DE OBRA
A2: PROCESSO: | C2: 16150/26 | E2: REGIME DE TRIBUTAÇÃO: LUCRO PRESUMIDO
A3: LICITAÇÃO/EDITAL | C3: PE/59/2026 | E3: ABERTURA: | F3: 46314
A5: Cargo/Função: | D5: Auxiliar de Limpeza (5143) | G5: =IF(D6="12x36","Regime de trabalho:","Quantidade de HORAS/MÊS") -> Regime de trabalho: | I5: =IF(D6="12x36",D6,5*D6) -> 12x36
A6: =IF(D6="12x36","Regime de trabalho:","Regime de trabalho (horas semanais):") -> Regime de trabalho: | D6: 12x36
A7: Convenção Coletiva de Trabalho: | D7: RS000041/2026 | G7: INSALUBRIDADE (10%, 20%, 40%) | I7: 0.4
A8: Origem do salário: | D8: CONVENÇÃO COLETIVA DE TRABALHO RS000041/2026
A9: Cidade: | D9: Nova Santa Rita | G9: PERICULOSIDADE (30%) | I9: Não aplicável
A10: Salário Normativo | G10: Vlr. do salário e nº de horas correspondentes | H10: 220 | I10: 1765.86
A11: ISS | H11: Alíquota | I11: 0.02
A12: Quantidade de dias trabalhados no mês | I12: 15
A13: Tarifa Transporte | G13: CCT | H13: Vr. Unitário | I13: 8
H14: Dias | I14: =I12 -> 15
H15: Desconto | I15: 0.06
A16: Auxílio Alimentação - CLÁUSULA 20ª DA CCT. | G16: CCT | H16: Vr. Unitário | I16: 27.15
H17: Dias | I17: =I12 -> 15
H18: Desconto | I18: 0.19
A19: Auxílio Lanche - CLÁUSULA 21ª DA CCT. | G19: CCT | H19: Vr. Unitário | I19: 13.57
H20: Dias | I20: 0
H21: Desconto | I21: 0.19
A22: PLANO DE BENEFÍCIO SOCIAL FAMILIAR CLÁUSULA 31ª DA CCT. | G22: CCT | H22: Valor mensal | I22: 25.52
A23: PRÊMIO ASSIDUIDADE CLÁUSULA 19ª DA CCT. | G23: CCT | H23: Valor mensal | I23: 80
A24: Adicional de Supervisor (37%) | H24: Porcentagem | I24: Não aplicável
A25: Base de cálculo da insalubridade | H25: Valor | I25: =I31 -> 1765.86
A26: Hora Intervalar (indenizada) | H26: Horas por mês | I26: 15
A27: Sem fornecimento de materiais ou apenas fornecimento de EPIs ou uniformes, utilizar 10%. Com fornecimento de materiais ou equipamentos, utilizar 20%. (Decreto 52.768/2015, alterado pelo Decreto 53.424/2017) | H27: Porcentagem | I27: 0.2
A29: MONTANTE A
A30: I | B30: Remuneração - Grupo I | H30: % | I30: Valor Mensal/unidade de serviço (R$)
A31: 1 | B31: Salário | H31: =I31/$I$39 -> 0.71428571 | I31: =IF(D6="12x36",I10,I10/H10*I5) -> 1765.86
A32: =A31+1 -> 2 | B32: Adicional Periculosidade 30% | H32: =I32/$I$39 -> 0 | I32: =IF(I9=30%,(I31)*I9,0) -> 0
A33: =A32+1 -> 3 | B33: Adicional Insalubridade 10% (Ver súmula 228 e 139 TST) | H33: =I33/$I$39 -> 0 | I33: =IF(I7=10%,I25*I7,0) -> 0
A34: =A33+1 -> 4 | B34: Adicional Insalubridade 20% (Ver súmula 228 e 139 TST) | H34: =I34/$I$39 -> 0 | I34: =IF(I7=20%,I25*I7,0) -> 0
A35: =A34+1 -> 5 | B35: Adicional Insalubridade 40% (Ver súmula 228 e 139 TST) | H35: =I35/$I$39 -> 0.28571429 | I35: =IF(I7=40%,I25*I7,0) -> 706.344
A36: =A35+1 -> 6 | B36: Adicional de Supervisor (IN 02/2008 MPOG SLTI) | H36: =I36/$I$39 -> 0 | I36: =IF(I24="Não aplicável",0,I31*I24) -> 0
A37: =A36+1 -> 7 | B37: DSR - Descanso Semanal Remunerado | H37: =I37/$I$39 -> 0 | I37: 0
A38: =A37+1 -> 8 | B38: =IF(D6="12x36","Para postos 12x36 os feriados são considerados compensados, conforme parágrafo único, Art. 59-A da CLT","Outros") -> Para postos 12x36 os feriados são considerados compensados, conforme parágrafo único, Art. 59-A da CLT | H38: =I38/$I$39 -> 0 | I38: 0
A39: Total de Remuneração | H39: =SUM(H31:H38) -> 1 | I39: =SUM(I31:I38) -> 2472.204
A41: II | B41: Encargos Sociais - Grupo II: Obrigações Sociais | H41: % | I41: Valor Mensal/unidade de serviço (R$)
A42: 1 | B42: INSS (art. 22, inc. I, Lei nº 8.212/91) | H42: 0.2 | I42: =$I$39*H42 -> 494.4408
A43: 2 | B43: SESI ou SESC (art. 30, Lei nº 8.036/90) | H43: 0.015 | I43: =$I$39*H43 -> 37.08306
...

Sheet Aux. Limpeza 12x36h Noturno
A1: PLANILHA DE CUSTOS E FORMAÇÃO DE PREÇOS DE SERVIÇOS CONTINUADOS COM DEDICAÇÃO EXCLUSIVA DE MÃO DE OBRA
A2: PROCESSO: | C2: 16150/26 | E2: REGIME DE TRIBUTAÇÃO: LUCRO PRESUMIDO
A3: LICITAÇÃO/EDITAL | C3: PE/59/2026 | E3: ABERTURA: | F3: 46314
A5: Cargo/Função: | D5: Auxiliar de Limpeza (5143) | G5: =IF(D6="12x36","Regime de trabalho:","Quantidade de HORAS/MÊS") -> Regime de trabalho: | I5: =IF(D6="12x36",D6,5*D6) -> 12x36
A6: =IF(D6="12x36","Regime de trabalho:","Regime de trabalho (horas semanais):") -> Regime de trabalho: | D6: 12x36
A7: Convenção Coletiva de Trabalho: | D7: RS000041/2026 | G7: INSALUBRIDADE (10%, 20%, 40%) | I7: 0.4
A8: Origem do salário: | D8: CONVENÇÃO COLETIVA DE TRABALHO RS000041/2026
A9: Cidade: | D9: Nova Santa Rita | G9: PERICULOSIDADE (30%) | I9: Não aplicável
A10: Salário Normativo | G10: Vlr. do salário e nº de horas correspondentes | H10: 220 | I10: 1765.86
A11: ISS | G11: =D9 -> Nova Santa Rita | H11: Alíquota | I11: 0.02
A12: Quantidade de dias trabalhados no mês | I12: 15
A13: Tarifa Transporte | G13: CCT | H13: Vr. Unitário | I13: 8
H14: Dias | I14: =I12 -> 15
H15: Desconto | I15: 0.06
A16: Auxílio Alimentação - CLÁUSULA 20ª DA CCT. | G16: CCT | H16: Vr. Unitário | I16: 27.15
H17: Dias | I17: =I12 -> 15
H18: Desconto | I18: 0.19
A19: Auxílio Lanche - CLÁUSULA 21ª DA CCT. | G19: CCT | H19: Vr. Unitário | I19: 13.57
H20: Dias | I20: 0
H21: Desconto | I21: 0.19
A22: PLANO DE BENEFÍCIO SOCIAL FAMILIAR CLÁUSULA 31ª DA CCT. | G22: CCT | H22: Valor mensal | I22: 25.52
A23: PRÊMIO ASSIDUIDADE CLÁUSULA 19ª DA CCT. | G23: CCT | H23: Valor mensal | I23: 80
A24: Adicional de Supervisor (37%) | H24: Porcentagem | I24: Não aplicável
A25: Base de cálculo da insalubridade | H25: Valor | I25: =I35 -> 1765.86
A26: Hora Intervalar (indenizada) | H26: Horas por mês | I26: 15
A27: Sem fornecimento de materiais ou apenas fornecimento de EPIs ou uniformes, utilizar 10%. Com fornecimento de materiais ou equipamentos, utilizar 20%. (Decreto 52.768/2015, alterado pelo Decreto 53.424/2017) | H27: Porcentagem | I27: 0.2
A28: Adicional Noturno: Horas: [(60/52,5) x Nº de horas noturnas diárias] x Nº de dias trabalhados com hora noturna Valor hora: (vlr. do salário/nº de horas correspondente do salário) x 20% (noturno) | G28: CCT | H28: Nº horas | I28: =((60/52.5)*7)*15 -> 120
H29: Vr. Hora | I29: =ROUND(I10/H10*20%,2) -> 1.61
A30: Reduzida Noturna Horas Reduzidas: 60/52,5=1,143 x 7h noturnas = 8h noturnas 5h diurnas + 8h noturnas = 13h X 15 dias = 195 horas mensais 195h - 190,67 = 4,33 horas Valor hora: (vlr. do salário/nº de horas correspondente do salário) x 150% (H.Extra) | G30: CCT | H30: Nº horas | I30: =((5+7+1)*15)-190.67 -> 4.33
H31: Vr. Hora | I31: =ROUND((I10/H10)*1.5,2) -> 12.04
A33: MONTANTE A
A34: I | B34: Remuneração - Grupo I | H34: % | I34: Valor Mensal/unidade de serviço (R$)
A35: 1 | B35: Salário | H35: =I35/$I$46 -> 0.63827714 | I35: =IF(D6="12x36",I10,I10/H10*I5) -> 1765.86
A36: =A35+1 -> 2 | B36: Adicional Noturno 20% (Ver súmula 60 TST) | H36: =I36/$I$46 -> 0 | I36: 0
A37: =A36+1 -> 3 | B37: Adicional Periculosidade 30% | H37: =I37/$I$46 -> 0 | I37: =IF(I9=30%,(I35+I42+I43+I44)*I9,0) -> 0
A38: =A37+1 -> 4 | B38: Adicional Insalubridade 10% (Ver súmula 228 e 139 TST) | H38: =I38/$I$46 -> 0 | I38: =IF(I7=10%,I25*I7,0) -> 0
A39: =A38+1 -> 5 | B39: Adicional Insalubridade 20% (Ver súmula 228 e 139 TST) | H39: =I39/$I$46 -> 0 | I39: =IF(I7=20%,I25*I7,0) -> 0
A40: =A39+1 -> 6 | B40: Adicional Insalubridade 40% (Ver súmula 228 e 139 TST) | H40: =I40/$I$46 -> 0.25531086 | I40: =IF(I7=40%,I25*I7,0) -> 706.344
A41: =A40+1 -> 7 | B41: Adicional de Supervisor (IN 02/2008 MPOG SLTI) | H41: =I41/$I$46 -> 0 | I41: =IF(I24="Não aplicável",0,I35*I24) -> 0
A42: =A41+1 -> 8 | B42: Reduzida Noturna | H42: =I42/$I$46 -> 0.018843753 | I42: =I30*I31 -> 52.1332
...

Sheet Auxiliar de Limpeza 20h
A1: PLANILHA DE CUSTOS E FORMAÇÃO DE PREÇOS DE SERVIÇOS CONTINUADOS COM DEDICAÇÃO EXCLUSIVA DE MÃO DE OBRA
A2: PROCESSO: | C2: 16150/26 | E2: REGIME DE TRIBUTAÇÃO: LUCRO PRESUMIDO
A3: LICITAÇÃO/EDITAL | C3: PE/59/2026 | E3: ABERTURA: | F3: 46314
A5: Cargo/Função: | D5: Auxiliar de Limpeza (5143) | G5: =IF(D6="12x36","Regime de trabalho:","Quantidade de HORAS/MÊS") -> Quantidade de HORAS/MÊS | I5: =IF(D6="12x36",D6,5*D6) -> 100
A6: =IF(D6="12x36","Regime de trabalho:","Regime de trabalho (horas semanais):") -> Regime de trabalho (horas semanais): | D6: 20
A7: Convenção Coletiva de Trabalho: | D7: RS000041/2026 | G7: INSALUBRIDADE (10%, 20%, 40%) | I7: 0.4
A8: Origem do salário: | D8: CONVENÇÃO COLETIVA DE TRABALHO RS000041/2026
A9: Cidade: | D9: Nova Santa Rita | G9: PERICULOSIDADE (30%) | I9: Não aplicável
A10: Salário Normativo | G10: Vlr. do salário e nº de horas correspondentes | H10: 220 | I10: 1765.86
A11: ISS | G11: =D9 -> Nova Santa Rita | H11: Alíquota | I11: 0.02
A12: Tarifa Transporte | G12: CCT | H12: Vr. Unitário | I12: 8
H13: Dias | I13: 22
H14: Desconto | I14: 0.06
A15: Auxílio Alimentação - CLÁUSULA 20ª DA CCT. | G15: CCT | H15: Vr. Unitário | I15: 27.15
H16: Dias | I16: 22
H17: Desconto | I17: 0.19
A18: Auxílio Lanche - CLÁUSULA 21ª DA CCT. | G18: CCT | H18: Vr. Unitário | I18: 13.57
H19: Dias | I19: 0
H20: Desconto | I20: 0.19
A21: PLANO DE BENEFÍCIO SOCIAL FAMILIAR CLÁUSULA 31ª DA CCT. | G21: CCT | H21: Valor mensal | I21: 25.52
A22: PRÊMIO ASSIDUIDADE CLÁUSULA 19ª DA CCT. | G22: CCT | H22: Valor mensal | I22: 80
A23: Adicional de Supervisor (37%) | H23: Porcentagem | I23: Não aplicável
A24: Base de cálculo da insalubridade | H24: Valor | I24: =I32 -> 802.66364
A25: Quantitativo de horas trabalhadas em feriados no mês (estimado) - Não aplicável para postos 12x36 | H25: Horas por mês | I25: Não aplicável
H26: Acréscimo da hora extra | I26: Não aplicável
A27: Hora Intervalar (somente para postos 12x36, quando for o caso) | H27: Horas por mês | I27: Não aplicável
A28: Sem fornecimento de materiais ou apenas fornecimento de EPIs ou uniformes, utilizar 10%. Com fornecimento de materiais ou equipamentos, utilizar 20%. (Decreto 52.768/2015, alterado pelo Decreto 53.424/2017) | H28: Porcentagem | I28: 0.2
A30: MONTANTE A
A31: I | B31: Remuneração - Grupo I | H31: % | I31: Valor Mensal/unidade de serviço (R$)
A32: 1 | B32: Salário | H32: =I32/$I$41 -> 0.71428571 | I32: =IF(D6="12x36",I10,I10/H10*I5) -> 802.66364
A33: =A32+1 -> 2 | B33: Adicional Periculosidade 30% (Ver súmulas 364, 132 e 191 do TST) | H33: =I33/$I$41 -> 0 | I33: =IF(I9=30%,I32*I9,0) -> 0
A34: =A33+1 -> 3 | B34: Adicional Insalubridade 10% (Ver súmula 228 e 139 TST) | H34: =I34/$I$41 -> 0 | I34: =IF(I7=10%,I24*I7,0) -> 0
A35: =A34+1 -> 4 | B35: Adicional Insalubridade 20% (Ver súmula 228 e 139 TST) | H35: =I35/$I$41 -> 0 | I35: =IF(I7=20%,I24*I7,0) -> 0
A36: =A35+1 -> 5 | B36: Adicional Insalubridade 40% (Ver súmula 228 e 139 TST) | H36: =I36/$I$41 -> 0.28571429 | I36: =IF(I7=40%,I24*I7,0) -> 321.06545
A37: =A36+1 -> 6 | B37: Adicional de Supervisor (IN 05/2017 MPOG SLTI) | H37: =I37/$I$41 -> 0 | I37: =IF(I23="Não aplicável",0,I32*I23) -> 0
A38: =A37+1 -> 7 | B38: Feriados | H38: =I38/$I$41 -> 0 | I38: =IF(I25="Não aplicável",0,(I32+I33+I34+I35+I36+I37+I40)/I5*I25*(1+I26)) -> 0
A39: =A38+1 -> 8 | B39: DSR = número total das horas extras do mês / número de dias úteis X domingos e feriados do mês X valor da hora extra com acréscimo | H39: =I39/$I$41 -> 0 | I39: =IF(I25="Não aplicável",0,I25/I13*5*(I10/H10*(1+I26))) -> 0
A40: =A39+1 -> 9 | B40: =IF(D6="12x36","Para postos 12x36 os feriados são considerados compensados, conforme parágrafo único, Art. 59-A da CLT","Outros") -> Outros | H40: =I40/$I$41 -> 0 | I40: 0
A41: Total de Remuneração | H41: =SUM(H32:H40) -> 1 | I41: =SUM(I32:I40) -> 1123.7291
A43: II | B43: Encargos Sociais - Grupo II: Obrigações Sociais | H43: % | I43: Valor Mensal/unidade de serviço (R$)
...

Sheet Aux. de Limpeza Urbana 40h
A1: PLANILHA DE CUSTOS E FORMAÇÃO DE PREÇOS DE SERVIÇOS CONTINUADOS COM DEDICAÇÃO EXCLUSIVA DE MÃO DE OBRA
A2: PROCESSO: | C2: 16150/26 | E2: REGIME DE TRIBUTAÇÃO: LUCRO PRESUMIDO
A3: LICITAÇÃO/EDITAL | C3: PE/59/2026 | E3: ABERTURA: | F3: 46314
A5: Cargo/Função: | D5: Auxiliar de Limpeza Urbana (5142) | G5: =IF(D6="12x36","Regime de trabalho:","Quantidade de HORAS/MÊS") -> Quantidade de HORAS/MÊS | I5: =IF(D6="12x36",D6,5*D6) -> 200
A6: =IF(D6="12x36","Regime de trabalho:","Regime de trabalho (horas semanais):") -> Regime de trabalho (horas semanais): | D6: 40
A7: Convenção Coletiva de Trabalho: | D7: ='Recepcionista 40h'!D7:F7 -> RS000041/2026 | G7: INSALUBRIDADE (10%, 20%, 40%) | I7: 0.4
A8: Origem do salário: | D8: ='Recepcionista 40h'!D8:F8 -> CONVENÇÃO COLETIVA DE TRABALHO RS000041/2026
A9: Cidade: | D9: Nova Santa Rita | G9: PERICULOSIDADE (30%) | I9: Não aplicável
A10: Salário Normativo | G10: Vlr. do salário e nº de horas correspondentes | H10: 220 | I10: 2082.31
A11: ISS | G11: =D9 -> Nova Santa Rita | H11: Alíquota | I11: 0.02
A12: Tarifa Transporte | G12: CCT | H12: Vr. Unitário | I12: 8
H13: Dias | I13: 22
H14: Desconto | I14: 0.06
A15: Auxílio Alimentação - CLÁUSULA 20ª DA CCT. | G15: CCT | H15: Vr. Unitário | I15: 27.15
H16: Dias | I16: 22
H17: Desconto | I17: 0.19
A18: Auxílio Lanche - CLÁUSULA 21ª DA CCT. | G18: CCT | H18: Vr. Unitário | I18: 13.57
H19: Dias | I19: 0
H20: Desconto | I20: 0.19
A21: PLANO DE BENEFÍCIO SOCIAL FAMILIAR CLÁUSULA 31ª DA CCT. | G21: CCT | H21: Valor mensal | I21: 25.52
A22: PRÊMIO ASSIDUIDADE CLÁUSULA 19ª DA CCT. | G22: CCT | H22: Valor mensal | I22: 80
A23: Adicional de Supervisor (37%) | H23: Porcentagem | I23: Não aplicável
A24: Base de cálculo da insalubridade | H24: Valor | I24: =I32 -> 1893.0091
A25: Quantitativo de horas trabalhadas em feriados no mês (estimado) - Não aplicável para postos 12x36 | H25: Horas por mês | I25: Não aplicável
H26: Acréscimo da hora extra | I26: Não aplicável
A27: Hora Intervalar (somente para postos 12x36, quando for o caso) | H27: Horas por mês | I27: Não aplicável
A28: Sem fornecimento de materiais ou apenas fornecimento de EPIs ou uniformes, utilizar 10%. Com fornecimento de materiais ou equipamentos, utilizar 20%. (Decreto 52.768/2015, alterado pelo Decreto 53.424/2017) | H28: Porcentagem | I28: 0.2
A30: MONTANTE A
A31: I | B31: Remuneração - Grupo I | H31: % | I31: Valor Mensal/unidade de serviço (R$)
A32: 1 | B32: Salário | H32: =I32/$I$41 -> 0.71428571 | I32: =IF(D6="12x36",I10,I10/H10*I5) -> 1893.0091
A33: =A32+1 -> 2 | B33: Adicional Periculosidade 30% (Ver súmulas 364, 132 e 191 do TST) | H33: =I33/$I$41 -> 0 | I33: =IF(I9=30%,I32*I9,0) -> 0
A34: =A33+1 -> 3 | B34: Adicional Insalubridade 10% (Ver súmula 228 e 139 TST) | H34: =I34/$I$41 -> 0 | I34: =IF(I7=10%,I24*I7,0) -> 0
A35: =A34+1 -> 4 | B35: Adicional Insalubridade 20% (Ver súmula 228 e 139 TST) | H35: =I35/$I$41 -> 0 | I35: =IF(I7=20%,I24*I7,0) -> 0
A36: =A35+1 -> 5 | B36: Adicional Insalubridade 40% (Ver súmula 228 e 139 TST) | H36: =I36/$I$41 -> 0.28571429 | I36: =IF(I7=40%,I24*I7,0) -> 757.20364
A37: =A36+1 -> 6 | B37: Adicional de Supervisor (IN 05/2017 MPOG SLTI) | H37: =I37/$I$41 -> 0 | I37: =IF(I23="Não aplicável",0,I32*I23) -> 0
A38: =A37+1 -> 7 | B38: Feriados | H38: =I38/$I$41 -> 0 | I38: =IF(I25="Não aplicável",0,(I32+I33+I34+I35+I36+I37+I40)/I5*I25*(1+I26)) -> 0
A39: =A38+1 -> 8 | B39: DSR = número total das horas extras do mês / número de dias úteis X domingos e feriados do mês X valor da hora extra com acréscimo | H39: =I39/$I$41 -> 0 | I39: =IF(I25="Não aplicável",0,I25/I13*5*(I10/H10*(1+I26))) -> 0
A40: =A39+1 -> 9 | B40: =IF(D6="12x36","Para postos 12x36 os feriados são considerados compensados, conforme parágrafo único, Art. 59-A da CLT","Outros") -> Outros | H40: =I40/$I$41 -> 0 | I40: 0
A41: Total de Remuneração | H41: =SUM(H32:H40) -> 1 | I41: =SUM(I32:I40) -> 2650.2127
A43: II | B43: Encargos Sociais - Grupo II: Obrigações Sociais | H43: % | I43: Valor Mensal/unidade de serviço (R$)
...

Sheet Supervisor 40h
A1: PLANILHA DE CUSTOS E FORMAÇÃO DE PREÇOS DE SERVIÇOS CONTINUADOS COM DEDICAÇÃO EXCLUSIVA DE MÃO DE OBRA
A2: PROCESSO: | C2: 16150/26 | E2: REGIME DE TRIBUTAÇÃO: LUCRO PRESUMIDO
A3: LICITAÇÃO/EDITAL | C3: PE/59/2026 | E3: ABERTURA: | F3: 46314
A5: Cargo/Função: | D5: Supervisor (4110) | G5: =IF(D6="12x36","Regime de trabalho:","Quantidade de HORAS/MÊS") -> Quantidade de HORAS/MÊS | I5: =IF(D6="12x36",D6,5*D6) -> 200
A6: =IF(D6="12x36","Regime de trabalho:","Regime de trabalho (horas semanais):") -> Regime de trabalho (horas semanais): | D6: 40
A7: Convenção Coletiva de Trabalho: | D7: ='Recepcionista 40h'!D7:F7 -> RS000041/2026 | G7: INSALUBRIDADE (10%, 20%, 40%) | I7: 0
A8: Origem do salário: | D8: ='Recepcionista 40h'!D8:F8 -> CONVENÇÃO COLETIVA DE TRABALHO RS000041/2026
A9: Cidade: | D9: Nova Santa Rita | G9: PERICULOSIDADE (30%) | I9: Não aplicável
A10: Salário Normativo | G10: Vlr. do salário e nº de horas correspondentes | H10: 220 | I10: 2307.83
A11: ISS | G11: =D9 -> Nova Santa Rita | H11: Alíquota | I11: 0.02
A12: Tarifa Transporte | G12: CCT | H12: Vr. Unitário | I12: 8
H13: Dias | I13: 22
H14: Desconto | I14: 0.06
A15: Auxílio Alimentação - CLÁUSULA 20ª DA CCT. | G15: CCT | H15: Vr. Unitário | I15: 27.15
H16: Dias | I16: 22
H17: Desconto | I17: 0.19
A18: Auxílio Lanche - CLÁUSULA 21ª DA CCT. | G18: CCT | H18: Vr. Unitário | I18: 13.57
H19: Dias | I19: 0
H20: Desconto | I20: 0.19
A21: PLANO DE BENEFÍCIO SOCIAL FAMILIAR CLÁUSULA 31ª DA CCT. | G21: CCT | H21: Valor mensal | I21: 25.52
A22: PRÊMIO ASSIDUIDADE CLÁUSULA 19ª DA CCT. | G22: CCT | H22: Valor mensal | I22: 80
A23: Adicional de Supervisor | H23: Porcentagem | I23: 0
A24: Base de cálculo da insalubridade | H24: Valor | I24: =I32 -> 2098.0273
A25: Quantitativo de horas trabalhadas em feriados no mês (estimado) - Não aplicável para postos 12x36 | H25: Horas por mês | I25: Não aplicável
H26: Acréscimo da hora extra | I26: Não aplicável
A27: Hora Intervalar (somente para postos 12x36, quando for o caso) | H27: Horas por mês | I27: Não aplicável
A28: Sem fornecimento de materiais ou apenas fornecimento de EPIs ou uniformes, utilizar 10%. Com fornecimento de materiais ou equipamentos, utilizar 20%. (Decreto 52.768/2015, alterado pelo Decreto 53.424/2017) | H28: Porcentagem | I28: 0.2
A30: MONTANTE A
A31: I | B31: Remuneração - Grupo I | H31: % | I31: Valor Mensal/unidade de serviço (R$)
A32: 1 | B32: Salário | H32: =I32/$I$41 -> 1 | I32: =IF(D6="12x36",I10,I10/H10*I5) -> 2098.0273
A33: =A32+1 -> 2 | B33: Adicional Periculosidade 30% (Ver súmulas 364, 132 e 191 do TST) | H33: =I33/$I$41 -> 0 | I33: =IF(I9=30%,I32*I9,0) -> 0
A34: =A33+1 -> 3 | B34: Adicional Insalubridade 10% (Ver súmula 228 e 139 TST) | H34: =I34/$I$41 -> 0 | I34: =IF(I7=10%,I24*I7,0) -> 0
A35: =A34+1 -> 4 | B35: Adicional Insalubridade 20% (Ver súmula 228 e 139 TST) | H35: =I35/$I$41 -> 0 | I35: =IF(I7=20%,I24*I7,0) -> 0
A36: =A35+1 -> 5 | B36: Adicional Insalubridade 40% (Ver súmula 228 e 139 TST) | H36: =I36/$I$41 -> 0 | I36: =IF(I7=40%,I24*I7,0) -> 0
A37: =A36+1 -> 6 | B37: Adicional de Supervisor (IN 05/2017 MPOG SLTI) | H37: =I37/$I$41 -> 0 | I37: =IF(I23="Não aplicável",0,I32*I23) -> 0
A38: =A37+1 -> 7 | B38: Feriados | H38: =I38/$I$41 -> 0 | I38: =IF(I25="Não aplicável",0,(I32+I33+I34+I35+I36+I37+I40)/I5*I25*(1+I26)) -> 0
A39: =A38+1 -> 8 | B39: DSR = número total das horas extras do mês / número de dias úteis X domingos e feriados do mês X valor da hora extra com acréscimo | H39: =I39/$I$41 -> 0 | I39: =IF(I25="Não aplicável",0,I25/I13*5*(I10/H10*(1+I26))) -> 0
A40: =A39+1 -> 9 | B40: =IF(D6="12x36","Para postos 12x36 os feriados são considerados compensados, conforme parágrafo único, Art. 59-A da CLT","Outros") -> Outros | H40: =I40/$I$41 -> 0 | I40: 0
A41: Total de Remuneração | H41: =SUM(H32:H40) -> 1 | I41: =SUM(I32:I40) -> 2098.0273
A43: II | B43: Encargos Sociais - Grupo II: Obrigações Sociais | H43: % | I43: Valor Mensal/unidade de serviço (R$)
...

Sheet Resumo
A1: Quadro Resumo Mensal - VALOR DE REFERÊNCIA | J1: Quadro Resumo Mensal - VALORES MÍNIMOS
A2: Função | B2: Cidade | C2: Carga Horária | D2: Dias da semana | E2: Valor Unitário | F2: Nº de Funcionários | G2: Valor Total Mensal | H2: Valor Total Anual | J2: Valor Unitário | K2: Nº de Postos | L2: Valor Total Mensal | M2: Valor Total Anual | O2: 0.075 | Q2: 0.9435
A3: Recepcionista c/ Insalubridade | B3: Nova Santa Rita | C3: 40h | D3: seg a sex | E3: =ROUND('Recepcionista 40h'!I175,2) -> 5159.39 | F3: 13 | G3: =F3*E3 -> 67072.07 | H3: =G3*12 -> 804864.84 | J3: =('Recepcionista 40h'!A144-S3)/Q2 -> 4769.3964 | K3: =F3 -> 13 | L3: =K3*J3 -> 62002.153 | M3: =L3*12 -> 744025.83 | O3: ='Recepcionista 40h'!I124 -> 319.26 | P3: =O3*K3 -> 4150.38 | S3: ='Recepcionista 40h'!M1 -> 0
A4: Recepcionista s/ Insalubridade | B4: Nova Santa Rita | C4: 40h | D4: seg a sex | E4: =ROUND('Recepcionista 40h sem insalubr'!I175,2) -> 4458.68 | F4: 10 | G4: =F4*E4 -> 44586.8 | H4: =G4*12 -> 535041.6 | J4: =('Recepcionista 40h sem insalubr'!A144-S4)/Q2 -> 4121.5445 | K4: =F4 -> 10 | L4: =K4*J4 -> 41215.445 | M4: =L4*12 -> 494585.34 | O4: ='Recepcionista 40h sem insalubr'!I124 -> 273.418 | P4: =O4*K4 -> 2734.18 | S4: ='Recepcionista 40h sem insalubr'!M1 -> 0
A5: Recepcionsta 12x36h Diurno | B5: Nova Santa Rita | C5: 12x36 | D5: seg a dom | E5: =ROUND('Recepcionsta 12x36h Diurno'!I170,2)/2 -> 5506.81 | F5: 2 | G5: =F5*E5 -> 11013.62 | H5: =G5*12 -> 132163.44 | J5: =('Recepcionsta 12x36h Diurno'!A142-S5)/Q2 -> 5081.1082 | K5: =F5 -> 2 | L5: =K5*J5 -> 10162.216 | M5: =L5*12 -> 121946.6 | O5: ='Recepcionsta 12x36h Diurno'!I122 -> 350.538 | P5: =O5*K5 -> 701.076 | S5: ='Recepcionsta 12x36h Diurno'!M1 -> 0
A6: Recepcionsta 12x36h Noturno | B6: Nova Santa Rita | C6: 12x36 | D6: seg a dom | E6: =ROUND('Recepcionsta 12x36h Noturno'!I179,2)/2 -> 6146.46 | F6: 2 | G6: =F6*E6 -> 12292.92 | H6: =G6*12 -> 147515.04 | J6: =('Recepcionsta 12x36h Noturno'!A149-S6)/Q2 -> 5672.505 | K6: =F6 -> 2 | L6: =K6*J6 -> 11345.01 | M6: =L6*12 -> 136140.12 | O6: ='Recepcionsta 12x36h Noturno'!I129 -> 392.385 | P6: =O6*K6 -> 784.77 | S6: ='Recepcionsta 12x36h Noturno'!M1 -> 0
A7: Auxiliar de Limpeza 40h | B7: Nova Santa Rita | C7: 40h | D7: seg a sex | E7: =ROUND('Auxiliar de Limpeza 40h'!I175,2) -> 5306.93 | F7: 68 | G7: =F7*E7 -> 360871.24 | H7: =G7*12 -> 4330454.9 | J7: =('Auxiliar de Limpeza 40h'!A144-S7)/Q2 -> 4906.8103 | K7: =F7 -> 68 | L7: =K7*J7 -> 333663.1 | M7: =L7*12 -> 4003957.2 | O7: ='Auxiliar de Limpeza 40h'!I124 -> 328.04 | P7: =O7*K7 -> 22306.72 | S7: ='Auxiliar de Limpeza 40h'!M1 -> 0
A8: Auxiliar de Limpeza 20h | B8: Nova Santa Rita | C8: 20h | D8: seg a sex | E8: =ROUND('Auxiliar de Limpeza 20h'!I175,2) -> 3188.75 | F8: 1 | G8: =F8*E8 -> 3188.75 | H8: =G8*12 -> 38265 | J8: =('Auxiliar de Limpeza 20h'!A144-S7)/Q2 -> 2952.2568 | K8: =F8 -> 1 | L8: =K8*J8 -> 2952.2568 | M8: =L8*12 -> 35427.081 | O8: ='Auxiliar de Limpeza 20h'!I124 -> 186.12 | P8: =O8*K8 -> 186.12 | S8: ='Auxiliar de Limpeza 20h'!M1 -> 0
A9: Auxiliar de Limpeza Urbana | B9: Nova Santa Rita | C9: 40h | D9: seg a sex | E9: =ROUND('Aux. de Limpeza Urbana 40h'!I175,2) -> 6066.11 | F9: 10 | G9: =F9*E9 -> 60661.1 | H9: =G9*12 -> 727933.2 | J9: =('Aux. de Limpeza Urbana 40h'!A144-S9)/Q2 -> 5607.3397 | K9: =F9 -> 10 | L9: =K9*J9 -> 56073.397 | M9: =L9*12 -> 672880.77 | O9: ='Aux. de Limpeza Urbana 40h'!I124 -> 378.91 | P9: =O9*K9 -> 3789.1 | S9: ='Aux. de Limpeza Urbana 40h'!M1 -> 0
A10: Supervisor | B10: Nova Santa Rita | C10: 40h | D10: seg a sex | E10: =ROUND('Supervisor 40h'!I175,2) -> 4987.14 | F10: 1 | G10: =F10*E10 -> 4987.14 | H10: =G10*12 -> 59845.68 | J10: =('Supervisor 40h'!A144-S10)/Q2 -> 4608.7783 | K10: =F10 -> 1 | L10: =K10*J10 -> 4608.7783 | M10: =L10*12 -> 55305.339 | O10: ='Supervisor 40h'!I124 -> 309.17 | P10: =O10*K10 -> 309.17 | S10: ='Supervisor 40h'!M1 -> 0
A11: Aux Limpeza 12x36h Diurno | B11: Nova Santa Rita | C11: 12x36 | D11: seg a dom | E11: =ROUND('Aux. Limpeza 12x36h Diurno'!I170,2)/2 -> 5642.23 | F11: 4 | G11: =F11*E11 -> 22568.92 | H11: =G11*12 -> 270827.04 | K11: =F11 -> 4
A12: Aux Limpeza 12x36h Noturno | B12: Nova Santa Rita | C12: 12x36 | D12: seg a dom | E12: =ROUND('Aux. Limpeza 12x36h Noturno'!I179,2)/2 -> 6210.53 | F12: 4 | G12: =F12*E12 -> 24842.12 | H12: =G12*12 -> 298105.44 | K12: =F12 -> 4
A13: TOTAL | F13: =SUM(F3:F12) -> 115 | G13: =SUM(G3:G12) -> 612084.68 | H13: =SUM(H3:H12) -> 7345016.2 | K13: =SUM(K3:K10) -> 107 | L13: =SUM(L3:L10) -> 522022.36 | M13: =SUM(M3:M10) -> 6264268.3 | P13: =SUM(P3:P10) -> 34961.516
