Workbook

Sheet Orçamento
A1: Nível | B1: Item | C1: Fonte | D1: Código | E1: Descrição | F1: Unidade | G1: Quantidade | H1: Custo Unitário (sem BDI) (R$) | I1: Preço Unitário (com BDI) (R$) | J1: Preço Total (R$)
A2: LOTE | B2: Elaboração de Laudo Vegetal e de Fauna do Cemitério Municipal | J2: =J3 -> 6720.7
A3: Meta | B3: 1. | C3: - | D3: - | E3: Elaboração de Laudo Vegetal e de Fauna do Cemitério Municipal | F3: - | G3: - | H3: - | I3: - | J3: =J4+J9+J13+J17 -> 6720.7
A4: Nível 2 | B4: 1.1. | C4: - | D4: - | E4: Atividade de campo | F4: - | G4: - | H4: - | I4: - | J4: =SUM(J5:J8) -> 2301.42
A5: Serviço | B5: 1.1.1.1. | C5: Composição | D5: 001 | E5: MOBILIZAÇÃO E DESMOBILIZAÇÃO DE EQUIPE | F5: UNIDADE | G5: 1 | H5: =Composições!G2 -> 484.84 | I5: =H5*(1+BDI!$E$20) -> 619.67751 | J5: =ROUND(I5*G5,2) -> 619.68
A6: Serviço | B6: 1.1.1.2. | C6: Composição | D6: =Composições!B6 -> 002 | E6: =Composições!C6 -> COORDENADOR RESPONSÁVEL TÉCNICO COM ENCARGOS COMPLEMENTARES | F6: H | G6: 6 | H6: =Composições!G6 -> 158.86153 | I6: =H6*(1+BDI!$E$20) -> 203.04207 | J6: =ROUND(I6*G6,2) -> 1218.25
A7: Serviço | B7: 1.1.1.3. | C7: SINAPI | D7: 88255 | E7: AUXILIAR TÉCNICO DE ENGENHARIA COM ENCARGOS COMPLEMENTARES | F7: H | G7: 6 | H7: 36.14 | I7: =H7*(1+BDI!$E$20) -> 46.190795 | J7: =ROUND(I7*G7,2) -> 277.14
A8: Serviço | B8: 1.1.1.4. | C8: SINAPI | D8: 88243 | E8: AJUDANTE ESPECIALIZADO COM ENCARGOS COMPLEMENTARES | F8: H | G8: 6 | H8: 24.3 | I8: =H8*(1+BDI!$E$20) -> 31.058006 | J8: =ROUND(I8*G8,2) -> 186.35
A9: Nível 2 | B9: 1.2. | C9: - | D9: - | E9: Elaboração de Laudo Vegetal | F9: - | G9: - | H9: - | I9: - | J9: =J10 -> 2143.8
A10: Nível 3 | B10: 1.2.1. | C10: - | D10: - | E10: Atividade em escritório | F10: - | G10: - | H10: - | I10: - | J10: =SUM(J11:J12) -> 2143.8
A11: Serviço | B11: 1.2.1.1. | C11: Composição | D11: =Composições!B6 -> 002 | E11: =Composições!C6 -> COORDENADOR RESPONSÁVEL TÉCNICO COM ENCARGOS COMPLEMENTARES | F11: H | G11: 6 | H11: =Composições!G6 -> 158.86153 | I11: =H11*(1+BDI!$E$20) -> 203.04207 | J11: =ROUND(I11*G11,2) -> 1218.25
A12: Serviço | B12: 1.2.1.2. | C12: SINAPI | D12: 90772 | E12: AUXILIAR DE ESCRITORIO COM ENCARGOS COMPLEMENTARES | F12: H | G12: 32 | H12: 22.63 | I12: =H12*(1+BDI!$E$20) -> 28.923567 | J12: =ROUND(I12*G12,2) -> 925.55
A13: Nível 2 | B13: 1.3. | C13: - | D13: - | E13: Elaboração de Laudo de Fauna | F13: - | G13: - | H13: - | I13: - | J13: =J14 -> 2143.8
A14: Nível 3 | B14: 1.3.1. | C14: - | D14: - | E14: Atividade em escritório | F14: - | G14: - | H14: - | I14: - | J14: =SUM(J15:J16) -> 2143.8
A15: Serviço | B15: 1.3.1.1. | C15: Composição | D15: =Composições!B6 -> 002 | E15: =Composições!C6 -> COORDENADOR RESPONSÁVEL TÉCNICO COM ENCARGOS COMPLEMENTARES | F15: H | G15: 6 | H15: =Composições!G6 -> 158.86153 | I15: =H15*(1+BDI!$E$20) -> 203.04207 | J15: =ROUND(I15*G15,2) -> 1218.25
A16: Serviço | B16: 1.3.1.2. | C16: SINAPI | D16: 90772 | E16: AUXILIAR DE ESCRITORIO COM ENCARGOS COMPLEMENTARES | F16: H | G16: 32 | H16: 22.63 | I16: =H16*(1+BDI!$E$20) -> 28.923567 | J16: =ROUND(I16*G16,2) -> 925.55
A17: Nível 2 | B17: 1.4. | C17: - | D17: - | E17: Anotação de Responsabilidade Técnica (ART) pelos serviços | F17: - | G17: - | H17: - | I17: - | J17: =SUM(J18) -> 131.68
A18: Serviço | B18: 1.4.1.1. | C18: Cotação | D18: 002 | E18: ANOTAÇÃO DE RESPONSABILIDADE TÉCNICA - ART | F18: UNIDADE | G18: 1 | H18: =Cotações!N5 -> 103.03 | I18: =H18*(1+BDI!$E$20) -> 131.68339 | J18: =ROUND(I18*G18,2) -> 131.68

Sheet Composições
A1: Fonte | B1: Código | C1: Descrição | D1: Unidade | E1: Quantidade | F1: Custo Unitário Não Desonerado (R$) | G1: Custo Total da Composição Não Desonerado (R$)
A2: COMPOSIÇÃO | B2: 001 | C2: MOBILIZAÇÃO E DESMOBILIZAÇÃO DE EQUIPE | D2: UNIDADE | E2: - | F2: - | G2: =SUM(G3:G5) -> 484.84
A3: SINAPI | B3: 92139 | C3: CAMINHONETE COM MOTOR A DIESEL, POTÊNCIA 180 CV, CABINE DUPLA, 4X4 - CHI DIURNO. AF_11/2015 | D3: CHI | E3: 6 | F3: 43.16 | G3: =E3*F3 -> 258.96
A4: SINAPI | B4: 92138 | C4: CAMINHONETE COM MOTOR A DIESEL, POTÊNCIA 180 CV, CABINE DUPLA, 4X4 - CHP DIURNO. AF_11/2015 | D4: CHP | E4: 2 | F4: 96.89 | G4: =E4*F4 -> 193.78
A5: SINAPI-I | B5: 4221 | C5: OLEO DIESEL COMBUSTIVEL COMUM METROPOLITANO S-10 OU S-500 | D5: L | E5: 5 | F5: 6.42 | G5: =E5*F5 -> 32.1
A6: COMPOSIÇÃO | B6: 002 | C6: COORDENADOR RESPONSÁVEL TÉCNICO COM ENCARGOS COMPLEMENTARES | D6: UNIDADE | E6: - | F6: - | G6: =SUM(G7:G10) -> 158.86153
A7: COTAÇÃO | B7: =Cotações!C5 -> 001 | C7: =Cotações!D5 -> COORDENADOR AMBIENTAL | D7: =Cotações!E5 -> H | E7: - | F7: =Cotações!F5*'Encargos Sociais'!C41 -> 157.45513 | G7: =F7 -> 157.45513
A8: COTAÇÃO | B8: =Cotações!K6 -> 003 | C8: =Cotações!L6 -> EXAME OCUPACIONAL (ENCARGOS COMPLEMENTARES) | D8: =Cotações!M6 -> H | E8: - | F8: =Cotações!N6 -> 0.0181 | G8: =F8 -> 0.0181
A9: COTAÇÃO | B9: =Cotações!K7 -> 004 | C9: =Cotações!L7 -> SEGURO (ENCARGOS COMPLEMENTARES) | D9: =Cotações!M7 -> H | E9: - | F9: =Cotações!N7 -> 0.0453 | G9: =F9 -> 0.0453
A10: COTAÇÃO | B10: =Cotações!K8 -> 005 | C10: =Cotações!L8 -> ASSISTÊNCIA MÉDICA (ENCARGOS COMPLEMENTARES) | D10: =Cotações!M8 -> H | E10: - | F10: =Cotações!N8 -> 1.343 | G10: =F10 -> 1.343

Sheet Cotações
B2: Cotação de itens com incidência de encargos sociais | J2: Cotação de itens sem incidência de encargos sociais
B4: Fonte | C4: Código | D4: Descrição | E4: Unidade | F4: Custo sem encargos sociais (R$) | G4: Custo com encargos sociais (R$) | H4: Empresa/Órgão | J4: Fonte | K4: Código | L4: Descrição | M4: Unidade | N4: Custo (R$) | O4: Empresa/Órgão
B5: COTAÇÃO | C5: 001 | D5: COORDENADOR AMBIENTAL | E5: H | F5: =156.9807/1.125 -> 139.5384 | G5: =F5*'Encargos Sociais'!C41 -> 157.45513 | H5: DER-MG | J5: COTAÇÃO | K5: 002 | L5: ANOTAÇÃO DE RESPONSABILIDADE TÉCNICA - ART | M5: UNIDADE | N5: 103.03 | O5: CREA-RS
J6: COTAÇÃO | K6: 003 | L6: EXAME OCUPACIONAL (ENCARGOS COMPLEMENTARES) | M6: H | N6: 0.0181 | O6: DER-MG
J7: COTAÇÃO | K7: 004 | L7: SEGURO (ENCARGOS COMPLEMENTARES) | M7: H | N7: 0.0453 | O7: DER-MG
J8: COTAÇÃO | K8: 005 | L8: ASSISTÊNCIA MÉDICA (ENCARGOS COMPLEMENTARES) | M8: H | N8: 1.343 | O8: DER-MG
J12: Fontes/referências das empresas/órgãos das cotações
J13: DER-MG
J14: Referência Biliográfica: SICOR-MG: Sistema de custos e orçamentos referenciais de Minas Gerias / Departamento de Estradas e Rodagem. – Belo Horizonte: DER-MG, 2024.
J16: Acesso em: 10/03/2024.
J17: CREA-RS
J18: Referência Biliográfica: SINAPI: Referências para Custos Horários e Encargos: Sistema Nacional de Pesquisa de Custos e Índices da Construção Civil / Caixa Econômica Federal. – 7ª Ed. – Brasília: CAIXA, 2025.
J20: Acesso em: 10/03/2024.

Sheet BDI
A2: Cálculo da taxa de Benefícios e Despesas Indireta - BDI para Engenharia Consultiva
A3: Fonte: SICOR-MG: Sistema de custos e orçamentos referenciais de Minas Gerias / Departamento de Estradas e Rodagem. – Belo Horizonte: DER-MG, 2024.
B7: Percentuais dos componentes do BDI
C9: Itens - Descrição | D9: Sigla | E9: % Adotado
C10: Administração Central | D10: AC | E10: 0.037
C11: Lucro | D11: L | E11: 0.0688
C12: Despesas Financeiras | D12: DF | E12: 0.008
C13: Seguro + Garantias | D13: SG | E13: 0.0058
C14: Riscos | D14: R | E14: 0.0083
C15: Total tributos | D15: I | E15: =SUM(E16:E18) -> 0.114
C16: ISS | D16: ISS | E16: 0.04
C17: PIS | D17: PIS | E17: 0.0132
C18: CONFINS | E18: 0.0608
C20: BDI CALCULADO | D20: BDI | E20: =(((1+E10+E13+E14)*(1+E12)*(1+E11))/(1-E15))-1 -> 0.27810723
B22: Fórmula:

Sheet Encargos Sociais
A2: Encargos Sociais sobre a mão de obra - SINAPI
A3: Para os itens referentes a mão de obra da planilha orçamentária
A5: Código | B5: Descrição | C5: Sem desoneração
C6: Horista (%)
A7: GRUPO A
A8: A1 | B8: INSS | C8: 0.2
A9: A2 | B9: SESI | C9: 0.015
A10: A3 | B10: SENAI | C10: 0.01
A11: A4 | B11: INCRA | C11: 0.002
A12: A5 | B12: SEBRAE | C12: 0.006
A13: A6 | B13: Salário educação | C13: 0.025
A14: A7 | B14: Seguro contra acidentes de trabalho | C14: 0.03
A15: A8 | B15: FGTS | C15: 0.08
A16: A9 | B16: SECONCI | C16: 0
A17: A | B17: SOMA GRUPO A | C17: =SUM(C8:C16) -> 0.368
A18: GRUPO B
A19: B1 | B19: Repouso Semanal Remunerado | C19: 0.1793
A20: B2 | B20: Feriados | C20: 0.0424
A21: B3 | B21: Auxílio - Enfermidade | C21: 0.0085
A22: B4 | B22: 13° Salário | C22: 0.1096
A23: B5 | B23: Licença Paternidade | C23: 0.0007
A24: B6 | B24: Faltas Justificadas | C24: 0.0073
A25: B7 | B25: Dias de chuva | C25: 0.0153
A26: B8 | B26: Auxílio Acidente de Trabalho | C26: 0.001
A27: B9 | B27: Férias Gozadas | C27: 0.1061
A28: B10 | B28: Salário Maternidade | C28: 0.0003
A29: B | B29: SOMA GRUPO B | C29: =SUM(C19:C28) -> 0.4705
A30: GRUPO C
A31: C1 | B31: Aviso prévio indenizado | C31: 0.0457
A32: C2 | B32: Aviso prévio trabalhado | C32: 0.0011
A33: C3 | B33: Férias indenizadas | C33: 0.0346
A34: C4 | B34: Depósito rescisão sem justa causa | C34: 0.0275
A35: C5 | B35: Indenização adicional | C35: 0.0038
A36: C | B36: SOMA GRUPO C | C36: =SUM(C31:C35) -> 0.1127
A37: GRUPO D
A38: D1 | B38: Reincidência de Grupo A sobre Grupo B (sem considerar INNS sobre 13º, conforme Lei nº 14.973/2024) | C38: 0.1731
A39: D2 | B39: Reincidência de Grupo A sobre Aviso Prévio Trabalhado e Reincidência do fGTS sobre Aviso Prévio Indenizado | C39: 0.0041
A40: D | B40: SOMA GRUPO D | C40: =SUM(C38:C39) -> 0.1772
B41: SOMA (A+B+C+D) | C41: =SUM(C17,C29,C36,C40) -> 1.1284
A43: Fonte: Caixa Econômica Federal
...
