Workbook
Name _____BDI2: #REF!
Name _____bdi3: #REF!
Name _____pmd501: #REF!
Name ____BDI2: #REF!
Name ____bdi3: #REF!
Name ____pmd501: #REF!
Name ___BDI2: #REF!
Name ___bdi3: #REF!
Name ___pmd501: #REF!
Name ___xlfn_IFERROR: NA()
Name __BDI2: #REF!
Name __bdi3: #REF!
Name __pmd501: #REF!
Name __xlfn_IFERROR: NA()
Name _BDI2: #REF!
Name _bdi3: #REF!
Name _pmd501: #REF!
Name Atualizado: #REF!
Name Atualizado: #REF!
Name Atualizado: #REF!
Name banco: #REF!
Name bdi: #REF!
Name BDImat: #REF!
Name BDImat: #REF!
Name BDImat: #REF!
Name BDImo: #REF!
Name BDImo: #REF!
Name BDImo: #REF!
Name cap: #REF!
Name dados: #REF!
Name dados2: #REF!
Name dados3: #REF!
Name esq_alum: #REF!
Name ex.cbuq: #REF!
Name ex.pint: #REF!
Name Excel_BuiltIn_Database: #REF!
Name f: #REF!
Name f: #REF!
Name f: #REF!
Name indmat: #REF!
Name indmat: #REF!
Name indmat: #REF!
Name indmo: #REF!
Name indmo: #REF!
Name indmo: #REF!
Name ITENS: #REF!
Name ITENS: #REF!
Name ITENS: #REF!
Name mat.pint: #REF!
Name número: #REF!
Name número: #REF!
Name número: #REF!
Name portaria: #REF!
Name PreçosCORSAN: #REF!
Name PreçosCORSAN: #REF!
Name PreçosCORSAN: #REF!
Name rr1c: #REF!
Name serger: #REF!
Name SINAPI2: #REF!
Name SINAPI2: #REF!

Sheet ORÇAMENTO
A1: PREFEITURA MUNICIPAL DE SINIMBU
A3: PLANILHA ORÇAMENTÁRIA COM DESONERAÇÃO PARA PAVIMENTAÇÃO COM BLOCO INTERTRAVADO
A5: LOCAL: | C5: LINHA RIO PEQUENO - TRECHO 03 | L5: TABELA SINAPI JULHO/2026
A6: TRECHO: | C6: TRECHO COM 470m | L6: TABELA SICRO - JULHO/2026
A7: ÁREA REPERF.: | C7: 470,00m X (média=08,00m) = 3760m² | L7: DESONERADO
A8: DATA: SETEMBRO/2026 | L8: BDI: 26,89%
A11: ITEM | B11: CÓDIGO | C11: REFERÊNCIA | D11: SERVIÇOS | E11: UNID | F11: QUANTIDADE | G11: DMT | H11: BDI (%) | I11: CUSTO UNITÁRIO | J11: MATERIAL | K11: MÃO DE OBRA | L11: CUSTO UNITÁRIO | M11: TOTAL MATERIAL (C/BDI) R$ | N11: TOTAL MÃO DE OBRA (C/BDI) R$ | O11: TOTAL (C/BDI) R$
I12: (S/BDI) R$ | J12: (C/BDI) R$ | K12: (C/BDI) R$ | L12: (C/BDI) R$
A14: 1 | D14: SERVIÇOS INICIAIS
A15: 1.1 | B15: 103689 | C15: SINAPI | D15: FORNECIMENTO E INSTALAÇÃO DE PLACA DE OBRA COM CHAPA GALVANIZADA E ESTRUTURA DE MADEIRA. AF_03/2022_PS | E15: M² | F15: ='MEMORIA DE CÁLCULO'!F15 -> 4.5 | H15: 0.2689 | I15: 494.08 | J15: =ROUND(L15-K15,2) -> 470.2 | K15: =ROUND(L15*0.25,2) -> 156.74 | L15: =ROUND(((1+H$15)*I15),2) -> 626.94 | M15: =ROUND(O15-N15,2) -> 2115.92 | N15: =ROUND(O15*0.25,2) -> 705.31 | O15: =ROUND(F15*L15,2) -> 2821.23 | P15: =_xlfn.XLOOKUP(B15,[1]Banco!$C$7:$C$16144,[1]Banco!$F$7:$F$16144) -> 459.11
A16: 1.2 | B16: =COMPOSIÇÃO!B12 -> CPU 01 | C16: SINAPI | D16: SERVIÇOS TOPOGRÁFICOS | E16: M² | F16: ='MEMORIA DE CÁLCULO'!F16 -> 3760 | H16: =$H$15 -> 0.2689 | I16: =COMPOSIÇÃO!G12 -> 0.44 | J16: =ROUND(L16-K16,2) -> 0.42 | K16: =ROUND(L16*0.25,2) -> 0.14 | L16: =ROUND(((1+H$15)*I16),2) -> 0.56 | M16: =ROUND(O16-N16,2) -> 1579.2 | N16: =ROUND(O16*0.25,2) -> 526.4 | O16: =ROUND(F16*L16,2) -> 2105.6 | P16: =_xlfn.XLOOKUP(B16,[1]Banco!$C$7:$C$16144,[1]Banco!$F$7:$F$16144) -> #N/A
A17: 1.3 | B17: CPU 02 | C17: SICRO | D17: MOBILIZAÇÃO DE EQUIPES E EQUIPAMENTOS | E17: UN | F17: ='MEMORIA DE CÁLCULO'!F17 -> 1 | H17: =$H$15 -> 0.2689 | I17: ='MOBILIZAÇÃO '!I37 -> 9017.202 | J17: =ROUND(L17-K17,2) -> 8581.45 | K17: =ROUND(L17*0.25,2) -> 2860.48 | L17: =ROUND(((1+H$15)*I17),2) -> 11441.93 | M17: =ROUND(O17-N17,2) -> 8581.45 | N17: =ROUND(O17*0.25,2) -> 2860.48 | O17: =ROUND(F17*L17,2) -> 11441.93 | P17: =_xlfn.XLOOKUP(B17,[1]Banco!$C$7:$C$16144,[1]Banco!$F$7:$F$16144) -> #N/A
A18: 1.4 | B18: CPU 03 | C18: SINAPI | D18: ADMINISTRAÇÃO LOCAL DE OBRA | E18: MÊS | F18: ='MEMORIA DE CÁLCULO'!F18 -> 3 | H18: =$H$15 -> 0.2689 | I18: =ROUND(('ADM LOCAL'!L21),2) -> 5222.24 | J18: =ROUND(L18-K18,2) -> 4969.87 | K18: =ROUND(L18*0.25,2) -> 1656.63 | L18: =ROUND(((1+H$15)*I18),2) -> 6626.5 | M18: =ROUND(O18-N18,2) -> 14909.62 | N18: =ROUND(O18*0.25,2) -> 4969.88 | O18: =ROUND(F18*L18,2) -> 19879.5 | P18: =_xlfn.XLOOKUP(B18,[1]Banco!$C$7:$C$16144,[1]Banco!$F$7:$F$16144) -> #N/A
D19: TOTAL DO ITEM 1 | M19: =SUM(M15:M18) -> 27186.19 | N19: =SUM(N15:N18) -> 9062.07 | O19: =SUM(O15:O18) -> 36248.26
A20: 2 | D20: ESCAVAÇÃO, TRANPORTE E ESPALHAMENTO NO BOTA FORA
A21: 2.1 | B21: 5501706 | C21: SICRO | D21: ESCAVAÇÃO MECÂNICA COM RETROESCAVADEIRA EM MATERIAL DE 1ª CATEGORIA | E21: M³ | F21: ='MEMORIA DE CÁLCULO'!F20 -> 3120.8 | H21: =$H$15 -> 0.2689 | I21: 8.88 | J21: =ROUND(L21-K21,2) -> 8.45 | K21: =ROUND(L21*0.25,2) -> 2.82 | L21: =ROUND(((1+H$15)*I21),2) -> 11.27 | M21: =ROUND(O21-N21,2) -> 26378.56 | N21: =ROUND(O21*0.25,2) -> 8792.86 | O21: =ROUND(F21*L21,2) -> 35171.42 | P21: =_xlfn.XLOOKUP(B21,[1]Banco!$C$7:$C$16144,[1]Banco!$F$7:$F$16144) -> #N/A
A22: 2.2 | B22: 93589 | C22: SINAPI | D22: TRANSPORTE COM CAMINHÃO BASCULANTE DE 10 M³, EM VIA URBANA EM REVESTIMENTO PRIMÁRIO | E22: M³xKM | F22: ='MEMORIA DE CÁLCULO'!F21 -> 31208 | G22: 12.1 | H22: =$H$15 -> 0.2689 | I22: 3.08 | J22: =ROUND(L22-K22,2) -> 2.93 | K22: =ROUND(L22*0.25,2) -> 0.98 | L22: =ROUND(((1+H$15)*I22),2) -> 3.91 | M22: =ROUND(O22-N22,2) -> 91517.46 | N22: =ROUND(O22*0.25,2) -> 30505.82 | O22: =ROUND(F22*L22,2) -> 122023.28 | P22: =_xlfn.XLOOKUP(B22,[1]Banco!$C$7:$C$16144,[1]Banco!$F$7:$F$16144) -> 2.86
A23: 2.3 | B23: 4413942 | C23: SICRO | D23: ESPALHAMENTO DE MATERIAL EM BOTA-FORA | E23: M³ | F23: ='MEMORIA DE CÁLCULO'!F22 -> 3901 | H23: =$H$15 -> 0.2689 | I23: 2.81 | J23: =ROUND(L23-K23,2) -> 2.68 | K23: =ROUND(L23*0.25,2) -> 0.89 | L23: =ROUND(((1+H$15)*I23),2) -> 3.57 | M23: =ROUND(O23-N23,2) -> 10444.93 | N23: =ROUND(O23*0.25,2) -> 3481.64 | O23: =ROUND(F23*L23,2) -> 13926.57 | P23: =_xlfn.XLOOKUP(B23,[1]Banco!$C$7:$C$16144,[1]Banco!$F$7:$F$16144) -> #N/A
D24: TOTAL DO ITEM 2 | M24: =SUM(M21:M23) -> 128340.95 | N24: =SUM(N21:N23) -> 42780.32 | O24: =SUM(O21:O23) -> 171121.27
A25: 3 | D25: REGULARIZAÇÃO DO SUBLEITO, EXECUÇÃO DA BASE
A26: 3.1 | B26: 4011209 | C26: SICRO | D26: REGULARIZAÇÃO DO SUBLEITO - 100% PROCTOR INTERMEDIÁRIO | E26: M² | F26: ='MEMORIA DE CÁLCULO'!F24 -> 3760 | H26: =$H$15 -> 0.2689 | I26: 1.99 | J26: =ROUND(L26-K26,2) -> 1.9 | K26: =ROUND(L26*0.25,2) -> 0.63 | L26: =ROUND(((1+H$15)*I26),2) -> 2.53 | M26: =ROUND(O26-N26,2) -> 7134.6 | N26: =ROUND(O26*0.25,2) -> 2378.2 | O26: =ROUND(F26*L26,2) -> 9512.8 | P26: =_xlfn.XLOOKUP(B26,[1]Banco!$C$7:$C$16144,[1]Banco!$F$7:$F$16144) -> #N/A
A27: 3.2 | B27: 4016096 | C27: SICRO | D27: ESCAVAÇÃO E CARGA DE MATERIAL DE JAZIDA COM ESCAVADEIRA HIDRÁULICA DE 1,56 M³ (JAZIDA MUNICIPAL) | E27: M³ | F27: ='MEMORIA DE CÁLCULO'!F25 -> 3290 | H27: =$H$15 -> 0.2689 | I27: 1.81 | J27: =ROUND(L27-K27,2) -> 1.72 | K27: =ROUND(L27*0.25,2) -> 0.58 | L27: =ROUND(((1+H$15)*I27),2) -> 2.3 | M27: =ROUND(O27-N27,2) -> 5675.25 | N27: =ROUND(O27*0.25,2) -> 1891.75 | O27: =ROUND(F27*L27,2) -> 7567 | P27: =_xlfn.XLOOKUP(B27,[1]Banco!$C$7:$C$16144,[1]Banco!$F$7:$F$16144) -> #N/A
A28: 3.3 | B28: 93589 | C28: SINAPI | D28: TRANSPORTE COM CAMINHÃO BASCULANTE DE 10 M³, EM VIA URBANA EM REVESTIMENTO PRIMÁRIO | E28: M³xKM | F28: ='MEMORIA DE CÁLCULO'!F26 -> 18330 | G28: 2.36 | H28: =$H$15 -> 0.2689 | I28: 3.08 | J28: =ROUND(L28-K28,2) -> 2.93 | K28: =ROUND(L28*0.25,2) -> 0.98 | L28: =ROUND(((1+H$15)*I28),2) -> 3.91 | M28: =ROUND(O28-N28,2) -> 53752.72 | N28: =ROUND(O28*0.25,2) -> 17917.58 | O28: =ROUND(F28*L28,2) -> 71670.3 | P28: =_xlfn.XLOOKUP(B28,[1]Banco!$C$7:$C$16144,[1]Banco!$F$7:$F$16144) -> 2.86
A29: 3.4 | B29: 4011275 | C29: SICRO | D29: BASE DE BRITA GRADUADA COM BRITA PRODUZIDA - 100% PROCTOR MODIFICADO (SEM MATERIAL, FORNECIDO PELA JAZIDA MUNICIPAL, ESPESSURA DE 67 CM) | E29: M³ | F29: ='MEMORIA DE CÁLCULO'!F27 -> 188 | H29: =$H$15 -> 0.2689 | I29: 141.32 | J29: =ROUND(L29-K29,2) -> 134.49 | K29: =ROUND(L29*0.25,2) -> 44.83 | L29: =ROUND(((1+H$15)*I29),2) -> 179.32 | M29: =ROUND(O29-N29,2) -> 25284.12 | N29: =ROUND(O29*0.25,2) -> 8428.04 | O29: =ROUND(F29*L29,2) -> 33712.16 | P29: =_xlfn.XLOOKUP(B29,[1]Banco!$C$7:$C$16144,[1]Banco!$F$7:$F$16144) -> #N/A
A30: 3.5 | B30: 93589 | C30: SINAPI | D30: TRANSPORTE COM CAMINHÃO BASCULANTE DE 10 M³, EM VIA URBANA EM REVESTIMENTO PRIMÁRIO | E30: M³xKM | F30: ='MEMORIA DE CÁLCULO'!F28 -> 8930 | G30: 38 | H30: =$H$15 -> 0.2689 | I30: 3.08 | J30: =ROUND(L30-K30,2) -> 2.93 | K30: =ROUND(L30*0.25,2) -> 0.98 | L30: =ROUND(((1+H$15)*I30),2) -> 3.91 | M30: =ROUND(O30-N30,2) -> 26187.22 | N30: =ROUND(O30*0.25,2) -> 8729.08 | O30: =ROUND(F30*L30,2) -> 34916.3 | P30: =_xlfn.XLOOKUP(B30,[1]Banco!$C$7:$C$16144,[1]Banco!$F$7:$F$16144) -> 2.86
D31: TOTAL DO ITEM 3 | M31: =SUM(M26:M30) -> 118033.91 | N31: =SUM(N26:N30) -> 39344.65 | O31: =SUM(O26:O30) -> 157378.56
A32: 4 | D32: PAVIMENTAÇÃO COM BLOCO INTERTRAVADO
A33: 4.1 | B33: 2003947 | C33: SICRO | D33: MEIO-FIO DE CONCRETO - MFC 05 MOLDADO NO LOCAL COM EXTRUSORA E CONCRETO USINADO - AREIA E BRITA COMERCIAIS | E33: M | F33: ='MEMORIA DE CÁLCULO'!F30 -> 940 | H33: =$H$15 -> 0.2689 | I33: 24.04 | J33: =ROUND(L33-K33,2) -> 22.87 | K33: =ROUND(L33*0.25,2) -> 7.63 | L33: =ROUND(((1+H$15)*I33),2) -> 30.5 | M33: =ROUND(O33-N33,2) -> 21502.5 | N33: =ROUND(O33*0.25,2) -> 7167.5 | O33: =ROUND(F33*L33,2) -> 28670 | P33: =_xlfn.XLOOKUP(B33,[1]Banco!$C$7:$C$16144,[1]Banco!$F$7:$F$16144) -> #N/A
A34: 4.2 | B34: 93589 | C34: SINAPI | D34: TRANSPORTE COM CAMINHÃO BASCULANTE DE 10 M³, EM VIA URBANA EM REVESTIMENTO PRIMÁRIO (CAMADA DE ASSENTAMENTO AREIA) | E34: M³xKM | F34: ='MEMORIA DE CÁLCULO'!F31 -> 7144 | G34: 38 | H34: =$H$15 -> 0.2689 | I34: 3.08 | J34: =ROUND(L34-K34,2) -> 2.93 | K34: =ROUND(L34*0.25,2) -> 0.98 | L34: =ROUND(((1+H$15)*I34),2) -> 3.91 | M34: =ROUND(O34-N34,2) -> 20949.78 | N34: =ROUND(O34*0.25,2) -> 6983.26 | O34: =ROUND(F34*L34,2) -> 27933.04 | P34: =_xlfn.XLOOKUP(B34,[1]Banco!$C$7:$C$16144,[1]Banco!$F$7:$F$16144) -> 2.86
A35: 4.3 | B35: 93589 | C35: SINAPI | D35: TRANSPORTE COM CAMINHÃO BASCULANTE DE 10 M³, EM VIA URBANA EM REVESTIMENTO PRIMÁRIO (BLOCOS) | E35: M³xKM | F35: ='MEMORIA DE CÁLCULO'!F32 -> 7399.68 | G35: 24.6 | H35: =$H$15 -> 0.2689 | I35: 3.08 | J35: =ROUND(L35-K35,2) -> 2.93 | K35: =ROUND(L35*0.25,2) -> 0.98 | L35: =ROUND(((1+H$15)*I35),2) -> 3.91 | M35: =ROUND(O35-N35,2) -> 21699.56 | N35: =ROUND(O35*0.25,2) -> 7233.19 | O35: =ROUND(F35*L35,2) -> 28932.75 | P35: =_xlfn.XLOOKUP(B35,[1]Banco!$C$7:$C$16144,[1]Banco!$F$7:$F$16144) -> 2.86
A36: 4.4 | B36: 92398 | C36: SINAPI | D36: EXECUÇÃO DE PAVIMENTO EM PISO INTERTRAVADO, COM BLOCO RETANGULAR COR NATURAL DE 20 X 10 CM, ESPESSURA 8 CM | E36: M² | F36: ='MEMORIA DE CÁLCULO'!F33 -> 3760 | H36: =$H$15 -> 0.2689 | I36: 82.81 | J36: =ROUND(L36-K36,2) -> 78.81 | K36: =ROUND(L36*0.25,2) -> 26.27 | L36: =ROUND(((1+H$15)*I36),2) -> 105.08 | M36: =ROUND(O36-N36,2) -> 296325.6 | N36: =ROUND(O36*0.25,2) -> 98775.2 | O36: =ROUND(F36*L36,2) -> 395100.8 | P36: =_xlfn.XLOOKUP(B36,[1]Banco!$C$7:$C$16144,[1]Banco!$F$7:$F$16144) -> #N/A
D37: TOTAL DO ITEM 4 | M37: =SUM(M33:M36) -> 360477.44 | N37: =SUM(N33:N36) -> 120159.15 | O37: =SUM(O33:O36) -> 480636.59
A38: 5 | D38: DRENAGEM
A39: 5.1 | B39: 4805757 | C39: SICRO | D39: ESCAVAÇÃO MECÂNICA DE VALA EM MATERIAL DE 1ª CATEGORIA | E39: M³ | F39: ='MEMORIA DE CÁLCULO'!F35 -> 470 | H39: =$H$15 -> 0.2689 | I39: 8.36 | J39: =ROUND(L39-K39,2) -> 7.96 | K39: =ROUND(L39*0.25,2) -> 2.65 | L39: =ROUND(((1+H$15)*I39),2) -> 10.61 | M39: =ROUND(O39-N39,2) -> 3740.02 | N39: =ROUND(O39*0.25,2) -> 1246.68 | O39: =ROUND(F39*L39,2) -> 4986.7 | P39: =_xlfn.XLOOKUP(B39,[1]Banco!$C$7:$C$16144,[1]Banco!$F$7:$F$16144) -> #N/A
A40: 5.2 | B40: 101623 | C40: SINAPI | D40: PREPARO DE FUNDO DE VALA COM LARGURA MENOR QUE 1,5 M, COM CAMADA DE BRITA, LANÇAMENTO MECANIZADO | E40: M³ | F40: ='MEMORIA DE CÁLCULO'!F36 -> 47 | H40: =$H$15 -> 0.2689 | I40: 293.13 | J40: =ROUND(L40-K40,2) -> 278.96 | K40: =ROUND(L40*0.25,2) -> 92.99 | L40: =ROUND(((1+H$15)*I40),2) -> 371.95 | M40: =ROUND(O40-N40,2) -> 13111.24 | N40: =ROUND(O40*0.25,2) -> 4370.41 | O40: =ROUND(F40*L40,2) -> 17481.65 | P40: =_xlfn.XLOOKUP(B40,[1]Banco!$C$7:$C$16144,[1]Banco!$F$7:$F$16144) -> 240.88
A41: 5.3 | B41: 2003823 | C41: SICRO | D41: TUBO DE CONCRETO PA2 PRODUZIDO NA OBRA PARA DRENAGEM - D = 0,60 M - AREIA E BRITA COMERCIAIS - FORNECIMENTO E INSTALAÇÃO | E41: M | F41: ='MEMORIA DE CÁLCULO'!F37 -> 530 | H41: =$H$15 -> 0.2689 | I41: 306.1 | J41: =ROUND(L41-K41,2) -> 291.31 | K41: =ROUND(L41*0.25,2) -> 97.1 | L41: =ROUND(((1+H$15)*I41),2) -> 388.41 | M41: =ROUND(O41-N41,2) -> 154392.97 | N41: =ROUND(O41*0.25,2) -> 51464.33 | O41: =ROUND(F41*L41,2) -> 205857.3 | P41: =_xlfn.XLOOKUP(B41,[1]Banco!$C$7:$C$16144,[1]Banco!$F$7:$F$16144) -> #N/A
A42: 5.4 | B42: 97935 | C42: SINAPI | D42: CAIXA PARA BOCA DE LOBO SIMPLES RETANGULAR, EM CONCRETO PRÉ-MOLDADO, DIMENSÕES INTERNAS: 0,6X1,0X1,2 M | E42: UN | F42: ='MEMORIA DE CÁLCULO'!F38 -> 3 | H42: =$H$15 -> 0.2689 | I42: 1019.22 | J42: =ROUND(L42-K42,2) -> 969.97 | K42: =ROUND(L42*0.25,2) -> 323.32 | L42: =ROUND(((1+H$15)*I42),2) -> 1293.29 | M42: =ROUND(O42-N42,2) -> 2909.9 | N42: =ROUND(O42*0.25,2) -> 969.97 | O42: =ROUND(F42*L42,2) -> 3879.87 | P42: =_xlfn.XLOOKUP(B42,[1]Banco!$C$7:$C$16144,[1]Banco!$F$7:$F$16144) -> 935.86
A43: 5.5 | B43: 4815671 | C43: SICRO | D43: REATERRO E COMPACTAÇÃO COM SOQUETE VIBRATÓRIO | E43: M³ | F43: ='MEMORIA DE CÁLCULO'!F39 -> 384.07 | H43: =$H$15 -> 0.2689 | I43: 26.16 | J43: =ROUND(L43-K43,2) -> 24.89 | K43: =ROUND(L43*0.25,2) -> 8.3 | L43: =ROUND(((1+H$15)*I43),2) -> 33.19 | M43: =ROUND(O43-N43,2) -> 9560.46 | N43: =ROUND(O43*0.25,2) -> 3186.82 | O43: =ROUND(F43*L43,2) -> 12747.28 | P43: =_xlfn.XLOOKUP(B43,[1]Banco!$C$7:$C$16144,[1]Banco!$F$7:$F$16144) -> #N/A
A44: 5.6 | B44: 93589 | C44: SINAPI | D44: TRANSPORTE COM CAMINHÃO BASCULANTE DE 10 M³, EM VIA URBANA EM REVESTIMENTO PRIMÁRIO | E44: M³xKM | F44: ='MEMORIA DE CÁLCULO'!F40 -> 859.28 | G44: 12.1 | H44: =$H$15 -> 0.2689 | I44: 3.08 | J44: =ROUND(L44-K44,2) -> 2.93 | K44: =ROUND(L44*0.25,2) -> 0.98 | L44: =ROUND(((1+H$15)*I44),2) -> 3.91 | M44: =ROUND(O44-N44,2) -> 2519.83 | N44: =ROUND(O44*0.25,2) -> 839.95 | O44: =ROUND(F44*L44,2) -> 3359.78 | P44: =_xlfn.XLOOKUP(B44,[1]Banco!$C$7:$C$16144,[1]Banco!$F$7:$F$16144) -> 2.86
A45: 5.7 | B45: 4413942 | C45: SICRO | D45: ESPALHAMENTO DE MATERIAL EM BOTA-FORA | E45: M³ | F45: ='MEMORIA DE CÁLCULO'!F41 -> 107.41 | H45: =$H$15 -> 0.2689 | I45: 2.81 | J45: =ROUND(L45-K45,2) -> 2.68 | K45: =ROUND(L45*0.25,2) -> 0.89 | L45: =ROUND(((1+H$15)*I45),2) -> 3.57 | M45: =ROUND(O45-N45,2) -> 287.59 | N45: =ROUND(O45*0.25,2) -> 95.86 | O45: =ROUND(F45*L45,2) -> 383.45 | P45: =_xlfn.XLOOKUP(B45,[1]Banco!$C$7:$C$16144,[1]Banco!$F$7:$F$16144) -> #N/A
...

Sheet PARCELA DE MAIOR RELEVANCIA
A1: PREFEITURA MUNICIPAL DE SINIMBU
A3: PLANILHA ORÇAMENTÁRIA COM DESONERAÇÃO PARA PAVIMENTAÇÃO COM BLOCO INTERTRAVADO
A5: LOCAL: | C5: LINHA RIO PEQUENO | E5: TABELA SINAPI DEZEMBRO/2025
A6: TRECHO: | C6: PAVIMENTAÇÃO EXISTENTE ATÉ 223M | E6: TABELA SICRO - OUTUBRO/2025
A7: ÁREA REPERF.: | C7: 470,00m X (média=08,00m) = 3.760,00m² | E7: DESONERADO
A8: DATA:SETEMBRO/2026 | E8: BDI: 26,89%
A11: ITEM | B11: CÓDIGO | C11: REFERÊNCIA | D11: SERVIÇOS
A14: 3 | D14: REGULARIZAÇÃO DO SUBLEITO, EXECUÇÃO DA BASE
A15: 3.1 | B15: 4011209 | C15: SICRO | D15: REGULARIZAÇÃO DO SUBLEITO - 100% PROCTOR INTERMEDIÁRIO
A16: 3.4 | B16: 4011275 | C16: SICRO | D16: BASE DE BRITA GRADUADA COM BRITA PRODUZIDA - 100% PROCTOR MODIFICADO (SEM MATERIAL, FORNECIDO PELA JAZIDA MUNICIPAL, ESPESSURA DE 67 CM)
A17: 4 | D17: PAVIMENTAÇÃO COM BLOCO INTERTRAVADO
A18: 4.4 | B18: 92398 | C18: SINAPI | D18: EXECUÇÃO DE PAVIMENTO EM PISO INTERTRAVADO, COM BLOCO RETANGULAR COR NATURAL DE 20 X 10 CM, ESPESSURA 8 CM

Sheet CRONOGRAMA
A1: =ORÇAMENTO!$A$1 -> PREFEITURA MUNICIPAL DE SINIMBU
A4: =ORÇAMENTO!A5 -> LOCAL: | B4: =ORÇAMENTO!C5 -> LINHA RIO PEQUENO - TRECHO 03 | F4: =ORÇAMENTO!L5 -> TABELA SINAPI JULHO/2026
A5: =ORÇAMENTO!A6 -> TRECHO: | B5: =ORÇAMENTO!C6 -> TRECHO COM 470m | F5: =ORÇAMENTO!L6 -> TABELA SICRO - JULHO/2026
A6: =ORÇAMENTO!A7 -> ÁREA REPERF.: | B6: =ORÇAMENTO!C7 -> 470,00m X (média=08,00m) = 3760m² | F6: =ORÇAMENTO!L7 -> DESONERADO
A7: =ORÇAMENTO!A8 -> DATA: SETEMBRO/2026 | B7: =ORÇAMENTO!C8 -> 0 | F7: =ORÇAMENTO!L8 -> BDI: 26,89%
A9: CRONOGRAMA DE OBRA (FÍSICO/FINANCEIRO)
A10: ITEM | B10: DESCRIÇÃO DOS SERVIÇOS | C10: TOTAL | D10: % | E10: MÊS 1 | G10: MÊS 2 | I10: MÊS 3
E11: % mês | F11: R$ | G11: % mês | H11: R$ | I11: % mês | J11: R$
A12: 1 | B12: =VLOOKUP($A12,ORÇAMENTO!$A$11:$O$52,4,FALSE) -> SERVIÇOS INICIAIS | C12: =ORÇAMENTO!O19 -> 36248.26 | D12: =C12/ORÇAMENTO!$O$52 -> 0.03260868 | E12: =1/3 -> 0.33333333 | F12: =$C12*E12 -> 12082.753 | G12: =1/3 -> 0.33333333 | H12: =$C12*G12 -> 12082.753 | I12: =1/3 -> 0.33333333 | J12: =$C12*I12 -> 12082.753
A13: 2 | B13: =VLOOKUP($A13,ORÇAMENTO!$A$11:$O$52,4,FALSE) -> ESCAVAÇÃO, TRANPORTE E ESPALHAMENTO NO BOTA FORA | C13: =ORÇAMENTO!O24 -> 171121.27 | D13: =C13/ORÇAMENTO!$O$52 -> 0.15393949 | E13: 1 | F13: =$C13*E13 -> 171121.27 | H13: =$C13*G13 -> 0 | J13: =$C13*I13 -> 0
A14: 3 | B14: =VLOOKUP($A14,ORÇAMENTO!$A$11:$O$52,4,FALSE) -> REGULARIZAÇÃO DO SUBLEITO, EXECUÇÃO DA BASE | C14: =ORÇAMENTO!O31 -> 157378.56 | D14: =C14/ORÇAMENTO!$O$52 -> 0.14157665 | E14: 1 | F14: =$C14*E14 -> 157378.56 | H14: =$C14*G14 -> 0 | J14: =$C14*I14 -> 0
A15: 4 | B15: =VLOOKUP($A15,ORÇAMENTO!$A$11:$O$52,4,FALSE) -> PAVIMENTAÇÃO COM BLOCO INTERTRAVADO | C15: =ORÇAMENTO!O37 -> 480636.59 | D15: =C15/ORÇAMENTO!$O$52 -> 0.4323773 | F15: =$C15*E15 -> 0 | G15: =1/2 -> 0.5 | H15: =$C15*G15 -> 240318.29 | I15: =1/2 -> 0.5 | J15: =$C15*I15 -> 240318.29
A16: 5 | B16: =VLOOKUP($A16,ORÇAMENTO!$A$11:$O$52,4,FALSE) -> DRENAGEM | C16: =ORÇAMENTO!O46 -> 248696.03 | D16: =C16/ORÇAMENTO!$O$52 -> 0.2237252 | F16: =$C16*E16 -> 0 | G16: =1/2 -> 0.5 | H16: =$C16*G16 -> 124348.01 | I16: =1/2 -> 0.5 | J16: =$C16*I16 -> 124348.01
A17: 6 | B17: =VLOOKUP($A17,ORÇAMENTO!$A$11:$O$52,4,FALSE) -> SERVIÇOS FINAIS E COMPLEMENTARES | C17: =ORÇAMENTO!O51 -> 17533.13 | D17: =C17/ORÇAMENTO!$O$52 -> 0.015772681 | F17: =$C17*E17 -> 0 | H17: =$C17*G17 -> 0 | I17: 1 | J17: =$C17*I17 -> 17533.13
A18: TOTAIS | C18: =SUM(C12:C17) -> 1111613.8 | D18: =SUM(D12:D17) -> 1 | E18: =F18/$C$18 -> 0.3063857 | F18: =SUM(F12:F17) -> 340582.58 | G18: =H18/$C$18 -> 0.33892081 | H18: =SUM(H12:H17) -> 376749.06 | I18: =J18/$C$18 -> 0.35469349 | J18: =SUM(J12:J17) -> 394282.19
A19: ACUMULADO (R$) | C19: =C18 -> 1111613.8 | E19: =F19/$C$19 -> 0.3063857 | F19: =F18 -> 340582.58 | G19: =G18+E19 -> 0.64530651 | H19: =H18+F19 -> 717331.65 | I19: =I18+G19 -> 1 | J19: =J18+H19 -> 1111613.8

Sheet ADM LOCAL
A1: =ORÇAMENTO!$A$1 -> PREFEITURA MUNICIPAL DE SINIMBU
A4: =ORÇAMENTO!A5 -> LOCAL: | B4: =ORÇAMENTO!C5 -> LINHA RIO PEQUENO - TRECHO 03 | K4: =ORÇAMENTO!L5 -> TABELA SINAPI JULHO/2026
A5: =ORÇAMENTO!A6 -> TRECHO: | B5: =ORÇAMENTO!C6 -> TRECHO COM 470m | K5: =ORÇAMENTO!L6 -> TABELA SICRO - JULHO/2026
A6: =ORÇAMENTO!A7 -> ÁREA REPERF.: | B6: =ORÇAMENTO!C7 -> 470,00m X (média=08,00m) = 3760m² | K6: =ORÇAMENTO!L7 -> DESONERADO
A7: =ORÇAMENTO!A8 -> DATA: SETEMBRO/2026 | K7: =ORÇAMENTO!L8 -> BDI: 26,89%
A9: DEMONSTRATIVO DE ADMINISTRAÇÃO LOCAL
A11: ITEM | B11: DESCRIÇÃO | C11: QUANT. | D11: DIAS | E11: HORAS | F11: USO PROD. (h) | G11: USO IMP. (h) | H11: REFERÊNCIA DE PREÇO | J11: VALOR HORA PRODUTIVO (R$/H) | K11: VALOR HORA IMPRODUTIVO (R$/H) | L11: VALOR TOTAL (R$)
H12: TABELA | I12: CÓDIGO
B13: Equipe Técnica da Obra | M13: =_xlfn.XLOOKUP(I13,[1]Banco!$C$7:$C$16144,[1]Banco!$F$7:$F$16144) -> #N/A
B14: Engenheiro Pleno | C14: 1 | D14: 4 | E14: 4 | F14: =TRUNC((C14*D14*E14),2) -> 16 | H14: SINAPI | I14: 2707 | J14: 129.45 | L14: =J14*F14 -> 2071.2 | M14: =_xlfn.XLOOKUP(I14,[1]Banco!$C$7:$C$16144,[1]Banco!$F$7:$F$16144) -> 117.59
B15: Encarregado Geral | C15: 1 | D15: 4 | E15: 4 | F15: =TRUNC((C15*D15*E15),2) -> 16 | H15: SINAPI | I15: 4083 | J15: 65.46 | L15: =J15*F15 -> 1047.36 | M15: =_xlfn.XLOOKUP(I15,[1]Banco!$C$7:$C$16144,[1]Banco!$F$7:$F$16144) -> 63.49
B16: Técnico em Segurança | C16: 1 | D16: 4 | E16: 4 | F16: =TRUNC((C16*D16*E16),2) -> 16 | H16: SINAPI | I16: 532 | J16: 33.04 | L16: =J16*F16 -> 528.64 | M16: =_xlfn.XLOOKUP(I16,[1]Banco!$C$7:$C$16144,[1]Banco!$F$7:$F$16144) -> 30.01
B17: Veículos de serviço | M17: =_xlfn.XLOOKUP(I17,[1]Banco!$C$7:$C$16144,[1]Banco!$F$7:$F$16144) -> #N/A
B18: Camionete pick-up | C18: 1 | F18: =F15 -> 16 | G18: =220-F18 -> 204 | H18: SINAPI | I18: 92138 | J18: 98.44 | L18: =(F18*J18)+(G18*K18) -> 1575.04 | M18: =_xlfn.XLOOKUP(I18,[1]Banco!$C$7:$C$16144,[1]Banco!$F$7:$F$16144) -> 94.66
K21: TOTAL | L21: =SUM(L13:L20) -> 5222.24
D77: 34723 | E77: 446.4

Sheet MOBILIZAÇÃO 
A1: =ORÇAMENTO!$A$1 -> PREFEITURA MUNICIPAL DE SINIMBU
A4: =ORÇAMENTO!A5 -> LOCAL: | B4: =ORÇAMENTO!C5 -> LINHA RIO PEQUENO - TRECHO 03 | H4: =ORÇAMENTO!L5 -> TABELA SINAPI JULHO/2026
A5: =ORÇAMENTO!A6 -> TRECHO: | B5: =ORÇAMENTO!C6 -> TRECHO COM 470m | H5: =ORÇAMENTO!L6 -> TABELA SICRO - JULHO/2026
A6: =ORÇAMENTO!A7 -> ÁREA REPERF.: | B6: =ORÇAMENTO!C7 -> 470,00m X (média=08,00m) = 3760m² | H6: =ORÇAMENTO!L7 -> DESONERADO
A7: =ORÇAMENTO!A8 -> DATA: SETEMBRO/2026 | H7: =ORÇAMENTO!L8 -> BDI: 26,89%
A9: DEMONSTRATIVO DE MOBILIZAÇÃO E DESMOBILIZAÇÃO DE EQUIPAMENTOS
D11: Distâncias de Transporte:
H12: Velocidade média (km/h): | I12: 45
H13: Tempo médio de viagem (h): | I13: =E15/I12/24 -> 0.026851852
D15: Adotada: | E15: 29 | F15: km
A16: ITEM | B16: DESCRIÇÃO | C16: QUANTIDADE | D16: TEMPO DE VIAGEM | E16: REFERÊNCIA DE PREÇO | G16: NÚMERO DE VIAGENS | H16: VALOR UNITÁRIO (R$/H) | I16: VALOR TOTAL (R$)
E17: TABELA | F17: CÓDIGO
B18: Transporte de equipamentos pesados
B19: Deslocamento com cavalo mecânico + reboque | C19: =SUM(C20:C30) -> 10 | D19: =$E$15/$I$12 -> 0.64444444 | E19: SICRO | F19: E9665 | G19: 2 | H19: 618.71 | I19: =H19*G19*D19*C19 -> 7974.4844
B20: Trator de esteiras | C20: 1
B21: Motoniveladora | C21: 1
B22: Carregadeira de pneus | C22: 1
B23: Retroescavadeira | C23: 1
B24: Escavadeira hidráulica | C24: 1
B25: Rolo compactador liso | C25: 1
B26: Rolo compactador pneus | C26: 1
B27: Rolo compactador pé de carneiro | C27: 1
B28: Rolo compactador pé de tandem | C28: 1
B29: Vibro-acabadora de asfalto
B30: Trator agrícola | C30: 1
B31: Deslocamento de veículos
B32: Distribuidor de asfalto
B33: Caminhão tanque | C33: 1 | D33: =$E$15/$I$12 -> 0.64444444 | E33: SICRO | F33: E9509 | G33: 1 | H33: 374.73 | I33: =H33*G33*D33*C33 -> 241.49267
B34: Caminhão basculante 6 m³ | D34: =$E$15/$I$12 -> 0.64444444 | E34: SICRO | F34: E9506 | G34: 1 | H34: 222.48 | I34: =H34*G34*D34*C34 -> 0
B35: Caminhão basculante 10 m³ | C35: 3 | D35: =$E$15/$I$12 -> 0.64444444 | E35: SICRO | F35: E9579 | G35: 1 | H35: 342.15 | I35: =H35*G35*D35*C35 -> 661.49
B36: Caminhão carroceria | C36: 1 | D36: =$E$15/$I$12 -> 0.64444444 | E36: SICRO | F36: E9508 | G36: 1 | H36: 216.83 | I36: =H36*G36*D36*C36 -> 139.73489
H37: TOTAL | I37: =SUM(I18:I36) -> 9017.202
D84: 34723 | E84: 446.4

Sheet COMPOSIÇÃO
A1: PREFEITURA MUNICIPAL DE SINIMBU
A4: =ORÇAMENTO!A5 -> LOCAL: | B4: =ORÇAMENTO!C5 -> LINHA RIO PEQUENO - TRECHO 03 | E4: =ORÇAMENTO!L5 -> TABELA SINAPI JULHO/2026
A5: =ORÇAMENTO!A6 -> TRECHO: | B5: =ORÇAMENTO!C6 -> TRECHO COM 470m | E5: =ORÇAMENTO!L6 -> TABELA SICRO - JULHO/2026
A6: =ORÇAMENTO!A7 -> ÁREA REPERF.: | B6: =ORÇAMENTO!C7 -> 470,00m X (média=08,00m) = 3760m² | E6: =ORÇAMENTO!L7 -> DESONERADO
A7: =ORÇAMENTO!A8 -> DATA: SETEMBRO/2026 | E7: =ORÇAMENTO!L8 -> BDI: 26,89%
A9: COMPOSIÇÕES DE PREÇO UNITÁRIO
A11: REFERÊNCIA | B11: CÓDIGO | C11: SERVIÇO/DESCRIÇÃO | D11: UNIDADE | E11: COEFICIENTE | F11: CUSTO | G11: TOTAL
A12: Item: | B12: CPU 01 | C12: SERVICOS TOPOGRAFICOS PARA PAVIMENTACAO, INCLUSIVE NOTA DE SERVICOS, ACOMPANHAMENTO E GREIDE | D12: M² | G12: =SUM(G13:G18) -> 0.44
A13: I | B13: 4460 | C13: SARRAFO DE MADEIRA NAO APARELHADA *2,5 X 10 CM, MACARANDUBA, ANGELIM OU EQUIVALENTE DA REGIAO | D13: M | E13: 0.002886 | F13: 9.64 | G13: =TRUNC(E13*F13,2) -> 0.02 | H13: =_xlfn.XLOOKUP(B13,[1]Banco!$C$7:$C$16144,[1]Banco!$F$7:$F$16144) -> 8.84
A14: C | B14: 88253 | C14: AUXILIAR DE TOPÓGRAFO COM ENCARGOS COMPLEMENTARES | D14: H | E14: 0.0025 | F14: 22.94 | G14: =TRUNC(E14*F14,2) -> 0.05 | H14: =_xlfn.XLOOKUP(B14,[1]Banco!$C$7:$C$16144,[1]Banco!$F$7:$F$16144) -> 21.96
A15: C | B15: 88288 | C15: NIVELADOR COM ENCARGOS COMPLEMENTARES | D15: H | E15: 0.0025 | F15: 24.1 | G15: =TRUNC(E15*F15,2) -> 0.06 | H15: =_xlfn.XLOOKUP(B15,[1]Banco!$C$7:$C$16144,[1]Banco!$F$7:$F$16144) -> 22.17
A16: C | B16: 88316 | C16: SERVENTE COM ENCARGOS COMPLEMENTARES | D16: H | E16: 0.0075 | F16: 24.37 | G16: =TRUNC(E16*F16,2) -> 0.18 | H16: =_xlfn.XLOOKUP(B16,[1]Banco!$C$7:$C$16144,[1]Banco!$F$7:$F$16144) -> 22.36
A17: C | B17: 2358 | C17: DESENHISTA DETALHISTA COM ENCARGOS COMPLEMENTARES | D17: H | E17: 0.002 | F17: 34.73 | G17: =TRUNC(E17*F17,2) -> 0.06 | H17: =_xlfn.XLOOKUP(B17,[1]Banco!$C$7:$C$16144,[1]Banco!$F$7:$F$16144) -> 33.68
A18: C | B18: 92145 | C18: CAMINHONETE CABINE SIMPLES COM MOTOR 1.6 FLEX, CÂMBIO MANUAL, POTÊNCIA 101/104 CV, 2 PORTAS - CHP DIURNO. AF_11/2015 | D18: CHP | E18: 0.001 | F18: 79.09 | G18: =TRUNC(E18*F18,2) -> 0.07 | H18: =_xlfn.XLOOKUP(B18,[1]Banco!$C$7:$C$16144,[1]Banco!$F$7:$F$16144) -> 77.37
A20: REFERÊNCIA | B20: CÓDIGO | C20: SERVIÇO/DESCRIÇÃO | D20: UNIDADE | E20: COEFICIENTE | F20: CUSTO | G20: TOTAL
A21: Item: | B21: CPU 04 | C21: LIMPEZA FINAL DA OBRA | D21: M² | G21: =SUM(G22) -> 0.85
A22: C | B22: 88316 | C22: SERVENTE COM ENCARGOS COMPLEMENTARES | D22: H | E22: 0.035 | F22: 24.37 | G22: =ROUND(F22*E22,2) -> 0.85 | H22: =_xlfn.XLOOKUP(B22,[1]Banco!$C$7:$C$16144,[1]Banco!$F$7:$F$16144) -> 22.36

Sheet MEMORIA DE CÁLCULO
A1: PREFEITURA MUNICIPAL DE SINIMBU
A3: PLANILHA DE MEMÓRIA DE CÁLCULO
A5: =ORÇAMENTO!A5 -> LOCAL: | C5: =ORÇAMENTO!C5 -> LINHA RIO PEQUENO - TRECHO 03 | H5: =ORÇAMENTO!L5 -> TABELA SINAPI JULHO/2026 | S5: Altura da Placa | T5: 1.5 | U5: m
A6: =ORÇAMENTO!A6 -> TRECHO: | C6: =ORÇAMENTO!C6 -> TRECHO COM 470m | H6: =ORÇAMENTO!L6 -> TABELA SICRO - JULHO/2026 | S6: Largura da Placa | T6: 3 | U6: m
A7: =ORÇAMENTO!A7 -> ÁREA REPERF.: | C7: =ORÇAMENTO!C7 -> 470,00m X (média=08,00m) = 3760m² | H7: =ORÇAMENTO!L7 -> DESONERADO | S7: Quantidade de Mobilização e desmobilização | T7: 1
A8: =ORÇAMENTO!A8 -> DATA: SETEMBRO/2026 | H8: =ORÇAMENTO!L8 -> BDI: 26,89% | S8: Duração da Obra | T8: 3 | U8: mês
S9: Comprimento da Rua | T9: 470 | U9: m
S10: Largura da Rua | T10: 8 | U10: m
A11: ITEM | B11: CÓDIGO | C11: REFERÊNCIA | D11: SERVIÇOS | E11: UNID | F11: QUANTIDADE | G11: DMT | H11: MEMÓRIA DE CÁLCULO | S11: Empolamento do material demolido | T11: 1.25
S12: Espessura da camada Demolida | T12: 0.7 | U12: m
S13: Espessura da base | T13: 0.03 | U13: m
A14: =ORÇAMENTO!A14 -> 1 | D14: =ORÇAMENTO!D14 -> SERVIÇOS INICIAIS | S14: Espessura da base | T14: 0.2 | U14: m
A15: =ORÇAMENTO!A15 -> 1.1 | B15: =ORÇAMENTO!B15 -> 103689 | C15: =ORÇAMENTO!C15 -> SINAPI | D15: =ORÇAMENTO!D15 -> FORNECIMENTO E INSTALAÇÃO DE PLACA DE OBRA COM CHAPA GALVANIZADA E ESTRUTURA DE MADEIRA. AF_03/2022_PS | E15: =ORÇAMENTO!E15 -> M² | F15: =ROUND(R15,2) -> 4.5 | G15: =ORÇAMENTO!G15 -> 0 | H15: Altura x Largura | I15: =T6 -> 3 | J15: =T5 -> 1.5 | R15: =I15*J15 -> 4.5
A16: =ORÇAMENTO!A16 -> 1.2 | B16: =ORÇAMENTO!B16 -> CPU 01 | C16: =ORÇAMENTO!C16 -> SINAPI | D16: =ORÇAMENTO!D16 -> SERVIÇOS TOPOGRÁFICOS | E16: =ORÇAMENTO!E16 -> M² | F16: =ROUND(R16,2) -> 3760 | G16: =ORÇAMENTO!G16 -> 0 | H16: Comprimento x Largura + Trecho | I16: =T9 -> 470 | J16: =T10 -> 8 | R16: =I16*J16 -> 3760
A17: =ORÇAMENTO!A17 -> 1.3 | B17: =ORÇAMENTO!B17 -> CPU 02 | C17: =ORÇAMENTO!C17 -> SICRO | D17: =ORÇAMENTO!D17 -> MOBILIZAÇÃO DE EQUIPES E EQUIPAMENTOS | E17: =ORÇAMENTO!E17 -> UN | F17: =ROUND(R17,2) -> 1 | G17: =ORÇAMENTO!G17 -> 0 | H17: Unidade | R17: =T7 -> 1
A18: =ORÇAMENTO!A18 -> 1.4 | B18: =ORÇAMENTO!B18 -> CPU 03 | C18: =ORÇAMENTO!C18 -> SINAPI | D18: =ORÇAMENTO!D18 -> ADMINISTRAÇÃO LOCAL DE OBRA | E18: =ORÇAMENTO!E18 -> MÊS | F18: =ROUND(R18,2) -> 3 | G18: =ORÇAMENTO!G18 -> 0 | H18: mês | R18: =T8 -> 3
A19: =ORÇAMENTO!A20 -> 2 | D19: =ORÇAMENTO!D20 -> ESCAVAÇÃO, TRANPORTE E ESPALHAMENTO NO BOTA FORA
A20: =ORÇAMENTO!A21 -> 2.1 | B20: =ORÇAMENTO!B21 -> 5501706 | C20: =ORÇAMENTO!C21 -> SICRO | D20: =ORÇAMENTO!D21 -> ESCAVAÇÃO MECÂNICA COM RETROESCAVADEIRA EM MATERIAL DE 1ª CATEGORIA | E20: =ORÇAMENTO!E21 -> M³ | F20: =ROUND(R20,2) -> 3120.8 | G20: =ORÇAMENTO!G21 -> 0 | H20: Comprimento x Largura x Profundidade | I20: =T9 -> 470 | J20: =T10 -> 8 | K20: 0.83 | R20: =I20*J20*K20 -> 3120.8
A21: =ORÇAMENTO!A22 -> 2.2 | B21: =ORÇAMENTO!B22 -> 93589 | C21: =ORÇAMENTO!C22 -> SINAPI | D21: =ORÇAMENTO!D22 -> TRANSPORTE COM CAMINHÃO BASCULANTE DE 10 M³, EM VIA URBANA EM REVESTIMENTO PRIMÁRIO | E21: =ORÇAMENTO!E22 -> M³xKM | F21: =ROUND(R21,2) -> 31208 | G21: 8 | H21: Comprimento x Largura x Profundidade x Empolamento x Deslocamento DMT | I21: =T9 -> 470 | J21: =T10 -> 8 | K21: 0.83 | L21: =T11 -> 1.25 | M21: =G21 -> 8 | R21: =I21*J21*K21*L21*M21 -> 31208
A22: =ORÇAMENTO!A23 -> 2.3 | B22: =ORÇAMENTO!B23 -> 4413942 | C22: =ORÇAMENTO!C23 -> SICRO | D22: =ORÇAMENTO!D23 -> ESPALHAMENTO DE MATERIAL EM BOTA-FORA | E22: =ORÇAMENTO!E23 -> M³ | F22: =ROUND(R22,2) -> 3901 | G22: =ORÇAMENTO!G23 -> 0 | H22: Comprimento x Largura x Profundidade x Empolamento | I22: =T9 -> 470 | J22: =T10 -> 8 | K22: 0.83 | L22: =T11 -> 1.25 | R22: =I22*J22*K22*L22 -> 3901
A23: =ORÇAMENTO!A25 -> 3 | D23: =ORÇAMENTO!D25 -> REGULARIZAÇÃO DO SUBLEITO, EXECUÇÃO DA BASE
A24: =ORÇAMENTO!A26 -> 3.1 | B24: =ORÇAMENTO!B26 -> 4011209 | C24: =ORÇAMENTO!C26 -> SICRO | D24: =ORÇAMENTO!D26 -> REGULARIZAÇÃO DO SUBLEITO - 100% PROCTOR INTERMEDIÁRIO | E24: =ORÇAMENTO!E26 -> M² | F24: =ROUND(R24,2) -> 3760 | G24: =ORÇAMENTO!G26 -> 0 | H24: Comprimento x Largura | I24: =T9 -> 470 | J24: =T10 -> 8 | R24: =R16 -> 3760
A25: =ORÇAMENTO!A27 -> 3.2 | B25: =ORÇAMENTO!B27 -> 4016096 | C25: =ORÇAMENTO!C27 -> SICRO | D25: =ORÇAMENTO!D27 -> ESCAVAÇÃO E CARGA DE MATERIAL DE JAZIDA COM ESCAVADEIRA HIDRÁULICA DE 1,56 M³ (JAZIDA MUNICIPAL) | E25: =ORÇAMENTO!E27 -> M³ | F25: =ROUND(R25,2) -> 3290 | G25: =ORÇAMENTO!G27 -> 0 | H25: Comprimento x Largura x Profundidade x Empolamento | I25: =T9 -> 470 | J25: =T10 -> 8 | K25: 0.7 | L25: =T11 -> 1.25 | R25: =I25*J25*K25*L25 -> 3290
A26: =ORÇAMENTO!A28 -> 3.3 | B26: =ORÇAMENTO!B28 -> 93589 | C26: =ORÇAMENTO!C28 -> SINAPI | D26: =ORÇAMENTO!D28 -> TRANSPORTE COM CAMINHÃO BASCULANTE DE 10 M³, EM VIA URBANA EM REVESTIMENTO PRIMÁRIO | E26: =ORÇAMENTO!E28 -> M³xKM | F26: =ROUND(R26,2) -> 18330 | G26: 6 | H26: Comprimento x Largura x Profundidade x Empolamento x Deslocamento DMT | I26: =T9 -> 470 | J26: =T10 -> 8 | K26: 0.65 | L26: =T11 -> 1.25 | M26: =G26 -> 6 | R26: =I26*J26*K26*L26*M26 -> 18330
A27: =ORÇAMENTO!A29 -> 3.4 | B27: =ORÇAMENTO!B29 -> 4011275 | C27: =ORÇAMENTO!C29 -> SICRO | D27: =ORÇAMENTO!D29 -> BASE DE BRITA GRADUADA COM BRITA PRODUZIDA - 100% PROCTOR MODIFICADO (SEM MATERIAL, FORNECIDO PELA JAZIDA MUNICIPAL, ESPESSURA DE 67 CM) | E27: =ORÇAMENTO!E29 -> M³ | F27: =ROUND(R27,2) -> 188 | G27: =ORÇAMENTO!G29 -> 0 | H27: Comprimento x Largura x Profundidade | I27: =T9 -> 470 | J27: =T10 -> 8 | K27: 0.05 | R27: =I27*J27*K27 -> 188
A28: =ORÇAMENTO!A30 -> 3.5 | B28: =ORÇAMENTO!B30 -> 93589 | C28: =ORÇAMENTO!C30 -> SINAPI | D28: =ORÇAMENTO!D30 -> TRANSPORTE COM CAMINHÃO BASCULANTE DE 10 M³, EM VIA URBANA EM REVESTIMENTO PRIMÁRIO | E28: =ORÇAMENTO!E30 -> M³xKM | F28: =ROUND(R28,2) -> 8930 | G28: =ORÇAMENTO!G30 -> 38 | H28: Comprimento x Largura x Profundidade x Empolamento x Deslocamento DMT | I28: =T9 -> 470 | J28: =T10 -> 8 | K28: 0.05 | L28: =T11 -> 1.25 | M28: =G28 -> 38 | R28: =I28*J28*K28*L28*M28 -> 8930
A29: =ORÇAMENTO!A32 -> 4 | D29: =ORÇAMENTO!D32 -> PAVIMENTAÇÃO COM BLOCO INTERTRAVADO
A30: =ORÇAMENTO!A33 -> 4.1 | B30: =ORÇAMENTO!B33 -> 2003947 | C30: =ORÇAMENTO!C33 -> SICRO | D30: =ORÇAMENTO!D33 -> MEIO-FIO DE CONCRETO - MFC 05 MOLDADO NO LOCAL COM EXTRUSORA E CONCRETO USINADO - AREIA E BRITA COMERCIAIS | E30: =ORÇAMENTO!E33 -> M | F30: =ROUND(R30,2) -> 940 | G30: =ORÇAMENTO!G33 -> 0 | H30: Comprimento | I30: =T9 -> 470 | L30: =G30 -> 0 | R30: =I30*2 -> 940
A31: =ORÇAMENTO!A34 -> 4.2 | B31: =ORÇAMENTO!B34 -> 93589 | C31: =ORÇAMENTO!C34 -> SINAPI | D31: =ORÇAMENTO!D34 -> TRANSPORTE COM CAMINHÃO BASCULANTE DE 10 M³, EM VIA URBANA EM REVESTIMENTO PRIMÁRIO (CAMADA DE ASSENTAMENTO AREIA) | E31: =ORÇAMENTO!E34 -> M³xKM | F31: =ROUND(R31,2) -> 7144 | G31: =ORÇAMENTO!G34 -> 38 | H31: Comprimento x Largura x Profundidade x Deslocamento DMT | I31: =T9 -> 470 | J31: =T10 -> 8 | K31: 0.05 | L31: =G31 -> 38 | R31: =I31*J31*K31*L31 -> 7144
A32: =ORÇAMENTO!A35 -> 4.3 | B32: =ORÇAMENTO!B35 -> 93589 | C32: =ORÇAMENTO!C35 -> SINAPI | D32: =ORÇAMENTO!D35 -> TRANSPORTE COM CAMINHÃO BASCULANTE DE 10 M³, EM VIA URBANA EM REVESTIMENTO PRIMÁRIO (BLOCOS) | E32: =ORÇAMENTO!E35 -> M³xKM | F32: =ROUND(R32,2) -> 7399.68 | G32: =ORÇAMENTO!G35 -> 24.6 | H32: Comprimento x Largura x Profundidade x Deslocamento DMT | I32: =T9 -> 470 | J32: =T10 -> 8 | K32: 0.08 | L32: =G32 -> 24.6 | R32: =I32*J32*K32*L32 -> 7399.68
A33: =ORÇAMENTO!A36 -> 4.4 | B33: =ORÇAMENTO!B36 -> 92398 | C33: =ORÇAMENTO!C36 -> SINAPI | D33: =ORÇAMENTO!D36 -> EXECUÇÃO DE PAVIMENTO EM PISO INTERTRAVADO, COM BLOCO RETANGULAR COR NATURAL DE 20 X 10 CM, ESPESSURA 8 CM | E33: =ORÇAMENTO!E36 -> M² | F33: =ROUND(R33,2) -> 3760 | G33: =ORÇAMENTO!G36 -> 0 | H33: Comprimento x Largura | I33: =T9 -> 470 | J33: =T10 -> 8 | R33: =R24 -> 3760
A34: =ORÇAMENTO!A38 -> 5 | D34: =ORÇAMENTO!D38 -> DRENAGEM
A35: =ORÇAMENTO!A39 -> 5.1 | B35: =ORÇAMENTO!B39 -> 4805757 | C35: =ORÇAMENTO!C39 -> SICRO | D35: =ORÇAMENTO!D39 -> ESCAVAÇÃO MECÂNICA DE VALA EM MATERIAL DE 1ª CATEGORIA | E35: =ORÇAMENTO!E39 -> M³ | F35: =ROUND(R35,2) -> 470 | G35: =ORÇAMENTO!G39 -> 0 | H35: Comprimento x Largura x Profundidade | I35: =T9 -> 470 | J35: 1 | K35: 1 | R35: =I35*J35*K35 -> 470
A36: =ORÇAMENTO!A40 -> 5.2 | B36: =ORÇAMENTO!B40 -> 101623 | C36: =ORÇAMENTO!C40 -> SINAPI | D36: =ORÇAMENTO!D40 -> PREPARO DE FUNDO DE VALA COM LARGURA MENOR QUE 1,5 M, COM CAMADA DE BRITA, LANÇAMENTO MECANIZADO | E36: =ORÇAMENTO!E40 -> M³ | F36: =ROUND(R36,2) -> 47 | G36: =ORÇAMENTO!G40 -> 0 | H36: Comprimento x Largura x Profundidade | I36: =T9 -> 470 | J36: 1 | K36: 0.1 | R36: =I36*J36*K36 -> 47
A37: =ORÇAMENTO!A41 -> 5.3 | B37: =ORÇAMENTO!B41 -> 2003823 | C37: =ORÇAMENTO!C41 -> SICRO | D37: =ORÇAMENTO!D41 -> TUBO DE CONCRETO PA2 PRODUZIDO NA OBRA PARA DRENAGEM - D = 0,60 M - AREIA E BRITA COMERCIAIS - FORNECIMENTO E INSTALAÇÃO | E37: =ORÇAMENTO!E41 -> M | F37: 530 | G37: =ORÇAMENTO!G41 -> 0 | H37: Comprimento | I37: 530 | R37: 530
A38: =ORÇAMENTO!A42 -> 5.4 | B38: =ORÇAMENTO!B42 -> 97935 | C38: =ORÇAMENTO!C42 -> SINAPI | D38: =ORÇAMENTO!D42 -> CAIXA PARA BOCA DE LOBO SIMPLES RETANGULAR, EM CONCRETO PRÉ-MOLDADO, DIMENSÕES INTERNAS: 0,6X1,0X1,2 M | E38: =ORÇAMENTO!E42 -> UN | F38: =ROUND(R38,2) -> 3 | G38: =ORÇAMENTO!G42 -> 0 | H38: Conforme Projeto | R38: 3
A39: =ORÇAMENTO!A43 -> 5.5 | B39: =ORÇAMENTO!B43 -> 4815671 | C39: =ORÇAMENTO!C43 -> SICRO | D39: =ORÇAMENTO!D43 -> REATERRO E COMPACTAÇÃO COM SOQUETE VIBRATÓRIO | E39: =ORÇAMENTO!E43 -> M³ | F39: =ROUND(R39,2) -> 384.07 | G39: =ORÇAMENTO!G43 -> 0 | H39: Volume escavado - Volume da tubulação | I39: =R35 -> 470 | J39: =223.28*(PI()*0.35*0.35) -> 85.928214 | R39: =I39-J39 -> 384.07179
A40: =ORÇAMENTO!A44 -> 5.6 | B40: =ORÇAMENTO!B44 -> 93589 | C40: =ORÇAMENTO!C44 -> SINAPI | D40: =ORÇAMENTO!D44 -> TRANSPORTE COM CAMINHÃO BASCULANTE DE 10 M³, EM VIA URBANA EM REVESTIMENTO PRIMÁRIO | E40: =ORÇAMENTO!E44 -> M³xKM | F40: =ROUND(R40,2) -> 859.28 | G40: 8 | H40: Volume escavado - Volume de reaterro x Empolamento x Deslocamento DMT | I40: =R35 -> 470 | J40: =R39 -> 384.07179 | K40: =G40 -> 8 | L40: =T11 -> 1.25 | R40: =(I40-J40)*K40*L40 -> 859.28214
A41: =ORÇAMENTO!A45 -> 5.7 | B41: =ORÇAMENTO!B45 -> 4413942 | C41: =ORÇAMENTO!C45 -> SICRO | D41: =ORÇAMENTO!D45 -> ESPALHAMENTO DE MATERIAL EM BOTA-FORA | E41: =ORÇAMENTO!E45 -> M³ | F41: =ROUND(R41,2) -> 107.41 | G41: =ORÇAMENTO!G45 -> 0 | H41: Volume escavado - Volume da tubulação x Empolamento | I41: =R35 -> 470 | J41: =R39 -> 384.07179 | K41: =T11 -> 1.25 | R41: =(I41-J41)*K41 -> 107.41027
A42: =ORÇAMENTO!A47 -> 6 | D42: =ORÇAMENTO!D47 -> SERVIÇOS FINAIS E COMPLEMENTARES
...
