Workbook

Sheet Planilha1
A3: ITEM | B3: CÓDIGO | C3: DESCRIÇÃO | D3: UNIDADE | E3: QUANT. | F3: VALOR UNIT | G3: TOTAL | H3: %
B5: AMPLIAÇÃO
B6: Fundação
B7: 94965 | C7: CONCRETO FCK = 25MPA, TRAÇO 1:2,3:2,7 (EM MASSA SECA DE CIMENTO/ AREIA MÉDIA/ BRITA 1) - PREPARO MECÂNICO COM BETONEIRA 400 L. AF_05/2021 | D7: M3 | F7: 550.67 | G7: =E7*F7 -> 0
B8: 104919 | C8: ARMAÇÃO DE SAPATA ISOLADA, VIGA BALDRAME E SAPATA CORRIDA UTILIZANDO AÇO CA-50 DE 10 MM - MONTAGEM. AF_01/2024 | D8: KG | F8: 13.13 | G8: =E8*F8 -> 0
G9: =E9*F9 -> 0
G10: =E10*F10 -> 0
B11: Estrutura | G11: =E11*F11 -> 0
B12: 92269 | C12: FABRICAÇÃO DE FÔRMA PARA PILARES E ESTRUTURAS SIMILARES, EM MADEIRA SERRADA, E=25 MM. AF_09/2020 | D12: M2 | F12: 122.2 | G12: =E12*F12 -> 0
B13: 96546 | C13: ARMAÇÃO DE BLOCO UTILIZANDO AÇO CA-50 DE 10 MM - MONTAGEM. AF_01/2024 | D13: KG | F13: 14.52 | G13: =E13*F13 -> 0
B14: 94965 | C14: CONCRETO FCK = 25MPA, TRAÇO 1:2,3:2,7 (EM MASSA SECA DE CIMENTO/ AREIA MÉDIA/ BRITA 1) - PREPARO MECÂNICO COM BETONEIRA 400 L. AF_05/2021 | D14: M3 | F14: 550.67 | G14: =E14*F14 -> 0
G15: =E15*F15 -> 0
B16: Alvenaria | G16: =E16*F16 -> 0
B17: 97624 | C17: DEMOLIÇÃO DE ALVENARIA DE TIJOLO MACIÇO, DE FORMA MANUAL, SEM REAPROVEITAMENTO. AF_09/2023 | D17: M3 | E17: 12.28 | F17: 122.38 | G17: =E17*F17 -> 1502.8264
B18: 101165 | C18: ALVENARIA DE EMBASAMENTO COM BLOCO ESTRUTURAL DE CONCRETO, DE 14X19X29CM E ARGAMASSA DE ASSENTAMENTO COM PREPARO EM BETONEIRA. AF_05/2020 | D18: M3 | E18: 32.36 | F18: 1157.92 | G18: =E18*F18 -> 37470.291
B19: 87905 | C19: CHAPISCO APLICADO EM ALVENARIA (COM PRESENÇA DE VÃOS) E ESTRUTURAS DE CONCRETO DE FACHADA, COM COLHER DE PEDREIRO. ARGAMASSA TRAÇO 1:3 COM PREPARO EM BETONEIRA 400L. AF_10/2022 | D19: M2 | E19: 231.21 | F19: 8.82 | G19: =E19*F19 -> 2039.2722
G20: =E20*F20 -> 0
G21: =E21*F21 -> 0
B22: Cobertura | G22: =E22*F22 -> 0
B23: 92606 | C23: FABRICAÇÃO E INSTALAÇÃO DE TESOURA INTEIRA EM AÇO, VÃO DE 5 M, PARA TELHA ONDULADA DE FIBROCIMENTO, METÁLICA, PLÁSTICA OU TERMOACÚSTICA, INCLUSO IÇAMENTO, EXCLUSIVE PINTURA. AF_10/2025 | D23: UN | F23: 905.94 | G23: =E23*F23 -> 0
B24: 94216 | C24: TELHAMENTO COM TELHA METÁLICA TERMOACÚSTICA E = 30 MM, COM ATÉ 2 ÁGUAS, INCLUSO IÇAMENTO. AF_07/2019 | D24: M2 | F24: 162.41 | G24: =E24*F24 -> 0
B25: 92580 | C25: TRAMA DE AÇO COMPOSTA POR TERÇAS PARA TELHADOS DE ATÉ 2 ÁGUAS PARA TELHA ONDULADA DE FIBROCIMENTO, METÁLICA, PLÁSTICA OU TERMOACÚSTICA, INCLUSO TRANSPORTE VERTICAL, EXCLUSIVE PINTURA. AF_10/2025_PS | D25: M2 | F25: 51.71 | G25: =E25*F25 -> 0
B26: 96113 | C26: FORRO EM PLACAS DE GESSO, PARA AMBIENTES COMERCIAIS. AF_08/2023_PS | D26: M2 | E26: 95 | F26: 51.93 | G26: =E26*F26 -> 4933.35
B27: 94229 | C27: CALHA EM CHAPA DE AÇO GALVANIZADO NÚMERO 24, DESENVOLVIMENTO DE 100 CM, INCLUSO TRANSPORTE VERTICAL. AF_07/2019 | D27: M | E27: 19 | F27: 195.98 | G27: =E27*F27 -> 3723.62
G28: =E28*F28 -> 0
B29: Esquadrias | G29: =E29*F29 -> 0
B30: 106145 | C30: PORTA DE ALUMÍNIO DE ABRIR, P/ VIDRO, C/ GUARNIÇÃO, 87X210CM, FIXAÇÃO COM ARGAMASSA. AF_10/2025 | D30: UN | E30: 5 | F30: 1280.32 | G30: =E30*F30 -> 6401.6
B31: 94569 | C31: JANELA DE ALUMÍNIO TIPO MAXIM-AR, BATENTE/ REQUADRO 3 A 14 CM, VIDRO INCLUSO, FIXAÇÃO COM PARAFUSO, SEM GUARNIÇÃO/ ALIZAR, DIMENSÕES 60X80 (A X L) CM, SEM ACABAMENTO, VEDAÇÃO COM SILICONE, EXCLUSIVE CONTRAMARCO - FORNECIMENTO E INSTALAÇÃO. AF_11/2024 | D31: M2 | E31: 0.9 | F31: 825.12 | G31: =E31*F31 -> 742.608
B32: 106141 | C32: PORTA CORTA-FOGO 160X210X5CM COM BARRA ANTI PÂNICO - FORNECIMENTO E INSTALAÇÃO. AF_10/2025 | D32: UN | E32: 1 | F32: 1850 | G32: =E32*F32 -> 1850
G33: =E33*F33 -> 0
B34: Piso | G34: =E34*F34 -> 0
B35: 90930 | C35: CONTRAPISO ACÚSTICO EM ARGAMASSA TRAÇO 1:4 (CIMENTO E AREIA), PREPARO MECÂNICO COM BETONEIRA 400L, APLICADO EM ÁREAS SECAS, ACABAMENTO NÃO REFORÇADO, ESPESSURA 5CM. AF_07/2021 | D35: M2 | E35: 4.75 | F35: 88.71 | G35: =E35*F35 -> 421.3725
G36: =E36*F36 -> 0
B37: 87263 | C37: REVESTIMENTO CERÂMICO PARA PISO COM PLACAS TIPO PORCELANATO DE DIMENSÕES 60X60 CM APLICADA EM AMBIENTES DE ÁREA MAIOR QUE 10 M². AF_02/2023_PE | D37: M2 | E37: 36.57 | F37: 117.23 | G37: =E37*F37 -> 4287.1011
B38: 104611 | C38: REVESTIMENTO CERÂMICO PARA PAREDES INTERNAS COM PLACAS TIPO ESMALTADA DE DIMENSÕES 60X60 CM APLICADAS NA ALTURA INTEIRA DAS PAREDES. AF_02/2023_PE | D38: M2 | E38: 49.73 | F38: 97.24 | G38: =E38*F38 -> 4835.7452
B39: 106790 | C39: PISO VINÍLICO SEMI-FLEXÍVEL EM RÉGUAS, PADRÃO LISO, ESPESSURA 3,2 MM, FIXADO COM COLA. AF_02/2026 | D39: M2 | E39: 36.5 | F39: 174.66 | G39: =E39*F39 -> 6375.09
G40: =E40*F40 -> 0
B41: Pintura | G41: =E41*F41 -> 0
B42: 88485 | C42: FUNDO SELADOR ACRÍLICO, APLICAÇÃO MANUAL EM PAREDE, UMA DEMÃO. AF_04/2023 | D42: M2 | E42: 231.21 | F42: 4.02 | G42: =E42*F42 -> 929.4642
B43: 88489 | C43: PINTURA LÁTEX ACRÍLICA PREMIUM, APLICAÇÃO MANUAL EM PAREDES, DUAS DEMÃOS. AF_04/2023 | D43: M2 | E43: 231.21 | F43: 14.1 | G43: =E43*F43 -> 3260.061
...

Sheet Planilha2
A3: Obra: Ginasio Escola Neli Betemps | F3: Bancos: | H3: SINAPI - 04/2026 | J3: Encargos: Não desonerado
F5: BDI: | G5: =BDI!C19 -> 0.24529647 | H5: Preço Total com BDI: | I5: =L7*(1+$G$5) -> 231630.33
J7: =SUM(J15+J30+J53+J63+J89+J210+J242+J259+J283+J300) -> 137331.31 | K7: =SUM(K9+K15+K30+K53+K63+K89+K210+K242+K259+K283+K300) -> 48672.859 | L7: =SUM(L9+L15+L30+L53+L63+L88+L241) -> 186004.17 | M7: =L7*(1+$G$5) -> 231630.33
A8: ITEM | B8: TIPO DE ITEM | C8: CÓDIGO DE ITEM | D8: BANCO | E8: DESCRIÇÃO | F8: UNIDADE | G8: Coluna1 | H8: QUANT. | I8: VALOR UNIT | J8: MATERIAL | K8: MO | L8: TOTAL | M8: TOTAL COM BDI
A9: 1 | B9: Serviços Preliminares | J9: 0 | K9: =SUM(K10:K14) -> 2041.7187 | L9: =SUM(L10+L13) -> 2041.7187 | M9: =L9*(1+$G$5) -> 2542.5451
B10: 97624 | D10: SINAPI | E10: DEMOLIÇÃO DE ALVENARIA DE TIJOLO MACIÇO, DE FORMA MANUAL, SEM REAPROVEITAMENTO. AF_09/2023 | F10: M3 | H10: 12.28 | I10: 122.38 | K10: =Tabela1[[#This Row],[Coluna1]]*H9 -> 0 | L10: =H10*I10 -> 1502.8264 | M10: =L10*(1+$G$5) -> 1871.4644
B11: COMPOSIÇÃO | C11: 88316 | D11: SINAPI | E11: SERVENTE COM ENCARGOS COMPLEMENTARES | F11: H | G11: 4.1278 | H11: 24.83 | I11: 102.49 | K11: =Tabela1[[#This Row],[VALOR UNIT]]*H10 -> 1258.5772 | L11: 0 | M11: =L11*(1+$G$5) -> 0
B12: COMPOSIÇÃO | C12: 88309 | D12: SINAPI | E12: PEDREIRO COM ENCARGOS COMPLEMENTARES | F12: H | G12: 0.6658 | H12: 29.88 | I12: 19.89 | K12: =Tabela1[[#This Row],[VALOR UNIT]]*H10 -> 244.2492 | L12: 0 | M12: =L12*(1+$G$5) -> 0
B13: 98524 | D13: SINAPI | E13: LIMPEZA MANUAL DE VEGETAÇÃO EM TERRENO COM ENXADA. AF_03/2024 | F13: M2 | H13: 101.87 | I13: 5.29 | K13: =Tabela1[[#This Row],[Coluna1]]*H12 -> 0 | L13: =H13*I13 -> 538.8923 | M13: =L13*(1+$G$5) -> 671.08068
B14: COMPOSIÇÃO | C14: 88316 | D14: SINAPI | E14: SERVENTE COM ENCARGOS COMPLEMENTARES | F14: H | H14: 24.83 | I14: 5.29 | K14: =Tabela1[[#This Row],[VALOR UNIT]]*H13 -> 538.8923 | L14: 0 | M14: =L14*(1+$G$5) -> 0
A15: 2 | B15: Fundação | J15: =SUM(J16:J29) -> 4928.888 | K15: =SUM(K16:K29) -> 1448.52 | L15: =(L16+L24) -> 6377.408 | M15: =L15*(1+$G$5) -> 7941.7637
B16: 94965 | D16: SINAPI | E16: CONCRETO FCK = 25MPA, TRAÇO 1:2,3:2,7 (EM MASSA SECA DE CIMENTO/ AREIA MÉDIA/ BRITA 1) - PREPARO MECÂNICO COM BETONEIRA 400 L. AF_05/2021 | F16: M3 | H16: 4.6 | I16: 572.48 | K16: =Tabela1[[#This Row],[Coluna1]]*H15 -> 0 | L16: =H16*I16 -> 2633.408 | M16: =L16*(1+$G$5) -> 3279.3737
B17: COMPOSICAO | C17: 88831 | D17: SINAPI | E17: BETONEIRA CAPACIDADE NOMINAL DE 400 L, CAPACIDADE DE MISTURA 280 L, MOTOR ELÉTRICO TRIFÁSICO POTÊNCIA DE 2 CV, SEM CARREGADOR - CHI DIURNO. AF_05/2023 | F17: CHI | H17: 0.37 | I17: 0.26 | J17: =Tabela1[[#This Row],[VALOR UNIT]]*H16 -> 1.196 | K17: =Tabela1[[#This Row],[Coluna1]]*H16 -> 0 | L17: =H17*I17 -> 0.0962 | M17: =L17*(1+$G$5) -> 0.11979752
B18: COMPOSICAO | C18: 88830 | D18: SINAPI | E18: BETONEIRA CAPACIDADE NOMINAL DE 400 L, CAPACIDADE DE MISTURA 280 L, MOTOR ELÉTRICO TRIFÁSICO POTÊNCIA DE 2 CV, SEM CARREGADOR - CHP DIURNO. AF_05/2023 | F18: CHP | H18: 1.98 | I18: 1.49 | J18: =Tabela1[[#This Row],[VALOR UNIT]]*H16 -> 6.854 | K18: =Tabela1[[#This Row],[Coluna1]]*H17 -> 0 | L18: =H18*I18 -> 2.9502 | M18: =L18*(1+$G$5) -> 3.6738737
B19: COMPOSICAO | C19: 88377 | D19: SINAPI | E19: OPERADOR DE BETONEIRA ESTACIONÁRIA/MISTURADOR COM ENCARGOS COMPLEMENTARES | F19: H | H19: 33.35 | I19: 48.81 | K19: =Tabela1[[#This Row],[VALOR UNIT]]*H16 -> 224.526 | L19: =H19*I19 -> 1627.8135 | M19: =L19*(1+$G$5) -> 2027.1104
B20: COMPOSICAO | C20: 88316 | D20: SINAPI | E20: SERVENTE COM ENCARGOS COMPLEMENTARES | F20: H | H20: 24.83 | I20: 57.39 | K20: =Tabela1[[#This Row],[VALOR UNIT]]*H16 -> 263.994 | L20: =H20*I20 -> 1424.9937 | M20: =L20*(1+$G$5) -> 1774.5396
B21: INSUMO | C21: 4721 | D21: SINAPI | E21: PEDRA BRITADA N. 1 (9,5 A 19 MM) POSTO PEDREIRA/FORNECEDOR, SEM FRETE | F21: M3 | H21: 98.75 | I21: 58.59 | J21: =Tabela1[[#This Row],[VALOR UNIT]]*H16 -> 269.514 | K21: =Tabela1[[#This Row],[Coluna1]]*H20 -> 0 | L21: =H21*I21 -> 5785.7625 | M21: =L21*(1+$G$5) -> 7204.9896
B22: INSUMO | C22: 1379 | D22: SINAPI | E22: CIMENTO PORTLAND COMPOSTO CP II-32 | F22: KG | H22: 0.93 | I22: 337.27 | J22: =Tabela1[[#This Row],[VALOR UNIT]]*H16 -> 1551.442 | K22: =Tabela1[[#This Row],[Coluna1]]*H21 -> 0 | L22: =H22*I22 -> 313.6611 | M22: =L22*(1+$G$5) -> 390.60106
B23: INSUMO | C23: 370 | D23: SINAPI | E23: AREIA MEDIA - POSTO JAZIDA/FORNECEDOR (RETIRADO NA JAZIDA, SEM TRANSPORTE) | F23: M3 | H23: 95 | I23: 68.67 | J23: =Tabela1[[#This Row],[VALOR UNIT]]*H16 -> 315.882 | K23: =Tabela1[[#This Row],[Coluna1]]*H22 -> 0 | L23: =H23*I23 -> 6523.65 | M23: =L23*(1+$G$5) -> 8123.8783
B24: 104919 | D24: SINAPI | E24: ARMAÇÃO DE SAPATA ISOLADA, VIGA BALDRAME E SAPATA CORRIDA UTILIZANDO AÇO CA-50 DE 10 MM - MONTAGEM. AF_01/2024 | F24: KG | H24: 300 | I24: 12.48 | J24: 0 | K24: =Tabela1[[#This Row],[Coluna1]]*H23 -> 0 | L24: =H24*I24 -> 3744 | M24: =L24*(1+$G$5) -> 4662.39
B25: COMPOSICAO | C25: 92803 | D25: SINAPI | E25: CORTE E DOBRA DE AÇO CA-50, DIÂMETRO DE 10,0 MM. AF_06/2022 | F25: KG | H25: 8.71 | I25: 8.71 | J25: =Tabela1[[#This Row],[VALOR UNIT]]*H24 -> 2613 | K25: =Tabela1[[#This Row],[Coluna1]]*H24 -> 0 | L25: 0 | M25: =L25*(1+$G$5) -> 0
B26: COMPOSICAO | C26: 88245 | D26: SINAPI | E26: ARMADOR COM ENCARGOS COMPLEMENTARES | F26: H | H26: 29.66 | I26: 2.4 | K26: =Tabela1[[#This Row],[VALOR UNIT]]*H24 -> 720 | L26: 0 | M26: =L26*(1+$G$5) -> 0
B27: COMPOSICAO | C27: 88238 | D27: SINAPI | E27: AJUDANTE DE ARMADOR COM ENCARGOS COMPLEMENTARES | F27: H | H27: 26.1 | I27: 0.8 | K27: =Tabela1[[#This Row],[VALOR UNIT]]*H24 -> 240 | L27: 0 | M27: =L27*(1+$G$5) -> 0
B28: INSUMO | C28: 43132 | D28: SINAPI | E28: ARAME RECOZIDO 16 BWG, D = 1,65 MM (0,016 KG/M) OU 18 BWG, D = 1,25 MM (0,01 KG/M) | F28: KG | H28: 20.99 | I28: 0.52 | J28: =Tabela1[[#This Row],[VALOR UNIT]]*H24 -> 156 | K28: =Tabela1[[#This Row],[Coluna1]]*H27 -> 0 | L28: 0 | M28: =L28*(1+$G$5) -> 0
B29: INSUMO | C29: 39017 | D29: SINAPI | E29: ESPACADOR / DISTANCIADOR CIRCULAR COM ENTRADA LATERAL, EM PLASTICO, PARA VERGALHAO *4,2 A 12,5* MM, COBRIMENTO 20 MM | F29: UN | H29: 0.14 | I29: 0.05 | J29: =Tabela1[[#This Row],[VALOR UNIT]]*H24 -> 15 | K29: =Tabela1[[#This Row],[Coluna1]]*H28 -> 0 | L29: 0 | M29: =L29*(1+$G$5) -> 0
A30: 3 | B30: Estrutura | J30: =SUM(J31:J52) -> 15267.313 | K30: =SUM(K31:K52) -> 4624.5307 | L30: =SUM(L31+L39+L45) -> 19891.844 | M30: =L30*(1+$G$5) -> 24771.243
B31: 92269 | D31: SINAPI | E31: FABRICAÇÃO DE FÔRMA PARA PILARES E ESTRUTURAS SIMILARES, EM MADEIRA SERRADA, E=25 MM. AF_09/2020 | F31: M2 | H31: 61.47 | I31: 121.47 | K31: =Tabela1[[#This Row],[Coluna1]]*H30 -> 0 | L31: =H31*I31 -> 7466.7609 | M31: =L31*(1+$G$5) -> 9298.331
B32: COMPOSICAO | C32: 91693 | D32: SINAPI | E32: SERRA CIRCULAR DE BANCADA COM MOTOR ELÉTRICO POTÊNCIA DE 5HP, COM COIFA PARA DISCO 10" - CHI DIURNO. AF_08/2015 | F32: CHI | H32: 38.45 | I32: 7.72 | J32: =Tabela1[[#This Row],[VALOR UNIT]]*H31 -> 474.5484 | K32: =Tabela1[[#This Row],[Coluna1]]*H31 -> 0 | L32: 0 | M32: =L32*(1+$G$5) -> 0
B33: COMPOSICAO | C33: 91692 | D33: SINAPI | E33: SERRA CIRCULAR DE BANCADA COM MOTOR ELÉTRICO POTÊNCIA DE 5HP, COM COIFA PARA DISCO 10" - CHP DIURNO. AF_08/2015 | F33: CHP | H33: 39.93 | I33: 1.99 | J33: =Tabela1[[#This Row],[VALOR UNIT]]*H31 -> 122.3253 | K33: =Tabela1[[#This Row],[Coluna1]]*H32 -> 0 | L33: 0 | M33: =L33*(1+$G$5) -> 0
B34: COMPOSICAO | C34: 88262 | D34: SINAPI | E34: CARPINTEIRO DE FORMAS COM ENCARGOS COMPLEMENTARES | F34: H | H34: 29.23 | I34: 17.74 | K34: =Tabela1[[#This Row],[VALOR UNIT]]*H31 -> 1090.4778 | L34: 0 | M34: =L34*(1+$G$5) -> 0
B35: COMPOSICAO | C35: 88239 | D35: SINAPI | E35: AJUDANTE DE CARPINTEIRO COM ENCARGOS COMPLEMENTARES | F35: H | H35: 25.73 | I35: 3.67 | K35: =Tabela1[[#This Row],[VALOR UNIT]]*H31 -> 225.5949 | L35: 0 | M35: =L35*(1+$G$5) -> 0
B36: INSUMO | C36: 6212 | D36: SINAPI | E36: TABUA *2,5 X 30 CM EM PINUS, MISTA OU EQUIVALENTE DA REGIAO - BRUTA | F36: M | H36: 11.93 | I36: 77.9 | J36: =Tabela1[[#This Row],[VALOR UNIT]]*H31 -> 4788.513 | K36: =Tabela1[[#This Row],[Coluna1]]*H35 -> 0 | L36: 0 | M36: =L36*(1+$G$5) -> 0
B37: INSUMO | C37: 5068 | D37: SINAPI | E37: PREGO DE ACO POLIDO COM CABECA 17 X 21 (2 X 11) | F37: KG | H37: 15.54 | I37: 1.33 | J37: =Tabela1[[#This Row],[VALOR UNIT]]*H31 -> 81.7551 | K37: =Tabela1[[#This Row],[Coluna1]]*H36 -> 0 | L37: 0 | M37: =L37*(1+$G$5) -> 0
B38: INSUMO | C38: 4517 | D38: SINAPI | E38: SARRAFO *2,5 X 7,5* CM EM PINUS, MISTA OU EQUIVALENTE DA REGIAO - BRUTA | F38: M | H38: 2.51 | I38: 11.12 | J38: =Tabela1[[#This Row],[VALOR UNIT]]*H31 -> 683.5464 | K38: =Tabela1[[#This Row],[Coluna1]]*H37 -> 0 | L38: 0 | M38: =L38*(1+$G$5) -> 0
B39: 96546 | D39: SINAPI | E39: ARMAÇÃO DE BLOCO UTILIZANDO AÇO CA-50 DE 10 MM - MONTAGEM. AF_01/2024 | F39: KG | H39: 500 | I39: 13.87 | K39: =Tabela1[[#This Row],[Coluna1]]*H38 -> 0 | L39: =H39*I39 -> 6935 | M39: =L39*(1+$G$5) -> 8636.131
B40: COMPOSICAO | C40: 92803 | D40: SINAPI | E40: CORTE E DOBRA DE AÇO CA-50, DIÂMETRO DE 10,0 MM. AF_06/2022 | F40: KG | H40: 8.71 | I40: 8.71 | J40: =Tabela1[[#This Row],[VALOR UNIT]]*H39 -> 4355 | K40: =Tabela1[[#This Row],[Coluna1]]*H39 -> 0 | L40: 0 | M40: =L40*(1+$G$5) -> 0
B41: COMPOSICAO | C41: 88245 | D41: SINAPI | E41: ARMADOR COM ENCARGOS COMPLEMENTARES | F41: H | H41: 29.66 | I41: 3.44 | K41: =Tabela1[[#This Row],[VALOR UNIT]]*H39 -> 1720 | L41: 0 | M41: =L41*(1+$G$5) -> 0
B42: COMPOSICAO | C42: 88238 | D42: SINAPI | E42: AJUDANTE DE ARMADOR COM ENCARGOS COMPLEMENTARES | F42: H | H42: 26.1 | I42: 1.14 | K42: =Tabela1[[#This Row],[VALOR UNIT]]*H39 -> 570 | L42: 0 | M42: =L42*(1+$G$5) -> 0
B43: INSUMO | C43: 43132 | D43: SINAPI | E43: ARAME RECOZIDO 16 BWG, D = 1,65 MM (0,016 KG/M) OU 18 BWG, D = 1,25 MM (0,01 KG/M) | F43: KG | H43: 20.99 | I43: 0.52 | J43: =Tabela1[[#This Row],[VALOR UNIT]]*H39 -> 260 | K43: =Tabela1[[#This Row],[Coluna1]]*H42 -> 0 | L43: 0 | M43: =L43*(1+$G$5) -> 0
B44: INSUMO | C44: 39017 | D44: SINAPI | E44: ESPACADOR / DISTANCIADOR CIRCULAR COM ENTRADA LATERAL, EM PLASTICO, PARA VERGALHAO *4,2 A 12,5* MM, COBRIMENTO 20 MM | F44: UN | H44: 0.14 | I44: 0.06 | J44: =Tabela1[[#This Row],[VALOR UNIT]]*H39 -> 30 | K44: =Tabela1[[#This Row],[Coluna1]]*H43 -> 0 | L44: 0 | M44: =L44*(1+$G$5) -> 0
...

Sheet BDI
A1: CALCULADORA DE BDI — Fórmula do Acórdão TCU nº 2.622/2013
A2: BDI = [(1+AC+S+G+R) x (1+DF) x (1+L) / (1-I)] - 1 Esse percentual é usado na aba 'Planilha2' (célula G5) e aplicado sobre o custo direto (coluna TOTAL) para gerar a coluna TOTAL COM BDI.
A4: Componente | B4: Sigla | C4: Valor adotado | D4: Faixa de referência (edificações)*
A5: Administração Central | B5: AC | C5: 0.0467 | D5: 3,00% a 6,60%
A6: Seguro | B6: S | C6: 0.005 | D6: incluído na faixa Seguro+Garantia
A7: Garantia | B7: G | C7: 0.005 | D7: 0,80% a 1,00% (S+G)
A8: Risco | B8: R | C8: 0.0097 | D8: 0,97% a 1,27%
A9: Despesas Financeiras | B9: DF | C9: 0.0121 | D9: 0,59% a 1,39%
A10: Lucro | B10: L | C10: 0.0713 | D10: 6,16% a 8,96%
A12: Tributos (I)
A13: PIS | C13: 0.0065 | D13: alíquota federal fixa
A14: COFINS | C14: 0.03 | D14: alíquota federal fixa
A15: ISS | C15: 0.035 | D15: obra em Candiota/RS - alíquota de ISS para construção civil de 3,50% (confirme na prefeitura)
A16: CPRB (desoneração) | C16: 0 | D16: 0% pois os Encargos da planilha estão como 'Não desonerado'
A17: I = soma dos tributos | C17: =SUM(C13:C16) -> 0.0715
A19: BDI | C19: =((1+C5+C6+C7+C8)*(1+C9)*(1+C10)/(1-C17))-1 -> 0.24529647
A21: * Faixas de referência segundo o Acórdão TCU nº 2.622/2013 (mín-máx para obras de edificações). Os valores em azul são exemplos dentro dessas faixas — ajuste AC, S, G, R, DF e L conforme os custos reais da sua empresa, e confirme o ISS junto à prefeitura antes de fechar o orçamento.
A22: Lembrete: IRPJ e CSLL NÃO entram no BDI (vedado pelo TCU - são tributos sobre o lucro da empresa, não sobre o faturamento da obra).

Sheet Quadro BDI
A1: Quadro de Composição do BDI | D1: Grau de Sigilo #PÚBLICO
A2: Nº OPERAÇÃO | C2: Nº TRANSFEREGOV | D2: PROPONENTE / TOMADOR
D3: PREFEITURA MUNICIPAL DE CANDIOTA
A4: APELIDO DO EMPREENDIMENTO / DESCRIÇÃO DO LOTE
A5: GINÁSIO ESCOLA NELI BETEMPS
A6: Conforme legislação tributária municipal, definir estimativa de percentual da base de cálculo para o ISS: | D6: 1
A7: Sobre a base de cálculo, definir a respectiva alíquota do ISS (entre 2% e 5%): | D7: =BDI!C15 -> 0.035
A8: BDI 1
A9: TIPO DE OBRA
A10: Construção de Edificações em Geral (escolas, postos de saúde, ginásios e similares)
A11: Itens | C11: Siglas | D11: % Adotado
A12: Administração Central | C12: AC | D12: =BDI!C5 -> 0.0467
A13: Seguro e Garantia | C13: SG | D13: =BDI!C6+BDI!C7 -> 0.01
A14: Risco | C14: R | D14: =BDI!C8 -> 0.0097
A15: Despesas Financeiras | C15: DF | D15: =BDI!C9 -> 0.0121
A16: Lucro | C16: L | D16: =BDI!C10 -> 0.0713
A17: Tributos (impostos COFINS 3%, e PIS 0,65%) | C17: CP | D17: =BDI!C13+BDI!C14 -> 0.0365
A18: Tributos (ISS, variável de acordo com o município) | C18: ISS | D18: =BDI!C15 -> 0.035
A19: Tributos (Contribuição Previdenciária sobre a Receita Bruta - Lei 12.546 de 14/12/2011 - Desoneração) | C19: CPRB | D19: =BDI!C16 -> 0
A20: BDI SEM desoneração (Fórmula Acórdão TCU) | C20: BDI PAD | D20: =BDI!C19 -> 0.24529647
A22: Os valores de BDI foram calculados com o emprego da fórmula:
A23: BDI = [ (1+AC+S+R+G) x (1+DF) x (1+L) / (1-CP-ISS-CPRB) ] - 1
A25: Declaro para os devidos fins que, conforme legislação tributária municipal, a base de cálculo deste tipo de obra corresponde a 100%, com a respectiva alíquota de 3,50%.
A26: Declaro para os devidos fins que o regime de Contribuição Previdenciária sobre a Receita Bruta adotado para elaboração do orçamento foi SEM Desoneração, e que esta é a alternativa mais adequada para a Administração Pública.
A28: Observações:
A34: Candiota/RS, ____ de ______________ de 2026.
A36: Responsável Técnico
A37: Nome:
A38: CREA/CAU: | C38: ART/RRT:
A40: Os percentuais em verde (SG, R, DF, L, CP, ISS, CPRB, AC e BDI PAD) vêm automaticamente da aba 'BDI'. Para alterar qualquer valor (AC, S, G, R, DF, L ou ISS), edite a aba 'BDI' - este quadro e a coluna 'TOTAL COM BDI' da aba 'Planilha2' recalculam sozinhos.
