Workbook
Name AbaDeprec: '5. Depreciação'!$A$2
Name AbaRemun: '6.Remuneração de capital'!$A$2

Sheet Orçamento
A1: Orientações para preenchimento:
A2: 1. A planilha será preenchida automaticamente.
A4: MUNICÍPIO DE SANTA CLARA DO SUL
A5: Contadoria
A6: COLETA ORGANICA, COLETA SELETIVA, TRANSPORTE, ARMAZENAMENTO (ESTAÇÃO DE TRANSBORDO), CLASSIFICAÇÃO/SELEÇÃO, TRANSPORTE ATÉ O DESTINO FINAL DE RESÍDUOS SÓLIDOS DOMICILIARES
A7: Planilha de Composição de Custos
A9: Orçamento Sintético
A10: Descrição do Item | E10: Custo (R$/mês) | F10: %
A11: ='1.1.Coleta Organica '!A18 -> 1. Mão-de-obra | E11: =SUM(E12:E18) -> 33876.095 | F11: =E11/$E$49 -> 0.2369116
A12: ='1.1.Coleta Organica '!A19 -> 1.1. Coletor Turno Dia | E12: ='1.1.Coleta Organica '!E19+'1.2. Coleta Seletiva'!E19 -> 8999.2531 | F12: =E12/$E$49 -> 0.062936045
A13: ='1.1.Coleta Organica '!A20 -> 1.2. Motorista Turno do Dia | E13: ='1.1.Coleta Organica '!E20+'1.2. Coleta Seletiva'!E20+'1.5.Destino final'!E20 -> 6631.686 | F13: =E13/$E$49 -> 0.046378526
A14: ='1.4 Central de Triagem'!A12 -> 1.3. Reciclador Turno do Dia | E14: ='1.4 Central de Triagem'!E12 -> 8924.5225 | F14: =E14/$E$49 -> 0.062413419
A15: ='1.4 Central de Triagem'!A13 -> 1.4. Operador Turno do Dia | E15: ='1.4 Central de Triagem'!E13 -> 4988.908 | F15: =E15/$E$49 -> 0.0348898
A16: ='1.1.Coleta Organica '!A21 -> 1.5. Vale Transporte | E16: ='1.1.Coleta Organica '!E21+'1.2. Coleta Seletiva'!E21+'1.4 Central de Triagem'!E14+'1.5.Destino final'!E21 -> 543.88498 | F16: =E16/$E$49 -> 0.0038036457
A17: ='1.1.Coleta Organica '!A22 -> 1.6. Vale-refeição (diário) | E17: ='1.1.Coleta Organica '!E22+'1.2. Coleta Seletiva'!E22+'1.4 Central de Triagem'!E15+'1.5.Destino final'!E22 -> 893 | F17: =E17/$E$49 -> 0.0062451725
A18: ='1.1.Coleta Organica '!A23 -> 1.7. Auxílio Alimentação (mensal) | E18: ='1.1.Coleta Organica '!E23+'1.2. Coleta Seletiva'!E23+'1.4 Central de Triagem'!E16+'1.5.Destino final'!E23 -> 2894.8409 | F18: =E18/$E$49 -> 0.020244995
A19: ='1.1.Coleta Organica '!A24:C24 -> 2. Uniformes e Equipamentos de Proteção Individual | E19: ='1.1.Coleta Organica '!E24+'1.2. Coleta Seletiva'!E24+'1.4 Central de Triagem'!E17+'1.5.Destino final'!E24 -> 1368.265 | F19: =E19/$E$49 -> 0.0095689259
A20: ='1.1.Coleta Organica '!A25:C25 -> 3. Veículos e Equipamentos | E20: =E21+E28+E31+E38 -> 63428.096 | F20: =E20/$E$49 -> 0.44358276
A21: ='1.1.Coleta Organica '!A26 -> 3.1. Veículo Coletor Compactador 15 m³(mínimo) | E21: =SUM(E22:E27) -> 37917.418 | F21: =E21/$E$49 -> 0.26517449
A22: ='1.1.Coleta Organica '!A27 -> 3.1.1. Depreciação | E22: ='1.1.Coleta Organica '!E27+'1.2. Coleta Seletiva'!E27 -> 3410.1904 | F22: =E22/$E$49 -> 0.023849079
A23: ='1.1.Coleta Organica '!A28 -> 3.1.2. Remuneração do Capital | E23: ='1.1.Coleta Organica '!E28+'1.2. Coleta Seletiva'!E28 -> 5176.3217 | F23: =E23/$E$49 -> 0.036200473
A24: ='1.1.Coleta Organica '!A29 -> 3.1.3. Impostos e Seguros | E24: ='1.1.Coleta Organica '!E29+'1.2. Coleta Seletiva'!E29 -> 1554.6233 | F24: =E24/$E$49 -> 0.010872218
A25: ='1.1.Coleta Organica '!A30 -> 3.1.4. Consumos | E25: ='1.1.Coleta Organica '!E30+'1.2. Coleta Seletiva'!E30 -> 21005.463 | F25: =E25/$E$49 -> 0.14690117
A26: ='1.1.Coleta Organica '!A31 -> 3.1.5. Manutenção | E26: ='1.1.Coleta Organica '!E31+'1.2. Coleta Seletiva'!E31 -> 4874.988 | F26: =E26/$E$49 -> 0.034093103
A27: ='1.1.Coleta Organica '!A32 -> 3.1.6. Pneus | E27: ='1.1.Coleta Organica '!E32+'1.2. Coleta Seletiva'!E32 -> 1895.8319 | F27: =E27/$E$49 -> 0.013258451
A28: ='1.3.Estação de transbordo'!A13 -> 3.2. Estacão de transbordo | E28: =SUM(E29:E30) -> 957.34683 | F28: =E28/$E$49 -> 0.0066951805
A29: ='1.3.Estação de transbordo'!A14 -> 3.2.1. Depreciação | E29: ='1.3.Estação de transbordo'!E14 -> 380.21667 | F29: =E29/$E$49 -> 0.0026590355
A30: ='1.3.Estação de transbordo'!A15 -> 3.2.2. Remuneração do Capital | E30: ='1.3.Estação de transbordo'!E15 -> 577.13017 | F30: =E30/$E$49 -> 0.004036145
A31: ='1.4 Central de Triagem'!A19 -> 3.3. Retroescavadeira | E31: =SUM(E32:E37) -> 8726.165 | F31: =E31/$E$49 -> 0.061026211
A32: ='1.4 Central de Triagem'!A20 -> 3.3.1. Depreciação | E32: ='1.4 Central de Triagem'!E20 -> 2064.0333 | F32: =E32/$E$49 -> 0.014434764
A33: ='1.4 Central de Triagem'!A21 -> 3.3.2. Remuneração do Capital | E33: ='1.4 Central de Triagem'!E21 -> 4433.3333 | F33: =E33/$E$49 -> 0.031004403
A34: ='1.4 Central de Triagem'!A22 -> 3.3.3. Impostos e Seguros | E34: ='1.4 Central de Triagem'!E22 -> 333.33333 | F34: =E34/$E$49 -> 0.0023311581
A35: ='1.4 Central de Triagem'!A23 -> 3.3.4. Consumos | E35: ='1.4 Central de Triagem'!E23 -> 1299.815 | F35: =E35/$E$49 -> 0.0090902228
A36: ='1.4 Central de Triagem'!A24 -> 3.3.5. Manutenção | E36: ='1.4 Central de Triagem'!E24 -> 268.4 | F36: =E36/$E$49 -> 0.0018770485
A37: ='1.4 Central de Triagem'!A25 -> 3.3.6. Pneus | E37: ='1.4 Central de Triagem'!E25 -> 327.25 | F37: =E37/$E$49 -> 0.0022886145
A38: ='1.5.Destino final'!A26 -> 3.4. Conjunto com Romeu e Julieta tipo "roll -on" e containers para destino final | E38: =SUM(E39:E44) -> 15827.166 | F38: =E38/$E$49 -> 0.11068688
A39: ='1.5.Destino final'!A27 -> 3.4.1. Depreciação | E39: ='1.5.Destino final'!E27 -> 1582.2173 | F39: =E39/$E$49 -> 0.011065196
A40: ='1.5.Destino final'!A28 -> 3.4.2. Remuneração do Capital | E40: ='1.5.Destino final'!E28 -> 2401.6447 | F40: =E40/$E$49 -> 0.016795841
A41: ='1.5.Destino final'!A29 -> 3.4.3. Impostos e Seguros | E41: ='1.5.Destino final'!E29 -> 772.86242 | F41: =E41/$E$49 -> 0.0054049934
A42: ='1.5.Destino final'!A30 -> 3.4.4. Consumos | E42: ='1.5.Destino final'!E30 -> 8163.3462 | F42: =E42/$E$49 -> 0.057090152
...

Sheet Cronograma
A1: CRONOGRAMA FÍSICO - FINANCEIRO
A3: MUNICÍPIO DE SANTA CLARA DO SUL
A4: =Orçamento!A6 -> COLETA ORGANICA, COLETA SELETIVA, TRANSPORTE, ARMAZENAMENTO (ESTAÇÃO DE TRANSBORDO), CLASSIFICAÇÃO/SELEÇÃO, TRANSPORTE ATÉ O DESTINO FINAL DE RESÍDUOS SÓLIDOS DOMICILIARES
A5: SANTA CLARA DO SUL - RS
A6: ÍTEM | B6: FASE | C6: VALOR ORÇADO | D6: INCID. | E6: REALIZAÇÃO MENSAL
C7: ( R$ ) | D7: ( % ) | E7: 1º MÊS | F7: 2º MÊS | G7: 3º MÊS | H7: 4º MÊS | I7: 5º MÊS | J7: 6º MÊS | K7: 7º MÊS | L7: 8º MÊS | M7: 9º MÊS | N7: 10º MÊS | O7: 11º MÊS | P7: 12º MÊS
A8: 1 | B8: =Orçamento!A11 -> 1. Mão-de-obra | C8: =E8*12 -> 406513.15 | D8: =C8/$C$15 -> 0.2369116 | E8: =Orçamento!E11 -> 33876.095 | F8: =E8 -> 33876.095 | G8: =E8 -> 33876.095 | H8: =E8 -> 33876.095 | I8: =E8 -> 33876.095 | J8: =E8 -> 33876.095 | K8: =E8 -> 33876.095 | L8: =E8 -> 33876.095 | M8: =E8 -> 33876.095 | N8: =E8 -> 33876.095 | O8: =E8 -> 33876.095 | P8: =E8 -> 33876.095
A9: 2 | B9: =Orçamento!A19 -> 2. Uniformes e Equipamentos de Proteção Individual | C9: =E9*12 -> 16419.18 | D9: =C9/$C$15 -> 0.0095689259 | E9: =Orçamento!E19 -> 1368.265 | F9: =E9 -> 1368.265 | G9: =E9 -> 1368.265 | H9: =E9 -> 1368.265 | I9: =E9 -> 1368.265 | J9: =E9 -> 1368.265 | K9: =E9 -> 1368.265 | L9: =E9 -> 1368.265 | M9: =E9 -> 1368.265 | N9: =E9 -> 1368.265 | O9: =E9 -> 1368.265 | P9: =E9 -> 1368.265
A10: 3 | B10: =Orçamento!A20 -> 3. Veículos e Equipamentos | C10: =E10*12 -> 761137.15 | D10: =C10/$C$15 -> 0.44358276 | E10: =Orçamento!E20 -> 63428.096 | F10: =E10 -> 63428.096 | G10: =E10 -> 63428.096 | H10: =E10 -> 63428.096 | I10: =E10 -> 63428.096 | J10: =E10 -> 63428.096 | K10: =E10 -> 63428.096 | L10: =E10 -> 63428.096 | M10: =E10 -> 63428.096 | N10: =E10 -> 63428.096 | O10: =E10 -> 63428.096 | P10: =E10 -> 63428.096
A11: 4 | B11: =Orçamento!A45 -> 4. Ferramentas e Materiais de Consumo | C11: =E11*12 -> 946.53803 | D11: =C11/$C$15 -> 0.00055163245 | E11: =Orçamento!E45 -> 78.878169 | F11: =E11 -> 78.878169 | G11: =E11 -> 78.878169 | H11: =E11 -> 78.878169 | I11: =E11 -> 78.878169 | J11: =E11 -> 78.878169 | K11: =E11 -> 78.878169 | L11: =E11 -> 78.878169 | M11: =E11 -> 78.878169 | N11: =E11 -> 78.878169 | O11: =E11 -> 78.878169 | P11: =E11 -> 78.878169
A12: 5 | B12: =Orçamento!A46 -> 5. Monitoramento da Frota | C12: =E12*12 -> 2907.1686 | D12: =C12/$C$15 -> 0.0016942674 | E12: =Orçamento!E46 -> 242.26405 | F12: =E12 -> 242.26405 | G12: =E12 -> 242.26405 | H12: =E12 -> 242.26405 | I12: =E12 -> 242.26405 | J12: =E12 -> 242.26405 | K12: =E12 -> 242.26405 | L12: =E12 -> 242.26405 | M12: =E12 -> 242.26405 | N12: =E12 -> 242.26405 | O12: =E12 -> 242.26405 | P12: =E12 -> 242.26405
A13: 6 | B13: =Orçamento!A47 -> 6. Deposição no Aterro | C13: =E13*12 -> 214825.6 | D13: =C13/$C$15 -> 0.12519811 | E13: =Orçamento!E47 -> 17902.133 | F13: =E13 -> 17902.133 | G13: =E13 -> 17902.133 | H13: =E13 -> 17902.133 | I13: =E13 -> 17902.133 | J13: =E13 -> 17902.133 | K13: =E13 -> 17902.133 | L13: =E13 -> 17902.133 | M13: =E13 -> 17902.133 | N13: =E13 -> 17902.133 | O13: =E13 -> 17902.133 | P13: =E13 -> 17902.133
A14: 7 | B14: =Orçamento!A48 -> 7. Benefícios e Despesas Indiretas - BDI | C14: =E14*12 -> 313136.55 | D14: =C14/$C$15 -> 0.1824927 | E14: =Orçamento!E48 -> 26094.713 | F14: =E14 -> 26094.713 | G14: =E14 -> 26094.713 | H14: =E14 -> 26094.713 | I14: =E14 -> 26094.713 | J14: =E14 -> 26094.713 | K14: =E14 -> 26094.713 | L14: =E14 -> 26094.713 | M14: =E14 -> 26094.713 | N14: =E14 -> 26094.713 | O14: =E14 -> 26094.713 | P14: =E14 -> 26094.713
B15: =[1]Orçamento!A73 -> TOTAL GERAL DO ORÇAMENTO: | C15: =SUM(C8:C14) -> 1715885.3 | D15: =SUM(D8:D14) -> 1 | E15: =SUM(E8:E14) -> 142990.44 | F15: =SUM(F8:F14) -> 142990.44 | G15: =SUM(G8:G14) -> 142990.44 | H15: =SUM(H8:H14) -> 142990.44 | I15: =SUM(I8:I14) -> 142990.44 | J15: =SUM(J8:J14) -> 142990.44 | ... P15: =SUM(P8:P14) -> 142990.44

Sheet 1.1.Coleta Organica 
A1: Orientações para preenchimento:
A2: 1. Preencher somente células em amarelo
A3: 2. As células azuis deverão ter seus valores preenchidos em outra planilha do arquivo.
A4: MUNICÍPIO DE SANTA CLARA DO SUL
A5: Contadoria
A6: 1.1. Coleta Organica
A7: Planilha de Composição de Custos
A8: A. Para o cálculo foi considerado que, para cada zona de recolhimento, o caminhão partiria do ponto inicial localizado junto ao acesso principal de Santa Clara do Sul, realizaria a rota de coleta e retornaria ao ponto de partida.
A9: B. A distância para o transporte foi considerada a média de três estações de transbordo conforme Projeto Básico.
A10: Distância Média da Estação: | B10: 76,23 km
A11: DMT LOCAL: | B11: 76,23 km
A12: C. Coleta Organica : 1 x 42 km + 1 x 70 + 1x 52,6 x 4 semanas = 658,4 km/mês
A13: D. Deslocamento Coleta Organica : 4 X 2 viagem (ida e volta de 76,23 Km) = 609,84 km x 4 semanas = 2.439,36 km/mês
A14: E. Coleta Organica 658,4 km + Deslocamento Coleta Organica 2.439,36 km = 3.097,76 km/mês
A16: Orçamento Sintético
A17: Descrição do Item | E17: Custo (R$/mês) | F17: %
A18: =A51 -> 1. Mão-de-obra | E18: =SUM(E19:E23) -> 8264.4133 | F18: =IFERROR(E18/$E$36,0) -> 0.22704811
A19: =A53 -> 1.1. Coletor Turno Dia | E19: =F63 -> 4552.2674 | F19: =IFERROR(E19/$E$36,0) -> 0.12506438
A20: =A65 -> 1.2. Motorista Turno do Dia | E20: =F75 -> 2564.2773 | F20: =IFERROR(E20/$E$36,0) -> 0.070448354
A21: =A77 -> 1.5. Vale Transporte | E21: =F83 -> 155.83514 | F21: =IFERROR(E21/$E$36,0) -> 0.0042812566
A22: =A85 -> 1.6. Vale-refeição (diário) | E22: =F90 -> 282 | F22: =IFERROR(E22/$E$36,0) -> 0.007747382
A23: =A92 -> 1.7. Auxílio Alimentação (mensal) | E23: =F96 -> 710.03352 | F23: =IFERROR(E23/$E$36,0) -> 0.019506741
A24: =A100 -> 2. Uniformes e Equipamentos de Proteção Individual | E24: =+F132 -> 333.14664 | F24: =IFERROR(E24/$E$36,0) -> 0.009152533
A25: =A134 -> 3. Veículos e Equipamentos | E25: =F211 -> 20132.513 | F25: =IFERROR(E25/$E$36,0) -> 0.55310026
A26: =A136 -> 3.1. Veículo Coletor Compactador 15 m³(mínimo) | E26: =SUM(E27:E32) -> 20132.513 | F26: =IFERROR(E26/$E$36,0) -> 0.55310026
A27: =A138 -> 3.1.1. Depreciação | E27: =F152 -> 1725.043 | F27: =IFERROR(E27/$E$36,0) -> 0.047392082
A28: =A154 -> 3.1.2. Remuneração do Capital | E28: =F168 -> 2618.4396 | F28: =IFERROR(E28/$E$36,0) -> 0.071936353
A29: =A170 -> 3.1.3. Impostos e Seguros | E29: =F176 -> 786.40536 | F29: =IFERROR(E29/$E$36,0) -> 0.021604903
A30: =A178 -> 3.1.4. Consumos | E30: =F194 -> 11345.546 | F30: =IFERROR(E30/$E$36,0) -> 0.31169602
A31: =A196 -> 3.1.5. Manutenção | E31: =F199 -> 2633.096 | F31: =IFERROR(E31/$E$36,0) -> 0.072339009
A32: =A201 -> 3.1.6. Pneus | E32: =F208 -> 1023.9835 | F32: =IFERROR(E32/$E$36,0) -> 0.028131884
A33: =A213 -> 4. Ferramentas e Materiais de Consumo | E33: =F221 -> 23.505833 | F33: =IFERROR(E33/$E$36,0) -> 0.00064577543
A34: =A223 -> 5. Monitoramento da Frota | E34: =F232 -> 52.5245 | F34: =IFERROR(E34/$E$36,0) -> 0.0014430048
A35: =A236 -> 6. Benefícios e Despesas Indiretas - BDI | E35: =F242 -> 7593.2889 | F35: =IFERROR(E35/$E$36,0) -> 0.20861032
A36: PREÇO TOTAL MENSAL COM A COLETA | E36: =E18+E24+E25+E33+E34+E35 -> 36399.393 | F36: =F18+F24+F25+F33+F34+F35 -> 1
A39: Quantitativos
A40: Mão-de-obra | E40: Quantidade
A41: =+A53 -> 1.1. Coletor Turno Dia | E41: =C62 -> 2
A42: =+A65 -> 1.2. Motorista Turno do Dia | E42: =C74 -> 1
A43: Total de mão-de-obra (postos de trabalho) | E43: =SUM(E41:E42) -> 3
...

Sheet 1.2. Coleta Seletiva
A1: Orientações para preenchimento:
A2: 1. Preencher somente células em amarelo
A3: 2. As células azuis deverão ter seus valores preenchidos em outra planilha do arquivo.
A4: MUNICÍPIO DE SANTA CLARA DO SUL
A5: Contadoria
A6: 1.2. Coleta seletiva
A7: Planilha de Composição de Custos
A8: A. Para o cálculo foi considerado que, para cada zona de recolhimento, o caminhão partiria do ponto inicial localizado junto ao acesso principal de Santa Clara do Sul, realizaria a rota de coleta e retornaria ao ponto de partida.
A9: B. A distância para o transporte foi considerada a média de três estações de transbordo conforme Projeto Básico.
A10: Distância Média da Estação: | B10: 76,23 km
A11: DMT LOCAL: | B11: 76,23 km
A12: C. Coleta Seletiva urbana e rural : 1 x 112 km + 1 x 45 + 1x 45 x 4 semanas = 808,00 km/mês
A13: D. Deslocamento Coleta Seletiva : 3 X 2 viagem (ida e volta de 76,23 Km) = 457,38 km x 4 semanas = 1.829,52 km/mês
A14: E. Coleta seletiva 808,00 km + Deslocamento Coleta seletiva 1.829,52 km = 2.637,52 km/mês
A16: Orçamento Sintético
A17: Descrição do Item | E17: Custo (R$/mês) | F17: %
A18: =A51 -> 1. Mão-de-obra | E18: =SUM(E19:E23) -> 8083.4057 | F18: =IFERROR(E18/$E$36,0) -> 0.2435277
A19: =A53 -> 1.1. Coletor Turno Dia | E19: =F63 -> 4446.9857 | F19: =IFERROR(E19/$E$36,0) -> 0.13397375
A20: =A66 -> 1.2. Motorista Turno do Dia | E20: =F76 -> 2504.9725 | F20: =IFERROR(E20/$E$36,0) -> 0.075466975
A21: =A78 -> 1.5. Vale Transporte | E21: =F84 -> 155.83514 | F21: =IFERROR(E21/$E$36,0) -> 0.0046948247
A22: =A86 -> 1.6. Vale-refeição (diário) | E22: =F90 -> 282 | F22: =IFERROR(E22/$E$36,0) -> 0.0084957768
A23: =A92 -> 1.7. Auxílio Alimentação (mensal) | E23: =F96 -> 693.61236 | F23: =IFERROR(E23/$E$36,0) -> 0.020896368
A24: =A100 -> 2. Uniformes e Equipamentos de Proteção Individual | E24: =F132 -> 325.44186 | F24: =IFERROR(E24/$E$36,0) -> 0.009804544
A25: =A134 -> 3. Veículos e Equipamentos | E25: =F211 -> 17784.905 | F25: =IFERROR(E25/$E$36,0) -> 0.53580348
A26: =A136 -> 3.1. Veículo Coletor Compactador 15 m³(mínimo) | E26: =SUM(E27:E32) -> 17784.905 | F26: =IFERROR(E26/$E$36,0) -> 0.53580348
A27: =A138 -> 3.1.1. Depreciação | E27: =F152 -> 1685.1474 | F27: =IFERROR(E27/$E$36,0) -> 0.050768214
A28: =A154 -> 3.1.2. Remuneração do Capital | E28: =F168 -> 2557.8821 | F28: =IFERROR(E28/$E$36,0) -> 0.077060977
A29: =A170 -> 3.1.3. Impostos e Seguros | E29: =F176 -> 768.21793 | F29: =IFERROR(E29/$E$36,0) -> 0.023144
A30: =A178 -> 3.1.4. Consumos | E30: =F194 -> 9659.917 | F30: =IFERROR(E30/$E$36,0) -> 0.29102304
A31: =A196 -> 3.1.5. Manutenção | E31: =F199 -> 2241.892 | F31: =IFERROR(E31/$E$36,0) -> 0.067541184
A32: =A201 -> 3.1.6. Pneus | E32: =F208 -> 871.84836 | F32: =IFERROR(E32/$E$36,0) -> 0.026266061
A33: =A213 -> 4. Ferramentas e Materiais de Consumo | E33: =F221 -> 23.505833 | F33: =IFERROR(E33/$E$36,0) -> 0.00070815714
A34: =A223 -> 5. Monitoramento da Frota | E34: =F232 -> 51.30975 | F34: =IFERROR(E34/$E$36,0) -> 0.0015458021
A35: =A236 -> 6. Benefícios e Despesas Indiretas - BDI | E35: =F242 -> 6924.3945 | F35: =IFERROR(E35/$E$36,0) -> 0.20861032
A36: PREÇO TOTAL MENSAL COM A COLETA | E36: =E18+E24+E25+E33+E34+E35 -> 33192.962 | F36: =F18+F24+F25+F33+F34+F35 -> 1
A39: Quantitativos
A40: Mão-de-obra | E40: Quantidade
A41: =+A53 -> 1.1. Coletor Turno Dia | E41: =C62 -> 2
A42: =+A66 -> 1.2. Motorista Turno do Dia | E42: =C75 -> 1
A43: Total de mão-de-obra (postos de trabalho) | E43: =SUM(E41:E42) -> 3
...

Sheet 1.3.Estação de transbordo
A1: Orientações para preenchimento:
A2: 1. Preencher somente células em amarelo
A3: 2. As células azuis deverão ter seus valores preenchidos em outra planilha do arquivo.
A4: MUNICÍPIO DE SANTA CLARA DO SUL
A5: Contadoria
A6: 1.3. Estaçaõ de Transbordo
A7: Planilha de Composição de Custos
A8: Mão de obra: O motorista envolvido na operação foi considerado junto a coleta Organica e Coleta Seletiva e o tempo estimado para o transporte computado no quadro de freqüências.
A10: 0
A11: Descrição do Item | E11: Custo (R$/mês) | F11: %
A12: =A28 -> 3. Veículos e Equipamentos | E12: =F55 -> 957.34683 | F12: =IFERROR(E12/$E$17,0) -> 0.79138968
A13: =A30 -> 3.2. Estacão de transbordo | E13: =SUM(E14:E15) -> 957.34683 | F13: =IFERROR(E13/$E$17,0) -> 0.79138968
A14: =A32 -> 3.2.1. Depreciação | E14: =F41 -> 380.21667 | F14: =IFERROR(E14/$E$17,0) -> 0.31430568
A15: =A43 -> 3.2.2. Remuneração do Capital | E15: =F52 -> 577.13017 | F15: =IFERROR(E15/$E$17,0) -> 0.477084
A16: =A60 -> 6. Benefícios e Despesas Indiretas - BDI | E16: =+F66 -> 252.35663 | F16: =IFERROR(E16/$E$17,0) -> 0.20861032
A17: PREÇO TOTAL MENSAL COM O TRANSBORDO | E17: =E12+E16 -> 1209.7035 | F17: =F12+F16 -> 1
A20: 3. Veículos e Equipamentos
A22: =+A30 -> 3.2. Estacão de transbordo | E22: =C40 -> 1
A25: Fator de utilização da frota(FUF) | B25: 1 | C25: Considerando 8 horas semanais (8/44)
A28: 3. Veículos e Equipamentos
A30: 3.2. Estacão de transbordo
A32: 3.2.1. Depreciação
A33: Discriminação | B33: Unidade | C33: Quantidade | D33: Custo unitário | E33: Subtotal | F33: Total (R$)
A34: Custo de aquisição do container de no mínimo 32m³ | B34: unidade | C34: 2 | D34: 35000 | E34: =C34*D34 -> 70000
A35: Vida útil do container | B35: anos | C35: 10
A36: Idade do container | B36: anos | C36: 0
A37: Depreciação do container | B37: % | C37: =IFERROR(VLOOKUP(C35,'5. Depreciação'!A4:B18,2,FALSE),0) -> 65.18 | D37: =E34 -> 70000 | E37: =C37*D37/100 -> 45626
A38: Depreciação mensal do container | B38: mês | C38: =C35*12 -> 120 | D38: =IF(C36<=C35,E37,0) -> 45626 | E38: =IFERROR(D38/C38,0) -> 380.21667
A39: Total por unidade | E39: =E38 -> 380.21667
A40: Total da estação de transbordo | B40: unidade | C40: 1 | D40: =E39 -> 380.21667 | E40: =C40*D40 -> 380.21667
A41: =F33 -> Total (R$) | D41: FU | E41: =$B$25 -> 1 | F41: =(E40*E41) -> 380.21667
A43: 3.2.2. Remuneração do Capital
A44: Discriminação | B44: Unidade | C44: Quantidade | D44: Custo unitário | E44: Subtotal | F44: Total (R$)
A45: Custo do container | B45: unidade | C45: 2 | D45: =D34 -> 35000 | E45: =C45*D45 -> 70000
A46: Taxa de juros anual nominal | B46: % | C46: 14
A47: Valor do equipamento proposto (V0) | B47: R$ | C47: =IFERROR(IF(C36<=C35,E34-(C37/(100*C35)*C36)*E34,E34-E37),0) -> 70000
A48: Investimento médio total do container | B48: R$ | C48: =IFERROR(IF(C36>=C35,C47,((((C47)-(E34-E37))*(((C35-C36)+1)/(2*(C35-C36))))+(E34-E37))),0) -> 49468.3
A49: Remuneração mensal de capital do container | B49: R$ | D49: =C46*C48/12/100 -> 577.13017 | E49: =D49 -> 577.13017
A50: Total por unidade | E50: =E49 -> 577.13017
A51: =A40 -> Total da estação de transbordo | B51: unidade | C51: =C40 -> 1 | D51: =E50 -> 577.13017 | E51: =C51*D51 -> 577.13017
...

Sheet 1.4 Central de Triagem
A1: Orientações para preenchimento:
A2: 1. Preencher somente células em amarelo
A3: 2. As células azuis deverão ter seus valores preenchidos em outra planilha do arquivo.
A4: MUNICÍPIO DE SANTA CLARA DO SUL
A5: Contadoria
A6: 1.4 Central de Triagem
A7: Planilha de Composição de Custos
A9: Orçamento Sintético
A10: Descrição do Item | E10: Custo (R$/mês) | F10: %
A11: =A45 -> 1. Mão-de-obra | E11: =SUM(E12:E16) -> 15815.045 | F11: =IFERROR(E11/$E$29,0) -> 0.49406782
A12: =A47 -> 1.3. Reciclador Turno do Dia | E12: =F57 -> 8924.5225 | F12: =IFERROR(E12/$E$29,0) -> 0.27880536
A13: =A59 -> 1.4. Operador Turno do Dia | E13: =F69 -> 4988.908 | F13: =IFERROR(E13/$E$29,0) -> 0.15585532
A14: =A71 -> 1.5. Vale Transporte | E14: =F77 -> 166.41471 | F14: =IFERROR(E14/$E$29,0) -> 0.0051988566
A15: =A79 -> 1.6. Vale-refeição (diário) | E15: =F83 -> 282 | F15: =IFERROR(E15/$E$29,0) -> 0.0088097836
A16: =A85 -> 1.7. Auxílio Alimentação (mensal) | E16: =F89 -> 1453.2 | F16: =IFERROR(E16/$E$29,0) -> 0.045398502
A17: =A93 -> 2. Uniformes e Equipamentos de Proteção Individual | E17: =F123 -> 656.36222 | F17: =IFERROR(E17/$E$29,0) -> 0.020504997
A18: =A125 -> 3. Veículos e Equipamentos | E18: =SUM(F191) -> 8726.165 | F18: =IFERROR(E18/$E$29,0) -> 0.2726086
A19: =A127 -> 3.3. Retroescavadeira | E19: =SUM(E20:E25) -> 8726.165 | F19: =IFERROR(E19/$E$29,0) -> 0.2726086
A20: =A129 -> 3.3.1. Depreciação | E20: =SUM(F138) -> 2064.0333 | F20: =IFERROR(E20/$E$29,0) -> 0.064481159
A21: =A140 -> 3.3.2. Remuneração do Capital | E21: =SUM(F149) -> 4433.3333 | F21: =IFERROR(E21/$E$29,0) -> 0.13849896
A22: =A151 -> 3.3.3. Impostos e Seguros | E22: =SUM(F155) -> 333.33333 | F22: =IFERROR(E22/$E$29,0) -> 0.010413456
A23: =A157 -> 3.3.4. Consumos | E23: =SUM(F173) -> 1299.815 | F23: =IFERROR(E23/$E$29,0) -> 0.040606698
A24: =A175 -> 3.3.5. Manutenção | E24: =SUM(F178) -> 268.4 | F24: =IFERROR(E24/$E$29,0) -> 0.0083849146
A25: =A180 -> 3.3.6. Pneus | E25: =SUM(F189) -> 327.25 | F25: =IFERROR(E25/$E$29,0) -> 0.01022341
A26: =A193 -> 4. Ferramentas e Materiais de Consumo | E26: =+F201 -> 23.505833 | F26: =IFERROR(E26/$E$29,0) -> 0.00073433087
A27: =A203 -> 5. Monitoramento da Frota | E27: =+F212 -> 111.20005 | F27: =IFERROR(E27/$E$29,0) -> 0.0034739304
A28: =A216 -> 6. Benefícios e Despesas Indiretas - BDI | E28: =+F222 -> 6677.5886 | F28: =IFERROR(E28/$E$29,0) -> 0.20861032
A29: PREÇO TOTAL MENSAL COM CENTRAL DE TRIAGEM | E29: =SUM(E11+E17+E18+E26+E27+E28) -> 32009.867 | F29: =IFERROR(E29/$E$29,0) -> 1
A32: Quantitativos
A33: Mão-de-obra | E33: Quantidade
A34: 1.3. Reciclador Turno do Dia | E34: 2
A35: =+A59 -> 1.4. Operador Turno do Dia | E35: 1
A36: Total de mão-de-obra (postos de trabalho) | E36: =SUM(E34:E35) -> 3
A38: Veículos e Equipamentos | E38: Quantidade
A39: Equipamento Prensa | E39: 1
A40: Maquina Retroescavadeira | E40: 1
A43: Fator de utilização (FU) | B43: 1
A45: 1. Mão-de-obra
A47: 1.3. Reciclador Turno do Dia
A48: Discriminação | B48: Unidade | C48: Quantidade | D48: Custo unitário | E48: Subtotal | F48: Total (R$)
...

Sheet 1.5.Destino final
A1: Orientações para preenchimento:
A2: 1. Preencher somente células em amarelo
A3: 2. As células azuis deverão ter seus valores preenchidos em outra planilha do arquivo.
A4: MUNICÍPIO DE SANTA CLARA DO SUL
A5: Contadoria
A6: 1.5. Transporte para Destino final
A7: Planilha de Composição de Custos
A8: A. Foram consideradas 4,58 viagens de ida/volta para o aterro sanitário por mês
A9: B. A distância de transporte considerada foi a média de 3 aterros sanitários constante no Projeto Básico.
A10: DMT aterro Candiota : | B10: 243,33 km
A11: Média: | B11: 243,33 km
A12: C. 4,58 viagens/mês x (243,33km ida + 243,33km volta) x 4,58 mes = 2.228,90 km/mês
A13: D. Mão de obra: 2.228,9km/mês / 40km/hora = 55,72 horas/mês viagens = 55,72 horas/mês
A14: Considerando que serão utilizadas 55,72 horas mensais de mão de obra para o transporte, temos um fator de utilização de 25,33% para o presente.
A17: Orçamento Sintético
A18: Descrição do Item | E18: Custo (R$/mês) | F18: %
A19: =A53 -> 1. Mão-de-obra | E19: =SUM(E20:E23) -> 1713.2312 | F19: =IFERROR(E19/$E$37,0) -> 0.042640478
A20: =A56 -> 1.2. Motorista Turno do Dia | E20: =F66 -> 1562.4362 | F20: =IFERROR(E20/$E$37,0) -> 0.038887353
A21: =A69 -> 1.5. Vale Transporte | E21: =F74 -> 65.8 | F21: =IFERROR(E21/$E$37,0) -> 0.001637691
A22: =A76 -> 1.6. Vale-refeição (diário) | E22: =F79 -> 47 | F22: =IFERROR(E22/$E$37,0) -> 0.0011697793
A23: =A81 -> 1.7. Auxílio Alimentação (mensal) | E23: =F84 -> 37.995 | F23: =IFERROR(E23/$E$37,0) -> 0.00094565456
A24: =A88 -> 2. Uniformes e Equipamentos de Proteção Individual | E24: =F103 -> 53.314246 | F24: =IFERROR(E24/$E$37,0) -> 0.0013269341
A25: =A105 -> 3. Veículos e Equipamentos | E25: =F181 -> 15827.166 | F25: =IFERROR(E25/$E$37,0) -> 0.39392109
A26: =A107 -> 3.4. Conjunto com Romeu e Julieta tipo "roll -on" e containers para destino final | E26: =SUM(E27:E32) -> 15827.166 | F26: =IFERROR(E26/$E$37,0) -> 0.39392109
A27: =A109 -> 3.4.1. Depreciação | E27: =F123 -> 1582.2173 | F27: =IFERROR(E27/$E$37,0) -> 0.039379683
A28: =A125 -> 3.4.2. Remuneração do Capital | E28: =F139 -> 2401.6447 | F28: =IFERROR(E28/$E$37,0) -> 0.059774347
A29: =A141 -> 3.4.3. Impostos e Seguros | E29: =F147 -> 772.86242 | F29: =IFERROR(E29/$E$37,0) -> 0.019235712
A30: =A149 -> 3.4.4. Consumos | E30: =F165 -> 8163.3462 | F30: =IFERROR(E30/$E$37,0) -> 0.20317688
A31: =A167 -> 3.4.5. Manutenção | E31: =F170 -> 2340.345 | F31: =IFERROR(E31/$E$37,0) -> 0.058248662
A32: =A171 -> 3.4.6. Pneus | E32: =F178 -> 566.75029 | F32: =IFERROR(E32/$E$37,0) -> 0.014105803
A33: =A183 -> 4. Ferramentas e Materiais de Consumo | E33: =F190 -> 8.3606691 | F33: =IFERROR(E33/$E$37,0) -> 0.00020808804
A34: =A192 -> 5. Monitoramento da Frota | E34: =F201 -> 27.22975 | F34: =IFERROR(E34/$E$37,0) -> 0.0006777191
A35: =A203 -> 6. Deposição no Aterro | E35: =F207 -> 17902.133 | F35: =IFERROR(E35/$E$37,0) -> 0.44556479
A36: =A211 -> 7. Benefícios e Despesas Indiretas - BDI | E36: =F218 -> 4647.084 | F36: =IFERROR(E36/$E$37,0) -> 0.11566091
A37: PREÇO TOTAL MENSAL COM O DESTINO FINAL | E37: =E19+E24+E25+E33+E34+E36+E35 -> 40178.519 | F37: =F19+F25+F33+F34+F35+F36 -> 0.99867307
A39: PREÇO TOTAL MENSAL DO TRANSPORTE C/BDI | E39: =D214+E214 -> 22276.386 | F39: =E39/E37 -> 0.55443521
A40: PREÇO TOTAL MENSAL DA DESTINAÇÃO SEM BDI | E40: =F207+E215 -> 17902.133 | F40: =E40/E37 -> 0.44556479
A42: Quantitativos
A43: Mão-de-obra | E43: Quantidade
A44: =+A56 -> 1.2. Motorista Turno do Dia | E44: =C65 -> 1
...

Sheet 2.Encargos Sociais
A1: Orientações para preenchimento:
A2: 1. Preencha previamente os dados de entrada na planilha 3.CAGED
A4: MUNICÍPIO DE SANTA CLARA DO SUL
A5: 2. Composição dos Encargos Sociais
A6: Código | B6: Descrição | C6: Valor
A7: A1 | B7: INSS | C7: 0.2
A8: A2 | B8: SESI | C8: 0.015
A9: A3 | B9: SENAI | C9: 0.01
A10: A4 | B10: INCRA | C10: 0.002
A11: A5 | B11: SEBRAE | C11: 0.006
A12: A6 | B12: Salário educação | C12: 0.025
A13: A7 | B13: Seguro contra acidentes de trabalho | C13: 0.03
A14: A8 | B14: FGTS | C14: 0.08
A15: A | B15: SOMA GRUPO A | C15: =SUM(C7:C14) -> 0.368
A17: B1 | B17: Férias gozadas | C17: =ROUND(IF('3.CAGED'!C39>24,(1-12/'3.CAGED'!C39)*0.1111,0.1111-C26),4) -> 0.0619
A18: B2 | B18: 13º salário | C18: =ROUND('3.CAGED'!C34/'3.CAGED'!C31,4) -> 0.0833
A19: B3 | B19: Licença Paternidade | C19: 0.0006
A20: B4 | B20: Faltas justificadas | C20: 0.0082
A21: B5 | B21: Auxilio acidente de trabalho | C21: 0.0031
A22: B6 | B22: Auxilio doença | C22: 0.0166
A23: B | B23: SOMA GRUPO B | C23: =SUM(C17:C22) -> 0.1737
A25: C1 | B25: Aviso prévio indenizado | C25: =ROUND(('3.CAGED'!C38)*'3.CAGED'!C30/'3.CAGED'!C31,4) -> 0.0256
A26: C2 | B26: Férias indenizadas | C26: =ROUND(IF('3.CAGED'!C39>12,12/'3.CAGED'!C39*0.1111,0.1111),4) -> 0.0492
A27: C3 | B27: Férias indenizadas s/ aviso previo inden. | C27: =C25*C26 -> 0.00125952
A28: C4 | B28: Depósito rescisão sem justa causa | C28: =ROUND(('3.CAGED'!C31+'3.CAGED'!C32+'3.CAGED'!C34)/'3.CAGED'!C29*'3.CAGED'!C36*'3.CAGED'!C37*'3.CAGED'!C30/'3.CAGED'!C31,4) -> 0.0205
A29: C5 | B29: Indenização adicional | C29: =ROUND(('3.CAGED'!C33/'3.CAGED'!C31)*'3.CAGED'!C30/12,4) -> 0.0018
A30: C | B30: SOMA GRUPO C | C30: =SUM(C25:C29) -> 0.09835952
A32: D1 | B32: Reincidência de Grupo A sobre Grupo B | C32: =ROUND(C15*C23,4) -> 0.0639
A33: D2 | B33: Reincidência de FGTS sobre aviso prévio indenizado | C33: =ROUND((C25*C14),4) -> 0.002
A34: D | B34: SOMA GRUPO D | C34: =SUM(C32:C33) -> 0.0659
B35: SOMA (A+B+C+D) | C35: =C34+C30+C23+C15 -> 0.70595952

Sheet 3.CAGED
A1: CÁLCULO DAS VERBAS INDENIZATÓRIAS DOS EMPREGADOS NO SETOR DE COLETA DE RESÍDUOS SÓLIDOS URBANOS
A3: Para preencher esta planilha siga os passos 1 a 5:
A4: 1. Acesse o Portal do CAGED no link http://bi.mte.gov.br/cagedestabelecimento/pages/consulta.xhtml
A5: 2. Na Especificação da Consulta, selecione "Demonstrativo por período" e informe as competências relativas ao período Inicial e Final (últimos 12 meses)
A6: 3. Em Nível Geográfico selecione "Unidade da Federação" e marque a opção "Rio Grande do Sul"
A7: 4. Em Nível Setorial selecione "Classe de atividade econômica segundo a classificação CNAE – versão 2.0 (669 categorias)" e marque a opção "38114 – Coleta de Resíduos Não-Perigosos"
A8: 5. Clique em Gerar Relatório
A9: 6. Preencha as células em amarelo
B10: MUNICÍPIO DE SANTA CLARA DO SUL
B11: 3. CAGED
B12: Rio Grande do Sul - Coleta de Resíduos Não-Perigosos - CNAE 38114
B13: Admissões | C13: 2100
B14: Desligamentos | C14: 2031
B15: Dispensados com justa causa | C15: 44
B16: Dispensados sem justa causa | C16: 1192
B17: Espontâneos | C17: 372
B18: Fim de contrato por prazo determinado | C18: 22
B19: Término de contrato | C19: 350
B20: Aposentados | C20: 1
B21: Mortos | C21: 30
B22: Transferência de saída | C22: 0
B23: Acordo | C23: 0
B24: Indicadores:
B25: Estoque recuperado início do Período 01-01-2019 | C25: 4625
B26: Estoque recuperado final do Período 31-12-2019 | C26: 4694
B27: Variação Emprego Absoluta de 2026 | C27: =C13-C14 -> 69
B29: Rotatividade | C29: =MEDIAN(C13,C14)/MEDIAN(C25,C26) -> 0.44328791
B30: Demitidos s/ Justa Causa em relação ao Estoque Médio | C30: =C16/MEDIAN(C25,C26) -> 0.25582144
B31: Dias ano | C31: 360
B32: 1/3 de férias (dias) | C32: 10
B33: Férias (dias) | C33: 30
B34: 13º Salário (dias) | C34: 30
B35: Estoque Médio | C35: =MEDIAN(C25,C26) -> 4659.5
B36: FGTS | C36: 0.08
B37: Multa FGTS | C37: 0.4
B38: Dias de Aviso prévio | C38: =30+(3*TRUNC(1/C29)) -> 36
B39: ROTATIVIDADE TEMPORAL( MESES): | C39: =12/C29 -> 27.070443

Sheet 4.BDI
A2: MUNICÍPIO DE SANTA CLARA DO SUL
A3: 4. Composição do B.D.I. (Benefícios e Despesas Indiretas)
A4: Descrição | B4: Item | C4: Valor | D4: Referência estudo TCE
D5: 1° Quartil | E5: Médio | F5: 3° Quartil
A6: Administração Central | B6: AC | C6: 0.0508 | D6: 0.0297 | E6: 0.0508 | F6: 0.0627
A7: Seguros/Riscos/Garantias | B7: SRG | C7: 0.0133 | D7: =0.3%+0.56% -> 0.0086 | E7: =0.48%+0.85% -> 0.0133 | F7: =0.82%+0.89% -> 0.0171
A8: Lucro | B8: L | C8: 0.1085 | D8: 0.0778 | E8: 0.1085 | F8: 0.1355
A9: Despesas Financeiras | B9: DF | C9: =(1+E9)^(E10/252)-1 -> 0 | E9: 0.14
A10: Tributos - ISS | B10: T | C10: 0.03 | E10: 0
A11: Tributos - PIS/COFINS | C11: 0.0365
A12: Fórmula para o cálculo do B.D.I.:
A13: {[(1+AC+SRG) x (1+L) x (1+DF)] / (1-T)} -1
A14: Resultado do cálculo do BDI: | B14: =ROUND((((1+C6+C7)*(1+C8)*(1+C9))/(1-(C10+C11))-1),4) -> 0.2636 | D14: 0.2143 | E14: 0.2717 | F14: 0.3362
A17: 4. Composição do B.D.I. Sem Lucro (Benefícios e Despesas Indiretas)
A18: Descrição | B18: Item | C18: Valor | D18: Referência estudo TCE
D19: 1° Quartil | E19: Médio | F19: 3° Quartil
A20: Administração Central | B20: AC | C20: 0.0508 | D20: 0.0297 | E20: 0.0508 | F20: 0.0627
A21: Seguros/Riscos/Garantias | B21: SRG | C21: 0.0133 | D21: =0.3%+0.56% -> 0.0086 | E21: =0.48%+0.85% -> 0.0133 | F21: =0.82%+0.89% -> 0.0171
A22: Lucro | B22: L | C22: 0 | D22: 0.0778 | E22: 0.1085 | F22: 0.1355
A23: Despesas Financeiras | B23: DF | C23: =(1+E23)^(E24/252)-1 -> 0 | E23: 0.14
A24: Tributos - ISS | B24: T | C24: 0.03 | E24: 0
A25: Tributos - PIS/COFINS | C25: 0.0365
A26: Fórmula para o cálculo do B.D.I.:
A27: {[(1+AC+SRG) x (1+L) x (1+DF)] / (1-T)} -1
A28: Resultado do cálculo do BDI: | B28: =ROUND((((1+C20+C21)*(1+C22)*(1+C23))/(1-(C24+C25))-1),4) -> 0.1399 | D28: 0.2143 | E28: 0.2717 | F28: 0.3362

Sheet 5. Depreciação
A1: MUNICÍPIO DE SANTA CLARA DO SUL
A2: 5. Depreciação Referencial TCE/RS (%)
A3: Idade do veículo (ano) | B3: Depreciação Média
A4: 1 | B4: 33.63
A5: 2 | B5: 43.13
A6: 3 | B6: 48.68
A7: 4 | B7: 52.62
A8: 5 | B8: 55.68
A9: 6 | B9: 58.18
A10: 7 | B10: 60.29
A11: 8 | B11: 62.12
A12: 9 | B12: 63.73
A13: 10 | B13: 65.18
A14: 11 | B14: 66.48
A15: 12 | B15: 67.67
... A18: 15 | B18: 70.73

Sheet 6.Remuneração de capital
A1: MUNICÍPIO DE SANTA CLARA DO SUL
A2: 6. Remuneração de Capital
A4: Fórmula de cálculo da remuneração de capital:
C6: Jm = | D6: Im x i
D7: 12
C8: Im = | D8: (Vo - Vr) x | E8: (n +1) | F8: + | G8: Vr
E9: 2n
A13: Jm = remuneração de capital mensal
A14: i = taxa de juros do mercado (sugere-se adotar a taxa SELIC)
A15: Im = investimento médio
A16: V0 = valor inicial do bem
A17: Vr = valor residual do bem
A18: n = vida útil do bem em anos

Sheet 7. Dimensionamento
A6: MUNICÍPIO DE SANTA CLARA DO SUL
A7: 7. Dimensionamento da frota
A9: Indicador | B9: Unidade | C9: Valor
A10: População (H) | B10: hab | C10: 9256
A11: Geração per capita (G) | B11: Kg/hab.dia | C11: 0.6633
A12: Geração total diária (Qd) | B12: ton/dia | C12: =C13/30 -> 6.1436667
A13: Geração Mensal | B13: ton | C13: 184.31
A14: Número de dias de coleta por semana (Dc) | B14: dia | C14: 6
A15: Quantitativo diário de coleta (Qc) | B15: ton/dia | C15: =IFERROR(C12*7/C14,0) -> 7.1676111
A16: Densidade RSU compactado | B16: Kg/m³ | C16: 500
A17: Tipo de Veículo (1 = toco) | C17: 1
A18: Capacidade do Compactador | B18: m³ | C18: 15
A19: Capacidade nominal de carga (Cc) | B19: ton | C19: =IF(AND(C18>=15,C17=1),7.5,C18/2) -> 7.5
A20: Número de Cargas por dia (Nc) | C20: =IFERROR(C15/C19,0) -> 0.95568148
A21: Número total de percursos de coleta por veículo, por dia (Np) | C21: 1
A22: Número de veículos da Frota (F) | C22: =IFERROR(C20/C21,0) -> 0.95568148
