Workbook

Sheet Resumo
A2: Combustível Bomba R$ | B2: =Linha1!B13 -> 7.5
A3: Veículos R$ | B3: =Linha1!B10 -> 500000
A4: Salário Motorista R$ | B4: 3000
A5: Potêncial de Km/mês | B5: =20*8*20 -> 3200
D7: Km Dia | G7: R$ Dia
A8: Linhas | B8: R$ / Km | D8: Chão | E8: Asfalto | F8: Total
A9: Linha 1 | B9: =Linha1!D54 -> 8.3500086 | D9: =Linha1!B7 -> 12.2 | E9: =Linha1!B6 -> 14.2 | F9: =D9+E9 -> 26.4 | G9: =F9*B9 -> 220.44023 | H9: =Linha1!$B$52 -> 220.44023 | I9: =G9=H9 -> TRUE
A11: Mínimo | B11: =SMALL($B$9:$B$9,1) -> 8.3500086
A12: Máximo | B12: =LARGE($B$9:$B$9,1) -> 8.3500086 | C12: =(B12-B11)/B11 -> 0

Sheet Linha1
A1: CÁLCULO CUSTO TRANSPORTE
A3: BARRA DO FÃO/SÃO JOÃO - 4ª FEIRA - MANHÃ - VOLTA
A5: Dados Gerais
A6: km pavimentado | B6: 14.2 | G6: Tabela de utilização
A7: km sem pavimentação | B7: 12.2
A8: km total | B8: =(B6+B7) -> 26.4 | G8: Potêncial de Km mês | I8: =Resumo!B5 -> 3200
A9: Veículo | B9: ÔNIBUS | G9: Km dia | I9: =B8 -> 26.4
A10: R$ Veículo | B10: 500000 | G10: Nº de dias | I10: =B19 -> 5
A11: Taxa de Utilização do Veículo | B11: =I12 -> 0.04125 | G11: Total de Km mês | I11: =I9*I10 -> 132
A12: Tempo de Depreciação (anos) | B12: 10 | G12: Taxa de utilização | I12: =IF((I11/I8)>1,1,I11/I8) -> 0.04125
A13: R$ Combustível | B13: 7.5
A14: km/litro asfalto | B14: 4.6
A15: km/litro estrada chão | B15: =B14*0.8 -> 3.68
A16: Relação combustível / manutenção / asfalto | B16: =(H21+H27+H32+H35) -> 0.62429819 | G16: Manutenção | J16: =B23*20 -> 692.66563
A17: Relação combustível / manutenção / est.chão | B17: =B16*1.3 -> 0.81158765 | G17: OLEO LUBRIFICANTE
A18: Número de Pessoas Transportadas | B18: 45 | G18: Preço do Litro Lubrificante + Filtro | H18: 60
A19: Média eventos mensais | B19: 5 | G19: Total na Troca - 20 Litros | H19: =H18*20 -> 1200
G20: Km Rodados com uma Troca | H20: 10000
A21: Custos Diretos | B21: Itinerário | G21: Custo do Lubrificante por KM | H21: =H19/H20 -> 0.12
A22: Combustível | B22: =(B6*B13/B14)+(B7*B13/B15) -> 48.016304 | G22: PNEUS
A23: Manutenção | B23: =(B6*B13/B14*B16)+(B7*B13/B15*B17) -> 34.633281 | G23: Preço do Pneu utilizado | H23: 1750
A24: Total | B24: =SUM(B22:B23) -> 82.649586 | G24: Qtd. Pneus Rodando | H24: 2
G25: Total na Troca | H25: =H23*H24 -> 3500
A26: Custos Indiretos - Exceto Mão-de-Obra | B26: Itinerário | C26: Mensal | D26: Utilizado | E26: Anual | G26: Vida util do Pneus por KM | H26: 27000
A27: IPVA | B27: =C27/$B$19 -> 3.4375 | C27: =D27/12 -> 17.1875 | D27: =E27*$B$11 -> 206.25 | E27: =B10*0.01 -> 5000 | G27: Custo dos Pneus de rodagem Por KM | H27: =H25/H26 -> 0.12962963
A28: Seguro Obrig. | B28: =C28/$B$19 -> 0.06875 | C28: =D28/12 -> 0.34375 | D28: =E28*$B$11 -> 4.125 | E28: 100 | G28: Preço da Recapagem | H28: 700
A29: Licenciamento | B29: =C29/$B$19 -> 0.0309375 | C29: =D29/12 -> 0.1546875 | D29: =E29*$B$11 -> 1.85625 | E29: 45 | G29: Qtd. Pneus Rodando | H29: 4
A30: Escritório | B30: =C30/$B$19 -> 0.165 | C30: =D30/12 -> 0.825 | D30: =E30*$B$11 -> 9.9 | E30: 240 | G30: Total na Troca | H30: =H28*H29 -> 2800
A31: Alvará | B31: =C31/$B$19 -> 0.11 | C31: =D31/12 -> 0.55 | D31: =E31*$B$11 -> 6.6 | E31: 160 | G31: Vida util do Pneus por KM | H31: 22000
A32: Depreciação | B32: =C32/$B$19 -> 34.375 | C32: =D32/12 -> 171.875 | D32: =E32*$B$11 -> 2062.5 | E32: =B10/B12 -> 50000 | G32: Custo da Recapagem Por KM | H32: =H30/H31 -> 0.12727273
A33: Total | B33: =SUM(B27:B32) -> 38.187188 | C33: =SUM(C27:C32) -> 190.93594 | D33: =SUM(D27:D32) -> 2291.2312 | E33: =SUM(E27:E32) -> 55545 | G33: MANUTENÇÃO MECÂNICA DO VEÍCULO
G34: Custo de Manutenção ANUAL | H34: 9500
A35: Custos Indiretos - Mão-de-Obra | C35: Itinerário | D35: Utilizado | G35: Custo da Manutenção por KM | H35: =(H34/($I$11*12))*B11 -> 0.24739583
A36: Salário | B36: 3000 | C36: =D36/$B$19 -> 24.75 | D36: =B36*B11 -> 123.75
A37: 13o. Sál. | C37: =D37/$B$19 -> 2.0625 | D37: =D36/12 -> 10.3125
A38: Férias | C38: =D38/$B$19 -> 0.68743125 | D38: =(D36*0.3333)/12 -> 3.4371562
A39: INSS | C39: =D39/$B$19 -> 6.0499849 | D39: =(D36+D37+D38)*0.22 -> 30.249924
A40: FGTS | C40: =D40/$B$19 -> 2.3374942 | D40: =(D36+D37+D38)*0.085 -> 11.687471
A41: Total | C41: =SUM(C36:C40) -> 35.88741 | D41: =SUM(D36:D40) -> 179.43705
A43: Demonstrativo do Resultado - Lucro Presumido
...
