Workbook

Sheet INDIC QUANTITATIVOS 
B1: MUNICÍPIO DE PINHAIS
B2: RODOVIA JOAO LEOPOLDO JACOMEL - 12162, Centro
B3: CEP: 83323410 - Pinhais - PR
A4: OBRA: | B4: 32 - PINTURA IMOBILIÁRIA
A5: ENDEREÇO: | B5: PINHAIS/PR
A6: INDICAÇÃO DE QUANTITATIVOS
A7: ITEM | B7: DESCRIÇÃO | D7: UN. | E7: QUANT. | F7: SEMOP | G7: SEMAD | H7: SEMUR | I7: SEMSA | J7: SEPFO | K7: SEMMA | L7: SEMED | M7: SEMEL | N7: SESET | O7: SEMAS | P7: SEMDE | Q7: P. PREV.
A8: 1 | B8: SERVIÇOS PRELIMINARES
A9: 1.1 | B9: TRATAMENTO, PREPARO E LIMPEZA DE SUPERFÍCIE
A10: 1.1.1 | B10: Lixamento manual em superfícies metálicas em obra. af_01/2020 | D10: M2 | E10: =F10+G10+H10+I10+J10+K10+L10+M10+N10+O10+P10+Q10 -> 3601 | F10: 50 | G10: 170 | H10: 0 | I10: 1200 | J10: 0 | K10: 0 | L10: 2000 | O10: 166 | Q10: 15 | S10: =Q10+P10+O10+N10+M10+L10+K10+J10+I10+H10+G10+F10 -> 3601 | T10: =S10=E10 -> TRUE
A11: 1.1.2 | B11: Lixamento de madeira para aplicação de fundo ou pintura. af_01/2021 | D11: M2 | E11: =F11+G11+H11+I11+J11+K11+L11+M11+N11+O11+P11+Q11 -> 3950 | F11: 50 | G11: 0 | H11: 0 | I11: 1200 | J11: 0 | K11: 0 | L11: 2500 | O11: 0 | Q11: 200 | S11: =Q11+P11+O11+N11+M11+L11+K11+J11+I11+H11+G11+F11 -> 3950 | T11: =S11=E11 -> TRUE
A12: 1.1.3 | B12: Preparo do piso cimentado para pintura - lixamento e limpeza. af_05/2021 | D12: M2 | E12: =F12+G12+H12+I12+J12+K12+L12+M12+N12+O12+P12+Q12 -> 6200 | F12: 150 | G12: 500 | H12: 0 | I12: 0 | J12: 0 | K12: 0 | L12: 5000 | O12: 500 | Q12: 50 | S12: =Q12+P12+O12+N12+M12+L12+K12+J12+I12+H12+G12+F12 -> 6200 | T12: =S12=E12 -> TRUE
A13: 1.1.4 | B13: Limpeza de superfície com jato de alta pressão. af_04/2019 | D13: M2 | E13: =F13+G13+H13+I13+J13+K13+L13+M13+N13+O13+P13+Q13 -> 12656 | F13: 3000 | G13: 2400 | H13: 0 | I13: 0 | J13: 0 | K13: 0 | L13: 5000 | O13: 2206 | Q13: 50 | S13: =Q13+P13+O13+N13+M13+L13+K13+J13+I13+H13+G13+F13 -> 12656 | T13: =S13=E13 -> TRUE
A14: 1.1.5 | B14: Tratamento de rodapé com tela de poliéster. af_09/2023 | D14: M | E14: =F14+G14+H14+I14+J14+K14+L14+M14+N14+O14+P14+Q14 -> 940 | F14: 30 | G14: 200 | H14: 0 | I14: 0 | J14: 0 | K14: 0 | L14: 500 | O14: 200 | Q14: 10 | S14: =Q14+P14+O14+N14+M14+L14+K14+J14+I14+H14+G14+F14 -> 940 | T14: =S14=E14 -> TRUE
A15: 1.1.6 | B15: Aplicação manual de massa de rejunte pronta para tratamento de juntas, em paredes de drywall | D15: M2 | E15: =F15+G15+H15+I15+J15+K15+L15+M15+N15+O15+P15+Q15 -> 2050 | F15: 50 | G15: 500 | H15: 0 | I15: 700 | J15: 0 | K15: 0 | L15: 200 | O15: 500 | Q15: 100 | S15: =Q15+P15+O15+N15+M15+L15+K15+J15+I15+H15+G15+F15 -> 2050 | T15: =S15=E15 -> TRUE
A16: 1.1.7 | B16: Demolição de argamassas, de forma manual, sem reaproveitamento. af_09/2023 | D16: M2 | E16: =F16+G16+H16+I16+J16+K16+L16+M16+N16+O16+P16+Q16 -> 1270 | F16: 20 | G16: 0 | H16: 0 | I16: 200 | J16: 0 | K16: 0 | L16: 1000 | O16: 0 | Q16: 50 | S16: =Q16+P16+O16+N16+M16+L16+K16+J16+I16+H16+G16+F16 -> 1270 | T16: =S16=E16 -> TRUE
A17: 1.1.8 | B17: Impermeabilização de superfície com argamassa de cimento e areia, com aditivo impermeabilizante, E = 1,5cm. af_09/2023 | D17: M2 | E17: =F17+G17+H17+I17+J17+K17+L17+M17+N17+O17+P17+Q17 -> 1670 | F17: 20 | G17: 0 | H17: 0 | I17: 600 | J17: 0 | K17: 0 | L17: 1000 | O17: 0 | Q17: 50 | S17: =Q17+P17+O17+N17+M17+L17+K17+J17+I17+H17+G17+F17 -> 1670 | T17: =S17=E17 -> TRUE
A18: 1.1.9 | B18: Colocação de fita protetora para pintura. af_01/2020 | D18: M | E18: =F18+G18+H18+I18+J18+K18+L18+M18+N18+O18+P18+Q18 -> 7800 | F18: 200 | G18: 650 | H18: 0 | I18: 1200 | J18: 0 | K18: 0 | L18: 5000 | O18: 650 | Q18: 100 | S18: =Q18+P18+O18+N18+M18+L18+K18+J18+I18+H18+G18+F18 -> 7800 | T18: =S18=E18 -> TRUE
A19: 1.1.10 | B19: Colocação, manutenção e retirada de lona, com reaproveitamento, isolamento/proteção para pintura | D19: m2 | E19: =F19+G19+H19+I19+J19+K19+L19+M19+N19+O19+P19+Q19 -> 1225 | F19: 200 | G19: 0 | H19: 0 | I19: 200 | J19: 0 | K19: 0 | L19: 500 | M19: 300 | O19: 0 | Q19: 25 | S19: =Q19+P19+O19+N19+M19+L19+K19+J19+I19+H19+G19+F19 -> 1225 | T19: =S19=E19 -> TRUE
A20: 1.1.11 | B20: Primer convertedor de ferrugem em fundo de protecao, duas demaos. fornecimento e aplicação | D20: M2 | E20: =F20+G20+H20+I20+J20+K20+L20+M20+N20+O20+P20+Q20 -> 220 | F20: 20 | L20: 200 | S20: =Q20+P20+O20+N20+M20+L20+K20+J20+I20+H20+G20+F20 -> 220 | T20: =S20=E20 -> TRUE
A21: 2 | B21: PINTURA EM CONCRETO/ALVENARIA/GESSO ACARTONADO
A22: 2.1 | B22: AMBIENTE INTERNO PAREDE
A23: 2.1.1 | B23: Fundo selador acrílico, aplicação manual em parede, uma demão. af_04/2023 | D23: M2 | E23: =F23+G23+H23+I23+J23+K23+L23+M23+N23+O23+P23+Q23 -> 7850 | F23: 200 | G23: 200 | I23: 6000 | L23: 1000 | O23: 200 | Q23: 250 | S23: =Q23+P23+O23+N23+M23+L23+K23+J23+I23+H23+G23+F23 -> 7850 | T23: =S23=E23 -> TRUE
A24: 2.1.2 | B24: Emassamento com massa látex, aplicação em parede, uma demão, lixamento manual. af_04/2023 | D24: M2 | E24: =F24+G24+H24+I24+J24+K24+L24+M24+N24+O24+P24+Q24 -> 5610 | F24: 100 | G24: 0 | H24: 200 | I24: 0 | J24: 60 | L24: 5000 | O24: 0 | Q24: 250 | S24: =Q24+P24+O24+N24+M24+L24+K24+J24+I24+H24+G24+F24 -> 5610 | T24: =S24=E24 -> TRUE
A25: 2.1.3 | B25: Emassamento com massa látex, aplicação em parede, duas demãos, lixamento manual. af_04/2023 | D25: M2 | E25: =F25+G25+H25+I25+J25+K25+L25+M25+N25+O25+P25+Q25 -> 4625 | F25: 50 | G25: 600 | H25: 300 | I25: 2000 | L25: 0 | M25: 900 | O25: 525 | Q25: 250 | S25: =Q25+P25+O25+N25+M25+L25+K25+J25+I25+H25+G25+F25 -> 4625 | T25: =S25=E25 -> TRUE
A26: 2.1.4 | B26: Pintura látex acrílica standard, aplicação manual em paredes, duas demãos. af_04/2023 | D26: M2 | E26: =F26+G26+H26+I26+J26+K26+L26+M26+N26+O26+P26+Q26 -> 18796 | F26: 200 | G26: 2500 | H26: 500 | I26: 6500 | J26: 226 | L26: 2500 | M26: 3100 | N26: 650 | O26: 2370 | Q26: 250 | S26: =Q26+P26+O26+N26+M26+L26+K26+J26+I26+H26+G26+F26 -> 18796 | T26: =S26=E26 -> TRUE
A27: 2.1.5 | B27: Textura acrílica, aplicação manual em parede, uma demão. af_04/2023 | D27: M2 | E27: =F27+G27+H27+I27+J27+K27+L27+M27+N27+O27+P27+Q27 -> 900 | F27: 50 | G27: 0 | I27: 600 | L27: 0 | O27: 0 | Q27: 250 | S27: =Q27+P27+O27+N27+M27+L27+K27+J27+I27+H27+G27+F27 -> 900 | T27: =S27=E27 -> TRUE
A28: 2.1.6 | B28: Pintura de rodapé com tinta epóxi, aplicação manual, 2 demãos, inclusão primer epóxi. af_05/2021 | D28: M | E28: =F28+G28+H28+I28+J28+K28+L28+M28+N28+O28+P28+Q28 -> 2261 | F28: 25 | G28: 350 | I28: 1200 | L28: 300 | O28: 286 | Q28: 100 | S28: =Q28+P28+O28+N28+M28+L28+K28+J28+I28+H28+G28+F28 -> 2261 | T28: =S28=E28 -> TRUE
A29: 2.1.7 | B29: Aplicação manual de pintura com tinta látex acrílica em paredes internas, cores variadas, duas demãos. ref. suvinil, renner, sherwin willians, coral, lukscolor ou equivalente | D29: M2 | E29: =F29+G29+H29+I29+J29+K29+L29+M29+N29+O29+P29+Q29 -> 2525 | F29: 25 | L29: 2500 | S29: =Q29+P29+O29+N29+M29+L29+K29+J29+I29+H29+G29+F29 -> 2525 | T29: =S29=E29 -> TRUE
A30: 2.1.8 | B30: Pintura com tinta esmalte acetinado efeito lousa seca, aplicada a rolo ou pincel em paredes, 2 demãos | D30: M2 | E30: =F30+G30+H30+I30+J30+K30+L30+M30+N30+O30+P30+Q30 -> 202 | F30: 2 | L30: 200 | S30: =Q30+P30+O30+N30+M30+L30+K30+J30+I30+H30+G30+F30 -> 202 | T30: =S30=E30 -> TRUE
A31: 2.2 | B31: AMBIENTE INTERNO TETO
A32: 2.2.1 | B32: Fundo selador acrílico, aplicação manual em teto, uma demão. af_04/2023 | D32: M2 | E32: =F32+G32+H32+I32+J32+K32+L32+M32+N32+O32+P32+Q32 -> 3250 | F32: 200 | G32: 200 | I32: 2200 | L32: 200 | O32: 200 | Q32: 250 | S32: =Q32+P32+O32+N32+M32+L32+K32+J32+I32+H32+G32+F32 -> 3250 | T32: =S32=E32 -> TRUE
A33: 2.2.2 | B33: Emassamento com massa látex, aplicação em teto, uma demão, lixamento manual. af_04/2023 | D33: M2 | E33: =F33+G33+H33+I33+J33+K33+L33+M33+N33+O33+P33+Q33 -> 2750 | F33: 100 | G33: 0 | H33: 50 | I33: 850 | L33: 1500 | O33: 0 | Q33: 250 | S33: =Q33+P33+O33+N33+M33+L33+K33+J33+I33+H33+G33+F33 -> 2750 | T33: =S33=E33 -> TRUE
A34: 2.2.3 | B34: Emassamento com massa látex, aplicação em teto, duas demãos, lixamento manual. af_04/2023 | D34: M2 | E34: =F34+G34+H34+I34+J34+K34+L34+M34+N34+O34+P34+Q34 -> 1145 | F34: 100 | G34: 200 | H34: 20 | I34: 0 | L34: 0 | M34: 375 | O34: 200 | Q34: 250 | S34: =Q34+P34+O34+N34+M34+L34+K34+J34+I34+H34+G34+F34 -> 1145 | T34: =S34=E34 -> TRUE
A35: 2.2.4 | B35: Pintura látex acrílica standard, aplicação manual em teto, duas demãos. af_04/2023 | D35: M2 | E35: =F35+G35+H35+I35+J35+K35+L35+M35+N35+O35+P35+Q35 -> 7799 | F35: 200 | G35: 2000 | H35: 100 | I35: 600 | J35: 174 | L35: 1500 | M35: 1100 | O35: 1875 | Q35: 250 | S35: =Q35+P35+O35+N35+M35+L35+K35+J35+I35+H35+G35+F35 -> 7799 | T35: =S35=E35 -> TRUE
A36: 2.2.5 | B36: Textura acrílica, aplicação manual em teto, uma demão. af_04/2023 | D36: M2 | E36: =F36+G36+H36+I36+J36+K36+L36+M36+N36+O36+P36+Q36 -> 2550 | F36: 50 | G36: 100 | I36: 2200 | L36: 0 | O36: 100 | Q36: 100 | S36: =Q36+P36+O36+N36+M36+L36+K36+J36+I36+H36+G36+F36 -> 2550 | T36: =S36=E36 -> TRUE
A37: 2.3 | B37: AMBIENTE EXTERNO EDIFICAÇÃO TÉRREA
A38: 2.3.1 | B38: Aplicação manual de massa acrílica em paredes externas de casas, uma demão. af_05/2017 | D38: M2 | E38: =F38+G38+H38+I38+J38+K38+L38+M38+N38+O38+P38+Q38 -> 3010 | F38: 50 | G38: 0 | I38: 150 | L38: 2500 | N38: 60 | O38: 0 | Q38: 250 | S38: =Q38+P38+O38+N38+M38+L38+K38+J38+I38+H38+G38+F38 -> 3010 | T38: =S38=E38 -> TRUE
A39: 2.3.2 | B39: Aplicação manual de massa acrílica em paredes externas de casas, duas demãos. af_05/2017 | D39: M2 | E39: =F39+G39+H39+I39+J39+K39+L39+M39+N39+O39+P39+Q39 -> 2450 | F39: 50 | G39: 500 | I39: 650 | L39: 0 | M39: 500 | O39: 500 | Q39: 250 | S39: =Q39+P39+O39+N39+M39+L39+K39+J39+I39+H39+G39+F39 -> 2450 | T39: =S39=E39 -> TRUE
A40: 2.3.3 | B40: Aplicação manual de fundo selador acrílico em paredes externas de casas. af_06/2014 | D40: M2 | E40: =F40+G40+H40+I40+J40+K40+L40+M40+N40+O40+P40+Q40 -> 10160 | F40: 150 | G40: 0 | I40: 6000 | L40: 500 | M40: 3200 | N40: 60 | O40: 0 | Q40: 250 | S40: =Q40+P40+O40+N40+M40+L40+K40+J40+I40+H40+G40+F40 -> 10160 | T40: =S40=E40 -> TRUE
A41: 2.3.4 | B41: Aplicação manual de pintura com tinta texturizada acrílica em paredes externas de casas, uma cor. af_06/2014 | D41: M2 | E41: =F41+G41+H41+I41+J41+K41+L41+M41+N41+O41+P41+Q41 -> 8924 | F41: 50 | G41: 2500 | I41: 0 | L41: 0 | M41: 3200 | N41: 800 | O41: 2124 | Q41: 250 | S41: =Q41+P41+O41+N41+M41+L41+K41+J41+I41+H41+G41+F41 -> 8924 | T41: =S41=E41 -> TRUE
A42: 2.3.5 | B42: Aplicação manual de pintura com tinta texturizada acrílica em paredes externas de casas, duas cores. af_06/2014 | D42: M2 | E42: =F42+G42+H42+I42+J42+K42+L42+M42+N42+O42+P42+Q42 -> 2650 | F42: 200 | G42: 500 | I42: 1200 | L42: 0 | O42: 500 | Q42: 250 | S42: =Q42+P42+O42+N42+M42+L42+K42+J42+I42+H42+G42+F42 -> 2650 | T42: =S42=E42 -> TRUE
A43: 2.3.6 | B43: Pintura hidrofugante com silicone, aplicação manual, 2 demãos. af_05/2021 | D43: M2 | E43: =F43+G43+H43+I43+J43+K43+L43+M43+N43+O43+P43+Q43 -> 310 | F43: 10 | G43: 100 | I43: 0 | L43: 0 | O43: 100 | Q43: 100 | S43: =Q43+P43+O43+N43+M43+L43+K43+J43+I43+H43+G43+F43 -> 310 | T43: =S43=E43 -> TRUE
A44: 2.3.7 | B44: Aplicação manual de tinta látex acrílica em parede externas de casas, duas demãos. af_11/2016 | D44: M2 | E44: =F44+G44+H44+I44+J44+K44+L44+M44+N44+O44+P44+Q44 -> 200 | F44: 200 | L44: 0 | S44: =Q44+P44+O44+N44+M44+L44+K44+J44+I44+H44+G44+F44 -> 200 | T44: =S44=E44 -> TRUE
A45: 2.3.8 | B45: Aplicação manual de pintura com tinta látex acrílica em paredes externas, cores variadas, duas demãos. ref. suvinil, renner, sherwin willians, coral, lukscolor ou equivalente. | D45: M2 | E45: =F45+G45+H45+I45+J45+K45+L45+M45+N45+O45+P45+Q45 -> 2900 | F45: 400 | L45: 2500 | S45: =Q45+P45+O45+N45+M45+L45+K45+J45+I45+H45+G45+F45 -> 2900 | T45: =S45=E45 -> TRUE
A46: 2.4 | B46: AMBIENTE EXTERNO EDIFICAÇÃO MÚLTIPLOS PAVIMENTOS
A47: 2.4.1 | B47: Aplicação manual de massa acrílica em panos de fachada com presença de vãos, de edifícios de múltiplos pavimentos, uma demão. af_05/2017 | D47: M2 | E47: =F47+G47+H47+I47+J47+K47+L47+M47+N47+O47+P47+Q47 -> 1300 | F47: 50 | G47: 0 | I47: 0 | L47: 1250 | Q47: 0 | S47: =Q47+P47+O47+N47+M47+L47+K47+J47+I47+H47+G47+F47 -> 1300 | T47: =S47=E47 -> TRUE
A48: 2.4.2 | B48: Aplicação manual de massa acrílica em panos de fachada com presença de vãos, de edifícios de múltiplos pavimentos, duas demãos. af_05/2017 | D48: M2 | E48: =F48+G48+H48+I48+J48+K48+L48+M48+N48+O48+P48+Q48 -> 130 | F48: 50 | G48: 0 | I48: 0 | K48: 30 | L48: 0 | Q48: 50 | S48: =Q48+P48+O48+N48+M48+L48+K48+J48+I48+H48+G48+F48 -> 130 | T48: =S48=E48 -> TRUE
A49: 2.4.3 | B49: Aplicação manual de massa acrílica em panos de fachada sem presença de vãos, de edifícios de múltiplos pavimentos, uma demão. af_05/2017 | D49: M2 | E49: =F49+G49+H49+I49+J49+K49+L49+M49+N49+O49+P49+Q49 -> 1300 | F49: 50 | G49: 0 | I49: 0 | L49: 1250 | Q49: 0 | S49: =Q49+P49+O49+N49+M49+L49+K49+J49+I49+H49+G49+F49 -> 1300 | T49: =S49=E49 -> TRUE
A50: 2.4.4 | B50: Aplicação manual de massa acrílica em panos de fachada sem presença de vãos, de edifícios de múltiplos pavimentos, duas demãos. af_05/2017 | D50: M2 | E50: =F50+G50+H50+I50+J50+K50+L50+M50+N50+O50+P50+Q50 -> 100 | F50: 50 | G50: 0 | I50: 0 | L50: 0 | Q50: 50 | S50: =Q50+P50+O50+N50+M50+L50+K50+J50+I50+H50+G50+F50 -> 100 | T50: =S50=E50 -> TRUE
A51: 2.4.5 | B51: Aplicação manual de fundo selador acrílico em panos com presença de vãos de edifícios de múltiplos pavimentos. af_06/2014 | D51: M2 | E51: =F51+G51+H51+I51+J51+K51+L51+M51+N51+O51+P51+Q51 -> 350 | F51: 50 | G51: 0 | I51: 0 | L51: 250 | Q51: 50 | S51: =Q51+P51+O51+N51+M51+L51+K51+J51+I51+H51+G51+F51 -> 350 | T51: =S51=E51 -> TRUE
A52: 2.4.6 | B52: Aplicação manual de fundo selador acrílico em panos cegos de fachada (sem presença de vãos) de edifícios de múltiplos pavimentos. af_06/2014 | D52: M2 | E52: =F52+G52+H52+I52+J52+K52+L52+M52+N52+O52+P52+Q52 -> 350 | F52: 50 | G52: 0 | I52: 0 | L52: 250 | Q52: 50 | S52: =Q52+P52+O52+N52+M52+L52+K52+J52+I52+H52+G52+F52 -> 350 | T52: =S52=E52 -> TRUE
A53: 2.4.7 | B53: Aplicação manual de pintura com tinta texturizada acrílica em panos com presença de vãos de edifícios de múltiplos pavimentos, uma cor. af_06/2014 | D53: M2 | E53: =F53+G53+H53+I53+J53+K53+L53+M53+N53+O53+P53+Q53 -> 100 | F53: 50 | G53: 0 | I53: 0 | L53: 0 | Q53: 50 | S53: =Q53+P53+O53+N53+M53+L53+K53+J53+I53+H53+G53+F53 -> 100 | T53: =S53=E53 -> TRUE
A54: 2.4.8 | B54: Aplicação manual de pintura com tinta texturizada acrílica em panos cegos de fachada (sem presença de vãos) de edifícios de múltiplos pavimentos, uma cor. af_06/2014 | D54: M2 | E54: =F54+G54+H54+I54+J54+K54+L54+M54+N54+O54+P54+Q54 -> 150 | F54: 100 | G54: 0 | I54: 0 | L54: 0 | Q54: 50 | S54: =Q54+P54+O54+N54+M54+L54+K54+J54+I54+H54+G54+F54 -> 150 | T54: =S54=E54 -> TRUE
A55: 2.4.9 | B55: Aplicação manual de pintura com tinta texturizada acrílica em panos com presença de vãos de edifícios de múltiplos pavimentos, duas cores. af_06/2014 | D55: M2 | E55: =F55+G55+H55+I55+J55+K55+L55+M55+N55+O55+P55+Q55 -> 500 | F55: 500 | G55: 0 | I55: 0 | L55: 0 | Q55: 0 | S55: =Q55+P55+O55+N55+M55+L55+K55+J55+I55+H55+G55+F55 -> 500 | T55: =S55=E55 -> TRUE
A56: 2.4.10 | B56: Aplicação manual de pintura com tinta texturizada acrílica em panos cegos de fachada (sem presença de vãos) de edifícios de múltiplos pavimentos, duas cores. af_06/2014 | D56: M2 | E56: =F56+G56+H56+I56+J56+K56+L56+M56+N56+O56+P56+Q56 -> 100 | F56: 100 | G56: 0 | I56: 0 | L56: 0 | Q56: 0 | S56: =Q56+P56+O56+N56+M56+L56+K56+J56+I56+H56+G56+F56 -> 100 | T56: =S56=E56 -> TRUE
A57: 2.4.11 | B57: Aplicação manual de pintura com tinta texturizada acrílica em molduras de eps. Af_03/2024 | D57: M2 | E57: =F57+G57+H57+I57+J57+K57+L57+M57+N57+O57+P57+Q57 -> 80 | F57: 30 | G57: 0 | I57: 0 | L57: 0 | Q57: 50 | S57: =Q57+P57+O57+N57+M57+L57+K57+J57+I57+H57+G57+F57 -> 80 | T57: =S57=E57 -> TRUE
A58: 2.4.12 | B58: Aplicação manual de tinta látex acrílica em panos com presença de vãos de edifícios de múltiplos pavimentos, duas demãos. af_11/2016 | D58: M2 | E58: =F58+G58+H58+I58+J58+K58+L58+M58+N58+O58+P58+Q58 -> 7050 | F58: 200 | G58: 0 | I58: 0 | K58: 6750 | L58: 0 | Q58: 100 | S58: =Q58+P58+O58+N58+M58+L58+K58+J58+I58+H58+G58+F58 -> 7050 | T58: =S58=E58 -> TRUE
A59: 2.4.13 | B59: Aplicação manual de tinta látex acrílica em panos sem presença de vãos de edifícios de múltiplos pavimentos, duas demãos. af_11/2016 | D59: M2 | E59: =F59+G59+H59+I59+J59+K59+L59+M59+N59+O59+P59+Q59 -> 250 | F59: 200 | G59: 0 | I59: 0 | L59: 0 | Q59: 50 | S59: =Q59+P59+O59+N59+M59+L59+K59+J59+I59+H59+G59+F59 -> 250 | T59: =S59=E59 -> TRUE
A60: 2.4.14 | B60: Aplicação de massa texturizada acrílica projetada em panos com presença de vãos de edifícios de múltiplos pavimentos, uma cor. af_06/2014 | D60: M2 | E60: =F60+G60+H60+I60+J60+K60+L60+M60+N60+O60+P60+Q60 -> 600 | F60: 500 | G60: 0 | I60: 0 | L60: 0 | Q60: 100 | S60: =Q60+P60+O60+N60+M60+L60+K60+J60+I60+H60+G60+F60 -> 600 | T60: =S60=E60 -> TRUE
A61: 2.4.15 | B61: Aplicação de massa texturizada acrílica projetada em panos cegos de fachada (sem presença de vãos) de edifícios de múltiplos pavimentos, uma cor. af_06/2014 | D61: M2 | E61: =F61+G61+H61+I61+J61+K61+L61+M61+N61+O61+P61+Q61 -> 6100 | F61: 100 | G61: 0 | I61: 6000 | L61: 0 | Q61: 0 | S61: =Q61+P61+O61+N61+M61+L61+K61+J61+I61+H61+G61+F61 -> 6100 | T61: =S61=E61 -> TRUE
A62: 2.4.16 | B62: Aplicação de massa texturizada acrílica projetada em panos com presença de vãos de edifícios de múltiplos pavimentos, duas cores. af_06/2014 | D62: M2 | E62: =F62+G62+H62+I62+J62+K62+L62+M62+N62+O62+P62+Q62 -> 6600 | F62: 500 | G62: 0 | I62: 6000 | L62: 0 | Q62: 100 | S62: =Q62+P62+O62+N62+M62+L62+K62+J62+I62+H62+G62+F62 -> 6600 | T62: =S62=E62 -> TRUE
A63: 2.4.17 | B63: Aplicação de massa texturizada acrílica projetada em panos cegos de fachada (sem presença de vãos) de edifícios de múltiplos pavimentos, duas cores. af_06/2014 | D63: M2 | E63: =F63+G63+H63+I63+J63+K63+L63+M63+N63+O63+P63+Q63 -> 2600 | F63: 100 | G63: 0 | I63: 0 | L63: 2500 | Q63: 0 | S63: =Q63+P63+O63+N63+M63+L63+K63+J63+I63+H63+G63+F63 -> 2600 | T63: =S63=E63 -> TRUE
A64: 3 | B64: PINTURA EM SUPERFÍCIE METÁLICA
A65: 3.1 | B65: AMBIENTES EM GERAL
A66: 3.1.1 | B66: Pintura com tinta alquídica de fundo (tipo zarcão) pulverizada sobre superfícies metálicas (exceto perfil) executado em obra (por demão). af_01/2020_pe | D66: M2 | E66: =F66+G66+H66+I66+J66+K66+L66+M66+N66+O66+P66+Q66 -> 750 | F66: 200 | G66: 0 | I66: 0 | L66: 500 | O66: 0 | Q66: 50 | S66: =Q66+P66+O66+N66+M66+L66+K66+J66+I66+H66+G66+F66 -> 750 | T66: =S66=E66 -> TRUE
A67: 3.1.2 | B67: Pintura com tinta alquídica de fundo (tipo zarcão) aplicada a rolo ou pincel sobre superfícies metálicas (exceto perfil) executado em obra (por demão). af_01/2020 | D67: M2 | E67: =F67+G67+H67+I67+J67+K67+L67+M67+N67+O67+P67+Q67 -> 600 | F67: 50 | G67: 0 | I67: 0 | L67: 500 | O67: 0 | Q67: 50 | S67: =Q67+P67+O67+N67+M67+L67+K67+J67+I67+H67+G67+F67 -> 600 | T67: =S67=E67 -> TRUE
A68: 3.1.3 | B68: Pintura com tinta alquídica de fundo e acabamento (esmalte sintético grafite) pulverizada sobre superfícies metálicas (exceto perfil) executado em obra (por demão). af_01/2020_pe | D68: M2 | E68: =F68+G68+H68+I68+J68+K68+L68+M68+N68+O68+P68+Q68 -> 750 | F68: 200 | G68: 0 | I68: 0 | L68: 500 | O68: 0 | Q68: 50 | S68: =Q68+P68+O68+N68+M68+L68+K68+J68+I68+H68+G68+F68 -> 750 | T68: =S68=E68 -> TRUE
A69: 3.1.4 | B69: Pintura com tinta alquídica de fundo e acabamento (esmalte sintético grafite) aplicada a rolo ou pincel sobre superfícies metálicas (exceto perfil) executado em obra (por demão). af_01/2020 | D69: M2 | E69: =F69+G69+H69+I69+J69+K69+L69+M69+N69+O69+P69+Q69 -> 600 | F69: 50 | G69: 0 | I69: 0 | L69: 500 | O69: 0 | Q69: 50 | S69: =Q69+P69+O69+N69+M69+L69+K69+J69+I69+H69+G69+F69 -> 600 | T69: =S69=E69 -> TRUE
A70: 3.1.5 | B70: Pintura com tinta acrílica de fundo pulverizada sobre superfícies metálicas (exceto perfil) executado em obra (por demão). af_01/2020_pe | D70: M2 | E70: =F70+G70+H70+I70+J70+K70+L70+M70+N70+O70+P70+Q70 -> 250 | F70: 200 | G70: 0 | I70: 0 | L70: 0 | O70: 0 | Q70: 50 | S70: =Q70+P70+O70+N70+M70+L70+K70+J70+I70+H70+G70+F70 -> 250 | T70: =S70=E70 -> TRUE
A71: 3.1.6 | B71: Pintura com tinta alquídica de acabamento (esmalte sintético acetinado) pulverizada sobre superfícies metálicas (exceto perfil) executado em obra (por demão). af_01/2020_pe | D71: M2 | E71: =F71+G71+H71+I71+J71+K71+L71+M71+N71+O71+P71+Q71 -> 250 | F71: 200 | G71: 0 | I71: 0 | L71: 0 | O71: 0 | Q71: 50 | S71: =Q71+P71+O71+N71+M71+L71+K71+J71+I71+H71+G71+F71 -> 250 | T71: =S71=E71 -> TRUE
A72: 3.1.7 | B72: Pintura com tinta alquídica de acabamento (esmalte sintético acetinado) aplicada a rolo ou pincel sobre superfícies metálicas (exceto perfil) executado em obra (por demão). af_01/2020 | D72: M2 | E72: =F72+G72+H72+I72+J72+K72+L72+M72+N72+O72+P72+Q72 -> 100 | F72: 50 | G72: 0 | I72: 0 | L72: 0 | O72: 0 | Q72: 50 | S72: =Q72+P72+O72+N72+M72+L72+K72+J72+I72+H72+G72+F72 -> 100 | T72: =S72=E72 -> TRUE
A73: 3.1.8 | B73: Pintura com tinta alquídica de acabamento (esmalte sintético brilhante) pulverizada sobre superfícies metálicas (exceto perfil) executado em obra (por demão). af_01/2020_pe | D73: M2 | E73: =F73+G73+H73+I73+J73+K73+L73+M73+N73+O73+P73+Q73 -> 891 | F73: 200 | G73: 350 | I73: 0 | L73: 0 | O73: 291 | Q73: 50 | S73: =Q73+P73+O73+N73+M73+L73+K73+J73+I73+H73+G73+F73 -> 891 | T73: =S73=E73 -> TRUE
A74: 3.1.9 | B74: Pintura com tinta alquídica de acabamento (esmalte sintético brilhante) aplicada a rolo ou pincel sobre superfícies metálicas (exceto perfil) executado em obra (por demão). af_01/2020 | D74: M2 | E74: =F74+G74+H74+I74+J74+K74+L74+M74+N74+O74+P74+Q74 -> 170 | F74: 50 | G74: 0 | I74: 0 | L74: 0 | N74: 70 | O74: 0 | Q74: 50 | S74: =Q74+P74+O74+N74+M74+L74+K74+J74+I74+H74+G74+F74 -> 170 | T74: =S74=E74 -> TRUE
A75: 4 | B75: PINTURA EM MADEIRA
A76: 4.1 | B76: AMBIENTES EM GERAL
A77: 4.1.1 | B77: Aplicação massa alquídica para madeira, para pintura com tinta de acabamento (pigmentada). af_01/2021 | D77: M2 | E77: =F77+G77+H77+I77+J77+K77+L77+M77+N77+O77+P77+Q77 -> 1190 | F77: 50 | G77: 0 | I77: 500 | L77: 250 | M77: 90 | O77: 0 | Q77: 300 | S77: =Q77+P77+O77+N77+M77+L77+K77+J77+I77+H77+G77+F77 -> 1190 | T77: =S77=E77 -> TRUE
A78: 4.1.2 | B78: Lixamento de massa para madeira. af_01/2021 | D78: M2 | E78: =F78+G78+H78+I78+J78+K78+L78+M78+N78+O78+P78+Q78 -> 1100 | F78: 50 | G78: 0 | I78: 500 | L78: 250 | O78: 0 | Q78: 300 | S78: =Q78+P78+O78+N78+M78+L78+K78+J78+I78+H78+G78+F78 -> 1100 | T78: =S78=E78 -> TRUE
A79: 4.1.3 | B79: Pintura tinta de acabamento (pigmentada) esmalte sintético acetinado em madeira, 1 demão. af_01/2021 | D79: M2 | E79: =F79+G79+H79+I79+J79+K79+L79+M79+N79+O79+P79+Q79 -> 972 | F79: 50 | G79: 20 | I79: 0 | L79: 500 | M79: 90 | O79: 12 | Q79: 300 | S79: =Q79+P79+O79+N79+M79+L79+K79+J79+I79+H79+G79+F79 -> 972 | T79: =S79=E79 -> TRUE
A80: 4.1.4 | B80: Pintura tinta de acabamento (pigmentada) esmalte sintético brilhante em madeira, 1 demão. af_01/2021 | D80: M2 | E80: =F80+G80+H80+I80+J80+K80+L80+M80+N80+O80+P80+Q80 -> 1350 | F80: 50 | G80: 0 | I80: 500 | L80: 500 | O80: 0 | Q80: 300 | S80: =Q80+P80+O80+N80+M80+L80+K80+J80+I80+H80+G80+F80 -> 1350 | T80: =S80=E80 -> TRUE
A81: 4.1.5 | B81: Pintura verniz (incolor) alquídico em madeira, uso interno e externo, 1 demão. af_01/2021 | D81: M2 | E81: =F81+G81+H81+I81+J81+K81+L81+M81+N81+O81+P81+Q81 -> 850 | F81: 50 | G81: 0 | I81: 0 | L81: 500 | O81: 0 | Q81: 300 | S81: =Q81+P81+O81+N81+M81+L81+K81+J81+I81+H81+G81+F81 -> 850 | T81: =S81=E81 -> TRUE
A82: 4.1.6 | B82: Pintura verniz (incolor) poliuretânico (resina alquídica modificada) em madeira, 1 demão. af_01/2021 | D82: M2 | E82: =F82+G82+H82+I82+J82+K82+L82+M82+N82+O82+P82+Q82 -> 850 | F82: 50 | G82: 0 | I82: 0 | L82: 500 | O82: 0 | Q82: 300 | S82: =Q82+P82+O82+N82+M82+L82+K82+J82+I82+H82+G82+F82 -> 850 | T82: =S82=E82 -> TRUE
A83: 4.1.7 | B83: Pintura imunizante para madeira, 1 demão. af_01/2021 | D83: M2 | E83: =F83+G83+H83+I83+J83+K83+L83+M83+N83+O83+P83+Q83 -> 1000 | F83: 200 | G83: 0 | I83: 0 | L83: 500 | O83: 0 | Q83: 300 | S83: =Q83+P83+O83+N83+M83+L83+K83+J83+I83+H83+G83+F83 -> 1000 | T83: =S83=E83 -> TRUE
A84: 5 | B84: PINTURA EM QUADRA ESPORTIVA
A85: 5.1 | B85: PISO CIMENTADO
A86: 5.1.1 | B86: Pintura de demarcação de quadra poliesportiva com tinta epóxi, E = 5 cm, aplicação manual. af_05/2021 | D86: M | E86: =F86+G86+H86+I86+J86+K86+L86+M86+N86+O86+P86+Q86 -> 355 | F86: 200 | G86: 30 | I86: 0 | L86: 100 | O86: 25 | S86: =Q86+P86+O86+N86+M86+L86+K86+J86+I86+H86+G86+F86 -> 355 | T86: =S86=E86 -> TRUE
A87: 5.1.2 | B87: Pintura de demarcação de quadra poliesportiva com tinta acrílica, E = 5 cm, aplicação manual. af_05/2021 | D87: M | E87: =F87+G87+H87+I87+J87+K87+L87+M87+N87+O87+P87+Q87 -> 3000 | F87: 1500 | G87: 0 | I87: 0 | L87: 1500 | O87: 0 | S87: =Q87+P87+O87+N87+M87+L87+K87+J87+I87+H87+G87+F87 -> 3000 | T87: =S87=E87 -> TRUE
A88: 5.1.3 | B88: Pintura de piso com tinta acrílica, aplicação manual, 2 demãos, incluso fundo preparador. af_05/2021 | D88: M2 | E88: =F88+G88+H88+I88+J88+K88+L88+M88+N88+O88+P88+Q88 -> 8000 | F88: =6000 -> 6000 | G88: 0 | I88: 0 | L88: 2000 | O88: 0
A89: 5.1.4 | B89: Pintura de piso com tinta acrílica, aplicação manual, 3 demãos, incluso fundo preparador. af_05/2021 | D89: M2 | E89: =F89+G89+H89+I89+J89+K89+L89+M89+N89+O89+P89+Q89 -> 1250 | F89: 50 | G89: 0 | I89: 200 | L89: 1000 | O89: 0 | S89: =Q89+P89+O89+N89+M89+L89+K89+J89+I89+H89+G89+F89 -> 1250 | T89: =S89=E89 -> TRUE
A90: 5.1.5 | B90: Pintura de piso com tinta epóxi, aplicação manual, 2 demãos, incluso primer epóxi. af_05/2021 | D90: M2 | E90: =F90+G90+H90+I90+J90+K90+L90+M90+N90+O90+P90+Q90 -> 1000 | F90: 50 | G90: 400 | I90: 0 | L90: 100 | O90: 400 | Q90: 50 | S90: =Q90+P90+O90+N90+M90+L90+K90+J90+I90+H90+G90+F90 -> 1000 | T90: =S90=E90 -> TRUE
T91: =S91=E91 -> TRUE

Sheet INCC
A1: Mês | B1: Índice | C1: Variação (%)
C2: No mês | D2: No ano | E2: 12 meses | G2: EM REL. À fev/24
A3: 44927 | B3: 1056.418 | C3: 0.46 | D3: 0.46 | E3: 9
A4: 44958 | B4: 1056.896 | C4: 0.05 | D4: 0.5 | E4: 8.63
A5: 44986 | B5: 1060.116 | C5: 0.3 | D5: 0.81 | E5: 8.04
A6: 45017 | B6: 1061.635 | C6: 0.14 | D6: 0.95 | E6: 7.18
A7: 45047 | B7: 1067.919 | C7: 0.59 | D7: 1.55 | E7: 5.4
A8: 45078 | B8: 1075.54 | C8: 0.71 | D8: 2.27 | E8: 3.93
A9: 45108 | B9: 1076.626 | C9: 0.1 | D9: 2.38 | E9: 3.15
A10: 45139 | B10: 1078.412 | C10: 0.17 | D10: 2.55 | E10: 3.23
A11: 45170 | B11: 1082.104 | C11: 0.34 | D11: 2.9 | E11: 3.49
A12: 45200 | B12: 1084.242 | C12: 0.2 | D12: 3.1 | E12: 3.57
A13: 45231 | B13: 1084.986 | C13: 0.07 | D13: 3.17 | E13: 3.26
A14: 45261 | B14: 1088.312 | C14: 0.31 | D14: 3.49 | E14: 3.49
A15: 45292 | B15: 1091.25 | C15: 0.27 | D15: 0.27 | E15: 3.3
A16: 45323 | B16: 1092.685 | C16: 0.28 | D16: 0.68 | E16: 3.36 | G16: =(B17-B16)/B16 -> 0.0027940349
A17: 45352 | B17: 1095.738 | C17: 0,28 | D17: 0,68 | E17: 3,36
A18: 45383
A19: 45413
A20: 45444
A21: 45474
A22: 45505
A23: 45536
A24: 45566
A25: 45597
A26: 45627

Sheet BDI

Sheet Cotações
B1: MUNICÍPIO DE PINHAIS
B2: RODOVIA JOAO LEOPOLDO JACOMEL - 12162, Centro
B3: CEP: 83323410 - Pinhais - PR
A4: Data de referência | C4: 45323 | E4: Encargos sociais desonerados | F4: 113.35 % (HORA) - 71.47 % (MÊS)
A6: Empreendimento | C6: 32 - Pintura imobiliária
A7: Cotações
A9: 2942312161607 - 12/2023 | C9: Tinta esmalte acetinado preto, efeito lousa seca, lata de 800 ml - Tinta esmalte acetinado preto, efeito lousa seca, lata de 800 ml | L9: =AVERAGE(L13:L16) -> 38.535
A10: Unidade | C10: UN | E10: % Material | F10: 100
A11: Data | C11: 06/02/2024 | E11: % Serviço | F11: 0
A12: CNPJ | C12: Fornecedor | D12: Cidade | E12: Contato | F12: Valor da Proposta (R$) | G12: Data 01 | H12: Valor da Proposta (R$) | I12: Data 02 | J12: Valor Considerado (R$) | K12: CORREÇÃO INCC PARA 02/2024 | L12: Custo Unitário Data-Base 02/2024 (sem BDI)
A13: 68987742000196 | C13: RECANTO COMERCIO DE TINTAS LTDA | D13: SAO PAULO - SP | E13: 1127418291 | F13: 39.9 | G13: 06/02/2024 | H13: 39.9 | I13: 45415 | J13: =F13 -> 39.9 | L13: =J13 -> 39.9
A14: 61759205000140 | C14: ANEDA COMERCIO DE TINTAS E FERRAGENS LTDA | D14: SANTO ANDRE - SP | F14: 30.01 | G14: 06/02/2024 | J14: =F14 -> 30.01 | L14: =J14 -> 30.01
A15: 30246615000163 | C15: CASA COSTA DAS TINTAS LTDA | D15: DUQUE DE CAXIAS - RJ | F15: 39.33 | G15: 06/02/2024 | J15: =F15 -> 39.33 | L15: =J15 -> 39.33
A16: 44980935000157 | C16: MOGICOR DISTRIBUIDORA LTDA | D16: MOGI DAS CRUZES - SP | F16: 44.9 | G16: 06/02/2024 | J16: =F16 -> 44.9 | L16: =J16 -> 44.9
A17: 2942401163060 - 12/2023 | C17: CONVERTEDOR DE FERRUGEM TF7 500ML | L17: =AVERAGE(L21:L24) -> 19.5325
A18: Unidade | C18: UN | E18: % Material | F18: 100
A19: Data | C19: 31/12/2023 | E19: % Serviço | F19: 0
A20: CNPJ | C20: Fornecedor | D20: Cidade | E20: Contato | F20: Valor da Proposta (R$) | G20: Data | H20: Valor da Proposta (R$) | I20: Data 02 | J20: Valor Considerado (R$) | K20: CORREÇÃO INCC PARA 02/2024 | L20: Custo Unitário Data-Base 02/2024 (sem BDI)
A21: 15430669000190 | C21: ARTUR ZIG ROSENBLATT FERRAMENTAS | D21: SAO PAULO - SP | E21: 11991912810 | H21: 25.8 | I21: 45414 | J21: =H21 -> 25.8 | K21: =ROUND((INCC!$B$17-INCC!$B$16)/INCC!$B$16,4) -> 0.0028 | L21: =ROUND(J21*(1-K21),2) -> 25.73
A22: 42542182000172 | C22: WS SERVICOS LTDA | D22: SAO PAULO - SP | E22: 11951483950 | H22: 14.38 | I22: 45414 | J22: =H22 -> 14.38 | K22: =ROUND((INCC!$B$17-INCC!$B$16)/INCC!$B$16,4) -> 0.0028 | L22: =ROUND(J22*(1-K22),2) -> 14.34
A23: 02492310000872 | C23: A. SILVA FERRAGENS LTDA | D23: CRICIUMA - SC | E23: 4834315800 | H23: 19.67 | I23: 45414 | J23: =H23 -> 19.67 | K23: =ROUND((INCC!$B$17-INCC!$B$16)/INCC!$B$16,4) -> 0.0028 | L23: =ROUND(J23*(1-K23),2) -> 19.61
A24: 08858579/0015-35 | C24: SUPER-PRO COMÉRCIO DE EQUIP. E FERRAM. LTDA | D24: NAVEGANTES - SC | E24: 8009421850 | H24: =ROUND(36.99/2,2) -> 18.5 | I24: 45414 | J24: =H24 -> 18.5 | K24: =ROUND((INCC!$B$17-INCC!$B$16)/INCC!$B$16,4) -> 0.0028 | L24: =ROUND(J24*(1-K24),2) -> 18.45
A25: 2942401163103 - 12/2023 | C25: Tinta Acrílica Premium Cores Variadas (Ref. De cotação Lata de 16L.) | L25: =AVERAGE(L29:L32)/16 -> 40.291406
A26: Unidade | C26: L | E26: % Material | F26: 100
A27: Data | C27: 31/01/2024 | E27: % Serviço | F27: 0
A28: CNPJ | C28: Fornecedor | D28: Cidade | E28: Contato | F28: Valor da Proposta (R$) | G28: Data 01 | H28: Valor da Proposta (R$) | I28: Data 02 | J28: Valor Considerado (R$) | K28: CORREÇÃO INCC PARA 02/2024 | L28: Custo Unitário Data-Base 02/2024 (sem BDI)
A29: 84866342002807 | C29: COMERCIO DE TINTAS MATERIAL ELETRICO E HIDRAULICO VERGINIA LTDA | D29: PINHAIS - PR | E29: 4131663366 | F29: 610 | G29: 30/01/2024 | J29: =F29 -> 610 | L29: =ROUND(J29*(1-K29),2) -> 610
A30: 57483034005403 | C30: TINTAS CORAL LTDA | D30: SANTO ANDRE - SP | E30: 1132074125 | H30: 586.3 | I30: 45415 | J30: =H30 -> 586.3 | K30: =ROUND((INCC!$B$17-INCC!$B$16)/INCC!$B$16,4) -> 0.0028 | L30: =ROUND(J30*(1-K30),2) -> 584.66
A31: 62048590000422 | C31: VAREJÃO TINTAS LTDA | D31: SÃO JOSÉ DOS CAMPOS - SP | E31: 3133777970 | H31: 632.54 | I31: 45415 | J31: =H31 -> 632.54 | K31: =ROUND((INCC!$B$17-INCC!$B$16)/INCC!$B$16,4) -> 0.0028 | L31: =ROUND(J31*(1-K31),2) -> 630.77
A32: 1887122000104 | C32: TINTAS DARKA | D32: SÃO JOSÉ DOS PINHAIS - PR | E32: 4198440384 | H32: 755.33 | I32: 45415 | J32: =H32 -> 755.33 | K32: =ROUND((INCC!$B$17-INCC!$B$16)/INCC!$B$16,4) -> 0.0028 | L32: =ROUND(J32*(1-K32),2) -> 753.22

Sheet COMPOSIÇÕES
B1: MUNICÍPIO DE PINHAIS
B2: RODOVIA JOAO LEOPOLDO JACOMEL - 12162, Centro
B3: CEP: 83323410 - Pinhais - PR
A4: Data de referência | E4: Encargos sociais sem desoneração | H4: 113.35 % (HORA) - 71.47 % (MÊS)
A5: COMPOSIÇÕES DO ORÇAMENTO
A6: Empreendimento | D6: 32 - Pintura imobiliária - 2024
A7: Composição do Serviço
A9: C.P. 2942310153213 - 02/2024 | C9: PRIMER CONVERTEDOR DE FERRUGEM EM FUNDO DE PROTECAO, DUAS DEMAOS. FORNECIMENTO E APLICAÇÃO. | L9: M2
A10: Referência | C10: Descrição dos Serviços | F10: Unidade | G10: Tipo | I10: Coef. | K10: Unitário (R$) | L10: Total (R$)
A11: 3768 - SINAPI/PR 02/2024 | C11: Lixa em folha para ferro, numero 150 | F11: UN | G11: INSUMO | I11: 0.25 | K11: 4.64 | L11: 1.16
A12: 88310 - SINAPI/PR 02/2024 | C12: Pintor com encargos complementares | F12: H | G12: COMPOSIÇÃO | I12: 0.08 | K12: 36.18 | L12: 2.89
A13: 88316 - SINAPI/PR 02/2024 | C13: Servente com encargos complementares | F13: H | G13: COMPOSIÇÃO | I13: 0.04 | K13: 26.9 | L13: 1.08
A14: 2942401163060 - Cotação 02/2024 | C14: Convertedor de ferrugem tf7 500ml | F14: UN | G14: INSUMO | I14: 0.125 | K14: 19.53 | L14: 2.44
K15: TOTAL (R$) | L15: 7.57
A16: C.P. 2942310153230 - 02/2024 | C16: APLICAÇÃO MANUAL DE MASSA DE REJUNTE PRONTA PARA TRATAMENTO DE JUNTAS, EM PAREDES DE DRYWALL | L16: M2
A17: Referência | C17: Descrição dos Serviços | F17: Unidade | G17: Tipo | I17: Coef. | K17: Unitário (R$) | L17: Total (R$)
A18: 88269 - SINAPI/PR 02/2024 | C18: Gesseiro com encargos complementares | F18: H | G18: COMPOSIÇÃO | I18: 0.33 | K18: 33.23 | L18: 10.97
A19: 88316 - SINAPI/PR 02/2024 | C19: Servente com encargos complementares | F19: H | G19: COMPOSIÇÃO | I19: 0.07 | K19: 26.9 | L19: 1.88
A20: 39433 - SINAPI/PR 02/2024 | C20: Massa de rejunte pronta para tratamento de juntas de chapa de gesso para drywall, sem adicao de agua | F20: KG | G20: INSUMO | I20: 9.65 | K20: 2.76 | L20: 26.63
K21: TOTAL (R$) | L21: 39.48
A22: C.P. 2942311155268 - 02/2024 | C22: APLICAÇÃO DE MASSA TEXTURIZADA ACRÍLICA PROJETADA EM PANOS COM PRESENÇA DE VÃOS DE EDIFÍCIOS DE MÚLTIPLOS PAVIMENTOS, UMA COR. AF_06/2014 | L22: M2
A23: Referência | C23: Descrição dos Serviços | F23: Unidade | G23: Tipo | I23: Coef. | K23: Unitário (R$) | L23: Total (R$)
A24: 38877 - SINAPI/PR 02/2024 | C24: Massa premium para textura lisa de base acrilica, uso interno e externo | F24: KG | G24: INSUMO | I24: 3 | K24: 6.41 | L24: 19.23
A25: 88310 - SINAPI/PR 02/2024 | C25: Pintor com encargos complementares | F25: H | G25: COMPOSIÇÃO | I25: 0.151 | K25: 36.18 | L25: 5.46
A26: 88316 - SINAPI/PR 02/2024 | C26: Servente com encargos complementares | F26: H | G26: COMPOSIÇÃO | I26: 0.038 | K26: 26.9 | L26: 1.02
A27: 88418 - SINAPI/PR 02/2024 | C27: Projetor de argamassa, capacidade de projeção 1,5 m3/h, alcance de 30 até 60 m, motor elétrico potência 7,5 HP - CHP diurno. af_06/2014 | F27: CHP | G27: COMPOSIÇÃO | I27: 0.16 | K27: 13.3 | L27: 2.13
A28: 88430 - SINAPI/PR 02/2024 | C28: Projetor de argamassa, capacidade de projeção 1,5 m3/h, alcance de 30 até 60 m, motor elétrico potência 7,5 HP - CHI diurno. af_06/2014 | F28: CHI | G28: COMPOSIÇÃO | I28: 0.04 | K28: 6.23 | L28: 0.25
K29: TOTAL (R$) | L29: 28.09
A30: C.P. 2942311155272 - 02/2024 | C30: APLICAÇÃO DE MASSA TEXTURIZADA ACRÍLICA PROJETADA EM PANOS CEGOS DE FACHADA (SEM PRESENÇA DE VÃOS) DE EDIFÍCIOS DE MÚLTIPLOS PAVIMENTOS, UMA COR. AF_06/2014 | L30: M2
A31: Referência | C31: Descrição dos Serviços | F31: Unidade | G31: Tipo | I31: Coef. | K31: Unitário (R$) | L31: Total (R$)
A32: 38877 - SINAPI/PR 02/2024 | C32: Massa premium para textura lisa de base acrilica, uso interno e externo | F32: KG | G32: INSUMO | I32: 3 | K32: 6.41 | L32: 19.23
A33: 88310 - SINAPI/PR 02/2024 | C33: Pintor com encargos complementares | F33: H | G33: COMPOSIÇÃO | I33: 0.072 | K33: 36.18 | L33: 2.6
A34: 88316 - SINAPI/PR 02/2024 | C34: Servente com encargos complementares | F34: H | G34: COMPOSIÇÃO | I34: 0.018 | K34: 26.9 | L34: 0.48
A35: 88418 - SINAPI/PR 02/2024 | C35: Projetor de argamassa, capacidade de projeção 1,5 m3/h, alcance de 30 até 60 m, motor elétrico potência 7,5 HP - CHP diurno. af_06/2014 | F35: CHP | G35: COMPOSIÇÃO | I35: 0.16 | K35: 13.3 | L35: 2.13
A36: 88430 - SINAPI/PR 02/2024 | C36: Projetor de argamassa, capacidade de projeção 1,5 m3/h, alcance de 30 até 60 m, motor elétrico potência 7,5 HP - CHI diurno. af_06/2014 | F36: CHI | G36: COMPOSIÇÃO | I36: 0.04 | K36: 6.23 | L36: 0.25
K37: TOTAL (R$) | L37: 24.69
A38: C.P. 2942311155275 - 02/2024 | C38: APLICAÇÃO DE MASSA TEXTURIZADA ACRÍLICA PROJETADA EM PANOS COM PRESENÇA DE VÃOS DE EDIFÍCIOS DE MÚLTIPLOS PAVIMENTOS, DUAS CORES. AF_06/2014 | L38: M2
A39: Referência | C39: Descrição dos Serviços | F39: Unidade | G39: Tipo | I39: Coef. | K39: Unitário (R$) | L39: Total (R$)
A40: 38877 - SINAPI/PR 02/2024 | C40: Massa premium para textura lisa de base acrilica, uso interno e externo | F40: KG | G40: INSUMO | I40: 3 | K40: 6.41 | L40: 19.23
A41: 88310 - SINAPI/PR 02/2024 | C41: Pintor com encargos complementares | F41: H | G41: COMPOSIÇÃO | I41: 0.26 | K41: 36.18 | L41: 9.41
A42: 88316 - SINAPI/PR 02/2024 | C42: Servente com encargos complementares | F42: H | G42: COMPOSIÇÃO | I42: 0.065 | K42: 26.9 | L42: 1.75
A43: 88418 - SINAPI/PR 02/2024 | C43: Projetor de argamassa, capacidade de projeção 1,5 m3/h, alcance de 30 até 60 m, motor elétrico potência 7,5 HP - CHP diurno. af_06/2014 | F43: CHP | G43: COMPOSIÇÃO | I43: 0.16 | K43: 13.3 | L43: 2.13
A44: 88430 - SINAPI/PR 02/2024 | C44: Projetor de argamassa, capacidade de projeção 1,5 m3/h, alcance de 30 até 60 m, motor elétrico potência 7,5 HP - CHI diurno. af_06/2014 | F44: CHI | G44: COMPOSIÇÃO | I44: 0.04 | K44: 6.23 | L44: 0.25
K45: TOTAL (R$) | L45: 32.77
A46: C.P. 2942311155276 - 02/2024 | C46: APLICAÇÃO DE MASSA TEXTURIZADA ACRÍLICA PROJETADA EM PANOS CEGOS DE FACHADA (SEM PRESENÇA DE VÃOS) DE EDIFÍCIOS DE MÚLTIPLOS PAVIMENTOS, DUAS CORES. AF_06/2014 | L46: M2
A47: Referência | C47: Descrição dos Serviços | F47: Unidade | G47: Tipo | I47: Coef. | K47: Unitário (R$) | L47: Total (R$)
A48: 38877 - SINAPI/PR 02/2024 | C48: Massa premium para textura lisa de base acrilica, uso interno e externo | F48: KG | G48: INSUMO | I48: 3 | K48: 6.41 | L48: 19.23
A49: 88310 - SINAPI/PR 02/2024 | C49: Pintor com encargos complementares | F49: H | G49: COMPOSIÇÃO | I49: 0.123 | K49: 36.18 | L49: 4.45
A50: 88316 - SINAPI/PR 02/2024 | C50: Servente com encargos complementares | F50: H | G50: COMPOSIÇÃO | I50: 0.031 | K50: 26.9 | L50: 0.83
A51: 88418 - SINAPI/PR 02/2024 | C51: Projetor de argamassa, capacidade de projeção 1,5 m3/h, alcance de 30 até 60 m, motor elétrico potência 7,5 HP - CHP diurno. af_06/2014 | F51: CHP | G51: COMPOSIÇÃO | I51: 0.16 | K51: 13.3 | L51: 2.13
A52: 88430 - SINAPI/PR 02/2024 | C52: Projetor de argamassa, capacidade de projeção 1,5 m3/h, alcance de 30 até 60 m, motor elétrico potência 7,5 HP - CHI diurno. af_06/2014 | F52: CHI | G52: COMPOSIÇÃO | I52: 0.04 | K52: 6.23 | L52: 0.25
K53: TOTAL (R$) | L53: 26.89
A54: C.P. 2942311155290 - 02/2024 | C54: Colocação, manutenção e retirada de lona, com reaproveitamento, isolamento/proteção para pintura | L54: m2
A55: Referência | C55: Descrição dos Serviços | F55: Unidade | G55: Tipo | I55: Coef. | K55: Unitário (R$) | L55: Total (R$)
A56: 3777 - SINAPI/PR 02/2024 | C56: Lona plastica pesada preta, E = 150 micra | F56: M2 | G56: INSUMO | I56: 1.1 | K56: 1.3 | L56: 1.43
A57: 88316 - SINAPI/PR 02/2024 | C57: Servente com encargos complementares | F57: H | G57: COMPOSIÇÃO | I57: 0.106 | K57: 26.9 | L57: 2.85
K58: TOTAL (R$) | L58: 4.28
A59: C.P. 2942312161612 - 02/2024 | C59: PINTURA COM TINTA ESMALTE ACETINADO EFEITO LOUSA SECA, APLICADA A ROLO OU PINCEL EM PAREDES, 2 DEMÃOS | L59: M2
A60: Referência | C60: Descrição dos Serviços | F60: Unidade | G60: Tipo | I60: Coef. | K60: Unitário (R$) | L60: Total (R$)
A61: 5318 - SINAPI/PR 02/2024 | C61: Diluente aguarras | F61: L | G61: INSUMO | I61: 0.0127 | K61: 20.9 | L61: 0.27
A62: 88310 - SINAPI/PR 02/2024 | C62: Pintor com encargos complementares | F62: H | G62: COMPOSIÇÃO | I62: 0.6779 | K62: 36.18 | L62: 24.53
A63: 2942312161607 - Cotação 02/2024 | C63: Tinta esmalte acetinado preto, efeito lousa seca, lata de 800 ml - tinta esmalte acetinado preto, efeito lousa seca, lata de 800 ml | F63: UN | G63: INSUMO | I63: 0.1176 | K63: 38.54 | L63: 4.53
K64: TOTAL (R$) | L64: 29.33
A65: C.P. 2942401163109 - 02/2024 | C65: Aplicação manual de pintura com tinta látex acrílica em paredes externas, cores variadas, duas demãos. ref. suvinil, renner, sherwin willians, coral, lukscolor ou equivalente | L65: M2
A66: Referência | C66: Descrição dos Serviços | F66: Unidade | G66: Tipo | I66: Coef. | K66: Unitário (R$) | L66: Total (R$)
A67: 7356 - SINAPI/PR 02/2024 | C67: Tinta latex acrilica premium, cor branco fosco | F67: L | G67: INSUMO | I67: 0.06 | K67: 26.85 | L67: 1.61
A68: 88310 - SINAPI/PR 02/2024 | C68: Pintor com encargos complementares | F68: H | G68: COMPOSIÇÃO | I68: 0.344 | K68: 36.18 | L68: 12.45
A69: 88316 - SINAPI/PR 02/2024 | C69: Servente com encargos complementares | F69: H | G69: COMPOSIÇÃO | I69: 0.086 | K69: 26.9 | L69: 2.31
A70: 2942401163103 - Cotação 02/2024 | C70: Tinta Acrílica Premium Cores Variadas (Ref. De cotação Lata de 16L.) | F70: L | G70: INSUMO | I70: 0.14 | K70: 40.29 | L70: 5.64
K71: TOTAL (R$) | L71: 22.01
A72: C.P. 2942402163142 - 02/2024 | C72: Aplicação manual de pintura com tinta látex acrílica em paredes internas, cores variadas, duas demãos. ref. suvinil, renner, sherwin willians, coral, lukscolor ou equivalente | L72: M2
A73: Referência | C73: Descrição dos Serviços | F73: Unidade | G73: Tipo | I73: Coef. | K73: Unitário (R$) | L73: Total (R$)
A74: 7356 - SINAPI/PR 02/2024 | C74: Tinta latex acrilica premium, cor branco fosco | F74: L | G74: INSUMO | I74: 0.06855 | K74: 26.85 | L74: 1.84
A75: 88310 - SINAPI/PR 02/2024 | C75: Pintor com encargos complementares | F75: H | G75: COMPOSIÇÃO | I75: 0.1631 | K75: 36.18 | L75: 5.9
A76: 88316 - SINAPI/PR 02/2024 | C76: Servente com encargos complementares | F76: H | G76: COMPOSIÇÃO | I76: 0.0544 | K76: 26.9 | L76: 1.46
A77: 2942401163103 - Cotação 02/2024 | C77: Tinta Acrílica Premium Cores Variadas (Ref. De cotação Lata de 16L.) | F77: L | G77: INSUMO | I77: 0.15995 | K77: 40.29 | L77: 6.44
K78: TOTAL (R$) | L78: 15.64
A79: Responsável técnico pelos ítens:
A80: Jader Aran Martim - CREA PR 199547/D
A82: 13642_v18 - Em Análise Emissão em 14/05/2024 16:25:28 | J82: Página 1 de 1

Sheet ORÇAMENTO
B1: MUNICÍPIO DE PINHAIS
B2: RODOVIA JOAO LEOPOLDO JACOMEL - 12162, Centro
B3: CEP: 83323410 - Pinhais - PR
A4: OBRA: | B4: 32 - PINTURA IMOBILIÁRIA
A5: ENDEREÇO: | B5: PINHAIS/PR
A6: PLANILHA ORÇAMENTÁRIA
A7: BDI: | C7: 0.2034 | M7: SEMOP | O7: SEMAD | Q7: SEMUR | S7: SEMSA | U7: SEPFO | W7: SEMMA | Y7: SEMED | AA7: SEMEL | AC7: SESET | AE7: SEMAS | AG7: SEMDE | AI7: P. PREV.
A8: BASE DO ORÇAMENTO: | C8: SINAPI/PR 02/2024, Composição Própria 02/2024, Cotação 02/2024 | M8: QUANTIDADE | N8: VALOR | O8: QUANTIDADE | P8: VALOR | Q8: QUANTIDADE | R8: VALOR | S8: QUANTIDADE | T8: VALOR | U8: QUANTIDADE | V8: VALOR | W8: QUANTIDADE | X8: VALOR | Y8: QUANTIDADE | Z8: VALOR | AA8: QUANTIDADE | AB8: VALOR | AC8: QUANTIDADE | AD8: VALOR | AE8: QUANTIDADE | AF8: VALOR | AG8: QUANTIDADE | AH8: VALOR | AI8: QUANTIDADE | AJ8: VALOR
A9: ITEM | B9: DESCRIÇÃO | D9: REFERÊNCIA | E9: UN. | F9: QUANT. | G9: CUSTO UN.(R$) | H9: BDI(%) | I9: PREÇO(R$) | K9: PREÇO TOTAL(R$)
A10: 1 | B10: SERVIÇOS PRELIMINARES | K10: =K11 -> 400276.62
A11: 1.1 | B11: TRATAMENTO, PREPARO E LIMPEZA DE SUPERFÍCIE | K11: =SUM(K12:K22) -> 400276.62
A12: 1.1.1 | B12: Lixamento manual em superfícies metálicas em obra. af_01/2020 | D12: 100717 - SINAPI/PR 12/2023 | E12: M2 | F12: =M12+O12+Q12+S12+U12+W12+Y12+AA12+AC12+AE12+AG12+AI12 -> 3601 | G12: 12.19 | H12: =$C$7 -> 0.2034 | I12: =ROUND(G12*(1+H12),2) -> 14.67 | K12: =ROUND(I12*F12,2) -> 52826.67 | M12: 50 | N12: =$I$12*M12 -> 733.5 | O12: 170 | P12: =$I$12*O12 -> 2493.9 | Q12: 0 | R12: =$I$12*Q12 -> 0 | S12: 1200 | T12: =$I$12*S12 -> 17604 | U12: 0 | V12: =$I$12*U12 -> 0 | W12: 0 | X12: =ROUND(W12*$I$21,2) -> 0 | Y12: 2000 | Z12: =$I$12*Y12 -> 29340 | AB12: =$I$12*AA12 -> 0 | AD12: =$I$12*AC12 -> 0 | AE12: 166 | AF12: =$I$12*AE12 -> 2435.22 | AH12: =$I$12*AG12 -> 0 | AI12: 15 | AJ12: =$I$12*AI12 -> 220.05 | AL12: =AI12+AG12+AE12+AC12+AA12+Y12+W12+U12+S12+Q12+O12+M12 -> 3601 | AM12: =AJ12+AH12+AF12+AD12+AB12+Z12+X12+V12+T12+R12+P12+N12 -> 52826.67 | AN12: =AL12=F12 -> TRUE | AO12: =AM12=K12 -> TRUE
A13: 1.1.2 | B13: Lixamento de madeira para aplicação de fundo ou pintura. af_01/2021 | D13: 102193 - SINAPI/PR 12/2023 | E13: M2 | F13: =M13+O13+Q13+S13+U13+W13+Y13+AA13+AC13+AE13+AG13+AI13 -> 3950 | G13: 2.57 | H13: =$C$7 -> 0.2034 | I13: =ROUND(G13*(1+H13),2) -> 3.09 | K13: =ROUND(I13*F13,2) -> 12205.5 | M13: 50 | N13: =$I$13*M13 -> 154.5 | O13: 0 | P13: =$I$13*O13 -> 0 | Q13: 0 | R13: =$I$13*Q13 -> 0 | S13: 1200 | T13: =$I$13*S13 -> 3708 | U13: 0 | V13: =$I$13*U13 -> 0 | W13: 0 | X13: =ROUND(W13*$I$22,2) -> 0 | Y13: 2500 | Z13: =$I$13*Y13 -> 7725 | AB13: =$I$13*AA13 -> 0 | AD13: =$I$13*AC13 -> 0 | AE13: 0 | AF13: =$I$13*AE13 -> 0 | AH13: =$I$13*AG13 -> 0 | AI13: 200 | AJ13: =$I$13*AI13 -> 618 | AL13: =AI13+AG13+AE13+AC13+AA13+Y13+W13+U13+S13+Q13+O13+M13 -> 3950 | AM13: =AJ13+AH13+AF13+AD13+AB13+Z13+X13+V13+T13+R13+P13+N13 -> 12205.5 | AN13: =AL13=F13 -> TRUE | AO13: =AM13=K13 -> TRUE
A14: 1.1.3 | B14: Preparo do piso cimentado para pintura - lixamento e limpeza. af_05/2021 | D14: 102488 - SINAPI/PR 12/2023 | E14: M2 | F14: =M14+O14+Q14+S14+U14+W14+Y14+AA14+AC14+AE14+AG14+AI14 -> 6200 | G14: 4.47 | H14: =$C$7 -> 0.2034 | I14: =ROUND(G14*(1+H14),2) -> 5.38 | K14: =ROUND(I14*F14,2) -> 33356 | M14: 150 | N14: =$I$14*M14 -> 807 | O14: 500 | P14: =$I$14*O14 -> 2690 | Q14: 0 | R14: =$I$14*Q14 -> 0 | S14: 0 | T14: =$I$14*S14 -> 0 | U14: 0 | V14: =$I$14*U14 -> 0 | W14: 0 | X14: =ROUND(W14*$I$23,2) -> 0 | Y14: 5000 | Z14: =$I$14*Y14 -> 26900 | AB14: =$I$14*AA14 -> 0 | AD14: =$I$14*AC14 -> 0 | AE14: 500 | AF14: =$I$14*AE14 -> 2690 | AH14: =$I$14*AG14 -> 0 | AI14: 50 | AJ14: =$I$14*AI14 -> 269 | AL14: =AI14+AG14+AE14+AC14+AA14+Y14+W14+U14+S14+Q14+O14+M14 -> 6200 | AM14: =AJ14+AH14+AF14+AD14+AB14+Z14+X14+V14+T14+R14+P14+N14 -> 33356 | AN14: =AL14=F14 -> TRUE | AO14: =AM14=K14 -> TRUE
A15: 1.1.4 | B15: Limpeza de superfície com jato de alta pressão. af_04/2019 | D15: 99814 - SINAPI/PR 12/2023 | E15: M2 | F15: =M15+O15+Q15+S15+U15+W15+Y15+AA15+AC15+AE15+AG15+AI15 -> 12656 | G15: 2.41 | H15: =$C$7 -> 0.2034 | I15: =ROUND(G15*(1+H15),2) -> 2.9 | K15: =ROUND(I15*F15,2) -> 36702.4 | M15: 3000 | N15: =$I$15*M15 -> 8700 | O15: 2400 | P15: =$I$15*O15 -> 6960 | Q15: 0 | R15: =$I$15*Q15 -> 0 | S15: 0 | T15: =$I$15*S15 -> 0 | U15: 0 | V15: =$I$15*U15 -> 0 | W15: 0 | X15: =ROUND(W15*$I$24,2) -> 0 | Y15: 5000 | Z15: =$I$15*Y15 -> 14500 | AB15: =$I$15*AA15 -> 0 | AD15: =$I$15*AC15 -> 0 | AE15: 2206 | AF15: =$I$15*AE15 -> 6397.4 | AH15: =$I$15*AG15 -> 0 | AI15: 50 | AJ15: =$I$15*AI15 -> 145 | AL15: =AI15+AG15+AE15+AC15+AA15+Y15+W15+U15+S15+Q15+O15+M15 -> 12656 | AM15: =AJ15+AH15+AF15+AD15+AB15+Z15+X15+V15+T15+R15+P15+N15 -> 36702.4 | AN15: =AL15=F15 -> TRUE | AO15: =AM15=K15 -> TRUE
A16: 1.1.5 | B16: Tratamento de rodapé com tela de poliéster. af_09/2023 | D16: 98559 - SINAPI/PR 12/2023 | E16: M | F16: =M16+O16+Q16+S16+U16+W16+Y16+AA16+AC16+AE16+AG16+AI16 -> 940 | G16: 5.51 | H16: =$C$7 -> 0.2034 | I16: =ROUND(G16*(1+H16),2) -> 6.63 | K16: =ROUND(I16*F16,2) -> 6232.2 | M16: 30 | N16: =$I$16*M16 -> 198.9 | O16: 200 | P16: =$I$16*O16 -> 1326 | Q16: 0 | R16: =$I$16*Q16 -> 0 | S16: 0 | T16: =$I$16*S16 -> 0 | U16: 0 | V16: =$I$16*U16 -> 0 | W16: 0 | X16: =ROUND(W16*$I$25,2) -> 0 | Y16: 500 | Z16: =$I$16*Y16 -> 3315 | AB16: =$I$16*AA16 -> 0 | AD16: =$I$16*AC16 -> 0 | AE16: 200 | AF16: =$I$16*AE16 -> 1326 | AH16: =$I$16*AG16 -> 0 | AI16: 10 | AJ16: =$I$16*AI16 -> 66.3 | AL16: =AI16+AG16+AE16+AC16+AA16+Y16+W16+U16+S16+Q16+O16+M16 -> 940 | AM16: =AJ16+AH16+AF16+AD16+AB16+Z16+X16+V16+T16+R16+P16+N16 -> 6232.2 | AN16: =AL16=F16 -> TRUE | AO16: =AM16=K16 -> TRUE
A17: 1.1.6 | B17: Aplicação manual de massa de rejunte pronta para tratamento de juntas, em paredes de drywall | D17: C.P. 2942310153230 - Composição Própria 12/2023 | E17: M2 | F17: =M17+O17+Q17+S17+U17+W17+Y17+AA17+AC17+AE17+AG17+AI17 -> 2050 | G17: 39.48 | H17: =$C$7 -> 0.2034 | I17: =ROUND(G17*(1+H17),2) -> 47.51 | K17: =ROUND(I17*F17,2) -> 97395.5 | M17: 50 | N17: =$I$17*M17 -> 2375.5 | O17: 500 | P17: =$I$17*O17 -> 23755 | Q17: 0 | R17: =$I$17*Q17 -> 0 | S17: 700 | T17: =$I$17*S17 -> 33257 | U17: 0 | V17: =$I$17*U17 -> 0 | W17: 0 | X17: =ROUND(W17*$I$26,2) -> 0 | Y17: 200 | Z17: =$I$17*Y17 -> 9502 | AB17: =$I$17*AA17 -> 0 | AD17: =$I$17*AC17 -> 0 | AE17: 500 | AF17: =$I$17*AE17 -> 23755 | AH17: =$I$17*AG17 -> 0 | AI17: 100 | AJ17: =$I$17*AI17 -> 4751 | AL17: =AI17+AG17+AE17+AC17+AA17+Y17+W17+U17+S17+Q17+O17+M17 -> 2050 | AM17: =AJ17+AH17+AF17+AD17+AB17+Z17+X17+V17+T17+R17+P17+N17 -> 97395.5 | AN17: =AL17=F17 -> TRUE | AO17: =AM17=K17 -> TRUE
A18: 1.1.7 | B18: Demolição de argamassas, de forma manual, sem reaproveitamento. af_09/2023 | D18: 97631 - SINAPI/PR 12/2023 | E18: M2 | F18: =M18+O18+Q18+S18+U18+W18+Y18+AA18+AC18+AE18+AG18+AI18 -> 1270 | G18: 14.4 | H18: =$C$7 -> 0.2034 | I18: =ROUND(G18*(1+H18),2) -> 17.33 | K18: =ROUND(I18*F18,2) -> 22009.1 | M18: 20 | N18: =$I$18*M18 -> 346.6 | O18: 0 | P18: =$I$18*O18 -> 0 | Q18: 0 | R18: =$I$18*Q18 -> 0 | S18: 200 | T18: =$I$18*S18 -> 3466 | U18: 0 | V18: =$I$18*U18 -> 0 | W18: 0 | X18: =ROUND(W18*$I$27,2) -> 0 | Y18: 1000 | Z18: =$I$18*Y18 -> 17330 | AB18: =$I$18*AA18 -> 0 | AD18: =$I$18*AC18 -> 0 | AE18: 0 | AF18: =$I$18*AE18 -> 0 | AH18: =$I$18*AG18 -> 0 | AI18: 50 | AJ18: =$I$18*AI18 -> 866.5 | AL18: =AI18+AG18+AE18+AC18+AA18+Y18+W18+U18+S18+Q18+O18+M18 -> 1270 | AM18: =AJ18+AH18+AF18+AD18+AB18+Z18+X18+V18+T18+R18+P18+N18 -> 22009.1 | AN18: =AL18=F18 -> TRUE | AO18: =AM18=K18 -> TRUE
A19: 1.1.8 | B19: Impermeabilização de superfície com argamassa de cimento e areia, com aditivo impermeabilizante, E = 1,5cm. af_09/2023 | D19: 98562 - SINAPI/PR 12/2023 | E19: M2 | F19: =M19+O19+Q19+S19+U19+W19+Y19+AA19+AC19+AE19+AG19+AI19 -> 1670 | G19: 57.58 | H19: =$C$7 -> 0.2034 | I19: =ROUND(G19*(1+H19),2) -> 69.29 | K19: =ROUND(I19*F19,2) -> 115714.3 | M19: 20 | N19: =$I$19*M19 -> 1385.8 | O19: 0 | P19: =$I$19*O19 -> 0 | Q19: 0 | R19: =$I$19*Q19 -> 0 | S19: 600 | T19: =$I$19*S19 -> 41574 | U19: 0 | V19: =$I$19*U19 -> 0 | W19: 0 | X19: =ROUND(W19*$I$28,2) -> 0 | Y19: 1000 | Z19: =$I$19*Y19 -> 69290 | AB19: =$I$19*AA19 -> 0 | AD19: =$I$19*AC19 -> 0 | AE19: 0 | AF19: =$I$19*AE19 -> 0 | AH19: =$I$19*AG19 -> 0 | AI19: 50 | AJ19: =$I$19*AI19 -> 3464.5 | AL19: =AI19+AG19+AE19+AC19+AA19+Y19+W19+U19+S19+Q19+O19+M19 -> 1670 | AM19: =AJ19+AH19+AF19+AD19+AB19+Z19+X19+V19+T19+R19+P19+N19 -> 115714.3 | AN19: =AL19=F19 -> TRUE | AO19: =AM19=K19 -> TRUE
A20: 1.1.9 | B20: Colocação de fita protetora para pintura. af_01/2020 | D20: 100718 - SINAPI/PR 12/2023 | E20: M | F20: =M20+O20+Q20+S20+U20+W20+Y20+AA20+AC20+AE20+AG20+AI20 -> 7800 | G20: 1.65 | H20: =$C$7 -> 0.2034 | I20: =ROUND(G20*(1+H20),2) -> 1.99 | K20: =ROUND(I20*F20,2) -> 15522 | M20: 200 | N20: =$I$20*M20 -> 398 | O20: 650 | P20: =$I$20*O20 -> 1293.5 | Q20: 0 | R20: =$I$20*Q20 -> 0 | S20: 1200 | T20: =$I$20*S20 -> 2388 | U20: 0 | V20: =$I$20*U20 -> 0 | W20: 0 | X20: =ROUND(W20*$I$29,2) -> 0 | Y20: 5000 | Z20: =$I$20*Y20 -> 9950 | AB20: =$I$20*AA20 -> 0 | AD20: =$I$20*AC20 -> 0 | AE20: 650 | AF20: =$I$20*AE20 -> 1293.5 | AH20: =$I$20*AG20 -> 0 | AI20: 100 | AJ20: =$I$20*AI20 -> 199 | AL20: =AI20+AG20+AE20+AC20+AA20+Y20+W20+U20+S20+Q20+O20+M20 -> 7800 | AM20: =AJ20+AH20+AF20+AD20+AB20+Z20+X20+V20+T20+R20+P20+N20 -> 15522 | AN20: =AL20=F20 -> TRUE | AO20: =AM20=K20 -> TRUE
A21: 1.1.10 | B21: Colocação, manutenção e retirada de lona, com reaproveitamento, isolamento/proteção para pintura | D21: C.P. 2942311155290 - Composição Própria 12/2023 | E21: m2 | F21: =M21+O21+Q21+S21+U21+W21+Y21+AA21+AC21+AE21+AG21+AI21 -> 1225 | G21: 4.28 | H21: =$C$7 -> 0.2034 | I21: =ROUND(G21*(1+H21),2) -> 5.15 | K21: =ROUND(I21*F21,2) -> 6308.75 | M21: 200 | N21: =$I$21*M21 -> 1030 | O21: 0 | P21: =$I$21*O21 -> 0 | Q21: 0 | R21: =$I$21*Q21 -> 0 | S21: 200 | T21: =$I$21*S21 -> 1030 | U21: 0 | V21: =$I$21*U21 -> 0 | W21: 0 | X21: =ROUND(W21*$I$30,2) -> 0 | Y21: 500 | Z21: =$I$21*Y21 -> 2575 | AA21: 300 | AB21: =$I$21*AA21 -> 1545 | AD21: =$I$21*AC21 -> 0 | AE21: 0 | AF21: =$I$21*AE21 -> 0 | AH21: =$I$21*AG21 -> 0 | AI21: 25 | AJ21: =$I$21*AI21 -> 128.75 | AL21: =AI21+AG21+AE21+AC21+AA21+Y21+W21+U21+S21+Q21+O21+M21 -> 1225 | AM21: =AJ21+AH21+AF21+AD21+AB21+Z21+X21+V21+T21+R21+P21+N21 -> 6308.75 | AN21: =AL21=F21 -> TRUE | AO21: =AM21=K21 -> TRUE
A22: 1.1.11 | B22: Primer convertedor de ferrugem em fundo de protecao, duas demaos. fornecimento e aplicação | D22: C.P. 2942310153213 - Composição Própria 12/2023 | E22: M2 | F22: =M22+O22+Q22+S22+U22+W22+Y22+AA22+AC22+AE22+AG22+AI22 -> 220 | G22: 7.57 | H22: =$C$7 -> 0.2034 | I22: =ROUND(G22*(1+H22),2) -> 9.11 | K22: =ROUND(I22*F22,2) -> 2004.2 | M22: 20 | N22: =$I$22*M22 -> 182.2 | P22: =$I$22*O22 -> 0 | R22: =$I$22*Q22 -> 0 | T22: =$I$22*S22 -> 0 | V22: =$I$22*U22 -> 0 | Y22: 200 | Z22: =$I$22*Y22 -> 1822 | AB22: =$I$22*AA22 -> 0 | AD22: =$I$22*AC22 -> 0 | AF22: =$I$22*AE22 -> 0 | AH22: =$I$22*AG22 -> 0 | AJ22: =$I$22*AI22 -> 0 | AL22: =AI22+AG22+AE22+AC22+AA22+Y22+W22+U22+S22+Q22+O22+M22 -> 220 | AM22: =AJ22+AH22+AF22+AD22+AB22+Z22+X22+V22+T22+R22+P22+N22 -> 2004.2 | AN22: =AL22=F22 -> TRUE | AO22: =AM22=K22 -> TRUE
A23: 2 | B23: PINTURA EM CONCRETO/ALVENARIA/GESSO ACARTONADO | K23: =K24+K33+K39+K48 -> 2442639
A24: 2.1 | B24: AMBIENTE INTERNO PAREDE | K24: =SUM(K25:K32) -> 635722.04
A25: 2.1.1 | B25: Fundo selador acrílico, aplicação manual em parede, uma demão. af_04/2023 | D25: 88485 - SINAPI/PR 12/2023 | E25: M2 | F25: =M25+O25+Q25+S25+U25+W25+Y25+AA25+AC25+AE25+AG25+AI25 -> 7850 | G25: 4.45 | H25: =$C$7 -> 0.2034 | I25: =ROUND(G25*(1+H25),2) -> 5.36 | K25: =ROUND(I25*F25,2) -> 42076 | M25: 200 | N25: =$I$25*M25 -> 1072 | O25: 200 | P25: =$I$25*O25 -> 1072 | R25: =$I$25*Q25 -> 0 | S25: 6000 | T25: =$I$25*S25 -> 32160 | V25: =$I$25*U25 -> 0 | X25: =$I$25*W25 -> 0 | Y25: 1000 | Z25: =$I$25*Y25 -> 5360 | AB25: =$I$25*AA25 -> 0 | AD25: =$I$25*AC25 -> 0 | AE25: 200 | AF25: =$I$25*AE25 -> 1072 | AH25: =$I$25*AG25 -> 0 | AI25: 250 | AJ25: =$I$25*AI25 -> 1340 | AL25: =AI25+AG25+AE25+AC25+AA25+Y25+W25+U25+S25+Q25+O25+M25 -> 7850 | AM25: =AJ25+AH25+AF25+AD25+AB25+Z25+X25+V25+T25+R25+P25+N25 -> 42076 | AN25: =AL25=F25 -> TRUE | AO25: =AM25=K25 -> TRUE
A26: 2.1.2 | B26: Emassamento com massa látex, aplicação em parede, uma demão, lixamento manual. af_04/2023 | D26: 88495 - SINAPI/PR 12/2023 | E26: M2 | F26: =M26+O26+Q26+S26+U26+W26+Y26+AA26+AC26+AE26+AG26+AI26 -> 5610 | G26: 14.5 | H26: =$C$7 -> 0.2034 | I26: =ROUND(G26*(1+H26),2) -> 17.45 | K26: =ROUND(I26*F26,2) -> 97894.5 | M26: 100 | N26: =$I$26*M26 -> 1745 | O26: 0 | P26: =$I$26*O26 -> 0 | Q26: 200 | R26: =$I$26*Q26 -> 3490 | S26: 0 | T26: =$I$26*S26 -> 0 | U26: 60 | V26: =$I$26*U26 -> 1047 | X26: =$I$26*W26 -> 0 | Y26: 5000 | Z26: =$I$26*Y26 -> 87250 | AB26: =$I$26*AA26 -> 0 | AD26: =$I$26*AC26 -> 0 | AE26: 0 | AF26: =$I$26*AE26 -> 0 | AH26: =$I$26*AG26 -> 0 | AI26: 250 | AJ26: =$I$26*AI26 -> 4362.5 | AL26: =AI26+AG26+AE26+AC26+AA26+Y26+W26+U26+S26+Q26+O26+M26 -> 5610 | AM26: =AJ26+AH26+AF26+AD26+AB26+Z26+X26+V26+T26+R26+P26+N26 -> 97894.5 | AN26: =AL26=F26 -> TRUE | AO26: =AM26=K26 -> TRUE
A27: 2.1.3 | B27: Emassamento com massa látex, aplicação em parede, duas demãos, lixamento manual. af_04/2023 | D27: 88497 - SINAPI/PR 12/2023 | E27: M2 | F27: =M27+O27+Q27+S27+U27+W27+Y27+AA27+AC27+AE27+AG27+AI27 -> 4625 | G27: 22.56 | H27: =$C$7 -> 0.2034 | I27: =ROUND(G27*(1+H27),2) -> 27.15 | K27: =ROUND(I27*F27,2) -> 125568.75 | M27: 50 | N27: =$I$27*M27 -> 1357.5 | O27: 600 | P27: =$I$27*O27 -> 16290 | Q27: 300 | R27: =$I$27*Q27 -> 8145 | S27: 2000 | T27: =$I$27*S27 -> 54300 | V27: =$I$27*U27 -> 0 | X27: =$I$27*W27 -> 0 | Y27: 0 | Z27: =$I$27*Y27 -> 0 | AA27: 900 | AB27: =$I$27*AA27 -> 24435 | AD27: =$I$27*AC27 -> 0 | AE27: 525 | AF27: =$I$27*AE27 -> 14253.75 | AH27: =$I$27*AG27 -> 0 | AI27: 250 | AJ27: =$I$27*AI27 -> 6787.5 | AL27: =AI27+AG27+AE27+AC27+AA27+Y27+W27+U27+S27+Q27+O27+M27 -> 4625 | AM27: =AJ27+AH27+AF27+AD27+AB27+Z27+X27+V27+T27+R27+P27+N27 -> 125568.75 | AN27: =AL27=F27 -> TRUE | AO27: =AM27=K27 -> TRUE
A28: 2.1.4 | B28: Pintura látex acrílica standard, aplicação manual em paredes, duas demãos. af_04/2023 | D28: 104642 - SINAPI/PR 12/2023 | E28: M2 | F28: =M28+O28+Q28+S28+U28+W28+Y28+AA28+AC28+AE28+AG28+AI28 -> 18796 | G28: 11.51 | H28: =$C$7 -> 0.2034 | I28: =ROUND(G28*(1+H28),2) -> 13.85 | K28: =ROUND(I28*F28,2) -> 260324.6 | M28: 200 | N28: =$I$28*M28 -> 2770 | O28: 2500 | P28: =$I$28*O28 -> 34625 | Q28: 500 | R28: =$I$28*Q28 -> 6925 | S28: 6500 | T28: =$I$28*S28 -> 90025 | U28: 226 | V28: =$I$28*U28 -> 3130.1 | X28: =$I$28*W28 -> 0 | Y28: 2500 | Z28: =$I$28*Y28 -> 34625 | AA28: 3100 | AB28: =$I$28*AA28 -> 42935 | AC28: 650 | AD28: =$I$28*AC28 -> 9002.5 | AE28: 2370 | AF28: =$I$28*AE28 -> 32824.5 | AH28: =$I$28*AG28 -> 0 | AI28: 250 | AJ28: =$I$28*AI28 -> 3462.5 | AL28: =AI28+AG28+AE28+AC28+AA28+Y28+W28+U28+S28+Q28+O28+M28 -> 18796 | AM28: =AJ28+AH28+AF28+AD28+AB28+Z28+X28+V28+T28+R28+P28+N28 -> 260324.6 | AN28: =AL28=F28 -> TRUE | AO28: =AM28=K28 -> TRUE
A29: 2.1.5 | B29: Textura acrílica, aplicação manual em parede, uma demão. af_04/2023 | D29: 95305 - SINAPI/PR 12/2023 | E29: M2 | F29: =M29+O29+Q29+S29+U29+W29+Y29+AA29+AC29+AE29+AG29+AI29 -> 900 | G29: 14.04 | H29: =$C$7 -> 0.2034 | I29: =ROUND(G29*(1+H29),2) -> 16.9 | K29: =ROUND(I29*F29,2) -> 15210 | M29: 50 | N29: =$I$29*M29 -> 845 | O29: 0 | P29: =$I$29*O29 -> 0 | R29: =$I$29*Q29 -> 0 | S29: 600 | T29: =$I$29*S29 -> 10140 | V29: =$I$29*U29 -> 0 | X29: =$I$29*W29 -> 0 | Y29: 0 | Z29: =$I$29*Y29 -> 0 | AB29: =$I$29*AA29 -> 0 | AD29: =$I$29*AC29 -> 0 | AE29: 0 | AF29: =$I$29*AE29 -> 0 | AH29: =$I$29*AG29 -> 0 | AI29: 250 | AJ29: =$I$29*AI29 -> 4225 | AL29: =AI29+AG29+AE29+AC29+AA29+Y29+W29+U29+S29+Q29+O29+M29 -> 900 | AM29: =AJ29+AH29+AF29+AD29+AB29+Z29+X29+V29+T29+R29+P29+N29 -> 15210 | AN29: =AL29=F29 -> TRUE | AO29: =AM29=K29 -> TRUE
A30: 2.1.6 | B30: Pintura de rodapé com tinta epóxi, aplicação manual, 2 demãos, inclusão primer epóxi. af_05/2021 | D30: 102496 - SINAPI/PR 12/2023 | E30: M | F30: =M30+O30+Q30+S30+U30+W30+Y30+AA30+AC30+AE30+AG30+AI30 -> 2261 | G30: 14.7 | H30: =$C$7 -> 0.2034 | I30: =ROUND(G30*(1+H30),2) -> 17.69 | K30: =ROUND(I30*F30,2) -> 39997.09 | M30: 25 | N30: =$I$30*M30 -> 442.25 | O30: 350 | P30: =$I$30*O30 -> 6191.5 | R30: =$I$30*Q30 -> 0 | S30: 1200 | T30: =$I$30*S30 -> 21228 | V30: =$I$30*U30 -> 0 | X30: =$I$30*W30 -> 0 | Y30: 300 | Z30: =$I$30*Y30 -> 5307 | AB30: =$I$30*AA30 -> 0 | AD30: =$I$30*AC30 -> 0 | AE30: 286 | AF30: =$I$30*AE30 -> 5059.34 | AH30: =$I$30*AG30 -> 0 | AI30: 100 | AJ30: =$I$30*AI30 -> 1769 | AL30: =AI30+AG30+AE30+AC30+AA30+Y30+W30+U30+S30+Q30+O30+M30 -> 2261 | AM30: =AJ30+AH30+AF30+AD30+AB30+Z30+X30+V30+T30+R30+P30+N30 -> 39997.09 | AN30: =AL30=F30 -> TRUE | AO30: =AM30=K30 -> TRUE
A31: 2.1.7 | B31: Aplicação manual de pintura com tinta látex acrílica em paredes internas, cores variadas, duas demãos. ref. suvinil, renner, sherwin willians, coral, lukscolor ou equivalente | D31: C.P. 2942402163142 - Composição Própria 12/2023 | E31: M2 | F31: =M31+O31+Q31+S31+U31+W31+Y31+AA31+AC31+AE31+AG31+AI31 -> 2525 | G31: 15.64 | H31: =$C$7 -> 0.2034 | I31: =ROUND(G31*(1+H31),2) -> 18.82 | K31: =ROUND(I31*F31,2) -> 47520.5 | M31: 25 | N31: =$I$31*M31 -> 470.5 | P31: =$I$31*O31 -> 0 | R31: =$I$31*Q31 -> 0 | T31: =$I$31*S31 -> 0 | V31: =$I$31*U31 -> 0 | X31: =$I$31*W31 -> 0 | Y31: 2500 | Z31: =$I$31*Y31 -> 47050 | AB31: =$I$31*AA31 -> 0 | AD31: =$I$31*AC31 -> 0 | AF31: =$I$31*AE31 -> 0 | AH31: =$I$31*AG31 -> 0 | AJ31: =$I$31*AI31 -> 0 | AL31: =AI31+AG31+AE31+AC31+AA31+Y31+W31+U31+S31+Q31+O31+M31 -> 2525 | AM31: =AJ31+AH31+AF31+AD31+AB31+Z31+X31+V31+T31+R31+P31+N31 -> 47520.5 | AN31: =AL31=F31 -> TRUE | AO31: =AM31=K31 -> TRUE
A32: 2.1.8 | B32: Pintura com tinta esmalte acetinado efeito lousa seca, aplicada a rolo ou pincel em paredes, 2 demãos | D32: C.P. 2942312161612 - Composição Própria 12/2023 | E32: M2 | F32: =M32+O32+Q32+S32+U32+W32+Y32+AA32+AC32+AE32+AG32+AI32 -> 202 | G32: 29.33 | H32: =$C$7 -> 0.2034 | I32: =ROUND(G32*(1+H32),2) -> 35.3 | K32: =ROUND(I32*F32,2) -> 7130.6 | M32: 2 | N32: =$I$32*M32 -> 70.6 | P32: =$I$32*O32 -> 0 | R32: =$I$32*Q32 -> 0 | T32: =$I$32*S32 -> 0 | V32: =$I$32*U32 -> 0 | X32: =$I$32*W32 -> 0 | Y32: 200 | Z32: =$I$32*Y32 -> 7060 | AB32: =$I$32*AA32 -> 0 | AD32: =$I$32*AC32 -> 0 | AF32: =$I$32*AE32 -> 0 | AH32: =$I$32*AG32 -> 0 | AJ32: =$I$32*AI32 -> 0 | AL32: =AI32+AG32+AE32+AC32+AA32+Y32+W32+U32+S32+Q32+O32+M32 -> 202 | AM32: =AJ32+AH32+AF32+AD32+AB32+Z32+X32+V32+T32+R32+P32+N32 -> 7130.6 | AN32: =AL32=F32 -> TRUE | AO32: =AM32=K32 -> TRUE
A33: 2.2 | B33: AMBIENTE INTERNO TETO | K33: =SUM(K34:K38) -> 350130.43
A34: 2.2.1 | B34: Fundo selador acrílico, aplicação manual em teto, uma demão. af_04/2023 | D34: 88484 - SINAPI/PR 12/2023 | E34: M2 | F34: =M34+O34+Q34+S34+U34+W34+Y34+AA34+AC34+AE34+AG34+AI34 -> 3250 | G34: 5.64 | H34: =$C$7 -> 0.2034 | I34: =ROUND(G34*(1+H34),2) -> 6.79 | K34: =ROUND(I34*F34,2) -> 22067.5 | M34: 200 | N34: =$I$34*M34 -> 1358 | O34: 200 | P34: =$I$34*O34 -> 1358 | R34: =$I$34*Q34 -> 0 | S34: 2200 | T34: =$I$34*S34 -> 14938 | V34: =$I$34*U34 -> 0 | X34: =$I$34*W34 -> 0 | Y34: 200 | Z34: =$I$34*Y34 -> 1358 | AB34: =$I$34*AA34 -> 0 | AD34: =$I$34*AC34 -> 0 | AE34: 200 | AF34: =$I$34*AE34 -> 1358 | AH34: =$I$34*AG34 -> 0 | AI34: 250 | AJ34: =$I$34*AI34 -> 1697.5 | AL34: =AI34+AG34+AE34+AC34+AA34+Y34+W34+U34+S34+Q34+O34+M34 -> 3250 | AM34: =AJ34+AH34+AF34+AD34+AB34+Z34+X34+V34+T34+R34+P34+N34 -> 22067.5 | AN34: =AL34=F34 -> TRUE | AO34: =AM34=K34 -> TRUE
A35: 2.2.2 | B35: Emassamento com massa látex, aplicação em teto, uma demão, lixamento manual. af_04/2023 | D35: 88494 - SINAPI/PR 12/2023 | E35: M2 | F35: =M35+O35+Q35+S35+U35+W35+Y35+AA35+AC35+AE35+AG35+AI35 -> 2750 | G35: 26.22 | H35: =$C$7 -> 0.2034 | I35: =ROUND(G35*(1+H35),2) -> 31.55 | K35: =ROUND(I35*F35,2) -> 86762.5 | M35: 100 | N35: =$I$35*M35 -> 3155 | O35: 0 | P35: =$I$35*O35 -> 0 | Q35: 50 | R35: =$I$35*Q35 -> 1577.5 | S35: 850 | T35: =$I$35*S35 -> 26817.5 | V35: =$I$35*U35 -> 0 | X35: =$I$35*W35 -> 0 | Y35: 1500 | Z35: =$I$35*Y35 -> 47325 | AB35: =$I$35*AA35 -> 0 | AD35: =$I$35*AC35 -> 0 | AE35: 0 | AF35: =$I$35*AE35 -> 0 | AH35: =$I$35*AG35 -> 0 | AI35: 250 | AJ35: =$I$35*AI35 -> 7887.5 | AL35: =AI35+AG35+AE35+AC35+AA35+Y35+W35+U35+S35+Q35+O35+M35 -> 2750 | AM35: =AJ35+AH35+AF35+AD35+AB35+Z35+X35+V35+T35+R35+P35+N35 -> 86762.5 | AN35: =AL35=F35 -> TRUE | AO35: =AM35=K35 -> TRUE
A36: 2.2.3 | B36: Emassamento com massa látex, aplicação em teto, duas demãos, lixamento manual. af_04/2023 | D36: 88496 - SINAPI/PR 12/2023 | E36: M2 | F36: =M36+O36+Q36+S36+U36+W36+Y36+AA36+AC36+AE36+AG36+AI36 -> 1145 | G36: 39.76 | H36: =$C$7 -> 0.2034 | I36: =ROUND(G36*(1+H36),2) -> 47.85 | K36: =ROUND(I36*F36,2) -> 54788.25 | M36: 100 | N36: =$I$36*M36 -> 4785 | O36: 200 | P36: =$I$36*O36 -> 9570 | Q36: 20 | R36: =$I$36*Q36 -> 957 | S36: 0 | T36: =$I$36*S36 -> 0 | V36: =$I$36*U36 -> 0 | X36: =$I$36*W36 -> 0 | Y36: 0 | Z36: =$I$36*Y36 -> 0 | AA36: 375 | AB36: =$I$36*AA36 -> 17943.75 | AD36: =$I$36*AC36 -> 0 | AE36: 200 | AF36: =$I$36*AE36 -> 9570 | AH36: =$I$36*AG36 -> 0 | AI36: 250 | AJ36: =$I$36*AI36 -> 11962.5 | AL36: =AI36+AG36+AE36+AC36+AA36+Y36+W36+U36+S36+Q36+O36+M36 -> 1145 | AM36: =AJ36+AH36+AF36+AD36+AB36+Z36+X36+V36+T36+R36+P36+N36 -> 54788.25 | AN36: =AL36=F36 -> TRUE | AO36: =AM36=K36 -> TRUE
A37: 2.2.4 | B37: Pintura látex acrílica standard, aplicação manual em teto, duas demãos. af_04/2023 | D37: 104640 - SINAPI/PR 12/2023 | E37: M2 | F37: =M37+O37+Q37+S37+U37+W37+Y37+AA37+AC37+AE37+AG37+AI37 -> 7799 | G37: 14.39 | H37: =$C$7 -> 0.2034 | I37: =ROUND(G37*(1+H37),2) -> 17.32 | K37: =ROUND(I37*F37,2) -> 135078.68 | M37: 200 | N37: =$I$37*M37 -> 3464 | O37: 2000 | P37: =$I$37*O37 -> 34640 | Q37: 100 | R37: =$I$37*Q37 -> 1732 | S37: 600 | T37: =$I$37*S37 -> 10392 | U37: 174 | V37: =$I$37*U37 -> 3013.68 | X37: =$I$37*W37 -> 0 | Y37: 1500 | Z37: =$I$37*Y37 -> 25980 | AA37: 1100 | AB37: =$I$37*AA37 -> 19052 | AD37: =$I$37*AC37 -> 0 | AE37: 1875 | AF37: =$I$37*AE37 -> 32475 | AH37: =$I$37*AG37 -> 0 | AI37: 250 | AJ37: =$I$37*AI37 -> 4330 | AL37: =AI37+AG37+AE37+AC37+AA37+Y37+W37+U37+S37+Q37+O37+M37 -> 7799 | AM37: =AJ37+AH37+AF37+AD37+AB37+Z37+X37+V37+T37+R37+P37+N37 -> 135078.68 | AN37: =AL37=F37 -> TRUE | AO37: =AM37=K37 -> TRUE
A38: 2.2.5 | B38: Textura acrílica, aplicação manual em teto, uma demão. af_04/2023 | D38: 95306 - SINAPI/PR 12/2023 | E38: M2 | F38: =M38+O38+Q38+S38+U38+W38+Y38+AA38+AC38+AE38+AG38+AI38 -> 2550 | G38: 16.76 | H38: =$C$7 -> 0.2034 | I38: =ROUND(G38*(1+H38),2) -> 20.17 | K38: =ROUND(I38*F38,2) -> 51433.5 | M38: 50 | N38: =$I$38*M38 -> 1008.5 | O38: 100 | P38: =$I$38*O38 -> 2017 | R38: =$I$38*Q38 -> 0 | S38: 2200 | T38: =$I$38*S38 -> 44374 | V38: =$I$38*U38 -> 0 | X38: =$I$38*W38 -> 0 | Y38: 0 | Z38: =$I$38*Y38 -> 0 | AB38: =$I$38*AA38 -> 0 | AD38: =$I$38*AC38 -> 0 | AE38: 100 | AF38: =$I$38*AE38 -> 2017 | AH38: =$I$38*AG38 -> 0 | AI38: 100 | AJ38: =$I$38*AI38 -> 2017 | AL38: =AI38+AG38+AE38+AC38+AA38+Y38+W38+U38+S38+Q38+O38+M38 -> 2550 | AM38: =AJ38+AH38+AF38+AD38+AB38+Z38+X38+V38+T38+R38+P38+N38 -> 51433.5 | AN38: =AL38=F38 -> TRUE | AO38: =AM38=K38 -> TRUE
A39: 2.3 | B39: AMBIENTE EXTERNO EDIFICAÇÃO TÉRREA | K39: =SUM(K40:K47) -> 644064.58
A40: 2.3.1 | B40: Aplicação manual de massa acrílica em paredes externas de casas, uma demão. af_05/2017 | D40: 96130 - SINAPI/PR 12/2023 | E40: M2 | F40: =M40+O40+Q40+S40+U40+W40+Y40+AA40+AC40+AE40+AG40+AI40 -> 3010 | G40: 27.1 | H40: =$C$7 -> 0.2034 | I40: =ROUND(G40*(1+H40),2) -> 32.61 | K40: =ROUND(I40*F40,2) -> 98156.1 | M40: 50 | N40: =$I$40*M40 -> 1630.5 | O40: 0 | P40: =$I$40*O40 -> 0 | R40: =$I$40*Q40 -> 0 | S40: 150 | T40: =$I$40*S40 -> 4891.5 | V40: =$I$40*U40 -> 0 | X40: =$I$40*W40 -> 0 | Y40: 2500 | Z40: =$I$40*Y40 -> 81525 | AB40: =$I$40*AA40 -> 0 | AC40: 60 | AD40: =$I$40*AC40 -> 1956.6 | AE40: 0 | AF40: =$I$40*AE40 -> 0 | AH40: =$I$40*AG40 -> 0 | AI40: 250 | AJ40: =$I$40*AI40 -> 8152.5 | AL40: =AI40+AG40+AE40+AC40+AA40+Y40+W40+U40+S40+Q40+O40+M40 -> 3010 | AM40: =AJ40+AH40+AF40+AD40+AB40+Z40+X40+V40+T40+R40+P40+N40 -> 98156.1 | AN40: =AL40=F40 -> TRUE | AO40: =AM40=K40 -> TRUE
A41: 2.3.2 | B41: Aplicação manual de massa acrílica em paredes externas de casas, duas demãos. af_05/2017 | D41: 96135 - SINAPI/PR 12/2023 | E41: M2 | F41: =M41+O41+Q41+S41+U41+W41+Y41+AA41+AC41+AE41+AG41+AI41 -> 2450 | G41: 37.47 | H41: =$C$7 -> 0.2034 | I41: =ROUND(G41*(1+H41),2) -> 45.09 | K41: =ROUND(I41*F41,2) -> 110470.5 | M41: 50 | N41: =$I$41*M41 -> 2254.5 | O41: 500 | P41: =$I$41*O41 -> 22545 | R41: =$I$41*Q41 -> 0 | S41: 650 | T41: =$I$41*S41 -> 29308.5 | V41: =$I$41*U41 -> 0 | X41: =$I$41*W41 -> 0 | Y41: 0 | Z41: =$I$41*Y41 -> 0 | AA41: 500 | AB41: =$I$41*AA41 -> 22545 | AD41: =$I$41*AC41 -> 0 | AE41: 500 | AF41: =$I$41*AE41 -> 22545 | AH41: =$I$41*AG41 -> 0 | AI41: 250 | AJ41: =$I$41*AI41 -> 11272.5 | AL41: =AI41+AG41+AE41+AC41+AA41+Y41+W41+U41+S41+Q41+O41+M41 -> 2450 | AM41: =AJ41+AH41+AF41+AD41+AB41+Z41+X41+V41+T41+R41+P41+N41 -> 110470.5 | AN41: =AL41=F41 -> TRUE | AO41: =AM41=K41 -> TRUE
A42: 2.3.3 | B42: Aplicação manual de fundo selador acrílico em paredes externas de casas. af_06/2014 | D42: 88415 - SINAPI/PR 12/2023 | E42: M2 | F42: =M42+O42+Q42+S42+U42+W42+Y42+AA42+AC42+AE42+AG42+AI42 -> 10160 | G42: 3.72 | H42: =$C$7 -> 0.2034 | I42: =ROUND(G42*(1+H42),2) -> 4.48 | K42: =ROUND(I42*F42,2) -> 45516.8 | M42: 150 | N42: =$I$42*M42 -> 672 | O42: 0 | P42: =$I$42*O42 -> 0 | R42: =$I$42*Q42 -> 0 | S42: 6000 | T42: =$I$42*S42 -> 26880 | V42: =$I$42*U42 -> 0 | X42: =$I$42*W42 -> 0 | Y42: 500 | Z42: =$I$42*Y42 -> 2240 | AA42: 3200 | AB42: =$I$42*AA42 -> 14336 | AC42: 60 | AD42: =$I$42*AC42 -> 268.8 | AE42: 0 | AF42: =$I$42*AE42 -> 0 | AH42: =$I$42*AG42 -> 0 | AI42: 250 | AJ42: =$I$42*AI42 -> 1120 | AL42: =AI42+AG42+AE42+AC42+AA42+Y42+W42+U42+S42+Q42+O42+M42 -> 10160 | AM42: =AJ42+AH42+AF42+AD42+AB42+Z42+X42+V42+T42+R42+P42+N42 -> 45516.8 | AN42: =AL42=F42 -> TRUE | AO42: =AM42=K42 -> TRUE
A43: 2.3.4 | B43: Aplicação manual de pintura com tinta texturizada acrílica em paredes externas de casas, uma cor. af_06/2014 | D43: 88423 - SINAPI/PR 12/2023 | E43: M2 | F43: =M43+O43+Q43+S43+U43+W43+Y43+AA43+AC43+AE43+AG43+AI43 -> 8924 | G43: 19.96 | H43: =$C$7 -> 0.2034 | I43: =ROUND(G43*(1+H43),2) -> 24.02 | K43: =ROUND(I43*F43,2) -> 214354.48 | M43: 50 | N43: =$I$43*M43 -> 1201 | O43: 2500 | P43: =$I$43*O43 -> 60050 | R43: =$I$43*Q43 -> 0 | S43: 0 | T43: =$I$43*S43 -> 0 | V43: =$I$43*U43 -> 0 | X43: =$I$43*W43 -> 0 | Y43: 0 | Z43: =$I$43*Y43 -> 0 | AA43: 3200 | AB43: =$I$43*AA43 -> 76864 | AC43: 800 | AD43: =$I$43*AC43 -> 19216 | AE43: 2124 | AF43: =$I$43*AE43 -> 51018.48 | AH43: =$I$43*AG43 -> 0 | AI43: 250 | AJ43: =$I$43*AI43 -> 6005 | AL43: =AI43+AG43+AE43+AC43+AA43+Y43+W43+U43+S43+Q43+O43+M43 -> 8924 | AM43: =AJ43+AH43+AF43+AD43+AB43+Z43+X43+V43+T43+R43+P43+N43 -> 214354.48 | AN43: =AL43=F43 -> TRUE | AO43: =AM43=K43 -> TRUE
A44: 2.3.5 | B44: Aplicação manual de pintura com tinta texturizada acrílica em paredes externas de casas, duas cores. af_06/2014 | D44: 88431 - SINAPI/PR 12/2023 | E44: M2 | F44: =M44+O44+Q44+S44+U44+W44+Y44+AA44+AC44+AE44+AG44+AI44 -> 2650 | G44: 25.42 | H44: =$C$7 -> 0.2034 | I44: =ROUND(G44*(1+H44),2) -> 30.59 | K44: =ROUND(I44*F44,2) -> 81063.5 | M44: 200 | N44: =$I$44*M44 -> 6118 | O44: 500 | P44: =$I$44*O44 -> 15295 | R44: =$I$44*Q44 -> 0 | S44: 1200 | T44: =$I$44*S44 -> 36708 | V44: =$I$44*U44 -> 0 | X44: =$I$44*W44 -> 0 | Y44: 0 | Z44: =$I$44*Y44 -> 0 | AB44: =$I$44*AA44 -> 0 | AD44: =$I$44*AC44 -> 0 | AE44: 500 | AF44: =$I$44*AE44 -> 15295 | AH44: =$I$44*AG44 -> 0 | AI44: 250 | AJ44: =$I$44*AI44 -> 7647.5 | AL44: =AI44+AG44+AE44+AC44+AA44+Y44+W44+U44+S44+Q44+O44+M44 -> 2650 | AM44: =AJ44+AH44+AF44+AD44+AB44+Z44+X44+V44+T44+R44+P44+N44 -> 81063.5 | AN44: =AL44=F44 -> TRUE | AO44: =AM44=K44 -> TRUE
A45: 2.3.6 | B45: Pintura hidrofugante com silicone, aplicação manual, 2 demãos. af_05/2021 | D45: 102489 - SINAPI/PR 12/2023 | E45: M2 | F45: =M45+O45+Q45+S45+U45+W45+Y45+AA45+AC45+AE45+AG45+AI45 -> 310 | G45: 34.42 | H45: =$C$7 -> 0.2034 | I45: =ROUND(G45*(1+H45),2) -> 41.42 | K45: =ROUND(I45*F45,2) -> 12840.2 | M45: 10 | N45: =$I$45*M45 -> 414.2 | O45: 100 | P45: =$I$45*O45 -> 4142 | R45: =$I$45*Q45 -> 0 | S45: 0 | T45: =$I$45*S45 -> 0 | V45: =$I$45*U45 -> 0 | X45: =$I$45*W45 -> 0 | Y45: 0 | Z45: =$I$45*Y45 -> 0 | AB45: =$I$45*AA45 -> 0 | AD45: =$I$45*AC45 -> 0 | AE45: 100 | AF45: =$I$45*AE45 -> 4142 | AH45: =$I$45*AG45 -> 0 | AI45: 100 | AJ45: =$I$45*AI45 -> 4142 | AL45: =AI45+AG45+AE45+AC45+AA45+Y45+W45+U45+S45+Q45+O45+M45 -> 310 | AM45: =AJ45+AH45+AF45+AD45+AB45+Z45+X45+V45+T45+R45+P45+N45 -> 12840.2 | AN45: =AL45=F45 -> TRUE | AO45: =AM45=K45 -> TRUE
A46: 2.3.7 | B46: Aplicação manual de tinta látex acrílica em parede externas de casas, duas demãos. af_11/2016 | D46: 95626 - SINAPI/PR 12/2023 | E46: M2 | F46: =M46+O46+Q46+S46+U46+W46+Y46+AA46+AC46+AE46+AG46+AI46 -> 200 | G46: 20.12 | H46: =$C$7 -> 0.2034 | I46: =ROUND(G46*(1+H46),2) -> 24.21 | K46: =ROUND(I46*F46,2) -> 4842 | M46: 200 | N46: =$I$46*M46 -> 4842 | P46: =$I$46*O46 -> 0 | R46: =$I$46*Q46 -> 0 | T46: =$I$46*S46 -> 0 | V46: =$I$46*U46 -> 0 | X46: =$I$46*W46 -> 0 | Y46: 0 | Z46: =$I$46*Y46 -> 0 | AB46: =$I$46*AA46 -> 0 | AD46: =$I$46*AC46 -> 0 | AF46: =$I$46*AE46 -> 0 | AH46: =$I$46*AG46 -> 0 | AJ46: =$I$46*AI46 -> 0 | AL46: =AI46+AG46+AE46+AC46+AA46+Y46+W46+U46+S46+Q46+O46+M46 -> 200 | AM46: =AJ46+AH46+AF46+AD46+AB46+Z46+X46+V46+T46+R46+P46+N46 -> 4842 | AN46: =AL46=F46 -> TRUE | AO46: =AM46=K46 -> TRUE
A47: 2.3.8 | B47: Aplicação manual de pintura com tinta látex acrílica em paredes externas, cores variadas, duas demãos. ref. suvinil, renner, sherwin willians, coral, lukscolor ou equivalente. | D47: C.P. 2942401163109 - Composição Própria 12/2023 | E47: M2 | F47: =M47+O47+Q47+S47+U47+W47+Y47+AA47+AC47+AE47+AG47+AI47 -> 2900 | G47: 22.01 | H47: =$C$7 -> 0.2034 | I47: =ROUND(G47*(1+H47),2) -> 26.49 | K47: =ROUND(I47*F47,2) -> 76821 | M47: 400 | N47: =$I$47*M47 -> 10596 | P47: =$I$47*O47 -> 0 | R47: =$I$47*Q47 -> 0 | T47: =$I$47*S47 -> 0 | V47: =$I$47*U47 -> 0 | X47: =$I$47*W47 -> 0 | Y47: 2500 | Z47: =$I$47*Y47 -> 66225 | AB47: =$I$47*AA47 -> 0 | AD47: =$I$47*AC47 -> 0 | AF47: =$I$47*AE47 -> 0 | AH47: =$I$47*AG47 -> 0 | AJ47: =$I$47*AI47 -> 0 | AL47: =AI47+AG47+AE47+AC47+AA47+Y47+W47+U47+S47+Q47+O47+M47 -> 2900 | AM47: =AJ47+AH47+AF47+AD47+AB47+Z47+X47+V47+T47+R47+P47+N47 -> 76821 | AN47: =AL47=F47 -> TRUE | AO47: =AM47=K47 -> TRUE
A48: 2.4 | B48: AMBIENTE EXTERNO EDIFICAÇÃO MÚLTIPLOS PAVIMENTOS | K48: =SUM(K49:K65) -> 812722
A49: 2.4.1 | B49: Aplicação manual de massa acrílica em panos de fachada com presença de vãos, de edifícios de múltiplos pavimentos, uma demão. af_05/2017 | D49: 96126 - SINAPI/PR 12/2023 | E49: M2 | F49: =M49+O49+Q49+S49+U49+W49+Y49+AA49+AC49+AE49+AG49+AI49 -> 1300 | G49: 25.27 | H49: =$C$7 -> 0.2034 | I49: =ROUND(G49*(1+H49),2) -> 30.41 | K49: =ROUND(I49*F49,2) -> 39533 | M49: 50 | N49: =$I$49*M49 -> 1520.5 | O49: 0 | P49: =$I$49*O49 -> 0 | R49: =$I$49*Q49 -> 0 | S49: 0 | T49: =$I$49*S49 -> 0 | V49: =$I$49*U49 -> 0 | X49: =$I$49*W49 -> 0 | Y49: 1250 | Z49: =$I$49*Y49 -> 38012.5 | AB49: =$I$49*AA49 -> 0 | AD49: =$I$49*AC49 -> 0 | AF49: =$I$49*AE49 -> 0 | AH49: =$I$49*AG49 -> 0 | AI49: 0 | AJ49: =$I$49*AI49 -> 0 | AL49: =AI49+AG49+AE49+AC49+AA49+Y49+W49+U49+S49+Q49+O49+M49 -> 1300 | AM49: =AJ49+AH49+AF49+AD49+AB49+Z49+X49+V49+T49+R49+P49+N49 -> 39533 | AN49: =AL49=F49 -> TRUE | AO49: =AM49=K49 -> TRUE
A50: 2.4.2 | B50: Aplicação manual de massa acrílica em panos de fachada com presença de vãos, de edifícios de múltiplos pavimentos, duas demãos. af_05/2017 | D50: 96131 - SINAPI/PR 12/2023 | E50: M2 | F50: =M50+O50+Q50+S50+U50+W50+Y50+AA50+AC50+AE50+AG50+AI50 -> 130 | G50: 35.01 | H50: =$C$7 -> 0.2034 | I50: =ROUND(G50*(1+H50),2) -> 42.13 | K50: =ROUND(I50*F50,2) -> 5476.9 | M50: 50 | N50: =$I$50*M50 -> 2106.5 | O50: 0 | P50: =$I$50*O50 -> 0 | R50: =$I$50*Q50 -> 0 | S50: 0 | T50: =$I$50*S50 -> 0 | V50: =$I$50*U50 -> 0 | W50: 30 | X50: =$I$50*W50 -> 1263.9 | Y50: 0 | Z50: =$I$50*Y50 -> 0 | AB50: =$I$50*AA50 -> 0 | AD50: =$I$50*AC50 -> 0 | AF50: =$I$50*AE50 -> 0 | AH50: =$I$50*AG50 -> 0 | AI50: 50 | AJ50: =$I$50*AI50 -> 2106.5 | AL50: =AI50+AG50+AE50+AC50+AA50+Y50+W50+U50+S50+Q50+O50+M50 -> 130 | AM50: =AJ50+AH50+AF50+AD50+AB50+Z50+X50+V50+T50+R50+P50+N50 -> 5476.9 | AN50: =AL50=F50 -> TRUE | AO50: =AM50=K50 -> TRUE
A51: 2.4.3 | B51: Aplicação manual de massa acrílica em panos de fachada sem presença de vãos, de edifícios de múltiplos pavimentos, uma demão. af_05/2017 | D51: 96127 - SINAPI/PR 12/2023 | E51: M2 | F51: =M51+O51+Q51+S51+U51+W51+Y51+AA51+AC51+AE51+AG51+AI51 -> 1300 | G51: 19.48 | H51: =$C$7 -> 0.2034 | I51: =ROUND(G51*(1+H51),2) -> 23.44 | K51: =ROUND(I51*F51,2) -> 30472 | M51: 50 | N51: =$I$51*M51 -> 1172 | O51: 0 | P51: =$I$51*O51 -> 0 | R51: =$I$51*Q51 -> 0 | S51: 0 | T51: =$I$51*S51 -> 0 | V51: =$I$51*U51 -> 0 | X51: =$I$51*W51 -> 0 | Y51: 1250 | Z51: =$I$51*Y51 -> 29300 | AB51: =$I$51*AA51 -> 0 | AD51: =$I$51*AC51 -> 0 | AF51: =$I$51*AE51 -> 0 | AH51: =$I$51*AG51 -> 0 | AI51: 0 | AJ51: =$I$51*AI51 -> 0 | AL51: =AI51+AG51+AE51+AC51+AA51+Y51+W51+U51+S51+Q51+O51+M51 -> 1300 | AM51: =AJ51+AH51+AF51+AD51+AB51+Z51+X51+V51+T51+R51+P51+N51 -> 30472 | AN51: =AL51=F51 -> TRUE | AO51: =AM51=K51 -> TRUE
A52: 2.4.4 | B52: Aplicação manual de massa acrílica em panos de fachada sem presença de vãos, de edifícios de múltiplos pavimentos, duas demãos. af_05/2017 | D52: 96132 - SINAPI/PR 12/2023 | E52: M2 | F52: =M52+O52+Q52+S52+U52+W52+Y52+AA52+AC52+AE52+AG52+AI52 -> 100 | G52: 27.29 | H52: =$C$7 -> 0.2034 | I52: =ROUND(G52*(1+H52),2) -> 32.84 | K52: =ROUND(I52*F52,2) -> 3284 | M52: 50 | N52: =$I$52*M52 -> 1642 | O52: 0 | P52: =$I$52*O52 -> 0 | R52: =$I$52*Q52 -> 0 | S52: 0 | T52: =$I$52*S52 -> 0 | V52: =$I$52*U52 -> 0 | X52: =$I$52*W52 -> 0 | Y52: 0 | Z52: =$I$52*Y52 -> 0 | AB52: =$I$52*AA52 -> 0 | AD52: =$I$52*AC52 -> 0 | AF52: =$I$52*AE52 -> 0 | AH52: =$I$52*AG52 -> 0 | AI52: 50 | AJ52: =$I$52*AI52 -> 1642 | AL52: =AI52+AG52+AE52+AC52+AA52+Y52+W52+U52+S52+Q52+O52+M52 -> 100 | AM52: =AJ52+AH52+AF52+AD52+AB52+Z52+X52+V52+T52+R52+P52+N52 -> 3284 | AN52: =AL52=F52 -> TRUE | AO52: =AM52=K52 -> TRUE
A53: 2.4.5 | B53: Aplicação manual de fundo selador acrílico em panos com presença de vãos de edifícios de múltiplos pavimentos. af_06/2014 | D53: 88411 - SINAPI/PR 12/2023 | E53: M2 | F53: =M53+O53+Q53+S53+U53+W53+Y53+AA53+AC53+AE53+AG53+AI53 -> 350 | G53: 3.42 | H53: =$C$7 -> 0.2034 | I53: =ROUND(G53*(1+H53),2) -> 4.12 | K53: =ROUND(I53*F53,2) -> 1442 | M53: 50 | N53: =$I$53*M53 -> 206 | O53: 0 | P53: =$I$53*O53 -> 0 | R53: =$I$53*Q53 -> 0 | S53: 0 | T53: =$I$53*S53 -> 0 | V53: =$I$53*U53 -> 0 | X53: =$I$53*W53 -> 0 | Y53: 250 | Z53: =$I$53*Y53 -> 1030 | AB53: =$I$53*AA53 -> 0 | AD53: =$I$53*AC53 -> 0 | AF53: =$I$53*AE53 -> 0 | AH53: =$I$53*AG53 -> 0 | AI53: 50 | AJ53: =$I$53*AI53 -> 206 | AL53: =AI53+AG53+AE53+AC53+AA53+Y53+W53+U53+S53+Q53+O53+M53 -> 350 | AM53: =AJ53+AH53+AF53+AD53+AB53+Z53+X53+V53+T53+R53+P53+N53 -> 1442 | AN53: =AL53=F53 -> TRUE | AO53: =AM53=K53 -> TRUE
A54: 2.4.6 | B54: Aplicação manual de fundo selador acrílico em panos cegos de fachada (sem presença de vãos) de edifícios de múltiplos pavimentos. af_06/2014 | D54: 88412 - SINAPI/PR 12/2023 | E54: M2 | F54: =M54+O54+Q54+S54+U54+W54+Y54+AA54+AC54+AE54+AG54+AI54 -> 350 | G54: 2.46 | H54: =$C$7 -> 0.2034 | I54: =ROUND(G54*(1+H54),2) -> 2.96 | K54: =ROUND(I54*F54,2) -> 1036 | M54: 50 | N54: =$I$54*M54 -> 148 | O54: 0 | P54: =$I$54*O54 -> 0 | R54: =$I$54*Q54 -> 0 | S54: 0 | T54: =$I$54*S54 -> 0 | V54: =$I$54*U54 -> 0 | X54: =$I$54*W54 -> 0 | Y54: 250 | Z54: =$I$54*Y54 -> 740 | AB54: =$I$54*AA54 -> 0 | AD54: =$I$54*AC54 -> 0 | AF54: =$I$54*AE54 -> 0 | AH54: =$I$54*AG54 -> 0 | AI54: 50 | AJ54: =$I$54*AI54 -> 148 | AL54: =AI54+AG54+AE54+AC54+AA54+Y54+W54+U54+S54+Q54+O54+M54 -> 350 | AM54: =AJ54+AH54+AF54+AD54+AB54+Z54+X54+V54+T54+R54+P54+N54 -> 1036 | AN54: =AL54=F54 -> TRUE | AO54: =AM54=K54 -> TRUE
A55: 2.4.7 | B55: Aplicação manual de pintura com tinta texturizada acrílica em panos com presença de vãos de edifícios de múltiplos pavimentos, uma cor. af_06/2014 | D55: 88416 - SINAPI/PR 12/2023 | E55: M2 | F55: =M55+O55+Q55+S55+U55+W55+Y55+AA55+AC55+AE55+AG55+AI55 -> 100 | G55: 18.9 | H55: =$C$7 -> 0.2034 | I55: =ROUND(G55*(1+H55),2) -> 22.74 | K55: =ROUND(I55*F55,2) -> 2274 | M55: 50 | N55: =$I$55*M55 -> 1137 | O55: 0 | P55: =$I$55*O55 -> 0 | R55: =$I$55*Q55 -> 0 | S55: 0 | T55: =$I$55*S55 -> 0 | V55: =$I$55*U55 -> 0 | X55: =$I$55*W55 -> 0 | Y55: 0 | Z55: =$I$55*Y55 -> 0 | AB55: =$I$55*AA55 -> 0 | AD55: =$I$55*AC55 -> 0 | AF55: =$I$55*AE55 -> 0 | AH55: =$I$55*AG55 -> 0 | AI55: 50 | AJ55: =$I$55*AI55 -> 1137 | AL55: =AI55+AG55+AE55+AC55+AA55+Y55+W55+U55+S55+Q55+O55+M55 -> 100 | AM55: =AJ55+AH55+AF55+AD55+AB55+Z55+X55+V55+T55+R55+P55+N55 -> 2274 | AN55: =AL55=F55 -> TRUE | AO55: =AM55=K55 -> TRUE
A56: 2.4.8 | B56: Aplicação manual de pintura com tinta texturizada acrílica em panos cegos de fachada (sem presença de vãos) de edifícios de múltiplos pavimentos, uma cor. af_06/2014 | D56: 88417 - SINAPI/PR 12/2023 | E56: M2 | F56: =M56+O56+Q56+S56+U56+W56+Y56+AA56+AC56+AE56+AG56+AI56 -> 150 | G56: 15.5 | H56: =$C$7 -> 0.2034 | I56: =ROUND(G56*(1+H56),2) -> 18.65 | K56: =ROUND(I56*F56,2) -> 2797.5 | M56: 100 | N56: =$I$56*M56 -> 1865 | O56: 0 | P56: =$I$56*O56 -> 0 | R56: =$I$56*Q56 -> 0 | S56: 0 | T56: =$I$56*S56 -> 0 | V56: =$I$56*U56 -> 0 | X56: =$I$56*W56 -> 0 | Y56: 0 | Z56: =$I$56*Y56 -> 0 | AB56: =$I$56*AA56 -> 0 | AD56: =$I$56*AC56 -> 0 | AF56: =$I$56*AE56 -> 0 | AH56: =$I$56*AG56 -> 0 | AI56: 50 | AJ56: =$I$56*AI56 -> 932.5 | AL56: =AI56+AG56+AE56+AC56+AA56+Y56+W56+U56+S56+Q56+O56+M56 -> 150 | AM56: =AJ56+AH56+AF56+AD56+AB56+Z56+X56+V56+T56+R56+P56+N56 -> 2797.5 | AN56: =AL56=F56 -> TRUE | AO56: =AM56=K56 -> TRUE
A57: 2.4.9 | B57: Aplicação manual de pintura com tinta texturizada acrílica em panos com presença de vãos de edifícios de múltiplos pavimentos, duas cores. af_06/2014 | D57: 88424 - SINAPI/PR 12/2023 | E57: M2 | F57: =M57+O57+Q57+S57+U57+W57+Y57+AA57+AC57+AE57+AG57+AI57 -> 500 | G57: 23.56 | H57: =$C$7 -> 0.2034 | I57: =ROUND(G57*(1+H57),2) -> 28.35 | K57: =ROUND(I57*F57,2) -> 14175 | M57: 500 | N57: =$I$57*M57 -> 14175 | O57: 0 | P57: =$I$57*O57 -> 0 | R57: =$I$57*Q57 -> 0 | S57: 0 | T57: =$I$57*S57 -> 0 | V57: =$I$57*U57 -> 0 | X57: =$I$57*W57 -> 0 | Y57: 0 | Z57: =$I$57*Y57 -> 0 | AB57: =$I$57*AA57 -> 0 | AD57: =$I$57*AC57 -> 0 | AF57: =$I$57*AE57 -> 0 | AH57: =$I$57*AG57 -> 0 | AI57: 0 | AJ57: =$I$57*AI57 -> 0 | AL57: =AI57+AG57+AE57+AC57+AA57+Y57+W57+U57+S57+Q57+O57+M57 -> 500 | AM57: =AJ57+AH57+AF57+AD57+AB57+Z57+X57+V57+T57+R57+P57+N57 -> 14175 | AN57: =AL57=F57 -> TRUE | AO57: =AM57=K57 -> TRUE
A58: 2.4.10 | B58: Aplicação manual de pintura com tinta texturizada acrílica em panos cegos de fachada (sem presença de vãos) de edifícios de múltiplos pavimentos, duas cores. af_06/2014 | D58: 88426 - SINAPI/PR 12/2023 | E58: M2 | F58: =M58+O58+Q58+S58+U58+W58+Y58+AA58+AC58+AE58+AG58+AI58 -> 100 | G58: 17.7 | H58: =$C$7 -> 0.2034 | I58: =ROUND(G58*(1+H58),2) -> 21.3 | K58: =ROUND(I58*F58,2) -> 2130 | M58: 100 | N58: =$I$58*M58 -> 2130 | O58: 0 | P58: =$I$58*O58 -> 0 | R58: =$I$58*Q58 -> 0 | S58: 0 | T58: =$I$58*S58 -> 0 | V58: =$I$58*U58 -> 0 | X58: =$I$58*W58 -> 0 | Y58: 0 | Z58: =$I$58*Y58 -> 0 | AB58: =$I$58*AA58 -> 0 | AD58: =$I$58*AC58 -> 0 | AF58: =$I$58*AE58 -> 0 | AH58: =$I$58*AG58 -> 0 | AI58: 0 | AJ58: =$I$58*AI58 -> 0 | AL58: =AI58+AG58+AE58+AC58+AA58+Y58+W58+U58+S58+Q58+O58+M58 -> 100 | AM58: =AJ58+AH58+AF58+AD58+AB58+Z58+X58+V58+T58+R58+P58+N58 -> 2130 | AN58: =AL58=F58 -> TRUE | AO58: =AM58=K58 -> TRUE
A59: 2.4.11 | B59: Aplicação manual de pintura com tinta texturizada acrílica em molduras de eps. Af_03/2024 | D59: 88432 - SINAPI/PR 12/2023 | E59: M2 | F59: =M59+O59+Q59+S59+U59+W59+Y59+AA59+AC59+AE59+AG59+AI59 -> 80 | G59: 21.04 | H59: =$C$7 -> 0.2034 | I59: =ROUND(G59*(1+H59),2) -> 25.32 | K59: =ROUND(I59*F59,2) -> 2025.6 | M59: 30 | N59: =$I$59*M59 -> 759.6 | O59: 0 | P59: =$I$59*O59 -> 0 | R59: =$I$59*Q59 -> 0 | S59: 0 | T59: =$I$59*S59 -> 0 | V59: =$I$59*U59 -> 0 | X59: =$I$59*W59 -> 0 | Y59: 0 | Z59: =$I$59*Y59 -> 0 | AB59: =$I$59*AA59 -> 0 | AD59: =$I$59*AC59 -> 0 | AF59: =$I$59*AE59 -> 0 | AH59: =$I$59*AG59 -> 0 | AI59: 50 | AJ59: =$I$59*AI59 -> 1266 | AL59: =AI59+AG59+AE59+AC59+AA59+Y59+W59+U59+S59+Q59+O59+M59 -> 80 | AM59: =AJ59+AH59+AF59+AD59+AB59+Z59+X59+V59+T59+R59+P59+N59 -> 2025.6 | AN59: =AL59=F59 -> TRUE | AO59: =AM59=K59 -> TRUE
A60: 2.4.12 | B60: Aplicação manual de tinta látex acrílica em panos com presença de vãos de edifícios de múltiplos pavimentos, duas demãos. af_11/2016 | D60: 95622 - SINAPI/PR 12/2023 | E60: M2 | F60: =M60+O60+Q60+S60+U60+W60+Y60+AA60+AC60+AE60+AG60+AI60 -> 7050 | G60: 18.61 | H60: =$C$7 -> 0.2034 | I60: =ROUND(G60*(1+H60),2) -> 22.4 | K60: =ROUND(I60*F60,2) -> 157920 | M60: 200 | N60: =$I$60*M60 -> 4480 | O60: 0 | P60: =$I$60*O60 -> 0 | R60: =$I$60*Q60 -> 0 | S60: 0 | T60: =$I$60*S60 -> 0 | V60: =$I$60*U60 -> 0 | W60: 6750 | X60: =$I$60*W60 -> 151200 | Y60: 0 | Z60: =$I$60*Y60 -> 0 | AB60: =$I$60*AA60 -> 0 | AD60: =$I$60*AC60 -> 0 | AF60: =$I$60*AE60 -> 0 | AH60: =$I$60*AG60 -> 0 | AI60: 100 | AJ60: =$I$60*AI60 -> 2240 | AL60: =AI60+AG60+AE60+AC60+AA60+Y60+W60+U60+S60+Q60+O60+M60 -> 7050 | AM60: =AJ60+AH60+AF60+AD60+AB60+Z60+X60+V60+T60+R60+P60+N60 -> 157920 | AN60: =AL60=F60 -> TRUE | AO60: =AM60=K60 -> TRUE
A61: 2.4.13 | B61: Aplicação manual de tinta látex acrílica em panos sem presença de vãos de edifícios de múltiplos pavimentos, duas demãos. af_11/2016 | D61: 95623 - SINAPI/PR 12/2023 | E61: M2 | F61: =M61+O61+Q61+S61+U61+W61+Y61+AA61+AC61+AE61+AG61+AI61 -> 250 | G61: 13.98 | H61: =$C$7 -> 0.2034 | I61: =ROUND(G61*(1+H61),2) -> 16.82 | K61: =ROUND(I61*F61,2) -> 4205 | M61: 200 | N61: =$I$61*M61 -> 3364 | O61: 0 | P61: =$I$61*O61 -> 0 | R61: =$I$61*Q61 -> 0 | S61: 0 | T61: =$I$61*S61 -> 0 | V61: =$I$61*U61 -> 0 | X61: =$I$61*W61 -> 0 | Y61: 0 | Z61: =$I$61*Y61 -> 0 | AB61: =$I$61*AA61 -> 0 | AD61: =$I$61*AC61 -> 0 | AF61: =$I$61*AE61 -> 0 | AH61: =$I$61*AG61 -> 0 | AI61: 50 | AJ61: =$I$61*AI61 -> 841 | AL61: =AI61+AG61+AE61+AC61+AA61+Y61+W61+U61+S61+Q61+O61+M61 -> 250 | AM61: =AJ61+AH61+AF61+AD61+AB61+Z61+X61+V61+T61+R61+P61+N61 -> 4205 | AN61: =AL61=F61 -> TRUE | AO61: =AM61=K61 -> TRUE
A62: 2.4.14 | B62: Aplicação de massa texturizada acrílica projetada em panos com presença de vãos de edifícios de múltiplos pavimentos, uma cor. af_06/2014 | D62: C.P. 2942311155268 - Composição Própria 12/2023 | E62: M2 | F62: =M62+O62+Q62+S62+U62+W62+Y62+AA62+AC62+AE62+AG62+AI62 -> 600 | G62: 28.09 | H62: =$C$7 -> 0.2034 | I62: =ROUND(G62*(1+H62),2) -> 33.8 | K62: =ROUND(I62*F62,2) -> 20280 | M62: 500 | N62: =$I$62*M62 -> 16900 | O62: 0 | P62: =$I$62*O62 -> 0 | R62: =$I$62*Q62 -> 0 | S62: 0 | T62: =$I$62*S62 -> 0 | V62: =$I$62*U62 -> 0 | X62: =$I$62*W62 -> 0 | Y62: 0 | Z62: =$I$62*Y62 -> 0 | AB62: =$I$62*AA62 -> 0 | AD62: =$I$62*AC62 -> 0 | AF62: =$I$62*AE62 -> 0 | AH62: =$I$62*AG62 -> 0 | AI62: 100 | AJ62: =$I$62*AI62 -> 3380 | AL62: =AI62+AG62+AE62+AC62+AA62+Y62+W62+U62+S62+Q62+O62+M62 -> 600 | AM62: =AJ62+AH62+AF62+AD62+AB62+Z62+X62+V62+T62+R62+P62+N62 -> 20280 | AN62: =AL62=F62 -> TRUE | AO62: =AM62=K62 -> TRUE
A63: 2.4.15 | B63: Aplicação de massa texturizada acrílica projetada em panos cegos de fachada (sem presença de vãos) de edifícios de múltiplos pavimentos, uma cor. af_06/2014 | D63: C.P. 2942311155272 - Composição Própria 12/2023 | E63: M2 | F63: =M63+O63+Q63+S63+U63+W63+Y63+AA63+AC63+AE63+AG63+AI63 -> 6100 | G63: 24.69 | H63: =$C$7 -> 0.2034 | I63: =ROUND(G63*(1+H63),2) -> 29.71 | K63: =ROUND(I63*F63,2) -> 181231 | M63: 100 | N63: =$I$63*M63 -> 2971 | O63: 0 | P63: =$I$63*O63 -> 0 | R63: =$I$63*Q63 -> 0 | S63: 6000 | T63: =$I$63*S63 -> 178260 | V63: =$I$63*U63 -> 0 | X63: =$I$63*W63 -> 0 | Y63: 0 | Z63: =$I$63*Y63 -> 0 | AB63: =$I$63*AA63 -> 0 | AD63: =$I$63*AC63 -> 0 | AF63: =$I$63*AE63 -> 0 | AH63: =$I$63*AG63 -> 0 | AI63: 0 | AJ63: =$I$63*AI63 -> 0 | AL63: =AI63+AG63+AE63+AC63+AA63+Y63+W63+U63+S63+Q63+O63+M63 -> 6100 | AM63: =AJ63+AH63+AF63+AD63+AB63+Z63+X63+V63+T63+R63+P63+N63 -> 181231 | AN63: =AL63=F63 -> TRUE | AO63: =AM63=K63 -> TRUE
A64: 2.4.16 | B64: Aplicação de massa texturizada acrílica projetada em panos com presença de vãos de edifícios de múltiplos pavimentos, duas cores. af_06/2014 | D64: C.P. 2942311155275 - Composição Própria 12/2023 | E64: M2 | F64: =M64+O64+Q64+S64+U64+W64+Y64+AA64+AC64+AE64+AG64+AI64 -> 6600 | G64: 32.77 | H64: =$C$7 -> 0.2034 | I64: =ROUND(G64*(1+H64),2) -> 39.44 | K64: =ROUND(I64*F64,2) -> 260304 | M64: 500 | N64: =$I$64*M64 -> 19720 | O64: 0 | P64: =$I$64*O64 -> 0 | R64: =$I$64*Q64 -> 0 | S64: 6000 | T64: =$I$64*S64 -> 236640 | V64: =$I$64*U64 -> 0 | X64: =$I$64*W64 -> 0 | Y64: 0 | Z64: =$I$64*Y64 -> 0 | AB64: =$I$64*AA64 -> 0 | AD64: =$I$64*AC64 -> 0 | AF64: =$I$64*AE64 -> 0 | AH64: =$I$64*AG64 -> 0 | AI64: 100 | AJ64: =$I$64*AI64 -> 3944 | AL64: =AI64+AG64+AE64+AC64+AA64+Y64+W64+U64+S64+Q64+O64+M64 -> 6600 | AM64: =AJ64+AH64+AF64+AD64+AB64+Z64+X64+V64+T64+R64+P64+N64 -> 260304 | AN64: =AL64=F64 -> TRUE | AO64: =AM64=K64 -> TRUE
A65: 2.4.17 | B65: Aplicação de massa texturizada acrílica projetada em panos cegos de fachada (sem presença de vãos) de edifícios de múltiplos pavimentos, duas cores. af_06/2014 | D65: C.P. 2942311155276 - Composição Própria 12/2023 | E65: M2 | F65: =M65+O65+Q65+S65+U65+W65+Y65+AA65+AC65+AE65+AG65+AI65 -> 2600 | G65: 26.89 | H65: =$C$7 -> 0.2034 | I65: =ROUND(G65*(1+H65),2) -> 32.36 | K65: =ROUND(I65*F65,2) -> 84136 | M65: 100 | N65: =$I$65*M65 -> 3236 | O65: 0 | P65: =$I$65*O65 -> 0 | R65: =$I$65*Q65 -> 0 | S65: 0 | T65: =$I$65*S65 -> 0 | V65: =$I$65*U65 -> 0 | X65: =$I$65*W65 -> 0 | Y65: 2500 | Z65: =$I$65*Y65 -> 80900 | AB65: =$I$65*AA65 -> 0 | AD65: =$I$65*AC65 -> 0 | AF65: =$I$65*AE65 -> 0 | AH65: =$I$65*AG65 -> 0 | AI65: 0 | AJ65: =$I$65*AI65 -> 0 | AL65: =AI65+AG65+AE65+AC65+AA65+Y65+W65+U65+S65+Q65+O65+M65 -> 2600 | AM65: =AJ65+AH65+AF65+AD65+AB65+Z65+X65+V65+T65+R65+P65+N65 -> 84136 | AN65: =AL65=F65 -> TRUE | AO65: =AM65=K65 -> TRUE
A66: 3 | B66: PINTURA EM SUPERFÍCIE METÁLICA | K66: =K67 -> 151027.53
A67: 3.1 | B67: AMBIENTES EM GERAL | K67: =SUM(K68:K76) -> 151027.53
A68: 3.1.1 | B68: Pintura com tinta alquídica de fundo (tipo zarcão) pulverizada sobre superfícies metálicas (exceto perfil) executado em obra (por demão). af_01/2020_pe | D68: 100721 - SINAPI/PR 12/2023 | E68: M2 | F68: =M68+O68+Q68+S68+U68+W68+Y68+AA68+AC68+AE68+AG68+AI68 -> 750 | G68: 29.19 | H68: =$C$7 -> 0.2034 | I68: =ROUND(G68*(1+H68),2) -> 35.13 | K68: =ROUND(I68*F68,2) -> 26347.5 | M68: 200 | N68: =$I$68*M68 -> 7026 | O68: 0 | P68: =$I$68*O68 -> 0 | R68: =$I$68*Q68 -> 0 | S68: 0 | T68: =$I$68*S68 -> 0 | V68: =$I$68*U68 -> 0 | X68: =$I$68*W68 -> 0 | Y68: 500 | Z68: =$I$68*Y68 -> 17565 | AB68: =$I$68*AA68 -> 0 | AD68: =$I$68*AC68 -> 0 | AE68: 0 | AF68: =$I$68*AE68 -> 0 | AH68: =$I$68*AG68 -> 0 | AI68: 50 | AJ68: =$I$68*AI68 -> 1756.5 | AL68: =AI68+AG68+AE68+AC68+AA68+Y68+W68+U68+S68+Q68+O68+M68 -> 750 | AM68: =AJ68+AH68+AF68+AD68+AB68+Z68+X68+V68+T68+R68+P68+N68 -> 26347.5 | AN68: =AL68=F68 -> TRUE | AO68: =AM68=K68 -> TRUE
A69: 3.1.2 | B69: Pintura com tinta alquídica de fundo (tipo zarcão) aplicada a rolo ou pincel sobre superfícies metálicas (exceto perfil) executado em obra (por demão). af_01/2020 | D69: 100722 - SINAPI/PR 12/2023 | E69: M2 | F69: =M69+O69+Q69+S69+U69+W69+Y69+AA69+AC69+AE69+AG69+AI69 -> 600 | G69: 29.43 | H69: =$C$7 -> 0.2034 | I69: =ROUND(G69*(1+H69),2) -> 35.42 | K69: =ROUND(I69*F69,2) -> 21252 | M69: 50 | N69: =$I$69*M69 -> 1771 | O69: 0 | P69: =$I$69*O69 -> 0 | R69: =$I$69*Q69 -> 0 | S69: 0 | T69: =$I$69*S69 -> 0 | V69: =$I$69*U69 -> 0 | X69: =$I$69*W69 -> 0 | Y69: 500 | Z69: =$I$69*Y69 -> 17710 | AB69: =$I$69*AA69 -> 0 | AD69: =$I$69*AC69 -> 0 | AE69: 0 | AF69: =$I$69*AE69 -> 0 | AH69: =$I$69*AG69 -> 0 | AI69: 50 | AJ69: =$I$69*AI69 -> 1771 | AL69: =AI69+AG69+AE69+AC69+AA69+Y69+W69+U69+S69+Q69+O69+M69 -> 600 | AM69: =AJ69+AH69+AF69+AD69+AB69+Z69+X69+V69+T69+R69+P69+N69 -> 21252 | AN69: =AL69=F69 -> TRUE | AO69: =AM69=K69 -> TRUE
A70: 3.1.3 | B70: Pintura com tinta alquídica de fundo e acabamento (esmalte sintético grafite) pulverizada sobre superfícies metálicas (exceto perfil) executado em obra (por demão). af_01/2020_pe | D70: 100725 - SINAPI/PR 12/2023 | E70: M2 | F70: =M70+O70+Q70+S70+U70+W70+Y70+AA70+AC70+AE70+AG70+AI70 -> 750 | G70: 29.46 | H70: =$C$7 -> 0.2034 | I70: =ROUND(G70*(1+H70),2) -> 35.45 | K70: =ROUND(I70*F70,2) -> 26587.5 | M70: 200 | N70: =$I$70*M70 -> 7090 | O70: 0 | P70: =$I$70*O70 -> 0 | R70: =$I$70*Q70 -> 0 | S70: 0 | T70: =$I$70*S70 -> 0 | V70: =$I$70*U70 -> 0 | X70: =$I$70*W70 -> 0 | Y70: 500 | Z70: =$I$70*Y70 -> 17725 | AB70: =$I$70*AA70 -> 0 | AD70: =$I$70*AC70 -> 0 | AE70: 0 | AF70: =$I$70*AE70 -> 0 | AH70: =$I$70*AG70 -> 0 | AI70: 50 | AJ70: =$I$70*AI70 -> 1772.5 | AL70: =AI70+AG70+AE70+AC70+AA70+Y70+W70+U70+S70+Q70+O70+M70 -> 750 | AM70: =AJ70+AH70+AF70+AD70+AB70+Z70+X70+V70+T70+R70+P70+N70 -> 26587.5 | AN70: =AL70=F70 -> TRUE | AO70: =AM70=K70 -> TRUE
A71: 3.1.4 | B71: Pintura com tinta alquídica de fundo e acabamento (esmalte sintético grafite) aplicada a rolo ou pincel sobre superfícies metálicas (exceto perfil) executado em obra (por demão). af_01/2020 | D71: 100726 - SINAPI/PR 12/2023 | E71: M2 | F71: =M71+O71+Q71+S71+U71+W71+Y71+AA71+AC71+AE71+AG71+AI71 -> 600 | G71: 32.68 | H71: =$C$7 -> 0.2034 | I71: =ROUND(G71*(1+H71),2) -> 39.33 | K71: =ROUND(I71*F71,2) -> 23598 | M71: 50 | N71: =$I$71*M71 -> 1966.5 | O71: 0 | P71: =$I$71*O71 -> 0 | R71: =$I$71*Q71 -> 0 | S71: 0 | T71: =$I$71*S71 -> 0 | V71: =$I$71*U71 -> 0 | X71: =$I$71*W71 -> 0 | Y71: 500 | Z71: =$I$71*Y71 -> 19665 | AB71: =$I$71*AA71 -> 0 | AD71: =$I$71*AC71 -> 0 | AE71: 0 | AF71: =$I$71*AE71 -> 0 | AH71: =$I$71*AG71 -> 0 | AI71: 50 | AJ71: =$I$71*AI71 -> 1966.5 | AL71: =AI71+AG71+AE71+AC71+AA71+Y71+W71+U71+S71+Q71+O71+M71 -> 600 | AM71: =AJ71+AH71+AF71+AD71+AB71+Z71+X71+V71+T71+R71+P71+N71 -> 23598 | AN71: =AL71=F71 -> TRUE | AO71: =AM71=K71 -> TRUE
A72: 3.1.5 | B72: Pintura com tinta acrílica de fundo pulverizada sobre superfícies metálicas (exceto perfil) executado em obra (por demão). af_01/2020_pe | D72: 100733 - SINAPI/PR 12/2023 | E72: M2 | F72: =M72+O72+Q72+S72+U72+W72+Y72+AA72+AC72+AE72+AG72+AI72 -> 250 | G72: 14.22 | H72: =$C$7 -> 0.2034 | I72: =ROUND(G72*(1+H72),2) -> 17.11 | K72: =ROUND(I72*F72,2) -> 4277.5 | M72: 200 | N72: =$I$72*M72 -> 3422 | O72: 0 | P72: =$I$72*O72 -> 0 | R72: =$I$72*Q72 -> 0 | S72: 0 | T72: =$I$72*S72 -> 0 | V72: =$I$72*U72 -> 0 | X72: =$I$72*W72 -> 0 | Y72: 0 | Z72: =$I$72*Y72 -> 0 | AB72: =$I$72*AA72 -> 0 | AD72: =$I$72*AC72 -> 0 | AE72: 0 | AF72: =$I$72*AE72 -> 0 | AH72: =$I$72*AG72 -> 0 | AI72: 50 | AJ72: =$I$72*AI72 -> 855.5 | AL72: =AI72+AG72+AE72+AC72+AA72+Y72+W72+U72+S72+Q72+O72+M72 -> 250 | AM72: =AJ72+AH72+AF72+AD72+AB72+Z72+X72+V72+T72+R72+P72+N72 -> 4277.5 | AN72: =AL72=F72 -> TRUE | AO72: =AM72=K72 -> TRUE
A73: 3.1.6 | B73: Pintura com tinta alquídica de acabamento (esmalte sintético acetinado) pulverizada sobre superfícies metálicas (exceto perfil) executado em obra (por demão). af_01/2020_pe | D73: 100741 - SINAPI/PR 12/2023 | E73: M2 | F73: =M73+O73+Q73+S73+U73+W73+Y73+AA73+AC73+AE73+AG73+AI73 -> 250 | G73: 28.8 | H73: =$C$7 -> 0.2034 | I73: =ROUND(G73*(1+H73),2) -> 34.66 | K73: =ROUND(I73*F73,2) -> 8665 | M73: 200 | N73: =$I$73*M73 -> 6932 | O73: 0 | P73: =$I$73*O73 -> 0 | R73: =$I$73*Q73 -> 0 | S73: 0 | T73: =$I$73*S73 -> 0 | V73: =$I$73*U73 -> 0 | X73: =$I$73*W73 -> 0 | Y73: 0 | Z73: =$I$73*Y73 -> 0 | AB73: =$I$73*AA73 -> 0 | AD73: =$I$73*AC73 -> 0 | AE73: 0 | AF73: =$I$73*AE73 -> 0 | AH73: =$I$73*AG73 -> 0 | AI73: 50 | AJ73: =$I$73*AI73 -> 1733 | AL73: =AI73+AG73+AE73+AC73+AA73+Y73+W73+U73+S73+Q73+O73+M73 -> 250 | AM73: =AJ73+AH73+AF73+AD73+AB73+Z73+X73+V73+T73+R73+P73+N73 -> 8665 | AN73: =AL73=F73 -> TRUE | AO73: =AM73=K73 -> TRUE
A74: 3.1.7 | B74: Pintura com tinta alquídica de acabamento (esmalte sintético acetinado) aplicada a rolo ou pincel sobre superfícies metálicas (exceto perfil) executado em obra (por demão). af_01/2020 | D74: 100742 - SINAPI/PR 12/2023 | E74: M2 | F74: =M74+O74+Q74+S74+U74+W74+Y74+AA74+AC74+AE74+AG74+AI74 -> 100 | G74: 29.99 | H74: =$C$7 -> 0.2034 | I74: =ROUND(G74*(1+H74),2) -> 36.09 | K74: =ROUND(I74*F74,2) -> 3609 | M74: 50 | N74: =$I$74*M74 -> 1804.5 | O74: 0 | P74: =$I$74*O74 -> 0 | R74: =$I$74*Q74 -> 0 | S74: 0 | T74: =$I$74*S74 -> 0 | V74: =$I$74*U74 -> 0 | X74: =$I$74*W74 -> 0 | Y74: 0 | Z74: =$I$74*Y74 -> 0 | AB74: =$I$74*AA74 -> 0 | AD74: =$I$74*AC74 -> 0 | AE74: 0 | AF74: =$I$74*AE74 -> 0 | AH74: =$I$74*AG74 -> 0 | AI74: 50 | AJ74: =$I$74*AI74 -> 1804.5 | AL74: =AI74+AG74+AE74+AC74+AA74+Y74+W74+U74+S74+Q74+O74+M74 -> 100 | AM74: =AJ74+AH74+AF74+AD74+AB74+Z74+X74+V74+T74+R74+P74+N74 -> 3609 | AN74: =AL74=F74 -> TRUE | AO74: =AM74=K74 -> TRUE
A75: 3.1.8 | B75: Pintura com tinta alquídica de acabamento (esmalte sintético brilhante) pulverizada sobre superfícies metálicas (exceto perfil) executado em obra (por demão). af_01/2020_pe | D75: 100745 - SINAPI/PR 12/2023 | E75: M2 | F75: =M75+O75+Q75+S75+U75+W75+Y75+AA75+AC75+AE75+AG75+AI75 -> 891 | G75: 28.53 | H75: =$C$7 -> 0.2034 | I75: =ROUND(G75*(1+H75),2) -> 34.33 | K75: =ROUND(I75*F75,2) -> 30588.03 | M75: 200 | N75: =$I$75*M75 -> 6866 | O75: 350 | P75: =$I$75*O75 -> 12015.5 | R75: =$I$75*Q75 -> 0 | S75: 0 | T75: =$I$75*S75 -> 0 | V75: =$I$75*U75 -> 0 | X75: =$I$75*W75 -> 0 | Y75: 0 | Z75: =$I$75*Y75 -> 0 | AB75: =$I$75*AA75 -> 0 | AD75: =$I$75*AC75 -> 0 | AE75: 291 | AF75: =$I$75*AE75 -> 9990.03 | AH75: =$I$75*AG75 -> 0 | AI75: 50 | AJ75: =$I$75*AI75 -> 1716.5 | AL75: =AI75+AG75+AE75+AC75+AA75+Y75+W75+U75+S75+Q75+O75+M75 -> 891 | AM75: =AJ75+AH75+AF75+AD75+AB75+Z75+X75+V75+T75+R75+P75+N75 -> 30588.03 | AN75: =AL75=F75 -> TRUE | AO75: =AM75=K75 -> TRUE
A76: 3.1.9 | B76: Pintura com tinta alquídica de acabamento (esmalte sintético brilhante) aplicada a rolo ou pincel sobre superfícies metálicas (exceto perfil) executado em obra (por demão). af_01/2020 | D76: 100746 - SINAPI/PR 12/2023 | E76: M2 | F76: =M76+O76+Q76+S76+U76+W76+Y76+AA76+AC76+AE76+AG76+AI76 -> 170 | G76: 29.83 | H76: =$C$7 -> 0.2034 | I76: =ROUND(G76*(1+H76),2) -> 35.9 | K76: =ROUND(I76*F76,2) -> 6103 | M76: 50 | N76: =$I$76*M76 -> 1795 | O76: 0 | P76: =$I$76*O76 -> 0 | R76: =$I$76*Q76 -> 0 | S76: 0 | T76: =$I$76*S76 -> 0 | V76: =$I$76*U76 -> 0 | X76: =$I$76*W76 -> 0 | Y76: 0 | Z76: =$I$76*Y76 -> 0 | AB76: =$I$76*AA76 -> 0 | AC76: 70 | AD76: =$I$76*AC76 -> 2513 | AE76: 0 | AF76: =$I$76*AE76 -> 0 | AH76: =$I$76*AG76 -> 0 | AI76: 50 | AJ76: =$I$76*AI76 -> 1795 | AL76: =AI76+AG76+AE76+AC76+AA76+Y76+W76+U76+S76+Q76+O76+M76 -> 170 | AM76: =AJ76+AH76+AF76+AD76+AB76+Z76+X76+V76+T76+R76+P76+N76 -> 6103 | AN76: =AL76=F76 -> TRUE | AO76: =AM76=K76 -> TRUE
A77: 4 | B77: PINTURA EM MADEIRA | K77: =K78 -> 116653
A78: 4.1 | B78: AMBIENTES EM GERAL | K78: =SUM(K79:K85) -> 116653
A79: 4.1.1 | B79: Aplicação massa alquídica para madeira, para pintura com tinta de acabamento (pigmentada). af_01/2021 | D79: 102200 - SINAPI/PR 12/2023 | E79: M2 | F79: =M79+O79+Q79+S79+U79+W79+Y79+AA79+AC79+AE79+AG79+AI79 -> 1190 | G79: 26.37 | H79: =$C$7 -> 0.2034 | I79: =ROUND(G79*(1+H79),2) -> 31.73 | K79: =ROUND(I79*F79,2) -> 37758.7 | M79: 50 | N79: =$I$79*M79 -> 1586.5 | O79: 0 | P79: =$I$79*O79 -> 0 | R79: =$I$79*Q79 -> 0 | S79: 500 | T79: =$I$79*S79 -> 15865 | V79: =$I$79*U79 -> 0 | X79: =$I$79*W79 -> 0 | Y79: 250 | Z79: =$I$79*Y79 -> 7932.5 | AA79: 90 | AB79: =$I$79*AA79 -> 2855.7 | AD79: =$I$79*AC79 -> 0 | AE79: 0 | AF79: =$I$79*AE79 -> 0 | AH79: =$I$79*AG79 -> 0 | AI79: 300 | AJ79: =$I$79*AI79 -> 9519 | AL79: =AI79+AG79+AE79+AC79+AA79+Y79+W79+U79+S79+Q79+O79+M79 -> 1190 | AM79: =AJ79+AH79+AF79+AD79+AB79+Z79+X79+V79+T79+R79+P79+N79 -> 37758.7 | AN79: =AL79=F79 -> TRUE | AO79: =AM79=K79 -> TRUE
A80: 4.1.2 | B80: Lixamento de massa para madeira. af_01/2021 | D80: 102194 - SINAPI/PR 12/2023 | E80: M2 | F80: =M80+O80+Q80+S80+U80+W80+Y80+AA80+AC80+AE80+AG80+AI80 -> 1100 | G80: 10.19 | H80: =$C$7 -> 0.2034 | I80: =ROUND(G80*(1+H80),2) -> 12.26 | K80: =ROUND(I80*F80,2) -> 13486 | M80: 50 | N80: =$I$80*M80 -> 613 | O80: 0 | P80: =$I$80*O80 -> 0 | R80: =$I$80*Q80 -> 0 | S80: 500 | T80: =$I$80*S80 -> 6130 | V80: =$I$80*U80 -> 0 | X80: =$I$80*W80 -> 0 | Y80: 250 | Z80: =$I$80*Y80 -> 3065 | AB80: =$I$80*AA80 -> 0 | AD80: =$I$80*AC80 -> 0 | AE80: 0 | AF80: =$I$80*AE80 -> 0 | AH80: =$I$80*AG80 -> 0 | AI80: 300 | AJ80: =$I$80*AI80 -> 3678 | AL80: =AI80+AG80+AE80+AC80+AA80+Y80+W80+U80+S80+Q80+O80+M80 -> 1100 | AM80: =AJ80+AH80+AF80+AD80+AB80+Z80+X80+V80+T80+R80+P80+N80 -> 13486 | AN80: =AL80=F80 -> TRUE | AO80: =AM80=K80 -> TRUE
A81: 4.1.3 | B81: Pintura tinta de acabamento (pigmentada) esmalte sintético acetinado em madeira, 1 demão. af_01/2021 | D81: 102209 - SINAPI/PR 12/2023 | E81: M2 | F81: =M81+O81+Q81+S81+U81+W81+Y81+AA81+AC81+AE81+AG81+AI81 -> 972 | G81: 9.89 | H81: =$C$7 -> 0.2034 | I81: =ROUND(G81*(1+H81),2) -> 11.9 | K81: =ROUND(I81*F81,2) -> 11566.8 | M81: 50 | N81: =$I$81*M81 -> 595 | O81: 20 | P81: =$I$81*O81 -> 238 | R81: =$I$81*Q81 -> 0 | S81: 0 | T81: =$I$81*S81 -> 0 | V81: =$I$81*U81 -> 0 | X81: =$I$81*W81 -> 0 | Y81: 500 | Z81: =$I$81*Y81 -> 5950 | AA81: 90 | AB81: =$I$81*AA81 -> 1071 | AD81: =$I$81*AC81 -> 0 | AE81: 12 | AF81: =$I$81*AE81 -> 142.8 | AH81: =$I$81*AG81 -> 0 | AI81: 300 | AJ81: =$I$81*AI81 -> 3570 | AL81: =AI81+AG81+AE81+AC81+AA81+Y81+W81+U81+S81+Q81+O81+M81 -> 972 | AM81: =AJ81+AH81+AF81+AD81+AB81+Z81+X81+V81+T81+R81+P81+N81 -> 11566.8 | AN81: =AL81=F81 -> TRUE | AO81: =AM81=K81 -> TRUE
A82: 4.1.4 | B82: Pintura tinta de acabamento (pigmentada) esmalte sintético brilhante em madeira, 1 demão. af_01/2021 | D82: 102210 - SINAPI/PR 12/2023 | E82: M2 | F82: =M82+O82+Q82+S82+U82+W82+Y82+AA82+AC82+AE82+AG82+AI82 -> 1350 | G82: 9.49 | H82: =$C$7 -> 0.2034 | I82: =ROUND(G82*(1+H82),2) -> 11.42 | K82: =ROUND(I82*F82,2) -> 15417 | M82: 50 | N82: =$I$82*M82 -> 571 | O82: 0 | P82: =$I$82*O82 -> 0 | R82: =$I$82*Q82 -> 0 | S82: 500 | T82: =$I$82*S82 -> 5710 | V82: =$I$82*U82 -> 0 | X82: =$I$82*W82 -> 0 | Y82: 500 | Z82: =$I$82*Y82 -> 5710 | AB82: =$I$82*AA82 -> 0 | AD82: =$I$82*AC82 -> 0 | AE82: 0 | AF82: =$I$82*AE82 -> 0 | AH82: =$I$82*AG82 -> 0 | AI82: 300 | AJ82: =$I$82*AI82 -> 3426 | AL82: =AI82+AG82+AE82+AC82+AA82+Y82+W82+U82+S82+Q82+O82+M82 -> 1350 | AM82: =AJ82+AH82+AF82+AD82+AB82+Z82+X82+V82+T82+R82+P82+N82 -> 15417 | AN82: =AL82=F82 -> TRUE | AO82: =AM82=K82 -> TRUE
A83: 4.1.5 | B83: Pintura verniz (incolor) alquídico em madeira, uso interno e externo, 1 demão. af_01/2021 | D83: 102203 - SINAPI/PR 12/2023 | E83: M2 | F83: =M83+O83+Q83+S83+U83+W83+Y83+AA83+AC83+AE83+AG83+AI83 -> 850 | G83: 11.79 | H83: =$C$7 -> 0.2034 | I83: =ROUND(G83*(1+H83),2) -> 14.19 | K83: =ROUND(I83*F83,2) -> 12061.5 | M83: 50 | N83: =$I$83*M83 -> 709.5 | O83: 0 | P83: =$I$83*O83 -> 0 | R83: =$I$83*Q83 -> 0 | S83: 0 | T83: =$I$83*S83 -> 0 | V83: =$I$83*U83 -> 0 | X83: =$I$83*W83 -> 0 | Y83: 500 | Z83: =$I$83*Y83 -> 7095 | AB83: =$I$83*AA83 -> 0 | AD83: =$I$83*AC83 -> 0 | AE83: 0 | AF83: =$I$83*AE83 -> 0 | AH83: =$I$83*AG83 -> 0 | AI83: 300 | AJ83: =$I$83*AI83 -> 4257 | AL83: =AI83+AG83+AE83+AC83+AA83+Y83+W83+U83+S83+Q83+O83+M83 -> 850 | AM83: =AJ83+AH83+AF83+AD83+AB83+Z83+X83+V83+T83+R83+P83+N83 -> 12061.5 | AN83: =AL83=F83 -> TRUE | AO83: =AM83=K83 -> TRUE
A84: 4.1.6 | B84: Pintura verniz (incolor) poliuretânico (resina alquídica modificada) em madeira, 1 demão. af_01/2021 | D84: 102205 - SINAPI/PR 12/2023 | E84: M2 | F84: =M84+O84+Q84+S84+U84+W84+Y84+AA84+AC84+AE84+AG84+AI84 -> 850 | G84: 11.12 | H84: =$C$7 -> 0.2034 | I84: =ROUND(G84*(1+H84),2) -> 13.38 | K84: =ROUND(I84*F84,2) -> 11373 | M84: 50 | N84: =$I$84*M84 -> 669 | O84: 0 | P84: =$I$84*O84 -> 0 | R84: =$I$84*Q84 -> 0 | S84: 0 | T84: =$I$84*S84 -> 0 | V84: =$I$84*U84 -> 0 | X84: =$I$84*W84 -> 0 | Y84: 500 | Z84: =$I$84*Y84 -> 6690 | AB84: =$I$84*AA84 -> 0 | AD84: =$I$84*AC84 -> 0 | AE84: 0 | AF84: =$I$84*AE84 -> 0 | AH84: =$I$84*AG84 -> 0 | AI84: 300 | AJ84: =$I$84*AI84 -> 4014 | AL84: =AI84+AG84+AE84+AC84+AA84+Y84+W84+U84+S84+Q84+O84+M84 -> 850 | AM84: =AJ84+AH84+AF84+AD84+AB84+Z84+X84+V84+T84+R84+P84+N84 -> 11373 | AN84: =AL84=F84 -> TRUE | AO84: =AM84=K84 -> TRUE
A85: 4.1.7 | B85: Pintura imunizante para madeira, 1 demão. af_01/2021 | D85: 102233 - SINAPI/PR 12/2023 | E85: M2 | F85: =M85+O85+Q85+S85+U85+W85+Y85+AA85+AC85+AE85+AG85+AI85 -> 1000 | G85: 12.46 | H85: =$C$7 -> 0.2034 | I85: =ROUND(G85*(1+H85),2) -> 14.99 | K85: =ROUND(I85*F85,2) -> 14990 | M85: 200 | N85: =$I$85*M85 -> 2998 | O85: 0 | P85: =$I$85*O85 -> 0 | R85: =$I$85*Q85 -> 0 | S85: 0 | T85: =$I$85*S85 -> 0 | V85: =$I$85*U85 -> 0 | X85: =$I$85*W85 -> 0 | Y85: 500 | Z85: =$I$85*Y85 -> 7495 | AB85: =$I$85*AA85 -> 0 | AD85: =$I$85*AC85 -> 0 | AE85: 0 | AF85: =$I$85*AE85 -> 0 | AH85: =$I$85*AG85 -> 0 | AI85: 300 | AJ85: =$I$85*AI85 -> 4497 | AL85: =AI85+AG85+AE85+AC85+AA85+Y85+W85+U85+S85+Q85+O85+M85 -> 1000 | AM85: =AJ85+AH85+AF85+AD85+AB85+Z85+X85+V85+T85+R85+P85+N85 -> 14990 | AN85: =AL85=F85 -> TRUE | AO85: =AM85=K85 -> TRUE
A86: 5 | B86: PINTURA EM QUADRA ESPORTIVA | K86: =K87 -> 386479.8
A87: 5.1 | B87: PISO CIMENTADO | K87: =SUM(K88:K92) -> 386479.8
A88: 5.1.1 | B88: Pintura de demarcação de quadra poliesportiva com tinta epóxi, E = 5 cm, aplicação manual. af_05/2021 | D88: 102506 - SINAPI/PR 12/2023 | E88: M | F88: =M88+O88+Q88+S88+U88+W88+Y88+AA88+AC88+AE88+AG88+AI88 -> 355 | G88: 13.1 | H88: =$C$7 -> 0.2034 | I88: =ROUND(G88*(1+H88),2) -> 15.76 | K88: =ROUND(I88*F88,2) -> 5594.8 | M88: 200 | N88: =$I$88*M88 -> 3152 | O88: 30 | P88: =$I$88*O88 -> 472.8 | R88: =$I$88*Q88 -> 0 | S88: 0 | T88: =$I$88*S88 -> 0 | V88: =$I$88*U88 -> 0 | X88: =$I$88*W88 -> 0 | Y88: 100 | Z88: =$I$88*Y88 -> 1576 | AB88: =$I$88*AA88 -> 0 | AD88: =$I$88*AC88 -> 0 | AE88: 25 | AF88: =$I$88*AE88 -> 394 | AH88: =$I$88*AG88 -> 0 | AJ88: =$I$88*AI88 -> 0 | AL88: =AI88+AG88+AE88+AC88+AA88+Y88+W88+U88+S88+Q88+O88+M88 -> 355 | AM88: =AJ88+AH88+AF88+AD88+AB88+Z88+X88+V88+T88+R88+P88+N88 -> 5594.8 | AN88: =AL88=F88 -> TRUE | AO88: =AM88=K88 -> TRUE
A89: 5.1.2 | B89: Pintura de demarcação de quadra poliesportiva com tinta acrílica, E = 5 cm, aplicação manual. af_05/2021 | D89: 102504 - SINAPI/PR 12/2023 | E89: M | F89: =M89+O89+Q89+S89+U89+W89+Y89+AA89+AC89+AE89+AG89+AI89 -> 3000 | G89: 12.03 | H89: =$C$7 -> 0.2034 | I89: =ROUND(G89*(1+H89),2) -> 14.48 | K89: =ROUND(I89*F89,2) -> 43440 | M89: 1500 | N89: =$I$89*M89 -> 21720 | O89: 0 | P89: =$I$89*O89 -> 0 | R89: =$I$89*Q89 -> 0 | S89: 0 | T89: =$I$89*S89 -> 0 | V89: =$I$89*U89 -> 0 | X89: =$I$89*W89 -> 0 | Y89: 1500 | Z89: =$I$89*Y89 -> 21720 | AB89: =$I$89*AA89 -> 0 | AD89: =$I$89*AC89 -> 0 | AE89: 0 | AF89: =$I$89*AE89 -> 0 | AH89: =$I$89*AG89 -> 0 | AJ89: =$I$89*AI89 -> 0 | AL89: =AI89+AG89+AE89+AC89+AA89+Y89+W89+U89+S89+Q89+O89+M89 -> 3000 | AM89: =AJ89+AH89+AF89+AD89+AB89+Z89+X89+V89+T89+R89+P89+N89 -> 43440 | AN89: =AL89=F89 -> TRUE | AO89: =AM89=K89 -> TRUE
A90: 5.1.3 | B90: Pintura de piso com tinta acrílica, aplicação manual, 2 demãos, incluso fundo preparador. af_05/2021 | D90: 102491 - SINAPI/PR 12/2023 | E90: M2 | F90: =M90+O90+Q90+S90+U90+W90+Y90+AA90+AC90+AE90+AG90+AI90 -> 8000 | G90: 22.2 | H90: =$C$7 -> 0.2034 | I90: =ROUND(G90*(1+H90),2) -> 26.72 | K90: =ROUND(I90*F90,2) -> 213760 | M90: =6000 -> 6000 | N90: =$I$90*M90 -> 160320 | O90: 0 | P90: =$I$90*O90 -> 0 | R90: =$I$90*Q90 -> 0 | S90: 0 | T90: =$I$90*S90 -> 0 | V90: =$I$90*U90 -> 0 | X90: =$I$90*W90 -> 0 | Y90: 2000 | Z90: =$I$90*Y90 -> 53440 | AB90: =$I$90*AA90 -> 0 | AD90: =$I$90*AC90 -> 0 | AE90: 0 | AF90: =$I$90*AE90 -> 0 | AH90: =$I$90*AG90 -> 0 | AJ90: =$I$90*AI90 -> 0
A91: 5.1.4 | B91: Pintura de piso com tinta acrílica, aplicação manual, 3 demãos, incluso fundo preparador. af_05/2021 | D91: 102492 - SINAPI/PR 12/2023 | E91: M2 | F91: =M91+O91+Q91+S91+U91+W91+Y91+AA91+AC91+AE91+AG91+AI91 -> 1250 | G91: 28.37 | H91: =$C$7 -> 0.2034 | I91: =ROUND(G91*(1+H91),2) -> 34.14 | K91: =ROUND(I91*F91,2) -> 42675 | M91: 50 | N91: =$I$91*M91 -> 1707 | O91: 0 | P91: =$I$91*O91 -> 0 | R91: =$I$91*Q91 -> 0 | S91: 200 | T91: =$I$91*S91 -> 6828 | V91: =$I$91*U91 -> 0 | X91: =$I$91*W91 -> 0 | Y91: 1000 | Z91: =$I$91*Y91 -> 34140 | AB91: =$I$91*AA91 -> 0 | AD91: =$I$91*AC91 -> 0 | AE91: 0 | AF91: =$I$91*AE91 -> 0 | AH91: =$I$91*AG91 -> 0 | AJ91: =$I$91*AI91 -> 0 | AL91: =AI91+AG91+AE91+AC91+AA91+Y91+W91+U91+S91+Q91+O91+M91 -> 1250 | AM91: =AJ91+AH91+AF91+AD91+AB91+Z91+X91+V91+T91+R91+P91+N91 -> 42675 | AN91: =AL91=F91 -> TRUE | AO91: =AM91=K91 -> TRUE
A92: 5.1.5 | B92: Pintura de piso com tinta epóxi, aplicação manual, 2 demãos, incluso primer epóxi. af_05/2021 | D92: 102494 - SINAPI/PR 12/2023 | E92: M2 | F92: =M92+O92+Q92+S92+U92+W92+Y92+AA92+AC92+AE92+AG92+AI92 -> 1000 | G92: 67.32 | H92: =$C$7 -> 0.2034 | I92: =ROUND(G92*(1+H92),2) -> 81.01 | K92: =ROUND(I92*F92,2) -> 81010 | M92: 50 | N92: =$I$92*M92 -> 4050.5 | O92: 400 | P92: =$I$92*O92 -> 32404 | R92: =$I$92*Q92 -> 0 | S92: 0 | T92: =$I$92*S92 -> 0 | V92: =$I$92*U92 -> 0 | X92: =$I$92*W92 -> 0 | Y92: 100 | Z92: =$I$92*Y92 -> 8101 | AB92: =$I$92*AA92 -> 0 | AD92: =$I$92*AC92 -> 0 | AE92: 400 | AF92: =$I$92*AE92 -> 32404 | AH92: =$I$92*AG92 -> 0 | AI92: 50 | AJ92: =$I$92*AI92 -> 4050.5 | AL92: =AI92+AG92+AE92+AC92+AA92+Y92+W92+U92+S92+Q92+O92+M92 -> 1000 | AM92: =AJ92+AH92+AF92+AD92+AB92+Z92+X92+V92+T92+R92+P92+N92 -> 81010 | AN92: =AL92=F92 -> TRUE | AO92: =AM92=K92 -> TRUE
I93: TOTAL | K93: =SUM(K10:K92)/3 -> 3497076 | N93: =SUM(N12:N92) -> 381480.65 | P93: =SUM(P12:P92) -> 291444.2 | R93: =SUM(R12:R92) -> 22826.5 | T93: =SUM(T12:T92) -> 954622.5 | V93: =SUM(V12:V92) -> 7190.78 | X93: =SUM(X12:X92) -> 152463.9 | Z93: =SUM(Z12:Z92) -> 989116 | AB93: =SUM(AB12:AB92) -> 223582.45 | AD93: =SUM(AD12:AD92) -> 32956.9 | AF93: =SUM(AF12:AF92) -> 272458.02 | AH93: =SUM(AH12:AH92) -> 0 | AJ93: =SUM(AJ12:AJ92) -> 168934.1 | AM93: =AJ93+AH93+AF93+AD93+AB93+Z93+X93+V93+T93+R93+P93+N93 -> 3497076 | AN93: =AL93=F93 -> TRUE | AO93: =AM93=K93 -> TRUE

Sheet TR
B1: MUNICÍPIO DE PINHAIS
B2: RODOVIA JOAO LEOPOLDO JACOMEL - 12162, Centro
B3: CEP: 83323410 - Pinhais - PR
A4: OBRA: | B4: 32 - PINTURA IMOBILIÁRIA
A5: ENDEREÇO: | B5: PINHAIS/PR
A6: PLANILHA ORÇAMENTÁRIA
A7: BDI: | C7: 0.2034 | K7: SEMOP | M7: SEMAD | O7: SEMUR | Q7: SEMSA | S7: SEPFO | U7: SEMMA | W7: SEMED | Y7: SEMEL | AA7: SESET | AC7: SEMAS | AE7: SEMDE | AG7: P. PREV.
A8: BASE DO ORÇAMENTO: | C8: SINAPI/PR 02/2024, Composição Própria 02/2024, Cotação 02/2024 | K8: QUANTIDADE | L8: VALOR | M8: QUANTIDADE | N8: VALOR | O8: QUANTIDADE | P8: VALOR | Q8: QUANTIDADE | R8: VALOR | S8: QUANTIDADE | T8: VALOR | U8: QUANTIDADE | V8: VALOR | W8: QUANTIDADE | X8: VALOR | Y8: QUANTIDADE | Z8: VALOR | AA8: QUANTIDADE | AB8: VALOR | AC8: QUANTIDADE | AD8: VALOR | AE8: QUANTIDADE | AF8: VALOR | AG8: QUANTIDADE | AH8: VALOR
A9: ITEM | B9: DESCRIÇÃO | D9: CATSER | E9: UN. | F9: QUANT. | G9: PREÇO(R$) | I9: PREÇO TOTAL(R$)
A10: 1 | B10: Lixamento manual em superfícies metálicas em obra. af_01/2020 | D10: 13455 | E10: M2 | F10: =K10+M10+O10+Q10+S10+U10+W10+Y10+AA10+AC10+AE10+AG10 -> 3601 | G10: =ORÇAMENTO!I12 -> 14.67 | I10: =ROUND(G10*F10,2) -> 52826.67 | K10: 50 | L10: =$G$10*K10 -> 733.5 | M10: 170 | N10: =$G$10*M10 -> 2493.9 | O10: 0 | P10: =$G$10*O10 -> 0 | Q10: 1200 | R10: =$G$10*Q10 -> 17604 | S10: 0 | T10: =$G$10*S10 -> 0 | U10: 0 | V10: =ROUND(U10*$G$19,2) -> 0 | W10: 2000 | X10: =$G$10*W10 -> 29340 | Z10: =$G$10*Y10 -> 0 | AB10: =$G$10*AA10 -> 0 | AC10: 166 | AD10: =$G$10*AC10 -> 2435.22 | AF10: =$G$10*AE10 -> 0 | AG10: 15 | AH10: =$G$10*AG10 -> 220.05 | AJ10: =AG10+AE10+AC10+AA10+Y10+W10+U10+S10+Q10+O10+M10+K10 -> 3601 | AK10: =AH10+AF10+AD10+AB10+Z10+X10+V10+T10+R10+P10+N10+L10 -> 52826.67 | AL10: =AJ10=F10 -> TRUE | AM10: =AK10=I10 -> TRUE
A11: 2 | B11: Lixamento de madeira para aplicação de fundo ou pintura. af_01/2021 | D11: 13455 | E11: M2 | F11: =K11+M11+O11+Q11+S11+U11+W11+Y11+AA11+AC11+AE11+AG11 -> 3950 | G11: =ORÇAMENTO!I13 -> 3.09 | I11: =ROUND(G11*F11,2) -> 12205.5 | K11: 50 | L11: =$G$11*K11 -> 154.5 | M11: 0 | N11: =$G$11*M11 -> 0 | O11: 0 | P11: =$G$11*O11 -> 0 | Q11: 1200 | R11: =$G$11*Q11 -> 3708 | S11: 0 | T11: =$G$11*S11 -> 0 | U11: 0 | V11: =ROUND(U11*$G$20,2) -> 0 | W11: 2500 | X11: =$G$11*W11 -> 7725 | Z11: =$G$11*Y11 -> 0 | AB11: =$G$11*AA11 -> 0 | AC11: 0 | AD11: =$G$11*AC11 -> 0 | AF11: =$G$11*AE11 -> 0 | AG11: 200 | AH11: =$G$11*AG11 -> 618 | AJ11: =AG11+AE11+AC11+AA11+Y11+W11+U11+S11+Q11+O11+M11+K11 -> 3950 | AK11: =AH11+AF11+AD11+AB11+Z11+X11+V11+T11+R11+P11+N11+L11 -> 12205.5 | AL11: =AJ11=F11 -> TRUE | AM11: =AK11=I11 -> TRUE
A12: 3 | B12: Preparo do piso cimentado para pintura - lixamento e limpeza. af_05/2021 | D12: 13455 | E12: M2 | F12: =K12+M12+O12+Q12+S12+U12+W12+Y12+AA12+AC12+AE12+AG12 -> 6200 | G12: =ORÇAMENTO!I14 -> 5.38 | I12: =ROUND(G12*F12,2) -> 33356 | K12: 150 | L12: =$G$12*K12 -> 807 | M12: 500 | N12: =$G$12*M12 -> 2690 | O12: 0 | P12: =$G$12*O12 -> 0 | Q12: 0 | R12: =$G$12*Q12 -> 0 | S12: 0 | T12: =$G$12*S12 -> 0 | U12: 0 | V12: =ROUND(U12*#REF!,2) -> #REF! | W12: 5000 | X12: =$G$12*W12 -> 26900 | Z12: =$G$12*Y12 -> 0 | AB12: =$G$12*AA12 -> 0 | AC12: 500 | AD12: =$G$12*AC12 -> 2690 | AF12: =$G$12*AE12 -> 0 | AG12: 50 | AH12: =$G$12*AG12 -> 269 | AJ12: =AG12+AE12+AC12+AA12+Y12+W12+U12+S12+Q12+O12+M12+K12 -> 6200 | AK12: =AH12+AF12+AD12+AB12+Z12+X12+V12+T12+R12+P12+N12+L12 -> #REF! | AL12: =AJ12=F12 -> TRUE | AM12: =AK12=I12 -> #REF!
A13: 4 | B13: Limpeza de superfície com jato de alta pressão. af_04/2019 | D13: 13455 | E13: M2 | F13: =K13+M13+O13+Q13+S13+U13+W13+Y13+AA13+AC13+AE13+AG13 -> 12656 | G13: =ORÇAMENTO!I15 -> 2.9 | I13: =ROUND(G13*F13,2) -> 36702.4 | K13: 3000 | L13: =$G$13*K13 -> 8700 | M13: 2400 | N13: =$G$13*M13 -> 6960 | O13: 0 | P13: =$G$13*O13 -> 0 | Q13: 0 | R13: =$G$13*Q13 -> 0 | S13: 0 | T13: =$G$13*S13 -> 0 | U13: 0 | V13: =ROUND(U13*#REF!,2) -> #REF! | W13: 5000 | X13: =$G$13*W13 -> 14500 | Z13: =$G$13*Y13 -> 0 | AB13: =$G$13*AA13 -> 0 | AC13: 2206 | AD13: =$G$13*AC13 -> 6397.4 | AF13: =$G$13*AE13 -> 0 | AG13: 50 | AH13: =$G$13*AG13 -> 145 | AJ13: =AG13+AE13+AC13+AA13+Y13+W13+U13+S13+Q13+O13+M13+K13 -> 12656 | AK13: =AH13+AF13+AD13+AB13+Z13+X13+V13+T13+R13+P13+N13+L13 -> #REF! | AL13: =AJ13=F13 -> TRUE | AM13: =AK13=I13 -> #REF!
A14: 5 | B14: Tratamento de rodapé com tela de poliéster. af_09/2023 | D14: 13455 | E14: M | F14: =K14+M14+O14+Q14+S14+U14+W14+Y14+AA14+AC14+AE14+AG14 -> 940 | G14: =ORÇAMENTO!I16 -> 6.63 | I14: =ROUND(G14*F14,2) -> 6232.2 | K14: 30 | L14: =$G$14*K14 -> 198.9 | M14: 200 | N14: =$G$14*M14 -> 1326 | O14: 0 | P14: =$G$14*O14 -> 0 | Q14: 0 | R14: =$G$14*Q14 -> 0 | S14: 0 | T14: =$G$14*S14 -> 0 | U14: 0 | V14: =ROUND(U14*$G$23,2) -> 0 | W14: 500 | X14: =$G$14*W14 -> 3315 | Z14: =$G$14*Y14 -> 0 | AB14: =$G$14*AA14 -> 0 | AC14: 200 | AD14: =$G$14*AC14 -> 1326 | AF14: =$G$14*AE14 -> 0 | AG14: 10 | AH14: =$G$14*AG14 -> 66.3 | AJ14: =AG14+AE14+AC14+AA14+Y14+W14+U14+S14+Q14+O14+M14+K14 -> 940 | AK14: =AH14+AF14+AD14+AB14+Z14+X14+V14+T14+R14+P14+N14+L14 -> 6232.2 | AL14: =AJ14=F14 -> TRUE | AM14: =AK14=I14 -> TRUE
A15: 6 | B15: Aplicação manual de massa de rejunte pronta para tratamento de juntas, em paredes de drywall | D15: 13455 | E15: M2 | F15: =K15+M15+O15+Q15+S15+U15+W15+Y15+AA15+AC15+AE15+AG15 -> 2050 | G15: =ORÇAMENTO!I17 -> 47.51 | I15: =ROUND(G15*F15,2) -> 97395.5 | K15: 50 | L15: =$G$15*K15 -> 2375.5 | M15: 500 | N15: =$G$15*M15 -> 23755 | O15: 0 | P15: =$G$15*O15 -> 0 | Q15: 700 | R15: =$G$15*Q15 -> 33257 | S15: 0 | T15: =$G$15*S15 -> 0 | U15: 0 | V15: =ROUND(U15*$G$24,2) -> 0 | W15: 200 | X15: =$G$15*W15 -> 9502 | Z15: =$G$15*Y15 -> 0 | AB15: =$G$15*AA15 -> 0 | AC15: 500 | AD15: =$G$15*AC15 -> 23755 | AF15: =$G$15*AE15 -> 0 | AG15: 100 | AH15: =$G$15*AG15 -> 4751 | AJ15: =AG15+AE15+AC15+AA15+Y15+W15+U15+S15+Q15+O15+M15+K15 -> 2050 | AK15: =AH15+AF15+AD15+AB15+Z15+X15+V15+T15+R15+P15+N15+L15 -> 97395.5 | AL15: =AJ15=F15 -> TRUE | AM15: =AK15=I15 -> TRUE
A16: 7 | B16: Demolição de argamassas, de forma manual, sem reaproveitamento. af_09/2023 | D16: 13455 | E16: M2 | F16: =K16+M16+O16+Q16+S16+U16+W16+Y16+AA16+AC16+AE16+AG16 -> 1270 | G16: =ORÇAMENTO!I18 -> 17.33 | I16: =ROUND(G16*F16,2) -> 22009.1 | K16: 20 | L16: =$G$16*K16 -> 346.6 | M16: 0 | N16: =$G$16*M16 -> 0 | O16: 0 | P16: =$G$16*O16 -> 0 | Q16: 200 | R16: =$G$16*Q16 -> 3466 | S16: 0 | T16: =$G$16*S16 -> 0 | U16: 0 | V16: =ROUND(U16*$G$25,2) -> 0 | W16: 1000 | X16: =$G$16*W16 -> 17330 | Z16: =$G$16*Y16 -> 0 | AB16: =$G$16*AA16 -> 0 | AC16: 0 | AD16: =$G$16*AC16 -> 0 | AF16: =$G$16*AE16 -> 0 | AG16: 50 | AH16: =$G$16*AG16 -> 866.5 | AJ16: =AG16+AE16+AC16+AA16+Y16+W16+U16+S16+Q16+O16+M16+K16 -> 1270 | AK16: =AH16+AF16+AD16+AB16+Z16+X16+V16+T16+R16+P16+N16+L16 -> 22009.1 | AL16: =AJ16=F16 -> TRUE | AM16: =AK16=I16 -> TRUE
A17: 8 | B17: Impermeabilização de superfície com argamassa de cimento e areia, com aditivo impermeabilizante, E = 1,5cm. af_09/2023 | D17: 13455 | E17: M2 | F17: =K17+M17+O17+Q17+S17+U17+W17+Y17+AA17+AC17+AE17+AG17 -> 1670 | G17: =ORÇAMENTO!I19 -> 69.29 | I17: =ROUND(G17*F17,2) -> 115714.3 | K17: 20 | L17: =$G$17*K17 -> 1385.8 | M17: 0 | N17: =$G$17*M17 -> 0 | O17: 0 | P17: =$G$17*O17 -> 0 | Q17: 600 | R17: =$G$17*Q17 -> 41574 | S17: 0 | T17: =$G$17*S17 -> 0 | U17: 0 | V17: =ROUND(U17*$G$26,2) -> 0 | W17: 1000 | X17: =$G$17*W17 -> 69290 | Z17: =$G$17*Y17 -> 0 | AB17: =$G$17*AA17 -> 0 | AC17: 0 | AD17: =$G$17*AC17 -> 0 | AF17: =$G$17*AE17 -> 0 | AG17: 50 | AH17: =$G$17*AG17 -> 3464.5 | AJ17: =AG17+AE17+AC17+AA17+Y17+W17+U17+S17+Q17+O17+M17+K17 -> 1670 | AK17: =AH17+AF17+AD17+AB17+Z17+X17+V17+T17+R17+P17+N17+L17 -> 115714.3 | AL17: =AJ17=F17 -> TRUE | AM17: =AK17=I17 -> TRUE
A18: 9 | B18: Colocação de fita protetora para pintura. af_01/2020 | D18: 13455 | E18: M | F18: =K18+M18+O18+Q18+S18+U18+W18+Y18+AA18+AC18+AE18+AG18 -> 7800 | G18: =ORÇAMENTO!I20 -> 1.99 | I18: =ROUND(G18*F18,2) -> 15522 | K18: 200 | L18: =$G$18*K18 -> 398 | M18: 650 | N18: =$G$18*M18 -> 1293.5 | O18: 0 | P18: =$G$18*O18 -> 0 | Q18: 1200 | R18: =$G$18*Q18 -> 2388 | S18: 0 | T18: =$G$18*S18 -> 0 | U18: 0 | V18: =ROUND(U18*$G$27,2) -> 0 | W18: 5000 | X18: =$G$18*W18 -> 9950 | Z18: =$G$18*Y18 -> 0 | AB18: =$G$18*AA18 -> 0 | AC18: 650 | AD18: =$G$18*AC18 -> 1293.5 | AF18: =$G$18*AE18 -> 0 | AG18: 100 | AH18: =$G$18*AG18 -> 199 | AJ18: =AG18+AE18+AC18+AA18+Y18+W18+U18+S18+Q18+O18+M18+K18 -> 7800 | AK18: =AH18+AF18+AD18+AB18+Z18+X18+V18+T18+R18+P18+N18+L18 -> 15522 | AL18: =AJ18=F18 -> TRUE | AM18: =AK18=I18 -> TRUE
A19: 10 | B19: Colocação, manutenção e retirada de lona, com reaproveitamento, isolamento/proteção para pintura | D19: 13455 | E19: m2 | F19: =K19+M19+O19+Q19+S19+U19+W19+Y19+AA19+AC19+AE19+AG19 -> 1225 | G19: =ORÇAMENTO!I21 -> 5.15 | I19: =ROUND(G19*F19,2) -> 6308.75 | K19: 200 | L19: =$G$19*K19 -> 1030 | M19: 0 | N19: =$G$19*M19 -> 0 | O19: 0 | P19: =$G$19*O19 -> 0 | Q19: 200 | R19: =$G$19*Q19 -> 1030 | S19: 0 | T19: =$G$19*S19 -> 0 | U19: 0 | V19: =ROUND(U19*$G$28,2) -> 0 | W19: 500 | X19: =$G$19*W19 -> 2575 | Y19: 300 | Z19: =$G$19*Y19 -> 1545 | AB19: =$G$19*AA19 -> 0 | AC19: 0 | AD19: =$G$19*AC19 -> 0 | AF19: =$G$19*AE19 -> 0 | AG19: 25 | AH19: =$G$19*AG19 -> 128.75 | AJ19: =AG19+AE19+AC19+AA19+Y19+W19+U19+S19+Q19+O19+M19+K19 -> 1225 | AK19: =AH19+AF19+AD19+AB19+Z19+X19+V19+T19+R19+P19+N19+L19 -> 6308.75 | AL19: =AJ19=F19 -> TRUE | AM19: =AK19=I19 -> TRUE
A20: 11 | B20: Primer convertedor de ferrugem em fundo de protecao, duas demaos. fornecimento e aplicação | D20: 13455 | E20: M2 | F20: =K20+M20+O20+Q20+S20+U20+W20+Y20+AA20+AC20+AE20+AG20 -> 220 | G20: =ORÇAMENTO!I22 -> 9.11 | I20: =ROUND(G20*F20,2) -> 2004.2 | K20: 20 | L20: =$G$20*K20 -> 182.2 | N20: =$G$20*M20 -> 0 | P20: =$G$20*O20 -> 0 | R20: =$G$20*Q20 -> 0 | T20: =$G$20*S20 -> 0 | W20: 200 | X20: =$G$20*W20 -> 1822 | Z20: =$G$20*Y20 -> 0 | AB20: =$G$20*AA20 -> 0 | AD20: =$G$20*AC20 -> 0 | AF20: =$G$20*AE20 -> 0 | AH20: =$G$20*AG20 -> 0 | AJ20: =AG20+AE20+AC20+AA20+Y20+W20+U20+S20+Q20+O20+M20+K20 -> 220 | AK20: =AH20+AF20+AD20+AB20+Z20+X20+V20+T20+R20+P20+N20+L20 -> 2004.2 | AL20: =AJ20=F20 -> TRUE | AM20: =AK20=I20 -> TRUE
G21: =ORÇAMENTO!I23 -> 0
G22: =ORÇAMENTO!I24 -> 0
A23: 12 | B23: Fundo selador acrílico, aplicação manual em parede, uma demão. af_04/2023 | D23: 13455 | E23: M2 | F23: =K23+M23+O23+Q23+S23+U23+W23+Y23+AA23+AC23+AE23+AG23 -> 7850 | G23: =ORÇAMENTO!I25 -> 5.36 | I23: =ROUND(G23*F23,2) -> 42076 | K23: 200 | L23: =$G$23*K23 -> 1072 | M23: 200 | N23: =$G$23*M23 -> 1072 | P23: =$G$23*O23 -> 0 | Q23: 6000 | R23: =$G$23*Q23 -> 32160 | T23: =$G$23*S23 -> 0 | V23: =$G$23*U23 -> 0 | W23: 1000 | X23: =$G$23*W23 -> 5360 | Z23: =$G$23*Y23 -> 0 | AB23: =$G$23*AA23 -> 0 | AC23: 200 | AD23: =$G$23*AC23 -> 1072 | AF23: =$G$23*AE23 -> 0 | AG23: 250 | AH23: =$G$23*AG23 -> 1340 | AJ23: =AG23+AE23+AC23+AA23+Y23+W23+U23+S23+Q23+O23+M23+K23 -> 7850 | AK23: =AH23+AF23+AD23+AB23+Z23+X23+V23+T23+R23+P23+N23+L23 -> 42076 | AL23: =AJ23=F23 -> TRUE | AM23: =AK23=I23 -> TRUE
A24: 13 | B24: Emassamento com massa látex, aplicação em parede, uma demão, lixamento manual. af_04/2023 | D24: 13455 | E24: M2 | F24: =K24+M24+O24+Q24+S24+U24+W24+Y24+AA24+AC24+AE24+AG24 -> 5610 | G24: =ORÇAMENTO!I26 -> 17.45 | I24: =ROUND(G24*F24,2) -> 97894.5 | K24: 100 | L24: =$G$24*K24 -> 1745 | M24: 0 | N24: =$G$24*M24 -> 0 | O24: 200 | P24: =$G$24*O24 -> 3490 | Q24: 0 | R24: =$G$24*Q24 -> 0 | S24: 60 | T24: =$G$24*S24 -> 1047 | V24: =$G$24*U24 -> 0 | W24: 5000 | X24: =$G$24*W24 -> 87250 | Z24: =$G$24*Y24 -> 0 | AB24: =$G$24*AA24 -> 0 | AC24: 0 | AD24: =$G$24*AC24 -> 0 | AF24: =$G$24*AE24 -> 0 | AG24: 250 | AH24: =$G$24*AG24 -> 4362.5 | AJ24: =AG24+AE24+AC24+AA24+Y24+W24+U24+S24+Q24+O24+M24+K24 -> 5610 | AK24: =AH24+AF24+AD24+AB24+Z24+X24+V24+T24+R24+P24+N24+L24 -> 97894.5 | AL24: =AJ24=F24 -> TRUE | AM24: =AK24=I24 -> TRUE
A25: 14 | B25: Emassamento com massa látex, aplicação em parede, duas demãos, lixamento manual. af_04/2023 | D25: 13455 | E25: M2 | F25: =K25+M25+O25+Q25+S25+U25+W25+Y25+AA25+AC25+AE25+AG25 -> 4625 | G25: =ORÇAMENTO!I27 -> 27.15 | I25: =ROUND(G25*F25,2) -> 125568.75 | K25: 50 | L25: =$G$25*K25 -> 1357.5 | M25: 600 | N25: =$G$25*M25 -> 16290 | O25: 300 | P25: =$G$25*O25 -> 8145 | Q25: 2000 | R25: =$G$25*Q25 -> 54300 | T25: =$G$25*S25 -> 0 | V25: =$G$25*U25 -> 0 | W25: 0 | X25: =$G$25*W25 -> 0 | Y25: 900 | Z25: =$G$25*Y25 -> 24435 | AB25: =$G$25*AA25 -> 0 | AC25: 525 | AD25: =$G$25*AC25 -> 14253.75 | AF25: =$G$25*AE25 -> 0 | AG25: 250 | AH25: =$G$25*AG25 -> 6787.5 | AJ25: =AG25+AE25+AC25+AA25+Y25+W25+U25+S25+Q25+O25+M25+K25 -> 4625 | AK25: =AH25+AF25+AD25+AB25+Z25+X25+V25+T25+R25+P25+N25+L25 -> 125568.75 | AL25: =AJ25=F25 -> TRUE | AM25: =AK25=I25 -> TRUE
A26: 15 | B26: Pintura látex acrílica standard, aplicação manual em paredes, duas demãos. af_04/2023 | D26: 13455 | E26: M2 | F26: =K26+M26+O26+Q26+S26+U26+W26+Y26+AA26+AC26+AE26+AG26 -> 18796 | G26: =ORÇAMENTO!I28 -> 13.85 | I26: =ROUND(G26*F26,2) -> 260324.6 | K26: 200 | L26: =$G$26*K26 -> 2770 | M26: 2500 | N26: =$G$26*M26 -> 34625 | O26: 500 | P26: =$G$26*O26 -> 6925 | Q26: 6500 | R26: =$G$26*Q26 -> 90025 | S26: 226 | T26: =$G$26*S26 -> 3130.1 | V26: =$G$26*U26 -> 0 | W26: 2500 | X26: =$G$26*W26 -> 34625 | Y26: 3100 | Z26: =$G$26*Y26 -> 42935 | AA26: 650 | AB26: =$G$26*AA26 -> 9002.5 | AC26: 2370 | AD26: =$G$26*AC26 -> 32824.5 | AF26: =$G$26*AE26 -> 0 | AG26: 250 | AH26: =$G$26*AG26 -> 3462.5 | AJ26: =AG26+AE26+AC26+AA26+Y26+W26+U26+S26+Q26+O26+M26+K26 -> 18796 | AK26: =AH26+AF26+AD26+AB26+Z26+X26+V26+T26+R26+P26+N26+L26 -> 260324.6 | AL26: =AJ26=F26 -> TRUE | AM26: =AK26=I26 -> TRUE
A27: 16 | B27: Textura acrílica, aplicação manual em parede, uma demão. af_04/2023 | D27: 13455 | E27: M2 | F27: =K27+M27+O27+Q27+S27+U27+W27+Y27+AA27+AC27+AE27+AG27 -> 900 | G27: =ORÇAMENTO!I29 -> 16.9 | I27: =ROUND(G27*F27,2) -> 15210 | K27: 50 | L27: =$G$27*K27 -> 845 | M27: 0 | N27: =$G$27*M27 -> 0 | P27: =$G$27*O27 -> 0 | Q27: 600 | R27: =$G$27*Q27 -> 10140 | T27: =$G$27*S27 -> 0 | V27: =$G$27*U27 -> 0 | W27: 0 | X27: =$G$27*W27 -> 0 | Z27: =$G$27*Y27 -> 0 | AB27: =$G$27*AA27 -> 0 | AC27: 0 | AD27: =$G$27*AC27 -> 0 | AF27: =$G$27*AE27 -> 0 | AG27: 250 | AH27: =$G$27*AG27 -> 4225 | AJ27: =AG27+AE27+AC27+AA27+Y27+W27+U27+S27+Q27+O27+M27+K27 -> 900 | AK27: =AH27+AF27+AD27+AB27+Z27+X27+V27+T27+R27+P27+N27+L27 -> 15210 | AL27: =AJ27=F27 -> TRUE | AM27: =AK27=I27 -> TRUE
A28: 17 | B28: Pintura de rodapé com tinta epóxi, aplicação manual, 2 demãos, inclusão primer epóxi. af_05/2021 | D28: 13455 | E28: M | F28: =K28+M28+O28+Q28+S28+U28+W28+Y28+AA28+AC28+AE28+AG28 -> 2261 | G28: =ORÇAMENTO!I30 -> 17.69 | I28: =ROUND(G28*F28,2) -> 39997.09 | K28: 25 | L28: =$G$28*K28 -> 442.25 | M28: 350 | N28: =$G$28*M28 -> 6191.5 | P28: =$G$28*O28 -> 0 | Q28: 1200 | R28: =$G$28*Q28 -> 21228 | T28: =$G$28*S28 -> 0 | V28: =$G$28*U28 -> 0 | W28: 300 | X28: =$G$28*W28 -> 5307 | Z28: =$G$28*Y28 -> 0 | AB28: =$G$28*AA28 -> 0 | AC28: 286 | AD28: =$G$28*AC28 -> 5059.34 | AF28: =$G$28*AE28 -> 0 | AG28: 100 | AH28: =$G$28*AG28 -> 1769 | AJ28: =AG28+AE28+AC28+AA28+Y28+W28+U28+S28+Q28+O28+M28+K28 -> 2261 | AK28: =AH28+AF28+AD28+AB28+Z28+X28+V28+T28+R28+P28+N28+L28 -> 39997.09 | AL28: =AJ28=F28 -> TRUE | AM28: =AK28=I28 -> TRUE
A29: 18 | B29: Aplicação manual de pintura com tinta látex acrílica em paredes, cores variadas, duas demãos. ref. suvinil, renner, sherwin willians, coral, lukscolor ou equivalente | D29: 13455 | E29: M2 | F29: =K29+M29+O29+Q29+S29+U29+W29+Y29+AA29+AC29+AE29+AG29 -> 2525 | G29: =ORÇAMENTO!I31 -> 18.82 | I29: =ROUND(G29*F29,2) -> 47520.5 | K29: 25 | L29: =$G$29*K29 -> 470.5 | N29: =$G$29*M29 -> 0 | P29: =$G$29*O29 -> 0 | R29: =$G$29*Q29 -> 0 | T29: =$G$29*S29 -> 0 | V29: =$G$29*U29 -> 0 | W29: 2500 | X29: =$G$29*W29 -> 47050 | Z29: =$G$29*Y29 -> 0 | AB29: =$G$29*AA29 -> 0 | AD29: =$G$29*AC29 -> 0 | AF29: =$G$29*AE29 -> 0 | AH29: =$G$29*AG29 -> 0 | AJ29: =AG29+AE29+AC29+AA29+Y29+W29+U29+S29+Q29+O29+M29+K29 -> 2525 | AK29: =AH29+AF29+AD29+AB29+Z29+X29+V29+T29+R29+P29+N29+L29 -> 47520.5 | AL29: =AJ29=F29 -> TRUE | AM29: =AK29=I29 -> TRUE
A30: 19 | B30: Pintura com tinta esmalte acetinado efeito lousa seca, aplicada a rolo ou pincel em paredes, 2 demãos | D30: 13455 | E30: M2 | F30: =K30+M30+O30+Q30+S30+U30+W30+Y30+AA30+AC30+AE30+AG30 -> 202 | G30: =ORÇAMENTO!I32 -> 35.3 | I30: =ROUND(G30*F30,2) -> 7130.6 | K30: 2 | L30: =$G$30*K30 -> 70.6 | N30: =$G$30*M30 -> 0 | P30: =$G$30*O30 -> 0 | R30: =$G$30*Q30 -> 0 | T30: =$G$30*S30 -> 0 | V30: =$G$30*U30 -> 0 | W30: 200 | X30: =$G$30*W30 -> 7060 | Z30: =$G$30*Y30 -> 0 | AB30: =$G$30*AA30 -> 0 | AD30: =$G$30*AC30 -> 0 | AF30: =$G$30*AE30 -> 0 | AH30: =$G$30*AG30 -> 0 | AJ30: =AG30+AE30+AC30+AA30+Y30+W30+U30+S30+Q30+O30+M30+K30 -> 202 | AK30: =AH30+AF30+AD30+AB30+Z30+X30+V30+T30+R30+P30+N30+L30 -> 7130.6 | AL30: =AJ30=F30 -> TRUE | AM30: =AK30=I30 -> TRUE
G31: =ORÇAMENTO!I33 -> 0
A32: 20 | B32: Fundo selador acrílico, aplicação manual em teto, uma demão. af_04/2023 | D32: 13455 | E32: M2 | F32: =K32+M32+O32+Q32+S32+U32+W32+Y32+AA32+AC32+AE32+AG32 -> 3250 | G32: =ORÇAMENTO!I34 -> 6.79 | I32: =ROUND(G32*F32,2) -> 22067.5 | K32: 200 | L32: =$G$32*K32 -> 1358 | M32: 200 | N32: =$G$32*M32 -> 1358 | P32: =$G$32*O32 -> 0 | Q32: 2200 | R32: =$G$32*Q32 -> 14938 | T32: =$G$32*S32 -> 0 | V32: =$G$32*U32 -> 0 | W32: 200 | X32: =$G$32*W32 -> 1358 | Z32: =$G$32*Y32 -> 0 | AB32: =$G$32*AA32 -> 0 | AC32: 200 | AD32: =$G$32*AC32 -> 1358 | AF32: =$G$32*AE32 -> 0 | AG32: 250 | AH32: =$G$32*AG32 -> 1697.5 | AJ32: =AG32+AE32+AC32+AA32+Y32+W32+U32+S32+Q32+O32+M32+K32 -> 3250 | AK32: =AH32+AF32+AD32+AB32+Z32+X32+V32+T32+R32+P32+N32+L32 -> 22067.5 | AL32: =AJ32=F32 -> TRUE | AM32: =AK32=I32 -> TRUE
A33: 21 | B33: Emassamento com massa látex, aplicação em teto, uma demão, lixamento manual. af_04/2023 | D33: 13455 | E33: M2 | F33: =K33+M33+O33+Q33+S33+U33+W33+Y33+AA33+AC33+AE33+AG33 -> 2750 | G33: =ORÇAMENTO!I35 -> 31.55 | I33: =ROUND(G33*F33,2) -> 86762.5 | K33: 100 | L33: =$G$33*K33 -> 3155 | M33: 0 | N33: =$G$33*M33 -> 0 | O33: 50 | P33: =$G$33*O33 -> 1577.5 | Q33: 850 | R33: =$G$33*Q33 -> 26817.5 | T33: =$G$33*S33 -> 0 | V33: =$G$33*U33 -> 0 | W33: 1500 | X33: =$G$33*W33 -> 47325 | Z33: =$G$33*Y33 -> 0 | AB33: =$G$33*AA33 -> 0 | AC33: 0 | AD33: =$G$33*AC33 -> 0 | AF33: =$G$33*AE33 -> 0 | AG33: 250 | AH33: =$G$33*AG33 -> 7887.5 | AJ33: =AG33+AE33+AC33+AA33+Y33+W33+U33+S33+Q33+O33+M33+K33 -> 2750 | AK33: =AH33+AF33+AD33+AB33+Z33+X33+V33+T33+R33+P33+N33+L33 -> 86762.5 | AL33: =AJ33=F33 -> TRUE | AM33: =AK33=I33 -> TRUE
A34: 22 | B34: Emassamento com massa látex, aplicação em teto, duas demãos, lixamento manual. af_04/2023 | D34: 13455 | E34: M2 | F34: =K34+M34+O34+Q34+S34+U34+W34+Y34+AA34+AC34+AE34+AG34 -> 1145 | G34: =ORÇAMENTO!I36 -> 47.85 | I34: =ROUND(G34*F34,2) -> 54788.25 | K34: 100 | L34: =$G$34*K34 -> 4785 | M34: 200 | N34: =$G$34*M34 -> 9570 | O34: 20 | P34: =$G$34*O34 -> 957 | Q34: 0 | R34: =$G$34*Q34 -> 0 | T34: =$G$34*S34 -> 0 | V34: =$G$34*U34 -> 0 | W34: 0 | X34: =$G$34*W34 -> 0 | Y34: 375 | Z34: =$G$34*Y34 -> 17943.75 | AB34: =$G$34*AA34 -> 0 | AC34: 200 | AD34: =$G$34*AC34 -> 9570 | AF34: =$G$34*AE34 -> 0 | AG34: 250 | AH34: =$G$34*AG34 -> 11962.5 | AJ34: =AG34+AE34+AC34+AA34+Y34+W34+U34+S34+Q34+O34+M34+K34 -> 1145 | AK34: =AH34+AF34+AD34+AB34+Z34+X34+V34+T34+R34+P34+N34+L34 -> 54788.25 | AL34: =AJ34=F34 -> TRUE | AM34: =AK34=I34 -> TRUE
A35: 23 | B35: Pintura látex acrílica standard, aplicação manual em teto, duas demãos. af_04/2023 | D35: 13455 | E35: M2 | F35: =K35+M35+O35+Q35+S35+U35+W35+Y35+AA35+AC35+AE35+AG35 -> 7799 | G35: =ORÇAMENTO!I37 -> 17.32 | I35: =ROUND(G35*F35,2) -> 135078.68 | K35: 200 | L35: =$G$35*K35 -> 3464 | M35: 2000 | N35: =$G$35*M35 -> 34640 | O35: 100 | P35: =$G$35*O35 -> 1732 | Q35: 600 | R35: =$G$35*Q35 -> 10392 | S35: 174 | T35: =$G$35*S35 -> 3013.68 | V35: =$G$35*U35 -> 0 | W35: 1500 | X35: =$G$35*W35 -> 25980 | Y35: 1100 | Z35: =$G$35*Y35 -> 19052 | AB35: =$G$35*AA35 -> 0 | AC35: 1875 | AD35: =$G$35*AC35 -> 32475 | AF35: =$G$35*AE35 -> 0 | AG35: 250 | AH35: =$G$35*AG35 -> 4330 | AJ35: =AG35+AE35+AC35+AA35+Y35+W35+U35+S35+Q35+O35+M35+K35 -> 7799 | AK35: =AH35+AF35+AD35+AB35+Z35+X35+V35+T35+R35+P35+N35+L35 -> 135078.68 | AL35: =AJ35=F35 -> TRUE | AM35: =AK35=I35 -> TRUE
A36: 24 | B36: Textura acrílica, aplicação manual em teto, uma demão. af_04/2023 | D36: 13455 | E36: M2 | F36: =K36+M36+O36+Q36+S36+U36+W36+Y36+AA36+AC36+AE36+AG36 -> 2550 | G36: =ORÇAMENTO!I38 -> 20.17 | I36: =ROUND(G36*F36,2) -> 51433.5 | K36: 50 | L36: =$G$36*K36 -> 1008.5 | M36: 100 | N36: =$G$36*M36 -> 2017 | P36: =$G$36*O36 -> 0 | Q36: 2200 | R36: =$G$36*Q36 -> 44374 | T36: =$G$36*S36 -> 0 | V36: =$G$36*U36 -> 0 | W36: 0 | X36: =$G$36*W36 -> 0 | Z36: =$G$36*Y36 -> 0 | AB36: =$G$36*AA36 -> 0 | AC36: 100 | AD36: =$G$36*AC36 -> 2017 | AF36: =$G$36*AE36 -> 0 | AG36: 100 | AH36: =$G$36*AG36 -> 2017 | AJ36: =AG36+AE36+AC36+AA36+Y36+W36+U36+S36+Q36+O36+M36+K36 -> 2550 | AK36: =AH36+AF36+AD36+AB36+Z36+X36+V36+T36+R36+P36+N36+L36 -> 51433.5 | AL36: =AJ36=F36 -> TRUE | AM36: =AK36=I36 -> TRUE
G37: =ORÇAMENTO!I39 -> 0
A38: 25 | B38: Aplicação manual de massa acrílica em paredes externas de casas, uma demão. af_05/2017 | D38: 13455 | E38: M2 | F38: =K38+M38+O38+Q38+S38+U38+W38+Y38+AA38+AC38+AE38+AG38 -> 3010 | G38: =ORÇAMENTO!I40 -> 32.61 | I38: =ROUND(G38*F38,2) -> 98156.1 | K38: 50 | L38: =$G$38*K38 -> 1630.5 | M38: 0 | N38: =$G$38*M38 -> 0 | P38: =$G$38*O38 -> 0 | Q38: 150 | R38: =$G$38*Q38 -> 4891.5 | T38: =$G$38*S38 -> 0 | V38: =$G$38*U38 -> 0 | W38: 2500 | X38: =$G$38*W38 -> 81525 | Z38: =$G$38*Y38 -> 0 | AA38: 60 | AB38: =$G$38*AA38 -> 1956.6 | AC38: 0 | AD38: =$G$38*AC38 -> 0 | AF38: =$G$38*AE38 -> 0 | AG38: 250 | AH38: =$G$38*AG38 -> 8152.5 | AJ38: =AG38+AE38+AC38+AA38+Y38+W38+U38+S38+Q38+O38+M38+K38 -> 3010 | AK38: =AH38+AF38+AD38+AB38+Z38+X38+V38+T38+R38+P38+N38+L38 -> 98156.1 | AL38: =AJ38=F38 -> TRUE | AM38: =AK38=I38 -> TRUE
A39: 26 | B39: Aplicação manual de massa acrílica em paredes externas de casas, duas demãos. af_05/2017 | D39: 13455 | E39: M2 | F39: =K39+M39+O39+Q39+S39+U39+W39+Y39+AA39+AC39+AE39+AG39 -> 2450 | G39: =ORÇAMENTO!I41 -> 45.09 | I39: =ROUND(G39*F39,2) -> 110470.5 | K39: 50 | L39: =$G$39*K39 -> 2254.5 | M39: 500 | N39: =$G$39*M39 -> 22545 | P39: =$G$39*O39 -> 0 | Q39: 650 | R39: =$G$39*Q39 -> 29308.5 | T39: =$G$39*S39 -> 0 | V39: =$G$39*U39 -> 0 | W39: 0 | X39: =$G$39*W39 -> 0 | Y39: 500 | Z39: =$G$39*Y39 -> 22545 | AB39: =$G$39*AA39 -> 0 | AC39: 500 | AD39: =$G$39*AC39 -> 22545 | AF39: =$G$39*AE39 -> 0 | AG39: 250 | AH39: =$G$39*AG39 -> 11272.5 | AJ39: =AG39+AE39+AC39+AA39+Y39+W39+U39+S39+Q39+O39+M39+K39 -> 2450 | AK39: =AH39+AF39+AD39+AB39+Z39+X39+V39+T39+R39+P39+N39+L39 -> 110470.5 | AL39: =AJ39=F39 -> TRUE | AM39: =AK39=I39 -> TRUE
A40: 27 | B40: Aplicação manual de fundo selador acrílico em paredes externas de casas. af_06/2014 | D40: 13455 | E40: M2 | F40: =K40+M40+O40+Q40+S40+U40+W40+Y40+AA40+AC40+AE40+AG40 -> 10160 | G40: =ORÇAMENTO!I42 -> 4.48 | I40: =ROUND(G40*F40,2) -> 45516.8 | K40: 150 | L40: =$G$40*K40 -> 672 | M40: 0 | N40: =$G$40*M40 -> 0 | P40: =$G$40*O40 -> 0 | Q40: 6000 | R40: =$G$40*Q40 -> 26880 | T40: =$G$40*S40 -> 0 | V40: =$G$40*U40 -> 0 | W40: 500 | X40: =$G$40*W40 -> 2240 | Y40: 3200 | Z40: =$G$40*Y40 -> 14336 | AA40: 60 | AB40: =$G$40*AA40 -> 268.8 | AC40: 0 | AD40: =$G$40*AC40 -> 0 | AF40: =$G$40*AE40 -> 0 | AG40: 250 | AH40: =$G$40*AG40 -> 1120 | AJ40: =AG40+AE40+AC40+AA40+Y40+W40+U40+S40+Q40+O40+M40+K40 -> 10160 | AK40: =AH40+AF40+AD40+AB40+Z40+X40+V40+T40+R40+P40+N40+L40 -> 45516.8 | AL40: =AJ40=F40 -> TRUE | AM40: =AK40=I40 -> TRUE
A41: 28 | B41: Aplicação manual de pintura com tinta texturizada acrílica em paredes externas de casas, uma cor. af_06/2014 | D41: 13455 | E41: M2 | F41: =K41+M41+O41+Q41+S41+U41+W41+Y41+AA41+AC41+AE41+AG41 -> 8924 | G41: =ORÇAMENTO!I43 -> 24.02 | I41: =ROUND(G41*F41,2) -> 214354.48 | K41: 50 | L41: =$G$41*K41 -> 1201 | M41: 2500 | N41: =$G$41*M41 -> 60050 | P41: =$G$41*O41 -> 0 | Q41: 0 | R41: =$G$41*Q41 -> 0 | T41: =$G$41*S41 -> 0 | V41: =$G$41*U41 -> 0 | W41: 0 | X41: =$G$41*W41 -> 0 | Y41: 3200 | Z41: =$G$41*Y41 -> 76864 | AA41: 800 | AB41: =$G$41*AA41 -> 19216 | AC41: 2124 | AD41: =$G$41*AC41 -> 51018.48 | AF41: =$G$41*AE41 -> 0 | AG41: 250 | AH41: =$G$41*AG41 -> 6005 | AJ41: =AG41+AE41+AC41+AA41+Y41+W41+U41+S41+Q41+O41+M41+K41 -> 8924 | AK41: =AH41+AF41+AD41+AB41+Z41+X41+V41+T41+R41+P41+N41+L41 -> 214354.48 | AL41: =AJ41=F41 -> TRUE | AM41: =AK41=I41 -> TRUE
A42: 29 | B42: Aplicação manual de pintura com tinta texturizada acrílica em paredes externas de casas, duas cores. af_06/2014 | D42: 13455 | E42: M2 | F42: =K42+M42+O42+Q42+S42+U42+W42+Y42+AA42+AC42+AE42+AG42 -> 2650 | G42: =ORÇAMENTO!I44 -> 30.59 | I42: =ROUND(G42*F42,2) -> 81063.5 | K42: 200 | L42: =$G$42*K42 -> 6118 | M42: 500 | N42: =$G$42*M42 -> 15295 | P42: =$G$42*O42 -> 0 | Q42: 1200 | R42: =$G$42*Q42 -> 36708 | T42: =$G$42*S42 -> 0 | V42: =$G$42*U42 -> 0 | W42: 0 | X42: =$G$42*W42 -> 0 | Z42: =$G$42*Y42 -> 0 | AB42: =$G$42*AA42 -> 0 | AC42: 500 | AD42: =$G$42*AC42 -> 15295 | AF42: =$G$42*AE42 -> 0 | AG42: 250 | AH42: =$G$42*AG42 -> 7647.5 | AJ42: =AG42+AE42+AC42+AA42+Y42+W42+U42+S42+Q42+O42+M42+K42 -> 2650 | AK42: =AH42+AF42+AD42+AB42+Z42+X42+V42+T42+R42+P42+N42+L42 -> 81063.5 | AL42: =AJ42=F42 -> TRUE | AM42: =AK42=I42 -> TRUE
A43: 30 | B43: Pintura hidrofugante com silicone, aplicação manual, 2 demãos. af_05/2021 | D43: 13455 | E43: M2 | F43: =K43+M43+O43+Q43+S43+U43+W43+Y43+AA43+AC43+AE43+AG43 -> 310 | G43: =ORÇAMENTO!I45 -> 41.42 | I43: =ROUND(G43*F43,2) -> 12840.2 | K43: 10 | L43: =$G$43*K43 -> 414.2 | M43: 100 | N43: =$G$43*M43 -> 4142 | P43: =$G$43*O43 -> 0 | Q43: 0 | R43: =$G$43*Q43 -> 0 | T43: =$G$43*S43 -> 0 | V43: =$G$43*U43 -> 0 | W43: 0 | X43: =$G$43*W43 -> 0 | Z43: =$G$43*Y43 -> 0 | AB43: =$G$43*AA43 -> 0 | AC43: 100 | AD43: =$G$43*AC43 -> 4142 | AF43: =$G$43*AE43 -> 0 | AG43: 100 | AH43: =$G$43*AG43 -> 4142 | AJ43: =AG43+AE43+AC43+AA43+Y43+W43+U43+S43+Q43+O43+M43+K43 -> 310 | AK43: =AH43+AF43+AD43+AB43+Z43+X43+V43+T43+R43+P43+N43+L43 -> 12840.2 | AL43: =AJ43=F43 -> TRUE | AM43: =AK43=I43 -> TRUE
A44: 31 | B44: Aplicação manual de tinta látex acrílica em parede externas de casas, duas demãos. af_11/2016 | D44: 13455 | E44: M2 | F44: =K44+M44+O44+Q44+S44+U44+W44+Y44+AA44+AC44+AE44+AG44 -> 200 | G44: =ORÇAMENTO!I46 -> 24.21 | I44: =ROUND(G44*F44,2) -> 4842 | K44: 200 | L44: =$G$44*K44 -> 4842 | N44: =$G$44*M44 -> 0 | P44: =$G$44*O44 -> 0 | R44: =$G$44*Q44 -> 0 | T44: =$G$44*S44 -> 0 | V44: =$G$44*U44 -> 0 | W44: 0 | X44: =$G$44*W44 -> 0 | Z44: =$G$44*Y44 -> 0 | AB44: =$G$44*AA44 -> 0 | AD44: =$G$44*AC44 -> 0 | AF44: =$G$44*AE44 -> 0 | AH44: =$G$44*AG44 -> 0 | AJ44: =AG44+AE44+AC44+AA44+Y44+W44+U44+S44+Q44+O44+M44+K44 -> 200 | AK44: =AH44+AF44+AD44+AB44+Z44+X44+V44+T44+R44+P44+N44+L44 -> 4842 | AL44: =AJ44=F44 -> TRUE | AM44: =AK44=I44 -> TRUE
A45: 32 | B45: Aplicação manual de pintura com tinta látex acrílica em paredes externas, cores variadas, duas demãos. ref. suvinil, renner, sherwin willians, coral, lukscolor ou equivalente. | D45: 13455 | E45: M2 | F45: =K45+M45+O45+Q45+S45+U45+W45+Y45+AA45+AC45+AE45+AG45 -> 2900 | G45: =ORÇAMENTO!I47 -> 26.49 | I45: =ROUND(G45*F45,2) -> 76821 | K45: 400 | L45: =$G$45*K45 -> 10596 | N45: =$G$45*M45 -> 0 | P45: =$G$45*O45 -> 0 | R45: =$G$45*Q45 -> 0 | T45: =$G$45*S45 -> 0 | V45: =$G$45*U45 -> 0 | W45: 2500 | X45: =$G$45*W45 -> 66225 | Z45: =$G$45*Y45 -> 0 | AB45: =$G$45*AA45 -> 0 | AD45: =$G$45*AC45 -> 0 | AF45: =$G$45*AE45 -> 0 | AH45: =$G$45*AG45 -> 0 | AJ45: =AG45+AE45+AC45+AA45+Y45+W45+U45+S45+Q45+O45+M45+K45 -> 2900 | AK45: =AH45+AF45+AD45+AB45+Z45+X45+V45+T45+R45+P45+N45+L45 -> 76821 | AL45: =AJ45=F45 -> TRUE | AM45: =AK45=I45 -> TRUE
G46: =ORÇAMENTO!I48 -> 0
A47: 33 | B47: Aplicação manual de massa acrílica em panos de fachada com presença de vãos, de edifícios de múltiplos pavimentos, uma demão. af_05/2017 | D47: 13455 | E47: M2 | F47: =K47+M47+O47+Q47+S47+U47+W47+Y47+AA47+AC47+AE47+AG47 -> 1300 | G47: =ORÇAMENTO!I49 -> 30.41 | I47: =ROUND(G47*F47,2) -> 39533 | K47: 50 | L47: =$G$47*K47 -> 1520.5 | M47: 0 | N47: =$G$47*M47 -> 0 | P47: =$G$47*O47 -> 0 | Q47: 0 | R47: =$G$47*Q47 -> 0 | T47: =$G$47*S47 -> 0 | V47: =$G$47*U47 -> 0 | W47: 1250 | X47: =$G$47*W47 -> 38012.5 | Z47: =$G$47*Y47 -> 0 | AB47: =$G$47*AA47 -> 0 | AD47: =$G$47*AC47 -> 0 | AF47: =$G$47*AE47 -> 0 | AG47: 0 | AH47: =$G$47*AG47 -> 0 | AJ47: =AG47+AE47+AC47+AA47+Y47+W47+U47+S47+Q47+O47+M47+K47 -> 1300 | AK47: =AH47+AF47+AD47+AB47+Z47+X47+V47+T47+R47+P47+N47+L47 -> 39533 | AL47: =AJ47=F47 -> TRUE | AM47: =AK47=I47 -> TRUE
A48: 34 | B48: Aplicação manual de massa acrílica em panos de fachada com presença de vãos, de edifícios de múltiplos pavimentos, duas demãos. af_05/2017 | D48: 13455 | E48: M2 | F48: =K48+M48+O48+Q48+S48+U48+W48+Y48+AA48+AC48+AE48+AG48 -> 130 | G48: =ORÇAMENTO!I50 -> 42.13 | I48: =ROUND(G48*F48,2) -> 5476.9 | K48: 50 | L48: =$G$48*K48 -> 2106.5 | M48: 0 | N48: =$G$48*M48 -> 0 | P48: =$G$48*O48 -> 0 | Q48: 0 | R48: =$G$48*Q48 -> 0 | T48: =$G$48*S48 -> 0 | U48: 30 | V48: =$G$48*U48 -> 1263.9 | W48: 0 | X48: =$G$48*W48 -> 0 | Z48: =$G$48*Y48 -> 0 | AB48: =$G$48*AA48 -> 0 | AD48: =$G$48*AC48 -> 0 | AF48: =$G$48*AE48 -> 0 | AG48: 50 | AH48: =$G$48*AG48 -> 2106.5 | AJ48: =AG48+AE48+AC48+AA48+Y48+W48+U48+S48+Q48+O48+M48+K48 -> 130 | AK48: =AH48+AF48+AD48+AB48+Z48+X48+V48+T48+R48+P48+N48+L48 -> 5476.9 | AL48: =AJ48=F48 -> TRUE | AM48: =AK48=I48 -> TRUE
A49: 35 | B49: Aplicação manual de massa acrílica em panos de fachada sem presença de vãos, de edifícios de múltiplos pavimentos, uma demão. af_05/2017 | D49: 13455 | E49: M2 | F49: =K49+M49+O49+Q49+S49+U49+W49+Y49+AA49+AC49+AE49+AG49 -> 1300 | G49: =ORÇAMENTO!I51 -> 23.44 | I49: =ROUND(G49*F49,2) -> 30472 | K49: 50 | L49: =$G$49*K49 -> 1172 | M49: 0 | N49: =$G$49*M49 -> 0 | P49: =$G$49*O49 -> 0 | Q49: 0 | R49: =$G$49*Q49 -> 0 | T49: =$G$49*S49 -> 0 | V49: =$G$49*U49 -> 0 | W49: 1250 | X49: =$G$49*W49 -> 29300 | Z49: =$G$49*Y49 -> 0 | AB49: =$G$49*AA49 -> 0 | AD49: =$G$49*AC49 -> 0 | AF49: =$G$49*AE49 -> 0 | AG49: 0 | AH49: =$G$49*AG49 -> 0 | AJ49: =AG49+AE49+AC49+AA49+Y49+W49+U49+S49+Q49+O49+M49+K49 -> 1300 | AK49: =AH49+AF49+AD49+AB49+Z49+X49+V49+T49+R49+P49+N49+L49 -> 30472 | AL49: =AJ49=F49 -> TRUE | AM49: =AK49=I49 -> TRUE
A50: 36 | B50: Aplicação manual de massa acrílica em panos de fachada sem presença de vãos, de edifícios de múltiplos pavimentos, duas demãos. af_05/2017 | D50: 13455 | E50: M2 | F50: =K50+M50+O50+Q50+S50+U50+W50+Y50+AA50+AC50+AE50+AG50 -> 100 | G50: =ORÇAMENTO!I52 -> 32.84 | I50: =ROUND(G50*F50,2) -> 3284 | K50: 50 | L50: =$G$50*K50 -> 1642 | M50: 0 | N50: =$G$50*M50 -> 0 | P50: =$G$50*O50 -> 0 | Q50: 0 | R50: =$G$50*Q50 -> 0 | T50: =$G$50*S50 -> 0 | V50: =$G$50*U50 -> 0 | W50: 0 | X50: =$G$50*W50 -> 0 | Z50: =$G$50*Y50 -> 0 | AB50: =$G$50*AA50 -> 0 | AD50: =$G$50*AC50 -> 0 | AF50: =$G$50*AE50 -> 0 | AG50: 50 | AH50: =$G$50*AG50 -> 1642 | AJ50: =AG50+AE50+AC50+AA50+Y50+W50+U50+S50+Q50+O50+M50+K50 -> 100 | AK50: =AH50+AF50+AD50+AB50+Z50+X50+V50+T50+R50+P50+N50+L50 -> 3284 | AL50: =AJ50=F50 -> TRUE | AM50: =AK50=I50 -> TRUE
A51: 37 | B51: Aplicação manual de fundo selador acrílico em panos com presença de vãos de edifícios de múltiplos pavimentos. af_06/2014 | D51: 13455 | E51: M2 | F51: =K51+M51+O51+Q51+S51+U51+W51+Y51+AA51+AC51+AE51+AG51 -> 350 | G51: =ORÇAMENTO!I53 -> 4.12 | I51: =ROUND(G51*F51,2) -> 1442 | K51: 50 | L51: =$G$51*K51 -> 206 | M51: 0 | N51: =$G$51*M51 -> 0 | P51: =$G$51*O51 -> 0 | Q51: 0 | R51: =$G$51*Q51 -> 0 | T51: =$G$51*S51 -> 0 | V51: =$G$51*U51 -> 0 | W51: 250 | X51: =$G$51*W51 -> 1030 | Z51: =$G$51*Y51 -> 0 | AB51: =$G$51*AA51 -> 0 | AD51: =$G$51*AC51 -> 0 | AF51: =$G$51*AE51 -> 0 | AG51: 50 | AH51: =$G$51*AG51 -> 206 | AJ51: =AG51+AE51+AC51+AA51+Y51+W51+U51+S51+Q51+O51+M51+K51 -> 350 | AK51: =AH51+AF51+AD51+AB51+Z51+X51+V51+T51+R51+P51+N51+L51 -> 1442 | AL51: =AJ51=F51 -> TRUE | AM51: =AK51=I51 -> TRUE
A52: 38 | B52: Aplicação manual de fundo selador acrílico em panos cegos de fachada (sem presença de vãos) de edifícios de múltiplos pavimentos. af_06/2014 | D52: 13455 | E52: M2 | F52: =K52+M52+O52+Q52+S52+U52+W52+Y52+AA52+AC52+AE52+AG52 -> 350 | G52: =ORÇAMENTO!I54 -> 2.96 | I52: =ROUND(G52*F52,2) -> 1036 | K52: 50 | L52: =$G$52*K52 -> 148 | M52: 0 | N52: =$G$52*M52 -> 0 | P52: =$G$52*O52 -> 0 | Q52: 0 | R52: =$G$52*Q52 -> 0 | T52: =$G$52*S52 -> 0 | V52: =$G$52*U52 -> 0 | W52: 250 | X52: =$G$52*W52 -> 740 | Z52: =$G$52*Y52 -> 0 | AB52: =$G$52*AA52 -> 0 | AD52: =$G$52*AC52 -> 0 | AF52: =$G$52*AE52 -> 0 | AG52: 50 | AH52: =$G$52*AG52 -> 148 | AJ52: =AG52+AE52+AC52+AA52+Y52+W52+U52+S52+Q52+O52+M52+K52 -> 350 | AK52: =AH52+AF52+AD52+AB52+Z52+X52+V52+T52+R52+P52+N52+L52 -> 1036 | AL52: =AJ52=F52 -> TRUE | AM52: =AK52=I52 -> TRUE
A53: 39 | B53: Aplicação manual de pintura com tinta texturizada acrílica em panos com presença de vãos de edifícios de múltiplos pavimentos, uma cor. af_06/2014 | D53: 13455 | E53: M2 | F53: =K53+M53+O53+Q53+S53+U53+W53+Y53+AA53+AC53+AE53+AG53 -> 100 | G53: =ORÇAMENTO!I55 -> 22.74 | I53: =ROUND(G53*F53,2) -> 2274 | K53: 50 | L53: =$G$53*K53 -> 1137 | M53: 0 | N53: =$G$53*M53 -> 0 | P53: =$G$53*O53 -> 0 | Q53: 0 | R53: =$G$53*Q53 -> 0 | T53: =$G$53*S53 -> 0 | V53: =$G$53*U53 -> 0 | W53: 0 | X53: =$G$53*W53 -> 0 | Z53: =$G$53*Y53 -> 0 | AB53: =$G$53*AA53 -> 0 | AD53: =$G$53*AC53 -> 0 | AF53: =$G$53*AE53 -> 0 | AG53: 50 | AH53: =$G$53*AG53 -> 1137 | AJ53: =AG53+AE53+AC53+AA53+Y53+W53+U53+S53+Q53+O53+M53+K53 -> 100 | AK53: =AH53+AF53+AD53+AB53+Z53+X53+V53+T53+R53+P53+N53+L53 -> 2274 | AL53: =AJ53=F53 -> TRUE | AM53: =AK53=I53 -> TRUE
A54: 40 | B54: Aplicação manual de pintura com tinta texturizada acrílica em panos cegos de fachada (sem presença de vãos) de edifícios de múltiplos pavimentos, uma cor. af_06/2014 | D54: 13455 | E54: M2 | F54: =K54+M54+O54+Q54+S54+U54+W54+Y54+AA54+AC54+AE54+AG54 -> 150 | G54: =ORÇAMENTO!I56 -> 18.65 | I54: =ROUND(G54*F54,2) -> 2797.5 | K54: 100 | L54: =$G$54*K54 -> 1865 | M54: 0 | N54: =$G$54*M54 -> 0 | P54: =$G$54*O54 -> 0 | Q54: 0 | R54: =$G$54*Q54 -> 0 | T54: =$G$54*S54 -> 0 | V54: =$G$54*U54 -> 0 | W54: 0 | X54: =$G$54*W54 -> 0 | Z54: =$G$54*Y54 -> 0 | AB54: =$G$54*AA54 -> 0 | AD54: =$G$54*AC54 -> 0 | AF54: =$G$54*AE54 -> 0 | AG54: 50 | AH54: =$G$54*AG54 -> 932.5 | AJ54: =AG54+AE54+AC54+AA54+Y54+W54+U54+S54+Q54+O54+M54+K54 -> 150 | AK54: =AH54+AF54+AD54+AB54+Z54+X54+V54+T54+R54+P54+N54+L54 -> 2797.5 | AL54: =AJ54=F54 -> TRUE | AM54: =AK54=I54 -> TRUE
A55: 41 | B55: Aplicação manual de pintura com tinta texturizada acrílica em panos com presença de vãos de edifícios de múltiplos pavimentos, duas cores. af_06/2014 | D55: 13455 | E55: M2 | F55: =K55+M55+O55+Q55+S55+U55+W55+Y55+AA55+AC55+AE55+AG55 -> 500 | G55: =ORÇAMENTO!I57 -> 28.35 | I55: =ROUND(G55*F55,2) -> 14175 | K55: 500 | L55: =$G$55*K55 -> 14175 | M55: 0 | N55: =$G$55*M55 -> 0 | P55: =$G$55*O55 -> 0 | Q55: 0 | R55: =$G$55*Q55 -> 0 | T55: =$G$55*S55 -> 0 | V55: =$G$55*U55 -> 0 | W55: 0 | X55: =$G$55*W55 -> 0 | Z55: =$G$55*Y55 -> 0 | AB55: =$G$55*AA55 -> 0 | AD55: =$G$55*AC55 -> 0 | AF55: =$G$55*AE55 -> 0 | AG55: 0 | AH55: =$G$55*AG55 -> 0 | AJ55: =AG55+AE55+AC55+AA55+Y55+W55+U55+S55+Q55+O55+M55+K55 -> 500 | AK55: =AH55+AF55+AD55+AB55+Z55+X55+V55+T55+R55+P55+N55+L55 -> 14175 | AL55: =AJ55=F55 -> TRUE | AM55: =AK55=I55 -> TRUE
A56: 42 | B56: Aplicação manual de pintura com tinta texturizada acrílica em panos cegos de fachada (sem presença de vãos) de edifícios de múltiplos pavimentos, duas cores. af_06/2014 | D56: 13455 | E56: M2 | F56: =K56+M56+O56+Q56+S56+U56+W56+Y56+AA56+AC56+AE56+AG56 -> 100 | G56: =ORÇAMENTO!I58 -> 21.3 | I56: =ROUND(G56*F56,2) -> 2130 | K56: 100 | L56: =$G$56*K56 -> 2130 | M56: 0 | N56: =$G$56*M56 -> 0 | P56: =$G$56*O56 -> 0 | Q56: 0 | R56: =$G$56*Q56 -> 0 | T56: =$G$56*S56 -> 0 | V56: =$G$56*U56 -> 0 | W56: 0 | X56: =$G$56*W56 -> 0 | Z56: =$G$56*Y56 -> 0 | AB56: =$G$56*AA56 -> 0 | AD56: =$G$56*AC56 -> 0 | AF56: =$G$56*AE56 -> 0 | AG56: 0 | AH56: =$G$56*AG56 -> 0 | AJ56: =AG56+AE56+AC56+AA56+Y56+W56+U56+S56+Q56+O56+M56+K56 -> 100 | AK56: =AH56+AF56+AD56+AB56+Z56+X56+V56+T56+R56+P56+N56+L56 -> 2130 | AL56: =AJ56=F56 -> TRUE | AM56: =AK56=I56 -> TRUE
A57: 43 | B57: Aplicação manual de pintura com tinta texturizada acrílica em molduras de eps, pré-fabricados, ou outros. af_06/2014 | D57: 13455 | E57: M2 | F57: =K57+M57+O57+Q57+S57+U57+W57+Y57+AA57+AC57+AE57+AG57 -> 80 | G57: =ORÇAMENTO!I59 -> 25.32 | I57: =ROUND(G57*F57,2) -> 2025.6 | K57: 30 | L57: =$G$57*K57 -> 759.6 | M57: 0 | N57: =$G$57*M57 -> 0 | P57: =$G$57*O57 -> 0 | Q57: 0 | R57: =$G$57*Q57 -> 0 | T57: =$G$57*S57 -> 0 | V57: =$G$57*U57 -> 0 | W57: 0 | X57: =$G$57*W57 -> 0 | Z57: =$G$57*Y57 -> 0 | AB57: =$G$57*AA57 -> 0 | AD57: =$G$57*AC57 -> 0 | AF57: =$G$57*AE57 -> 0 | AG57: 50 | AH57: =$G$57*AG57 -> 1266 | AJ57: =AG57+AE57+AC57+AA57+Y57+W57+U57+S57+Q57+O57+M57+K57 -> 80 | AK57: =AH57+AF57+AD57+AB57+Z57+X57+V57+T57+R57+P57+N57+L57 -> 2025.6 | AL57: =AJ57=F57 -> TRUE | AM57: =AK57=I57 -> TRUE
A58: 44 | B58: Aplicação manual de tinta látex acrílica em panos com presença de vãos de edifícios de múltiplos pavimentos, duas demãos. af_11/2016 | D58: 13455 | E58: M2 | F58: =K58+M58+O58+Q58+S58+U58+W58+Y58+AA58+AC58+AE58+AG58 -> 7050 | G58: =ORÇAMENTO!I60 -> 22.4 | I58: =ROUND(G58*F58,2) -> 157920 | K58: 200 | L58: =$G$58*K58 -> 4480 | M58: 0 | N58: =$G$58*M58 -> 0 | P58: =$G$58*O58 -> 0 | Q58: 0 | R58: =$G$58*Q58 -> 0 | T58: =$G$58*S58 -> 0 | U58: 6750 | V58: =$G$58*U58 -> 151200 | W58: 0 | X58: =$G$58*W58 -> 0 | Z58: =$G$58*Y58 -> 0 | AB58: =$G$58*AA58 -> 0 | AD58: =$G$58*AC58 -> 0 | AF58: =$G$58*AE58 -> 0 | AG58: 100 | AH58: =$G$58*AG58 -> 2240 | AJ58: =AG58+AE58+AC58+AA58+Y58+W58+U58+S58+Q58+O58+M58+K58 -> 7050 | AK58: =AH58+AF58+AD58+AB58+Z58+X58+V58+T58+R58+P58+N58+L58 -> 157920 | AL58: =AJ58=F58 -> TRUE | AM58: =AK58=I58 -> TRUE
A59: 45 | B59: Aplicação manual de tinta látex acrílica em panos sem presença de vãos de edifícios de múltiplos pavimentos, duas demãos. af_11/2016 | D59: 13455 | E59: M2 | F59: =K59+M59+O59+Q59+S59+U59+W59+Y59+AA59+AC59+AE59+AG59 -> 250 | G59: =ORÇAMENTO!I61 -> 16.82 | I59: =ROUND(G59*F59,2) -> 4205 | K59: 200 | L59: =$G$59*K59 -> 3364 | M59: 0 | N59: =$G$59*M59 -> 0 | P59: =$G$59*O59 -> 0 | Q59: 0 | R59: =$G$59*Q59 -> 0 | T59: =$G$59*S59 -> 0 | V59: =$G$59*U59 -> 0 | W59: 0 | X59: =$G$59*W59 -> 0 | Z59: =$G$59*Y59 -> 0 | AB59: =$G$59*AA59 -> 0 | AD59: =$G$59*AC59 -> 0 | AF59: =$G$59*AE59 -> 0 | AG59: 50 | AH59: =$G$59*AG59 -> 841 | AJ59: =AG59+AE59+AC59+AA59+Y59+W59+U59+S59+Q59+O59+M59+K59 -> 250 | AK59: =AH59+AF59+AD59+AB59+Z59+X59+V59+T59+R59+P59+N59+L59 -> 4205 | AL59: =AJ59=F59 -> TRUE | AM59: =AK59=I59 -> TRUE
A60: 46 | B60: Aplicação de massa texturizada acrílica projetada em panos com presença de vãos de edifícios de múltiplos pavimentos, uma cor. af_06/2014 | D60: 13455 | E60: M2 | F60: =K60+M60+O60+Q60+S60+U60+W60+Y60+AA60+AC60+AE60+AG60 -> 600 | G60: =ORÇAMENTO!I62 -> 33.8 | I60: =ROUND(G60*F60,2) -> 20280 | K60: 500 | L60: =$G$60*K60 -> 16900 | M60: 0 | N60: =$G$60*M60 -> 0 | P60: =$G$60*O60 -> 0 | Q60: 0 | R60: =$G$60*Q60 -> 0 | T60: =$G$60*S60 -> 0 | V60: =$G$60*U60 -> 0 | W60: 0 | X60: =$G$60*W60 -> 0 | Z60: =$G$60*Y60 -> 0 | AB60: =$G$60*AA60 -> 0 | AD60: =$G$60*AC60 -> 0 | AF60: =$G$60*AE60 -> 0 | AG60: 100 | AH60: =$G$60*AG60 -> 3380 | AJ60: =AG60+AE60+AC60+AA60+Y60+W60+U60+S60+Q60+O60+M60+K60 -> 600 | AK60: =AH60+AF60+AD60+AB60+Z60+X60+V60+T60+R60+P60+N60+L60 -> 20280 | AL60: =AJ60=F60 -> TRUE | AM60: =AK60=I60 -> TRUE
A61: 47 | B61: Aplicação de massa texturizada acrílica projetada em panos cegos de fachada (sem presença de vãos) de edifícios de múltiplos pavimentos, uma cor. af_06/2014 | D61: 13455 | E61: M2 | F61: =K61+M61+O61+Q61+S61+U61+W61+Y61+AA61+AC61+AE61+AG61 -> 6100 | G61: =ORÇAMENTO!I63 -> 29.71 | I61: =ROUND(G61*F61,2) -> 181231 | K61: 100 | L61: =$G$61*K61 -> 2971 | M61: 0 | N61: =$G$61*M61 -> 0 | P61: =$G$61*O61 -> 0 | Q61: 6000 | R61: =$G$61*Q61 -> 178260 | T61: =$G$61*S61 -> 0 | V61: =$G$61*U61 -> 0 | W61: 0 | X61: =$G$61*W61 -> 0 | Z61: =$G$61*Y61 -> 0 | AB61: =$G$61*AA61 -> 0 | AD61: =$G$61*AC61 -> 0 | AF61: =$G$61*AE61 -> 0 | AG61: 0 | AH61: =$G$61*AG61 -> 0 | AJ61: =AG61+AE61+AC61+AA61+Y61+W61+U61+S61+Q61+O61+M61+K61 -> 6100 | AK61: =AH61+AF61+AD61+AB61+Z61+X61+V61+T61+R61+P61+N61+L61 -> 181231 | AL61: =AJ61=F61 -> TRUE | AM61: =AK61=I61 -> TRUE
A62: 48 | B62: Aplicação de massa texturizada acrílica projetada em panos com presença de vãos de edifícios de múltiplos pavimentos, duas cores. af_06/2014 | D62: 13455 | E62: M2 | F62: =K62+M62+O62+Q62+S62+U62+W62+Y62+AA62+AC62+AE62+AG62 -> 6600 | G62: =ORÇAMENTO!I64 -> 39.44 | I62: =ROUND(G62*F62,2) -> 260304 | K62: 500 | L62: =$G$62*K62 -> 19720 | M62: 0 | N62: =$G$62*M62 -> 0 | P62: =$G$62*O62 -> 0 | Q62: 6000 | R62: =$G$62*Q62 -> 236640 | T62: =$G$62*S62 -> 0 | V62: =$G$62*U62 -> 0 | W62: 0 | X62: =$G$62*W62 -> 0 | Z62: =$G$62*Y62 -> 0 | AB62: =$G$62*AA62 -> 0 | AD62: =$G$62*AC62 -> 0 | AF62: =$G$62*AE62 -> 0 | AG62: 100 | AH62: =$G$62*AG62 -> 3944 | AJ62: =AG62+AE62+AC62+AA62+Y62+W62+U62+S62+Q62+O62+M62+K62 -> 6600 | AK62: =AH62+AF62+AD62+AB62+Z62+X62+V62+T62+R62+P62+N62+L62 -> 260304 | AL62: =AJ62=F62 -> TRUE | AM62: =AK62=I62 -> TRUE
A63: 49 | B63: Aplicação de massa texturizada acrílica projetada em panos cegos de fachada (sem presença de vãos) de edifícios de múltiplos pavimentos, duas cores. af_06/2014 | D63: 13455 | E63: M2 | F63: =K63+M63+O63+Q63+S63+U63+W63+Y63+AA63+AC63+AE63+AG63 -> 2600 | G63: =ORÇAMENTO!I65 -> 32.36 | I63: =ROUND(G63*F63,2) -> 84136 | K63: 100 | L63: =$G$63*K63 -> 3236 | M63: 0 | N63: =$G$63*M63 -> 0 | P63: =$G$63*O63 -> 0 | Q63: 0 | R63: =$G$63*Q63 -> 0 | T63: =$G$63*S63 -> 0 | V63: =$G$63*U63 -> 0 | W63: 2500 | X63: =$G$63*W63 -> 80900 | Z63: =$G$63*Y63 -> 0 | AB63: =$G$63*AA63 -> 0 | AD63: =$G$63*AC63 -> 0 | AF63: =$G$63*AE63 -> 0 | AG63: 0 | AH63: =$G$63*AG63 -> 0 | AJ63: =AG63+AE63+AC63+AA63+Y63+W63+U63+S63+Q63+O63+M63+K63 -> 2600 | AK63: =AH63+AF63+AD63+AB63+Z63+X63+V63+T63+R63+P63+N63+L63 -> 84136 | AL63: =AJ63=F63 -> TRUE | AM63: =AK63=I63 -> TRUE
G64: =ORÇAMENTO!I66 -> 0
G65: =ORÇAMENTO!I67 -> 0
A66: 50 | B66: Pintura com tinta alquídica de fundo (tipo zarcão) pulverizada sobre superfícies metálicas (exceto perfil) executado em obra (por demão). af_01/2020_pe | D66: 13455 | E66: M2 | F66: =K66+M66+O66+Q66+S66+U66+W66+Y66+AA66+AC66+AE66+AG66 -> 750 | G66: =ORÇAMENTO!I68 -> 35.13 | I66: =ROUND(G66*F66,2) -> 26347.5 | K66: 200 | L66: =$G$66*K66 -> 7026 | M66: 0 | N66: =$G$66*M66 -> 0 | P66: =$G$66*O66 -> 0 | Q66: 0 | R66: =$G$66*Q66 -> 0 | T66: =$G$66*S66 -> 0 | V66: =$G$66*U66 -> 0 | W66: 500 | X66: =$G$66*W66 -> 17565 | Z66: =$G$66*Y66 -> 0 | AB66: =$G$66*AA66 -> 0 | AC66: 0 | AD66: =$G$66*AC66 -> 0 | AF66: =$G$66*AE66 -> 0 | AG66: 50 | AH66: =$G$66*AG66 -> 1756.5 | AJ66: =AG66+AE66+AC66+AA66+Y66+W66+U66+S66+Q66+O66+M66+K66 -> 750 | AK66: =AH66+AF66+AD66+AB66+Z66+X66+V66+T66+R66+P66+N66+L66 -> 26347.5 | AL66: =AJ66=F66 -> TRUE | AM66: =AK66=I66 -> TRUE
A67: 51 | B67: Pintura com tinta alquídica de fundo (tipo zarcão) aplicada a rolo ou pincel sobre superfícies metálicas (exceto perfil) executado em obra (por demão). af_01/2020 | D67: 13455 | E67: M2 | F67: =K67+M67+O67+Q67+S67+U67+W67+Y67+AA67+AC67+AE67+AG67 -> 600 | G67: =ORÇAMENTO!I69 -> 35.42 | I67: =ROUND(G67*F67,2) -> 21252 | K67: 50 | L67: =$G$67*K67 -> 1771 | M67: 0 | N67: =$G$67*M67 -> 0 | P67: =$G$67*O67 -> 0 | Q67: 0 | R67: =$G$67*Q67 -> 0 | T67: =$G$67*S67 -> 0 | V67: =$G$67*U67 -> 0 | W67: 500 | X67: =$G$67*W67 -> 17710 | Z67: =$G$67*Y67 -> 0 | AB67: =$G$67*AA67 -> 0 | AC67: 0 | AD67: =$G$67*AC67 -> 0 | AF67: =$G$67*AE67 -> 0 | AG67: 50 | AH67: =$G$67*AG67 -> 1771 | AJ67: =AG67+AE67+AC67+AA67+Y67+W67+U67+S67+Q67+O67+M67+K67 -> 600 | AK67: =AH67+AF67+AD67+AB67+Z67+X67+V67+T67+R67+P67+N67+L67 -> 21252 | AL67: =AJ67=F67 -> TRUE | AM67: =AK67=I67 -> TRUE
A68: 52 | B68: Pintura com tinta alquídica de fundo e acabamento (esmalte sintético grafite) pulverizada sobre superfícies metálicas (exceto perfil) executado em obra (por demão). af_01/2020_pe | D68: 13455 | E68: M2 | F68: =K68+M68+O68+Q68+S68+U68+W68+Y68+AA68+AC68+AE68+AG68 -> 750 | G68: =ORÇAMENTO!I70 -> 35.45 | I68: =ROUND(G68*F68,2) -> 26587.5 | K68: 200 | L68: =$G$68*K68 -> 7090 | M68: 0 | N68: =$G$68*M68 -> 0 | P68: =$G$68*O68 -> 0 | Q68: 0 | R68: =$G$68*Q68 -> 0 | T68: =$G$68*S68 -> 0 | V68: =$G$68*U68 -> 0 | W68: 500 | X68: =$G$68*W68 -> 17725 | Z68: =$G$68*Y68 -> 0 | AB68: =$G$68*AA68 -> 0 | AC68: 0 | AD68: =$G$68*AC68 -> 0 | AF68: =$G$68*AE68 -> 0 | AG68: 50 | AH68: =$G$68*AG68 -> 1772.5 | AJ68: =AG68+AE68+AC68+AA68+Y68+W68+U68+S68+Q68+O68+M68+K68 -> 750 | AK68: =AH68+AF68+AD68+AB68+Z68+X68+V68+T68+R68+P68+N68+L68 -> 26587.5 | AL68: =AJ68=F68 -> TRUE | AM68: =AK68=I68 -> TRUE
A69: 53 | B69: Pintura com tinta alquídica de fundo e acabamento (esmalte sintético grafite) aplicada a rolo ou pincel sobre superfícies metálicas (exceto perfil) executado em obra (por demão). af_01/2020 | D69: 13455 | E69: M2 | F69: =K69+M69+O69+Q69+S69+U69+W69+Y69+AA69+AC69+AE69+AG69 -> 600 | G69: =ORÇAMENTO!I71 -> 39.33 | I69: =ROUND(G69*F69,2) -> 23598 | K69: 50 | L69: =$G$69*K69 -> 1966.5 | M69: 0 | N69: =$G$69*M69 -> 0 | P69: =$G$69*O69 -> 0 | Q69: 0 | R69: =$G$69*Q69 -> 0 | T69: =$G$69*S69 -> 0 | V69: =$G$69*U69 -> 0 | W69: 500 | X69: =$G$69*W69 -> 19665 | Z69: =$G$69*Y69 -> 0 | AB69: =$G$69*AA69 -> 0 | AC69: 0 | AD69: =$G$69*AC69 -> 0 | AF69: =$G$69*AE69 -> 0 | AG69: 50 | AH69: =$G$69*AG69 -> 1966.5 | AJ69: =AG69+AE69+AC69+AA69+Y69+W69+U69+S69+Q69+O69+M69+K69 -> 600 | AK69: =AH69+AF69+AD69+AB69+Z69+X69+V69+T69+R69+P69+N69+L69 -> 23598 | AL69: =AJ69=F69 -> TRUE | AM69: =AK69=I69 -> TRUE
A70: 54 | B70: Pintura com tinta acrílica de fundo pulverizada sobre superfícies metálicas (exceto perfil) executado em obra (por demão). af_01/2020_pe | D70: 13455 | E70: M2 | F70: =K70+M70+O70+Q70+S70+U70+W70+Y70+AA70+AC70+AE70+AG70 -> 250 | G70: =ORÇAMENTO!I72 -> 17.11 | I70: =ROUND(G70*F70,2) -> 4277.5 | K70: 200 | L70: =$G$70*K70 -> 3422 | M70: 0 | N70: =$G$70*M70 -> 0 | P70: =$G$70*O70 -> 0 | Q70: 0 | R70: =$G$70*Q70 -> 0 | T70: =$G$70*S70 -> 0 | V70: =$G$70*U70 -> 0 | W70: 0 | X70: =$G$70*W70 -> 0 | Z70: =$G$70*Y70 -> 0 | AB70: =$G$70*AA70 -> 0 | AC70: 0 | AD70: =$G$70*AC70 -> 0 | AF70: =$G$70*AE70 -> 0 | AG70: 50 | AH70: =$G$70*AG70 -> 855.5 | AJ70: =AG70+AE70+AC70+AA70+Y70+W70+U70+S70+Q70+O70+M70+K70 -> 250 | AK70: =AH70+AF70+AD70+AB70+Z70+X70+V70+T70+R70+P70+N70+L70 -> 4277.5 | AL70: =AJ70=F70 -> TRUE | AM70: =AK70=I70 -> TRUE
A71: 55 | B71: Pintura com tinta alquídica de acabamento (esmalte sintético acetinado) pulverizada sobre superfícies metálicas (exceto perfil) executado em obra (por demão). af_01/2020_pe | D71: 13455 | E71: M2 | F71: =K71+M71+O71+Q71+S71+U71+W71+Y71+AA71+AC71+AE71+AG71 -> 250 | G71: =ORÇAMENTO!I73 -> 34.66 | I71: =ROUND(G71*F71,2) -> 8665 | K71: 200 | L71: =$G$71*K71 -> 6932 | M71: 0 | N71: =$G$71*M71 -> 0 | P71: =$G$71*O71 -> 0 | Q71: 0 | R71: =$G$71*Q71 -> 0 | T71: =$G$71*S71 -> 0 | V71: =$G$71*U71 -> 0 | W71: 0 | X71: =$G$71*W71 -> 0 | Z71: =$G$71*Y71 -> 0 | AB71: =$G$71*AA71 -> 0 | AC71: 0 | AD71: =$G$71*AC71 -> 0 | AF71: =$G$71*AE71 -> 0 | AG71: 50 | AH71: =$G$71*AG71 -> 1733 | AJ71: =AG71+AE71+AC71+AA71+Y71+W71+U71+S71+Q71+O71+M71+K71 -> 250 | AK71: =AH71+AF71+AD71+AB71+Z71+X71+V71+T71+R71+P71+N71+L71 -> 8665 | AL71: =AJ71=F71 -> TRUE | AM71: =AK71=I71 -> TRUE
A72: 56 | B72: Pintura com tinta alquídica de acabamento (esmalte sintético acetinado) aplicada a rolo ou pincel sobre superfícies metálicas (exceto perfil) executado em obra (por demão). af_01/2020 | D72: 13455 | E72: M2 | F72: =K72+M72+O72+Q72+S72+U72+W72+Y72+AA72+AC72+AE72+AG72 -> 100 | G72: =ORÇAMENTO!I74 -> 36.09 | I72: =ROUND(G72*F72,2) -> 3609 | K72: 50 | L72: =$G$72*K72 -> 1804.5 | M72: 0 | N72: =$G$72*M72 -> 0 | P72: =$G$72*O72 -> 0 | Q72: 0 | R72: =$G$72*Q72 -> 0 | T72: =$G$72*S72 -> 0 | V72: =$G$72*U72 -> 0 | W72: 0 | X72: =$G$72*W72 -> 0 | Z72: =$G$72*Y72 -> 0 | AB72: =$G$72*AA72 -> 0 | AC72: 0 | AD72: =$G$72*AC72 -> 0 | AF72: =$G$72*AE72 -> 0 | AG72: 50 | AH72: =$G$72*AG72 -> 1804.5 | AJ72: =AG72+AE72+AC72+AA72+Y72+W72+U72+S72+Q72+O72+M72+K72 -> 100 | AK72: =AH72+AF72+AD72+AB72+Z72+X72+V72+T72+R72+P72+N72+L72 -> 3609 | AL72: =AJ72=F72 -> TRUE | AM72: =AK72=I72 -> TRUE
A73: 57 | B73: Pintura com tinta alquídica de acabamento (esmalte sintético brilhante) pulverizada sobre superfícies metálicas (exceto perfil) executado em obra (por demão). af_01/2020_pe | D73: 13455 | E73: M2 | F73: =K73+M73+O73+Q73+S73+U73+W73+Y73+AA73+AC73+AE73+AG73 -> 891 | G73: =ORÇAMENTO!I75 -> 34.33 | I73: =ROUND(G73*F73,2) -> 30588.03 | K73: 200 | L73: =$G$73*K73 -> 6866 | M73: 350 | N73: =$G$73*M73 -> 12015.5 | P73: =$G$73*O73 -> 0 | Q73: 0 | R73: =$G$73*Q73 -> 0 | T73: =$G$73*S73 -> 0 | V73: =$G$73*U73 -> 0 | W73: 0 | X73: =$G$73*W73 -> 0 | Z73: =$G$73*Y73 -> 0 | AB73: =$G$73*AA73 -> 0 | AC73: 291 | AD73: =$G$73*AC73 -> 9990.03 | AF73: =$G$73*AE73 -> 0 | AG73: 50 | AH73: =$G$73*AG73 -> 1716.5 | AJ73: =AG73+AE73+AC73+AA73+Y73+W73+U73+S73+Q73+O73+M73+K73 -> 891 | AK73: =AH73+AF73+AD73+AB73+Z73+X73+V73+T73+R73+P73+N73+L73 -> 30588.03 | AL73: =AJ73=F73 -> TRUE | AM73: =AK73=I73 -> TRUE
A74: 58 | B74: Pintura com tinta alquídica de acabamento (esmalte sintético brilhante) aplicada a rolo ou pincel sobre superfícies metálicas (exceto perfil) executado em obra (por demão). af_01/2020 | D74: 13455 | E74: M2 | F74: =K74+M74+O74+Q74+S74+U74+W74+Y74+AA74+AC74+AE74+AG74 -> 170 | G74: =ORÇAMENTO!I76 -> 35.9 | I74: =ROUND(G74*F74,2) -> 6103 | K74: 50 | L74: =$G$74*K74 -> 1795 | M74: 0 | N74: =$G$74*M74 -> 0 | P74: =$G$74*O74 -> 0 | Q74: 0 | R74: =$G$74*Q74 -> 0 | T74: =$G$74*S74 -> 0 | V74: =$G$74*U74 -> 0 | W74: 0 | X74: =$G$74*W74 -> 0 | Z74: =$G$74*Y74 -> 0 | AA74: 70 | AB74: =$G$74*AA74 -> 2513 | AC74: 0 | AD74: =$G$74*AC74 -> 0 | AF74: =$G$74*AE74 -> 0 | AG74: 50 | AH74: =$G$74*AG74 -> 1795 | AJ74: =AG74+AE74+AC74+AA74+Y74+W74+U74+S74+Q74+O74+M74+K74 -> 170 | AK74: =AH74+AF74+AD74+AB74+Z74+X74+V74+T74+R74+P74+N74+L74 -> 6103 | AL74: =AJ74=F74 -> TRUE | AM74: =AK74=I74 -> TRUE
G75: =ORÇAMENTO!I77 -> 0
G76: =ORÇAMENTO!I78 -> 0
A77: 59 | B77: Aplicação massa alquídica para madeira, para pintura com tinta de acabamento (pigmentada). af_01/2021 | D77: 13455 | E77: M2 | F77: =K77+M77+O77+Q77+S77+U77+W77+Y77+AA77+AC77+AE77+AG77 -> 1190 | G77: =ORÇAMENTO!I79 -> 31.73 | I77: =ROUND(G77*F77,2) -> 37758.7 | K77: 50 | L77: =$G$77*K77 -> 1586.5 | M77: 0 | N77: =$G$77*M77 -> 0 | P77: =$G$77*O77 -> 0 | Q77: 500 | R77: =$G$77*Q77 -> 15865 | T77: =$G$77*S77 -> 0 | V77: =$G$77*U77 -> 0 | W77: 250 | X77: =$G$77*W77 -> 7932.5 | Y77: 90 | Z77: =$G$77*Y77 -> 2855.7 | AB77: =$G$77*AA77 -> 0 | AC77: 0 | AD77: =$G$77*AC77 -> 0 | AF77: =$G$77*AE77 -> 0 | AG77: 300 | AH77: =$G$77*AG77 -> 9519 | AJ77: =AG77+AE77+AC77+AA77+Y77+W77+U77+S77+Q77+O77+M77+K77 -> 1190 | AK77: =AH77+AF77+AD77+AB77+Z77+X77+V77+T77+R77+P77+N77+L77 -> 37758.7 | AL77: =AJ77=F77 -> TRUE | AM77: =AK77=I77 -> TRUE
A78: 60 | B78: Lixamento de massa para madeira. af_01/2021 | D78: 13455 | E78: M2 | F78: =K78+M78+O78+Q78+S78+U78+W78+Y78+AA78+AC78+AE78+AG78 -> 1100 | G78: =ORÇAMENTO!I80 -> 12.26 | I78: =ROUND(G78*F78,2) -> 13486 | K78: 50 | L78: =$G$78*K78 -> 613 | M78: 0 | N78: =$G$78*M78 -> 0 | P78: =$G$78*O78 -> 0 | Q78: 500 | R78: =$G$78*Q78 -> 6130 | T78: =$G$78*S78 -> 0 | V78: =$G$78*U78 -> 0 | W78: 250 | X78: =$G$78*W78 -> 3065 | Z78: =$G$78*Y78 -> 0 | AB78: =$G$78*AA78 -> 0 | AC78: 0 | AD78: =$G$78*AC78 -> 0 | AF78: =$G$78*AE78 -> 0 | AG78: 300 | AH78: =$G$78*AG78 -> 3678 | AJ78: =AG78+AE78+AC78+AA78+Y78+W78+U78+S78+Q78+O78+M78+K78 -> 1100 | AK78: =AH78+AF78+AD78+AB78+Z78+X78+V78+T78+R78+P78+N78+L78 -> 13486 | AL78: =AJ78=F78 -> TRUE | AM78: =AK78=I78 -> TRUE
A79: 61 | B79: Pintura tinta de acabamento (pigmentada) esmalte sintético acetinado em madeira, 1 demão. af_01/2021 | D79: 13455 | E79: M2 | F79: =K79+M79+O79+Q79+S79+U79+W79+Y79+AA79+AC79+AE79+AG79 -> 972 | G79: =ORÇAMENTO!I81 -> 11.9 | I79: =ROUND(G79*F79,2) -> 11566.8 | K79: 50 | L79: =$G$79*K79 -> 595 | M79: 20 | N79: =$G$79*M79 -> 238 | P79: =$G$79*O79 -> 0 | Q79: 0 | R79: =$G$79*Q79 -> 0 | T79: =$G$79*S79 -> 0 | V79: =$G$79*U79 -> 0 | W79: 500 | X79: =$G$79*W79 -> 5950 | Y79: 90 | Z79: =$G$79*Y79 -> 1071 | AB79: =$G$79*AA79 -> 0 | AC79: 12 | AD79: =$G$79*AC79 -> 142.8 | AF79: =$G$79*AE79 -> 0 | AG79: 300 | AH79: =$G$79*AG79 -> 3570 | AJ79: =AG79+AE79+AC79+AA79+Y79+W79+U79+S79+Q79+O79+M79+K79 -> 972 | AK79: =AH79+AF79+AD79+AB79+Z79+X79+V79+T79+R79+P79+N79+L79 -> 11566.8 | AL79: =AJ79=F79 -> TRUE | AM79: =AK79=I79 -> TRUE
A80: 62 | B80: Pintura tinta de acabamento (pigmentada) esmalte sintético brilhante em madeira, 1 demão. af_01/2021 | D80: 13455 | E80: M2 | F80: =K80+M80+O80+Q80+S80+U80+W80+Y80+AA80+AC80+AE80+AG80 -> 1350 | G80: =ORÇAMENTO!I82 -> 11.42 | I80: =ROUND(G80*F80,2) -> 15417 | K80: 50 | L80: =$G$80*K80 -> 571 | M80: 0 | N80: =$G$80*M80 -> 0 | P80: =$G$80*O80 -> 0 | Q80: 500 | R80: =$G$80*Q80 -> 5710 | T80: =$G$80*S80 -> 0 | V80: =$G$80*U80 -> 0 | W80: 500 | X80: =$G$80*W80 -> 5710 | Z80: =$G$80*Y80 -> 0 | AB80: =$G$80*AA80 -> 0 | AC80: 0 | AD80: =$G$80*AC80 -> 0 | AF80: =$G$80*AE80 -> 0 | AG80: 300 | AH80: =$G$80*AG80 -> 3426 | AJ80: =AG80+AE80+AC80+AA80+Y80+W80+U80+S80+Q80+O80+M80+K80 -> 1350 | AK80: =AH80+AF80+AD80+AB80+Z80+X80+V80+T80+R80+P80+N80+L80 -> 15417 | AL80: =AJ80=F80 -> TRUE | AM80: =AK80=I80 -> TRUE
A81: 63 | B81: Pintura verniz (incolor) alquídico em madeira, uso interno e externo, 1 demão. af_01/2021 | D81: 13455 | E81: M2 | F81: =K81+M81+O81+Q81+S81+U81+W81+Y81+AA81+AC81+AE81+AG81 -> 850 | G81: =ORÇAMENTO!I83 -> 14.19 | I81: =ROUND(G81*F81,2) -> 12061.5 | K81: 50 | L81: =$G$81*K81 -> 709.5 | M81: 0 | N81: =$G$81*M81 -> 0 | P81: =$G$81*O81 -> 0 | Q81: 0 | R81: =$G$81*Q81 -> 0 | T81: =$G$81*S81 -> 0 | V81: =$G$81*U81 -> 0 | W81: 500 | X81: =$G$81*W81 -> 7095 | Z81: =$G$81*Y81 -> 0 | AB81: =$G$81*AA81 -> 0 | AC81: 0 | AD81: =$G$81*AC81 -> 0 | AF81: =$G$81*AE81 -> 0 | AG81: 300 | AH81: =$G$81*AG81 -> 4257 | AJ81: =AG81+AE81+AC81+AA81+Y81+W81+U81+S81+Q81+O81+M81+K81 -> 850 | AK81: =AH81+AF81+AD81+AB81+Z81+X81+V81+T81+R81+P81+N81+L81 -> 12061.5 | AL81: =AJ81=F81 -> TRUE | AM81: =AK81=I81 -> TRUE
A82: 64 | B82: Pintura verniz (incolor) poliuretânico (resina alquídica modificada) em madeira, 1 demão. af_01/2021 | D82: 13455 | E82: M2 | F82: =K82+M82+O82+Q82+S82+U82+W82+Y82+AA82+AC82+AE82+AG82 -> 850 | G82: =ORÇAMENTO!I84 -> 13.38 | I82: =ROUND(G82*F82,2) -> 11373 | K82: 50 | L82: =$G$82*K82 -> 669 | M82: 0 | N82: =$G$82*M82 -> 0 | P82: =$G$82*O82 -> 0 | Q82: 0 | R82: =$G$82*Q82 -> 0 | T82: =$G$82*S82 -> 0 | V82: =$G$82*U82 -> 0 | W82: 500 | X82: =$G$82*W82 -> 6690 | Z82: =$G$82*Y82 -> 0 | AB82: =$G$82*AA82 -> 0 | AC82: 0 | AD82: =$G$82*AC82 -> 0 | AF82: =$G$82*AE82 -> 0 | AG82: 300 | AH82: =$G$82*AG82 -> 4014 | AJ82: =AG82+AE82+AC82+AA82+Y82+W82+U82+S82+Q82+O82+M82+K82 -> 850 | AK82: =AH82+AF82+AD82+AB82+Z82+X82+V82+T82+R82+P82+N82+L82 -> 11373 | AL82: =AJ82=F82 -> TRUE | AM82: =AK82=I82 -> TRUE
A83: 65 | B83: Pintura imunizante para madeira, 1 demão. af_01/2021 | D83: 13455 | E83: M2 | F83: =K83+M83+O83+Q83+S83+U83+W83+Y83+AA83+AC83+AE83+AG83 -> 1000 | G83: =ORÇAMENTO!I85 -> 14.99 | I83: =ROUND(G83*F83,2) -> 14990 | K83: 200 | L83: =$G$83*K83 -> 2998 | M83: 0 | N83: =$G$83*M83 -> 0 | P83: =$G$83*O83 -> 0 | Q83: 0 | R83: =$G$83*Q83 -> 0 | T83: =$G$83*S83 -> 0 | V83: =$G$83*U83 -> 0 | W83: 500 | X83: =$G$83*W83 -> 7495 | Z83: =$G$83*Y83 -> 0 | AB83: =$G$83*AA83 -> 0 | AC83: 0 | AD83: =$G$83*AC83 -> 0 | AF83: =$G$83*AE83 -> 0 | AG83: 300 | AH83: =$G$83*AG83 -> 4497 | AJ83: =AG83+AE83+AC83+AA83+Y83+W83+U83+S83+Q83+O83+M83+K83 -> 1000 | AK83: =AH83+AF83+AD83+AB83+Z83+X83+V83+T83+R83+P83+N83+L83 -> 14990 | AL83: =AJ83=F83 -> TRUE | AM83: =AK83=I83 -> TRUE
G84: =ORÇAMENTO!I86 -> 0
G85: =ORÇAMENTO!I87 -> 0
A86: 66 | B86: Pintura de demarcação de quadra poliesportiva com tinta epóxi, E = 5 cm, aplicação manual. af_05/2021 | D86: 13455 | E86: M | F86: =K86+M86+O86+Q86+S86+U86+W86+Y86+AA86+AC86+AE86+AG86 -> 355 | G86: =ORÇAMENTO!I88 -> 15.76 | I86: =ROUND(G86*F86,2) -> 5594.8 | K86: 200 | L86: =$G$86*K86 -> 3152 | M86: 30 | N86: =$G$86*M86 -> 472.8 | P86: =$G$86*O86 -> 0 | Q86: 0 | R86: =$G$86*Q86 -> 0 | T86: =$G$86*S86 -> 0 | V86: =$G$86*U86 -> 0 | W86: 100 | X86: =$G$86*W86 -> 1576 | Z86: =$G$86*Y86 -> 0 | AB86: =$G$86*AA86 -> 0 | AC86: 25 | AD86: =$G$86*AC86 -> 394 | AF86: =$G$86*AE86 -> 0 | AH86: =$G$86*AG86 -> 0 | AJ86: =AG86+AE86+AC86+AA86+Y86+W86+U86+S86+Q86+O86+M86+K86 -> 355 | AK86: =AH86+AF86+AD86+AB86+Z86+X86+V86+T86+R86+P86+N86+L86 -> 5594.8 | AL86: =AJ86=F86 -> TRUE | AM86: =AK86=I86 -> TRUE
A87: 67 | B87: Pintura de demarcação de quadra poliesportiva com tinta acrílica, E = 5 cm, aplicação manual. af_05/2021 | D87: 13455 | E87: M | F87: =K87+M87+O87+Q87+S87+U87+W87+Y87+AA87+AC87+AE87+AG87 -> 3000 | G87: =ORÇAMENTO!I89 -> 14.48 | I87: =ROUND(G87*F87,2) -> 43440 | K87: 1500 | L87: =$G$87*K87 -> 21720 | M87: 0 | N87: =$G$87*M87 -> 0 | P87: =$G$87*O87 -> 0 | Q87: 0 | R87: =$G$87*Q87 -> 0 | T87: =$G$87*S87 -> 0 | V87: =$G$87*U87 -> 0 | W87: 1500 | X87: =$G$87*W87 -> 21720 | Z87: =$G$87*Y87 -> 0 | AB87: =$G$87*AA87 -> 0 | AC87: 0 | AD87: =$G$87*AC87 -> 0 | AF87: =$G$87*AE87 -> 0 | AH87: =$G$87*AG87 -> 0 | AJ87: =AG87+AE87+AC87+AA87+Y87+W87+U87+S87+Q87+O87+M87+K87 -> 3000 | AK87: =AH87+AF87+AD87+AB87+Z87+X87+V87+T87+R87+P87+N87+L87 -> 43440 | AL87: =AJ87=F87 -> TRUE | AM87: =AK87=I87 -> TRUE
A88: 68 | B88: Pintura de piso com tinta acrílica, aplicação manual, 2 demãos, incluso fundo preparador. af_05/2021 | D88: 13455 | E88: M2 | F88: =K88+M88+O88+Q88+S88+U88+W88+Y88+AA88+AC88+AE88+AG88 -> 8000 | G88: =ORÇAMENTO!I90 -> 26.72 | I88: =ROUND(G88*F88,2) -> 213760 | K88: =6000 -> 6000 | L88: =$G$88*K88 -> 160320 | M88: 0 | N88: =$G$88*M88 -> 0 | P88: =$G$88*O88 -> 0 | Q88: 0 | R88: =$G$88*Q88 -> 0 | T88: =$G$88*S88 -> 0 | V88: =$G$88*U88 -> 0 | W88: 2000 | X88: =$G$88*W88 -> 53440 | Z88: =$G$88*Y88 -> 0 | AB88: =$G$88*AA88 -> 0 | AC88: 0 | AD88: =$G$88*AC88 -> 0 | AF88: =$G$88*AE88 -> 0 | AH88: =$G$88*AG88 -> 0
A89: 69 | B89: Pintura de piso com tinta acrílica, aplicação manual, 3 demãos, incluso fundo preparador. af_05/2021 | D89: 13455 | E89: M2 | F89: =K89+M89+O89+Q89+S89+U89+W89+Y89+AA89+AC89+AE89+AG89 -> 1250 | G89: =ORÇAMENTO!I91 -> 34.14 | I89: =ROUND(G89*F89,2) -> 42675 | K89: 50 | L89: =$G$89*K89 -> 1707 | M89: 0 | N89: =$G$89*M89 -> 0 | P89: =$G$89*O89 -> 0 | Q89: 200 | R89: =$G$89*Q89 -> 6828 | T89: =$G$89*S89 -> 0 | V89: =$G$89*U89 -> 0 | W89: 1000 | X89: =$G$89*W89 -> 34140 | Z89: =$G$89*Y89 -> 0 | AB89: =$G$89*AA89 -> 0 | AC89: 0 | AD89: =$G$89*AC89 -> 0 | AF89: =$G$89*AE89 -> 0 | AH89: =$G$89*AG89 -> 0 | AJ89: =AG89+AE89+AC89+AA89+Y89+W89+U89+S89+Q89+O89+M89+K89 -> 1250 | AK89: =AH89+AF89+AD89+AB89+Z89+X89+V89+T89+R89+P89+N89+L89 -> 42675 | AL89: =AJ89=F89 -> TRUE | AM89: =AK89=I89 -> TRUE
A90: 70 | B90: Pintura de piso com tinta epóxi, aplicação manual, 2 demãos, incluso primer epóxi. af_05/2021 | D90: 13455 | E90: M2 | F90: =K90+M90+O90+Q90+S90+U90+W90+Y90+AA90+AC90+AE90+AG90 -> 1000 | G90: =ORÇAMENTO!I92 -> 81.01 | I90: =ROUND(G90*F90,2) -> 81010 | K90: 50 | L90: =$G$90*K90 -> 4050.5 | M90: 400 | N90: =$G$90*M90 -> 32404 | P90: =$G$90*O90 -> 0 | Q90: 0 | R90: =$G$90*Q90 -> 0 | T90: =$G$90*S90 -> 0 | V90: =$G$90*U90 -> 0 | W90: 100 | X90: =$G$90*W90 -> 8101 | Z90: =$G$90*Y90 -> 0 | AB90: =$G$90*AA90 -> 0 | AC90: 400 | AD90: =$G$90*AC90 -> 32404 | AF90: =$G$90*AE90 -> 0 | AG90: 50 | AH90: =$G$90*AG90 -> 4050.5 | AJ90: =AG90+AE90+AC90+AA90+Y90+W90+U90+S90+Q90+O90+M90+K90 -> 1000 | AK90: =AH90+AF90+AD90+AB90+Z90+X90+V90+T90+R90+P90+N90+L90 -> 81010 | AL90: =AJ90=F90 -> TRUE | AM90: =AK90=I90 -> TRUE
G91: TOTAL | I91: =SUM(I10:I90) -> 3497076 | L91: =SUM(L10:L90) -> 381480.65 | N91: =SUM(N10:N90) -> 291444.2 | P91: =SUM(P10:P90) -> 22826.5 | R91: =SUM(R10:R90) -> 954622.5 | T91: =SUM(T10:T90) -> 7190.78 | V91: =SUM(V10:V90) -> #REF! | X91: =SUM(X10:X90) -> 989116 | Z91: =SUM(Z10:Z90) -> 223582.45 | AB91: =SUM(AB10:AB90) -> 32956.9 | AD91: =SUM(AD10:AD90) -> 272458.02 | AF91: =SUM(AF10:AF90) -> 0 | AH91: =SUM(AH10:AH90) -> 168934.1 | AK91: =AH91+AF91+AD91+AB91+Z91+X91+V91+T91+R91+P91+N91+L91 -> #REF! | AL91: =AJ91=F91 -> TRUE | AM91: =AK91=I91 -> #REF!

Sheet CURVA ABC SERVIÇOS
B1: MUNICÍPIO DE PINHAIS
B2: RODOVIA JOAO LEOPOLDO JACOMEL - 12162, Centro
B3: CEP: 83323410 - Pinhais - PR
A4: Curva ABC
A5: Obra | B5: 32 - Pintura imobiliária - 2024
A6: CÓDIGO | B6: DESCRIÇÃO | C6: UN. | D6: QUANTIDADE | E6: PREÇO UN. | F6: TOTAL (R$) | H6: PESO % | I6: ACUM. % | K6: ATESTADO | L6: %
A7: 104642 | B7: Pintura látex acrílica standard, aplicação manual em paredes, duas demãos. af_04/2023 | C7: M2 | D7: 18796 | E7: 13.85 | F7: 260324.6 | H7: 7.44 | I7: 7.44 | J7: =D7+D8 -> 25396 | K7: =J7*40% -> 10158.4 | L7: =K7/J7 -> 0.4
A8: C.P. 2942311155275 | B8: Aplicação de massa texturizada acrílica projetada em panos com presença de vãos de edifícios de múltiplos pavimentos, duas cores. af_06/2014 | C8: M2 | D8: 6600 | E8: 39.44 | F8: 260304 | H8: 7.44 | I8: 14.89
A9: 88423 | B9: Aplicação manual de pintura com tinta texturizada acrílica em paredes externas de casas, uma cor. af_06/2014 | C9: M2 | D9: 8924 | E9: 24.02 | F9: 214354.48 | H9: 6.13 | I9: 21.02 | J9: =D9 -> 8924 | K9: =J9*40% -> 3569.6 | L9: =K9/J9 -> 0.4
A10: 102491 | B10: Pintura de piso com tinta acrílica, aplicação manual, 2 demãos, incluso fundo preparador. af_05/2021 | C10: M2 | D10: 8000 | E10: 26.72 | F10: 213760 | H10: 6.11 | I10: 27.13
A11: C.P. 2942311155272 | B11: Aplicação de massa texturizada acrílica projetada em panos cegos de fachada (sem presença de vãos) de edifícios de múltiplos pavimentos, uma cor. af_06/2014 | C11: M2 | D11: 6100 | E11: 29.71 | F11: 181231 | H11: 5.18 | I11: 32.31
A12: 95622 | B12: Aplicação manual de tinta látex acrílica em panos com presença de vãos de edifícios de múltiplos pavimentos, duas demãos. af_11/2016 | C12: M2 | D12: 7050 | E12: 22.4 | F12: 157920 | H12: 4.52 | I12: 36.83
A13: 104640 | B13: Pintura látex acrílica standard, aplicação manual em teto, duas demãos. af_04/2023 | C13: M2 | D13: 7799 | E13: 17.32 | F13: 135078.68 | H13: 3.86 | I13: 40.69
A14: 88497 | B14: Emassamento com massa látex, aplicação em parede, duas demãos, lixamento manual. af_04/2023 | C14: M2 | D14: 4625 | E14: 27.15 | F14: 125568.75 | H14: 3.59 | I14: 44.28
A15: 98562 | B15: Impermeabilização de superfície com argamassa de cimento e areia, com aditivo impermeabilizante, E = 1,5cm. af_09/2023 | C15: M2 | D15: 1670 | E15: 69.29 | F15: 115714.3 | H15: 3.31 | I15: 47.59
A16: 96135 | B16: Aplicação manual de massa acrílica em paredes externas de casas, duas demãos. af_05/2017 | C16: M2 | D16: 2450 | E16: 45.09 | F16: 110470.5 | H16: 3.16 | I16: 50.75
A17: 96130 | B17: Aplicação manual de massa acrílica em paredes externas de casas, uma demão. af_05/2017 | C17: M2 | D17: 3010 | E17: 32.61 | F17: 98156.1 | H17: 2.81 | I17: 53.56
A18: 88495 | B18: Emassamento com massa látex, aplicação em parede, uma demão, lixamento manual. af_04/2023 | C18: M2 | D18: 5610 | E18: 17.45 | F18: 97894.5 | H18: 2.8 | I18: 56.35
A19: C.P. 2942310153230 | B19: Aplicação manual de massa de rejunte pronta para tratamento de juntas, em paredes de drywall | C19: M2 | D19: 2050 | E19: 47.51 | F19: 97395.5 | H19: 2.79 | I19: 59.14
A20: 88494 | B20: Emassamento com massa látex, aplicação em teto, uma demão, lixamento manual. af_04/2023 | C20: M2 | D20: 2750 | E20: 31.55 | F20: 86762.5 | H20: 2.48 | I20: 61.62
A21: C.P. 2942311155276 | B21: Aplicação de massa texturizada acrílica projetada em panos cegos de fachada (sem presença de vãos) de edifícios de múltiplos pavimentos, duas cores. af_06/2014 | C21: M2 | D21: 2600 | E21: 32.36 | F21: 84136 | H21: 2.41 | I21: 64.03
... A76: 88412 | B76: Aplicação manual de fundo selador acrílico em panos cegos de fachada (sem presença de vãos) de edifícios de múltiplos pavimentos. af_06/2014 | C76: M2 | D76: 350 | E76: 2.96 | F76: 1036 | H76: 0.03 | I76: 100
A77: 13642_v18 - Em Análise Emissão em 03/05/2024 14:41:44 | G77: Página 1 de 1

Sheet ORÇ POR SEC
A1: SEMOP | B1: SEMAD | C1: SEMUR | D1: SEMSA | E1: SEPFO | F1: SEMMA | G1: SEMED | H1: SEMEL | I1: SESET | J1: SEMAS | K1: SEMDE | L1: P. PREV.
A2: =ORÇAMENTO!N93 -> 381480.65 | B2: =ORÇAMENTO!P93 -> 291444.2 | C2: =ORÇAMENTO!R93 -> 22826.5 | D2: =ORÇAMENTO!T93 -> 954622.5 | E2: =ORÇAMENTO!V93 -> 7190.78 | F2: =ORÇAMENTO!X93 -> 152463.9 | G2: =ORÇAMENTO!Z93 -> 989116 | H2: =ORÇAMENTO!AB93 -> 223582.45 | I2: =ORÇAMENTO!AD93 -> 32956.9 | J2: =ORÇAMENTO!AF93 -> 272458.02 | K2: =ORÇAMENTO!AH93 -> 0 | L2: =ORÇAMENTO!AJ93 -> 168934.1 | M2: =SUM(A2:L2) -> 3497076
