Workbook

Sheet INDIC QUANTITATIVOS 
B1: MUNICÍPIO DE PINHAIS
B2: RODOVIA JOAO LEOPOLDO JACOMEL - 12162, Centro
B3: CEP: 83323410 - Pinhais - PR
A4: OBRA: | B4: 32 - PINTURA IMOBILIÁRIA
A5: ENDEREÇO: | B5: PINHAIS/PR
A6: INDICAÇÃO DE QUANTITATIVOS
A7: ITEM | B7: DESCRIÇÃO | D7: UN. | E7: QUANT. | F7: SEMOP | G7: SEMAD | H7: SEMUR | I7: SEMSA | J7: SEPFO | K7: SEMMA | L7: SEMED | M7: SEMEL | N7: SESET | O7: SEMAS | P7: SEMDE | Q7: P. PREV.
A8: 1 | B8: SERVIÇOS PRELIMINARES
A9: 1.1 | B9: TRATAMENTO, PREPARO E LIMPEZA DE SUPERFÍCIE
A10: 1.1.1 | B10: Lixamento manual em superfícies metálicas em obra. af_01/2020 | D10: M2 | E10: =F10+G10+H10+I10+J10+K10+L10+M10+N10+O10+P10+Q10 -> 3601 | F10: 50 | G10: 170 | H10: 0 | I10: 1200 | J10: 0 | K10: 0 | L10: 2000 | O10: 166 | Q10: 15 | S10: =Q10+P10+O10+N10+M10+L10+K10+J10+I10+H10+G10+F10 -> 3601 | T10: =S10=E10 -> TRUE
A11: 1.1.2 | B11: Lixamento de madeira para aplicação de fundo ou pintura. af_01/2021 | D11: M2 | E11: =F11+G11+H11+I11+J11+K11+L11+M11+N11+O11+P11+Q11 -> 3950 | F11: 50 | G11: 0 | H11: 0 | I11: 1200 | J11: 0 | K11: 0 | L11: 2500 | O11: 0 | Q11: 200 | S11: =Q11+P11+O11+N11+M11+L11+K11+J11+I11+H11+G11+F11 -> 3950 | T11: =S11=E11 -> TRUE
A12: 1.1.3 | B12: Preparo do piso cimentado para pintura - lixamento e limpeza. af_05/2021 | D12: M2 | E12: =F12+G12+H12+I12+J12+K12+L12+M12+N12+O12+P12+Q12 -> 6200 | F12: 150 | G12: 500 | H12: 0 | I12: 0 | J12: 0 | K12: 0 | L12: 5000 | O12: 500 | Q12: 50 | S12: =Q12+P12+O12+N12+M12+L12+K12+J12+I12+H12+G12+F12 -> 6200 | T12: =S12=E12 -> TRUE
A13: 1.1.4 | B13: Limpeza de superfície com jato de alta pressão. af_04/2019 | D13: M2 | E13: =F13+G13+H13+I13+J13+K13+L13+M13+N13+O13+P13+Q13 -> 12656 | F13: 3000 | G13: 2400 | H13: 0 | I13: 0 | J13: 0 | K13: 0 | L13: 5000 | O13: 2206 | Q13: 50 | S13: =Q13+P13+O13+N13+M13+L13+K13+J13+I13+H13+G13+F13 -> 12656 | T13: =S13=E13 -> TRUE
A14: 1.1.5 | B14: Tratamento de rodapé com tela de poliéster. af_09/2023 | D14: M | E14: =F14+G14+H14+I14+J14+K14+L14+M14+N14+O14+P14+Q14 -> 940 | F14: 30 | G14: 200 | H14: 0 | I14: 0 | J14: 0 | K14: 0 | L14: 500 | O14: 200 | Q14: 10 | S14: =Q14+P14+O14+N14+M14+L14+K14+J14+I14+H14+G14+F14 -> 940 | T14: =S14=E14 -> TRUE
A15: 1.1.6 | B15: Aplicação manual de massa de rejunte pronta para tratamento de juntas, em paredes de drywall | D15: M2 | E15: =F15+G15+H15+I15+J15+K15+L15+M15+N15+O15+P15+Q15 -> 2050 | F15: 50 | G15: 500 | H15: 0 | I15: 700 | J15: 0 | K15: 0 | L15: 200 | O15: 500 | Q15: 100 | S15: =Q15+P15+O15+N15+M15+L15+K15+J15+I15+H15+G15+F15 -> 2050 | T15: =S15=E15 -> TRUE
A16: 1.1.7 | B16: Demolição de argamassas, de forma manual, sem reaproveitamento. af_09/2023 | D16: M2 | E16: =F16+G16+H16+I16+J16+K16+L16+M16+N16+O16+P16+Q16 -> 1270 | F16: 20 | G16: 0 | H16: 0 | I16: 200 | J16: 0 | K16: 0 | L16: 1000 | O16: 0 | Q16: 50 | S16: =Q16+P16+O16+N16+M16+L16+K16+J16+I16+H16+G16+F16 -> 1270 | T16: =S16=E16 -> TRUE
A17: 1.1.8 | B17: Impermeabilização de superfície com argamassa de cimento e areia, com aditivo impermeabilizante, E = 1,5cm. af_09/2023 | D17: M2 | E17: =F17+G17+H17+I17+J17+K17+L17+M17+N17+O17+P17+Q17 -> 1670 | F17: 20 | G17: 0 | H17: 0 | I17: 600 | J17: 0 | K17: 0 | L17: 1000 | O17: 0 | Q17: 50 | S17: =Q17+P17+O17+N17+M17+L17+K17+J17+I17+H17+G17+F17 -> 1670 | T17: =S17=E17 -> TRUE
A18: 1.1.9 | B18: Colocação de fita protetora para pintura. af_01/2020 | D18: M | E18: =F18+G18+H18+I18+J18+K18+L18+M18+N18+O18+P18+Q18 -> 7800 | F18: 200 | G18: 650 | H18: 0 | I18: 1200 | J18: 0 | K18: 0 | L18: 5000 | O18: 650 | Q18: 100 | S18: =Q18+P18+O18+N18+M18+L18+K18+J18+I18+H18+G18+F18 -> 7800 | T18: =S18=E18 -> TRUE
A19: 1.1.10 | B19: Colocação, manutenção e retirada de lona, com reaproveitamento, isolamento/proteção para pintura | D19: m2 | E19: =F19+G19+H19+I19+J19+K19+L19+M19+N19+O19+P19+Q19 -> 1225 | F19: 200 | G19: 0 | H19: 0 | I19: 200 | J19: 0 | K19: 0 | L19: 500 | M19: 300 | O19: 0 | Q19: 25 | S19: =Q19+P19+O19+N19+M19+L19+K19+J19+I19+H19+G19+F19 -> 1225 | T19: =S19=E19 -> TRUE
A20: 1.1.11 | B20: Primer convertedor de ferrugem em fundo de protecao, duas demaos. fornecimento e aplicação | D20: M2 | E20: =F20+G20+H20+I20+J20+K20+L20+M20+N20+O20+P20+Q20 -> 220 | F20: 20 | L20: 200 | S20: =Q20+P20+O20+N20+M20+L20+K20+J20+I20+H20+G20+F20 -> 220 | T20: =S20=E20 -> TRUE
A21: 2 | B21: PINTURA EM CONCRETO/ALVENARIA/GESSO ACARTONADO
A22: 2.1 | B22: AMBIENTE INTERNO PAREDE
A23: 2.1.1 | B23: Fundo selador acrílico, aplicação manual em parede, uma demão. af_04/2023 | D23: M2 | E23: =F23+G23+H23+I23+J23+K23+L23+M23+N23+O23+P23+Q23 -> 7850 | F23: 200 | G23: 200 | I23: 6000 | L23: 1000 | O23: 200 | Q23: 250 | S23: =Q23+P23+O23+N23+M23+L23+K23+J23+I23+H23+G23+F23 -> 7850 | T23: =S23=E23 -> TRUE
A24: 2.1.2 | B24: Emassamento com massa látex, aplicação em parede, uma demão, lixamento manual. af_04/2023 | D24: M2 | E24: =F24+G24+H24+I24+J24+K24+L24+M24+N24+O24+P24+Q24 -> 5610 | F24: 100 | G24: 0 | H24: 200 | I24: 0 | J24: 60 | L24: 5000 | O24: 0 | Q24: 250 | S24: =Q24+P24+O24+N24+M24+L24+K24+J24+I24+H24+G24+F24 -> 5610 | T24: =S24=E24 -> TRUE
A25: 2.1.3 | B25: Emassamento com massa látex, aplicação em parede, duas demãos, lixamento manual. af_04/2023 | D25: M2 | E25: =F25+G25+H25+I25+J25+K25+L25+M25+N25+O25+P25+Q25 -> 4625 | F25: 50 | G25: 600 | H25: 300 | I25: 2000 | L25: 0 | M25: 900 | O25: 525 | Q25: 250 | S25: =Q25+P25+O25+N25+M25+L25+K25+J25+I25+H25+G25+F25 -> 4625 | T25: =S25=E25 -> TRUE
A26: 2.1.4 | B26: Pintura látex acrílica standard, aplicação manual em paredes, duas demãos. af_04/2023 | D26: M2 | E26: =F26+G26+H26+I26+J26+K26+L26+M26+N26+O26+P26+Q26 -> 18796 | F26: 200 | G26: 2500 | H26: 500 | I26: 6500 | J26: 226 | L26: 2500 | M26: 3100 | N26: 650 | O26: 2370 | Q26: 250 | S26: =Q26+P26+O26+N26+M26+L26+K26+J26+I26+H26+G26+F26 -> 18796 | T26: =S26=E26 -> TRUE
A27: 2.1.5 | B27: Textura acrílica, aplicação manual em parede, uma demão. af_04/2023 | D27: M2 | E27: =F27+G27+H27+I27+J27+K27+L27+M27+N27+O27+P27+Q27 -> 900 | F27: 50 | G27: 0 | I27: 600 | L27: 0 | O27: 0 | Q27: 250 | S27: =Q27+P27+O27+N27+M27+L27+K27+J27+I27+H27+G27+F27 -> 900 | T27: =S27=E27 -> TRUE
A28: 2.1.6 | B28: Pintura de rodapé com tinta epóxi, aplicação manual, 2 demãos, inclusão primer epóxi. af_05/2021 | D28: M | E28: =F28+G28+H28+I28+J28+K28+L28+M28+N28+O28+P28+Q28 -> 2261 | F28: 25 | G28: 350 | I28: 1200 | L28: 300 | O28: 286 | Q28: 100 | S28: =Q28+P28+O28+N28+M28+L28+K28+J28+I28+H28+G28+F28 -> 2261 | T28: =S28=E28 -> TRUE
A29: 2.1.7 | B29: Aplicação manual de pintura com tinta látex acrílica em paredes internas, cores variadas, duas demãos. ref. suvinil, renner, sherwin willians, coral, lukscolor ou equivalente | D29: M2 | E29: =F29+G29+H29+I29+J29+K29+L29+M29+N29+O29+P29+Q29 -> 2525 | F29: 25 | L29: 2500 | S29: =Q29+P29+O29+N29+M29+L29+K29+J29+I29+H29+G29+F29 -> 2525 | T29: =S29=E29 -> TRUE
A30: 2.1.8 | B30: Pintura com tinta esmalte acetinado efeito lousa seca, aplicada a rolo ou pincel em paredes, 2 demãos | D30: M2 | E30: =F30+G30+H30+I30+J30+K30+L30+M30+N30+O30+P30+Q30 -> 202 | F30: 2 | L30: 200 | S30: =Q30+P30+O30+N30+M30+L30+K30+J30+I30+H30+G30+F30 -> 202 | T30: =S30=E30 -> TRUE
A31: 2.2 | B31: AMBIENTE INTERNO TETO
A32: 2.2.1 | B32: Fundo selador acrílico, aplicação manual em teto, uma demão. af_04/2023 | D32: M2 | E32: =F32+G32+H32+I32+J32+K32+L32+M32+N32+O32+P32+Q32 -> 3250 | F32: 200 | G32: 200 | I32: 2200 | L32: 200 | O32: 200 | Q32: 250 | S32: =Q32+P32+O32+N32+M32+L32+K32+J32+I32+H32+G32+F32 -> 3250 | T32: =S32=E32 -> TRUE
A33: 2.2.2 | B33: Emassamento com massa látex, aplicação em teto, uma demão, lixamento manual. af_04/2023 | D33: M2 | E33: =F33+G33+H33+I33+J33+K33+L33+M33+N33+O33+P33+Q33 -> 2750 | F33: 100 | G33: 0 | H33: 50 | I33: 850 | L33: 1500 | O33: 0 | Q33: 250 | S33: =Q33+P33+O33+N33+M33+L33+K33+J33+I33+H33+G33+F33 -> 2750 | T33: =S33=E33 -> TRUE
A34: 2.2.3 | B34: Emassamento com massa látex, aplicação em teto, duas demãos, lixamento manual. af_04/2023 | D34: M2 | E34: =F34+G34+H34+I34+J34+K34+L34+M34+N34+O34+P34+Q34 -> 1145 | F34: 100 | G34: 200 | H34: 20 | I34: 0 | L34: 0 | M34: 375 | O34: 200 | Q34: 250 | S34: =Q34+P34+O34+N34+M34+L34+K34+J34+I34+H34+G34+F34 -> 1145 | T34: =S34=E34 -> TRUE
A35: 2.2.4 | B35: Pintura látex acrílica standard, aplicação manual em teto, duas demãos. af_04/2023 | D35: M2 | E35: =F35+G35+H35+I35+J35+K35+L35+M35+N35+O35+P35+Q35 -> 7799 | F35: 200 | G35: 2000 | H35: 100 | I35: 600 | J35: 174 | L35: 1500 | M35: 1100 | O35: 1875 | Q35: 250 | S35: =Q35+P35+O35+N35+M35+L35+K35+J35+I35+H35+G35+F35 -> 7799 | T35: =S35=E35 -> TRUE
A36: 2.2.5 | B36: Textura acrílica, aplicação manual em teto, uma demão. af_04/2023 | D36: M2 | E36: =F36+G36+H36+I36+J36+K36+L36+M36+N36+O36+P36+Q36 -> 2550 | F36: 50 | G36: 100 | I36: 2200 | L36: 0 | O36: 100 | Q36: 100 | S36: =Q36+P36+O36+N36+M36+L36+K36+J36+I36+H36+G36+F36 -> 2550 | T36: =S36=E36 -> TRUE
A37: 2.3 | B37: AMBIENTE EXTERNO EDIFICAÇÃO TÉRREA
A38: 2.3.1 | B38: Aplicação manual de massa acrílica em paredes externas de casas, uma demão. af_05/2017 | D38: M2 | E38: =F38+G38+H38+I38+J38+K38+L38+M38+N38+O38+P38+Q38 -> 3010 | F38: 50 | G38: 0 | I38: 150 | L38: 2500 | N38: 60 | O38: 0 | Q38: 250 | S38: =Q38+P38+O38+N38+M38+L38+K38+J38+I38+H38+G38+F38 -> 3010 | T38: =S38=E38 -> TRUE
A39: 2.3.2 | B39: Aplicação manual de massa acrílica em paredes externas de casas, duas demãos. af_05/2017 | D39: M2 | E39: =F39+G39+H39+I39+J39+K39+L39+M39+N39+O39+P39+Q39 -> 2450 | F39: 50 | G39: 500 | I39: 650 | L39: 0 | M39: 500 | O39: 500 | Q39: 250 | S39: =Q39+P39+O39+N39+M39+L39+K39+J39+I39+H39+G39+F39 -> 2450 | T39: =S39=E39 -> TRUE
A40: 2.3.3 | B40: Aplicação manual de fundo selador acrílico em paredes externas de casas. af_06/2014 | D40: M2 | E40: =F40+G40+H40+I40+J40+K40+L40+M40+N40+O40+P40+Q40 -> 10160 | F40: 150 | G40: 0 | I40: 6000 | L40: 500 | M40: 3200 | N40: 60 | O40: 0 | Q40: 250 | S40: =Q40+P40+O40+N40+M40+L40+K40+J40+I40+H40+G40+F40 -> 10160 | T40: =S40=E40 -> TRUE
...

Sheet INCC
A1: Mês | B1: Índice | C1: Variação (%)
C2: No mês | D2: No ano | E2: 12 meses | G2: EM REL. À fev/24
A3: 44927 | B3: 1056.418 | C3: 0.46 | D3: 0.46 | E3: 9
A4: 44958 | B4: 1056.896 | C4: 0.05 | D4: 0.5 | E4: 8.63
A5: 44986 | B5: 1060.116 | C5: 0.3 | D5: 0.81 | E5: 8.04
A6: 45017 | B6: 1061.635 | C6: 0.14 | D6: 0.95 | E6: 7.18
A7: 45047 | B7: 1067.919 | C7: 0.59 | D7: 1.55 | E7: 5.4
A8: 45078 | B8: 1075.54 | C8: 0.71 | D8: 2.27 | E8: 3.93
A9: 45108 | B9: 1076.626 | C9: 0.1 | D9: 2.38 | E9: 3.15
A10: 45139 | B10: 1078.412 | C10: 0.17 | D10: 2.55 | E10: 3.23
A11: 45170 | B11: 1082.104 | C11: 0.34 | D11: 2.9 | E11: 3.49
A12: 45200 | B12: 1084.242 | C12: 0.2 | D12: 3.1 | E12: 3.57
A13: 45231 | B13: 1084.986 | C13: 0.07 | D13: 3.17 | E13: 3.26
A14: 45261 | B14: 1088.312 | C14: 0.31 | D14: 3.49 | E14: 3.49
A15: 45292 | B15: 1091.25 | C15: 0.27 | D15: 0.27 | E15: 3.3
A16: 45323 | B16: 1092.685 | C16: 0.28 | D16: 0.68 | E16: 3.36 | G16: =(B17-B16)/B16 -> 0.0027940349
A17: 45352 | B17: 1095.738 | C17: 0,28 | D17: 0,68 | E17: 3,36
A18: 45383
A19: 45413
A20: 45444
A21: 45474
A22: 45505
A23: 45536
A24: 45566
A25: 45597
A26: 45627

Sheet BDI

Sheet Cotações
B1: MUNICÍPIO DE PINHAIS
B2: RODOVIA JOAO LEOPOLDO JACOMEL - 12162, Centro
B3: CEP: 83323410 - Pinhais - PR
A4: Data de referência | C4: 45323 | E4: Encargos sociais desonerados | F4: 113.35 % (HORA) - 71.47 % (MÊS)
A6: Empreendimento | C6: 32 - Pintura imobiliária
A7: Cotações
A9: 2942312161607 - 12/2023 | C9: Tinta esmalte acetinado preto, efeito lousa seca, lata de 800 ml - Tinta esmalte acetinado preto, efeito lousa seca, lata de 800 ml | L9: =AVERAGE(L13:L16) -> 38.535
A10: Unidade | C10: UN | E10: % Material | F10: 100
A11: Data | C11: 06/02/2024 | E11: % Serviço | F11: 0
A12: CNPJ | C12: Fornecedor | D12: Cidade | E12: Contato | F12: Valor da Proposta (R$) | G12: Data 01 | H12: Valor da Proposta (R$) | I12: Data 02 | J12: Valor Considerado (R$) | K12: CORREÇÃO INCC PARA 02/2024 | L12: Custo Unitário Data-Base 02/2024 (sem BDI)
A13: 68987742000196 | C13: RECANTO COMERCIO DE TINTAS LTDA | D13: SAO PAULO - SP | E13: 1127418291 | F13: 39.9 | G13: 06/02/2024 | H13: 39.9 | I13: 45415 | J13: =F13 -> 39.9 | L13: =J13 -> 39.9
A14: 61759205000140 | C14: ANEDA COMERCIO DE TINTAS E FERRAGENS LTDA | D14: SANTO ANDRE - SP | F14: 30.01 | G14: 06/02/2024 | J14: =F14 -> 30.01 | L14: =J14 -> 30.01
A15: 30246615000163 | C15: CASA COSTA DAS TINTAS LTDA | D15: DUQUE DE CAXIAS - RJ | F15: 39.33 | G15: 06/02/2024 | J15: =F15 -> 39.33 | L15: =J15 -> 39.33
A16: 44980935000157 | C16: MOGICOR DISTRIBUIDORA LTDA | D16: MOGI DAS CRUZES - SP | F16: 44.9 | G16: 06/02/2024 | J16: =F16 -> 44.9 | L16: =J16 -> 44.9
A17: 2942401163060 - 12/2023 | C17: CONVERTEDOR DE FERRUGEM TF7 500ML | L17: =AVERAGE(L21:L24) -> 19.5325
A18: Unidade | C18: UN | E18: % Material | F18: 100
A19: Data | C19: 31/12/2023 | E19: % Serviço | F19: 0
A20: CNPJ | C20: Fornecedor | D20: Cidade | E20: Contato | F20: Valor da Proposta (R$) | G20: Data | H20: Valor da Proposta (R$) | I20: Data 02 | J20: Valor Considerado (R$) | K20: CORREÇÃO INCC PARA 02/2024 | L20: Custo Unitário Data-Base 02/2024 (sem BDI)
A21: 15430669000190 | C21: ARTUR ZIG ROSENBLATT FERRAMENTAS | D21: SAO PAULO - SP | E21: 11991912810 | H21: 25.8 | I21: 45414 | J21: =H21 -> 25.8 | K21: =ROUND((INCC!$B$17-INCC!$B$16)/INCC!$B$16,4) -> 0.0028 | L21: =ROUND(J21*(1-K21),2) -> 25.73
A22: 42542182000172 | C22: WS SERVICOS LTDA | D22: SAO PAULO - SP | E22: 11951483950 | H22: 14.38 | I22: 45414 | J22: =H22 -> 14.38 | K22: =ROUND((INCC!$B$17-INCC!$B$16)/INCC!$B$16,4) -> 0.0028 | L22: =ROUND(J22*(1-K22),2) -> 14.34
A23: 02492310000872 | C23: A. SILVA FERRAGENS LTDA | D23: CRICIUMA - SC | E23: 4834315800 | H23: 19.67 | I23: 45414 | J23: =H23 -> 19.67 | K23: =ROUND((INCC!$B$17-INCC!$B$16)/INCC!$B$16,4) -> 0.0028 | L23: =ROUND(J23*(1-K23),2) -> 19.61
A24: 08858579/0015-35 | C24: SUPER-PRO COMÉRCIO DE EQUIP. E FERRAM. LTDA | D24: NAVEGANTES - SC | E24: 8009421850 | H24: =ROUND(36.99/2,2) -> 18.5 | I24: 45414 | J24: =H24 -> 18.5 | K24: =ROUND((INCC!$B$17-INCC!$B$16)/INCC!$B$16,4) -> 0.0028 | L24: =ROUND(J24*(1-K24),2) -> 18.45
A25: 2942401163103 - 12/2023 | C25: Tinta Acrílica Premium Cores Variadas (Ref. De cotação Lata de 16L.) | L25: =AVERAGE(L29:L32)/16 -> 40.291406
A26: Unidade | C26: L | E26: % Material | F26: 100
A27: Data | C27: 31/01/2024 | E27: % Serviço | F27: 0
A28: CNPJ | C28: Fornecedor | D28: Cidade | E28: Contato | F28: Valor da Proposta (R$) | G28: Data 01 | H28: Valor da Proposta (R$) | I28: Data 02 | J28: Valor Considerado (R$) | K28: CORREÇÃO INCC PARA 02/2024 | L28: Custo Unitário Data-Base 02/2024 (sem BDI)
A29: 84866342002807 | C29: COMERCIO DE TINTAS MATERIAL ELETRICO E HIDRAULICO VERGINIA LTDA | D29: PINHAIS - PR | E29: 4131663366 | F29: 610 | G29: 30/01/2024 | J29: =F29 -> 610 | L29: =ROUND(J29*(1-K29),2) -> 610
A30: 57483034005403 | C30: TINTAS CORAL LTDA | D30: SANTO ANDRE - SP | E30: 1132074125 | H30: 586.3 | I30: 45415 | J30: =H30 -> 586.3 | K30: =ROUND((INCC!$B$17-INCC!$B$16)/INCC!$B$16,4) -> 0.0028 | L30: =ROUND(J30*(1-K30),2) -> 584.66
A31: 62048590000422 | C31: VAREJÃO TINTAS LTDA | D31: SÃO JOSÉ DOS CAMPOS - SP | E31: 3133777970 | H31: 632.54 | I31: 45415 | J31: =H31 -> 632.54 | K31: =ROUND((INCC!$B$17-INCC!$B$16)/INCC!$B$16,4) -> 0.0028 | L31: =ROUND(J31*(1-K31),2) -> 630.77
A32: 1887122000104 | C32: TINTAS DARKA | D32: SÃO JOSÉ DOS PINHAIS - PR | E32: 4198440384 | H32: 755.33 | I32: 45415 | J32: =H32 -> 755.33 | K32: =ROUND((INCC!$B$17-INCC!$B$16)/INCC!$B$16,4) -> 0.0028 | L32: =ROUND(J32*(1-K32),2) -> 753.22

Sheet COMPOSIÇÕES
B1: MUNICÍPIO DE PINHAIS
B2: RODOVIA JOAO LEOPOLDO JACOMEL - 12162, Centro
B3: CEP: 83323410 - Pinhais - PR
A4: Data de referência | E4: Encargos sociais sem desoneração | H4: 113.35 % (HORA) - 71.47 % (MÊS)
A5: COMPOSIÇÕES DO ORÇAMENTO
A6: Empreendimento | D6: 32 - Pintura imobiliária - 2024
A7: Composição do Serviço
A9: C.P. 2942310153213 - 02/2024 | C9: PRIMER CONVERTEDOR DE FERRUGEM EM FUNDO DE PROTECAO, DUAS DEMAOS. FORNECIMENTO E APLICAÇÃO. | L9: M2
A10: Referência | C10: Descrição dos Serviços | F10: Unidade | G10: Tipo | I10: Coef. | K10: Unitário (R$) | L10: Total (R$)
A11: 3768 - SINAPI/PR 02/2024 | C11: Lixa em folha para ferro, numero 150 | F11: UN | G11: INSUMO | I11: 0.25 | K11: 4.64 | L11: 1.16
A12: 88310 - SINAPI/PR 02/2024 | C12: Pintor com encargos complementares | F12: H | G12: COMPOSIÇÃO | I12: 0.08 | K12: 36.18 | L12: 2.89
A13: 88316 - SINAPI/PR 02/2024 | C13: Servente com encargos complementares | F13: H | G13: COMPOSIÇÃO | I13: 0.04 | K13: 26.9 | L13: 1.08
A14: 2942401163060 - Cotação 02/2024 | C14: Convertedor de ferrugem tf7 500ml | F14: UN | G14: INSUMO | I14: 0.125 | K14: 19.53 | L14: 2.44
K15: TOTAL (R$) | L15: 7.57
A16: C.P. 2942310153230 - 02/2024 | C16: APLICAÇÃO MANUAL DE MASSA DE REJUNTE PRONTA PARA TRATAMENTO DE JUNTAS, EM PAREDES DE DRYWALL | L16: M2
A17: Referência | C17: Descrição dos Serviços | F17: Unidade | G17: Tipo | I17: Coef. | K17: Unitário (R$) | L17: Total (R$)
A18: 88269 - SINAPI/PR 02/2024 | C18: Gesseiro com encargos complementares | F18: H | G18: COMPOSIÇÃO | I18: 0.33 | K18: 33.23 | L18: 10.97
A19: 88316 - SINAPI/PR 02/2024 | C19: Servente com encargos complementares | F19: H | G19: COMPOSIÇÃO | I19: 0.07 | K19: 26.9 | L19: 1.88
A20: 39433 - SINAPI/PR 02/2024 | C20: Massa de rejunte pronta para tratamento de juntas de chapa de gesso para drywall, sem adicao de agua | F20: KG | G20: INSUMO | I20: 9.65 | K20: 2.76 | L20: 26.63
K21: TOTAL (R$) | L21: 39.48
A22: C.P. 2942311155268 - 02/2024 | C22: APLICAÇÃO DE MASSA TEXTURIZADA ACRÍLICA PROJETADA EM PANOS COM PRESENÇA DE VÃOS DE EDIFÍCIOS DE MÚLTIPLOS PAVIMENTOS, UMA COR. AF_06/2014 | L22: M2
A23: Referência | C23: Descrição dos Serviços | F23: Unidade | G23: Tipo | I23: Coef. | K23: Unitário (R$) | L23: Total (R$)
A24: 38877 - SINAPI/PR 02/2024 | C24: Massa premium para textura lisa de base acrilica, uso interno e externo | F24: KG | G24: INSUMO | I24: 3 | K24: 6.41 | L24: 19.23
A25: 88310 - SINAPI/PR 02/2024 | C25: Pintor com encargos complementares | F25: H | G25: COMPOSIÇÃO | I25: 0.151 | K25: 36.18 | L25: 5.46
A26: 88316 - SINAPI/PR 02/2024 | C26: Servente com encargos complementares | F26: H | G26: COMPOSIÇÃO | I26: 0.038 | K26: 26.9 | L26: 1.02
A27: 88418 - SINAPI/PR 02/2024 | C27: Projetor de argamassa, capacidade de projeção 1,5 m3/h, alcance de 30 até 60 m, motor elétrico potência 7,5 HP - CHP diurno. af_06/2014 | F27: CHP | G27: COMPOSIÇÃO | I27: 0.16 | K27: 13.3 | L27: 2.13
A28: 88430 - SINAPI/PR 02/2024 | C28: Projetor de argamassa, capacidade de projeção 1,5 m3/h, alcance de 30 até 60 m, motor elétrico potência 7,5 HP - CHI diurno. af_06/2014 | F28: CHI | G28: COMPOSIÇÃO | I28: 0.04 | K28: 6.23 | L28: 0.25
K29: TOTAL (R$) | L29: 28.09
A30: C.P. 2942311155272 - 02/2024 | C30: APLICAÇÃO DE MASSA TEXTURIZADA ACRÍLICA PROJETADA EM PANOS CEGOS DE FACHADA (SEM PRESENÇA DE VÃOS) DE EDIFÍCIOS DE MÚLTIPLOS PAVIMENTOS, UMA COR. AF_06/2014 | L30: M2
A31: Referência | C31: Descrição dos Serviços | F31: Unidade | G31: Tipo | I31: Coef. | K31: Unitário (R$) | L31: Total (R$)
A32: 38877 - SINAPI/PR 02/2024 | C32: Massa premium para textura lisa de base acrilica, uso interno e externo | F32: KG | G32: INSUMO | I32: 3 | K32: 6.41 | L32: 19.23
A33: 88310 - SINAPI/PR 02/2024 | C33: Pintor com encargos complementares | F33: H | G33: COMPOSIÇÃO | I33: 0.072 | K33: 36.18 | L33: 2.6
A34: 88316 - SINAPI/PR 02/2024 | C34: Servente com encargos complementares | F34: H | G34: COMPOSIÇÃO | I34: 0.018 | K34: 26.9 | L34: 0.48
A35: 88418 - SINAPI/PR 02/2024 | C35: Projetor de argamassa, capacidade de projeção 1,5 m3/h, alcance de 30 até 60 m, motor elétrico potência 7,5 HP - CHP diurno. af_06/2014 | F35: CHP | G35: COMPOSIÇÃO | I35: 0.16 | K35: 13.3 | L35: 2.13
A36: 88430 - SINAPI/PR 02/2024 | C36: Projetor de argamassa, capacidade de projeção 1,5 m3/h, alcance de 30 até 60 m, motor elétrico potência 7,5 HP - CHI diurno. af_06/2014 | F36: CHI | G36: COMPOSIÇÃO | I36: 0.04 | K36: 6.23 | L36: 0.25
K37: TOTAL (R$) | L37: 24.69
A38: C.P. 2942311155275 - 02/2024 | C38: APLICAÇÃO DE MASSA TEXTURIZADA ACRÍLICA PROJETADA EM PANOS COM PRESENÇA DE VÃOS DE EDIFÍCIOS DE MÚLTIPLOS PAVIMENTOS, DUAS CORES. AF_06/2014 | L38: M2
A39: Referência | C39: Descrição dos Serviços | F39: Unidade | G39: Tipo | I39: Coef. | K39: Unitário (R$) | L39: Total (R$)
A40: 38877 - SINAPI/PR 02/2024 | C40: Massa premium para textura lisa de base acrilica, uso interno e externo | F40: KG | G40: INSUMO | I40: 3 | K40: 6.41 | L40: 19.23
A41: 88310 - SINAPI/PR 02/2024 | C41: Pintor com encargos complementares | F41: H | G41: COMPOSIÇÃO | I41: 0.26 | K41: 36.18 | L41: 9.41
...

Sheet ORÇAMENTO
B1: MUNICÍPIO DE PINHAIS
B2: RODOVIA JOAO LEOPOLDO JACOMEL - 12162, Centro
B3: CEP: 83323410 - Pinhais - PR
A4: OBRA: | B4: 32 - PINTURA IMOBILIÁRIA
A5: ENDEREÇO: | B5: PINHAIS/PR
A6: PLANILHA ORÇAMENTÁRIA
A7: BDI: | C7: 0.2034 | M7: SEMOP | O7: SEMAD | Q7: SEMUR | S7: SEMSA | U7: SEPFO | W7: SEMMA | Y7: SEMED | AA7: SEMEL | AC7: SESET | AE7: SEMAS | AG7: SEMDE | AI7: P. PREV.
A8: BASE DO ORÇAMENTO: | C8: SINAPI/PR 02/2024, Composição Própria 02/2024, Cotação 02/2024 | M8: QUANTIDADE | N8: VALOR | O8: QUANTIDADE | P8: VALOR | Q8: QUANTIDADE | R8: VALOR | S8: QUANTIDADE | T8: VALOR | U8: QUANTIDADE | V8: VALOR | W8: QUANTIDADE | X8: VALOR | Y8: QUANTIDADE | Z8: VALOR | AA8: QUANTIDADE | AB8: VALOR | AC8: QUANTIDADE | AD8: VALOR | AE8: QUANTIDADE | AF8: VALOR | AG8: QUANTIDADE | AH8: VALOR | AI8: QUANTIDADE | AJ8: VALOR
A9: ITEM | B9: DESCRIÇÃO | D9: REFERÊNCIA | E9: UN. | F9: QUANT. | G9: CUSTO UN.(R$) | H9: BDI(%) | I9: PREÇO(R$) | K9: PREÇO TOTAL(R$)
A10: 1 | B10: SERVIÇOS PRELIMINARES | K10: =K11 -> 400276.62
A11: 1.1 | B11: TRATAMENTO, PREPARO E LIMPEZA DE SUPERFÍCIE | K11: =SUM(K12:K22) -> 400276.62
A12: 1.1.1 | B12: Lixamento manual em superfícies metálicas em obra. af_01/2020 | D12: 100717 - SINAPI/PR 12/2023 | E12: M2 | F12: =M12+O12+Q12+S12+U12+W12+Y12+AA12+AC12+AE12+AG12+AI12 -> 3601 | G12: 12.19 | H12: =$C$7 -> 0.2034 | I12: =ROUND(G12*(1+H12),2) -> 14.67 | K12: =ROUND(I12*F12,2) -> 52826.67 | M12: 50 | N12: =$I$12*M12 -> 733.5 | O12: 170 | P12: =$I$12*O12 -> 2493.9 | Q12: 0 | R12: =$I$12*Q12 -> 0 | S12: 1200 | T12: =$I$12*S12 -> 17604 | U12: 0 | V12: =$I$12*U12 -> 0 | W12: 0 | X12: =ROUND(W12*$I$21,2) -> 0 | Y12: 2000 | Z12: =$I$12*Y12 -> 29340 | AB12: =$I$12*AA12 -> 0 | AD12: =$I$12*AC12 -> 0 | AE12: 166 | AF12: =$I$12*AE12 -> 2435.22 | AH12: =$I$12*AG12 -> 0 | AI12: 15 | AJ12: =$I$12*AI12 -> 220.05 | AL12: =AI12+AG12+AE12+AC12+AA12+Y12+W12+U12+S12+Q12+O12+M12 -> 3601 | AM12: =AJ12+AH12+AF12+AD12+AB12+Z12+X12+V12+T12+R12+P12+N12 -> 52826.67 | AN12: =AL12=F12 -> TRUE | AO12: =AM12=K12 -> TRUE
A13: 1.1.2 | B13: Lixamento de madeira para aplicação de fundo ou pintura. af_01/2021 | D13: 102193 - SINAPI/PR 12/2023 | E13: M2 | F13: =M13+O13+Q13+S13+U13+W13+Y13+AA13+AC13+AE13+AG13+AI13 -> 3950 | G13: 2.57 | H13: =$C$7 -> 0.2034 | I13: =ROUND(G13*(1+H13),2) -> 3.09 | K13: =ROUND(I13*F13,2) -> 12205.5 | M13: 50 | N13: =$I$13*M13 -> 154.5 | O13: 0 | P13: =$I$13*O13 -> 0 | Q13: 0 | R13: =$I$13*Q13 -> 0 | S13: 1200 | T13: =$I$13*S13 -> 3708 | U13: 0 | V13: =$I$13*U13 -> 0 | W13: 0 | X13: =ROUND(W13*$I$22,2) -> 0 | Y13: 2500 | Z13: =$I$13*Y13 -> 7725 | AB13: =$I$13*AA13 -> 0 | AD13: =$I$13*AC13 -> 0 | AE13: 0 | AF13: =$I$13*AE13 -> 0 | AH13: =$I$13*AG13 -> 0 | AI13: 200 | AJ13: =$I$13*AI13 -> 618 | AL13: =AI13+AG13+AE13+AC13+AA13+Y13+W13+U13+S13+Q13+O13+M13 -> 3950 | AM13: =AJ13+AH13+AF13+AD13+AB13+Z13+X13+V13+T13+R13+P13+N13 -> 12205.5 | AN13: =AL13=F13 -> TRUE | AO13: =AM13=K13 -> TRUE
A14: 1.1.3 | B14: Preparo do piso cimentado para pintura - lixamento e limpeza. af_05/2021 | D14: 102488 - SINAPI/PR 12/2023 | E14: M2 | F14: =M14+O14+Q14+S14+U14+W14+Y14+AA14+AC14+AE14+AG14+AI14 -> 6200 | G14: 4.47 | H14: =$C$7 -> 0.2034 | I14: =ROUND(G14*(1+H14),2) -> 5.38 | K14: =ROUND(I14*F14,2) -> 33356 | M14: 150 | N14: =$I$14*M14 -> 807 | O14: 500 | P14: =$I$14*O14 -> 2690 | Q14: 0 | R14: =$I$14*Q14 -> 0 | S14: 0 | T14: =$I$14*S14 -> 0 | U14: 0 | V14: =$I$14*U14 -> 0 | W14: 0 | X14: =ROUND(W14*$I$23,2) -> 0 | Y14: 5000 | Z14: =$I$14*Y14 -> 26900 | AB14: =$I$14*AA14 -> 0 | AD14: =$I$14*AC14 -> 0 | AE14: 500 | AF14: =$I$14*AE14 -> 2690 | AH14: =$I$14*AG14 -> 0 | AI14: 50 | AJ14: =$I$14*AI14 -> 269 | AL14: =AI14+AG14+AE14+AC14+AA14+Y14+W14+U14+S14+Q14+O14+M14 -> 6200 | AM14: =AJ14+AH14+AF14+AD14+AB14+Z14+X14+V14+T14+R14+P14+N14 -> 33356 | AN14: =AL14=F14 -> TRUE | AO14: =AM14=K14 -> TRUE
A15: 1.1.4 | B15: Limpeza de superfície com jato de alta pressão. af_04/2019 | D15: 99814 - SINAPI/PR 12/2023 | E15: M2 | F15: =M15+O15+Q15+S15+U15+W15+Y15+AA15+AC15+AE15+AG15+AI15 -> 12656 | G15: 2.41 | H15: =$C$7 -> 0.2034 | I15: =ROUND(G15*(1+H15),2) -> 2.9 | K15: =ROUND(I15*F15,2) -> 36702.4 | M15: 3000 | N15: =$I$15*M15 -> 8700 | O15: 2400 | P15: =$I$15*O15 -> 6960 | Q15: 0 | R15: =$I$15*Q15 -> 0 | S15: 0 | T15: =$I$15*S15 -> 0 | U15: 0 | V15: =$I$15*U15 -> 0 | W15: 0 | X15: =ROUND(W15*$I$24,2) -> 0 | Y15: 5000 | Z15: =$I$15*Y15 -> 14500 | AB15: =$I$15*AA15 -> 0 | AD15: =$I$15*AC15 -> 0 | AE15: 2206 | AF15: =$I$15*AE15 -> 6397.4 | AH15: =$I$15*AG15 -> 0 | AI15: 50 | AJ15: =$I$15*AI15 -> 145 | AL15: =AI15+AG15+AE15+AC15+AA15+Y15+W15+U15+S15+Q15+O15+M15 -> 12656 | AM15: =AJ15+AH15+AF15+AD15+AB15+Z15+X15+V15+T15+R15+P15+N15 -> 36702.4 | AN15: =AL15=F15 -> TRUE | AO15: =AM15=K15 -> TRUE
A16: 1.1.5 | B16: Tratamento de rodapé com tela de poliéster. af_09/2023 | D16: 98559 - SINAPI/PR 12/2023 | E16: M | F16: =M16+O16+Q16+S16+U16+W16+Y16+AA16+AC16+AE16+AG16+AI16 -> 940 | G16: 5.51 | H16: =$C$7 -> 0.2034 | I16: =ROUND(G16*(1+H16),2) -> 6.63 | K16: =ROUND(I16*F16,2) -> 6232.2 | M16: 30 | N16: =$I$16*M16 -> 198.9 | O16: 200 | P16: =$I$16*O16 -> 1326 | Q16: 0 | R16: =$I$16*Q16 -> 0 | S16: 0 | T16: =$I$16*S16 -> 0 | U16: 0 | V16: =$I$16*U16 -> 0 | W16: 0 | X16: =ROUND(W16*$I$25,2) -> 0 | Y16: 500 | Z16: =$I$16*Y16 -> 3315 | AB16: =$I$16*AA16 -> 0 | AD16: =$I$16*AC16 -> 0 | AE16: 200 | AF16: =$I$16*AE16 -> 1326 | AH16: =$I$16*AG16 -> 0 | AI16: 10 | AJ16: =$I$16*AI16 -> 66.3 | AL16: =AI16+AG16+AE16+AC16+AA16+Y16+W16+U16+S16+Q16+O16+M16 -> 940 | AM16: =AJ16+AH16+AF16+AD16+AB16+Z16+X16+V16+T16+R16+P16+N16 -> 6232.2 | AN16: =AL16=F16 -> TRUE | AO16: =AM16=K16 -> TRUE
A17: 1.1.6 | B17: Aplicação manual de massa de rejunte pronta para tratamento de juntas, em paredes de drywall | D17: C.P. 2942310153230 - Composição Própria 12/2023 | E17: M2 | F17: =M17+O17+Q17+S17+U17+W17+Y17+AA17+AC17+AE17+AG17+AI17 -> 2050 | G17: 39.48 | H17: =$C$7 -> 0.2034 | I17: =ROUND(G17*(1+H17),2) -> 47.51 | K17: =ROUND(I17*F17,2) -> 97395.5 | M17: 50 | N17: =$I$17*M17 -> 2375.5 | O17: 500 | P17: =$I$17*O17 -> 23755 | Q17: 0 | R17: =$I$17*Q17 -> 0 | S17: 700 | T17: =$I$17*S17 -> 33257 | U17: 0 | V17: =$I$17*U17 -> 0 | W17: 0 | X17: =ROUND(W17*$I$26,2) -> 0 | Y17: 200 | Z17: =$I$17*Y17 -> 9502 | AB17: =$I$17*AA17 -> 0 | AD17: =$I$17*AC17 -> 0 | AE17: 500 | AF17: =$I$17*AE17 -> 23755 | AH17: =$I$17*AG17 -> 0 | AI17: 100 | AJ17: =$I$17*AI17 -> 4751 | AL17: =AI17+AG17+AE17+AC17+AA17+Y17+W17+U17+S17+Q17+O17+M17 -> 2050 | AM17: =AJ17+AH17+AF17+AD17+AB17+Z17+X17+V17+T17+R17+P17+N17 -> 97395.5 | AN17: =AL17=F17 -> TRUE | AO17: =AM17=K17 -> TRUE
A18: 1.1.7 | B18: Demolição de argamassas, de forma manual, sem reaproveitamento. af_09/2023 | D18: 97631 - SINAPI/PR 12/2023 | E18: M2 | F18: =M18+O18+Q18+S18+U18+W18+Y18+AA18+AC18+AE18+AG18+AI18 -> 1270 | G18: 14.4 | H18: =$C$7 -> 0.2034 | I18: =ROUND(G18*(1+H18),2) -> 17.33 | K18: =ROUND(I18*F18,2) -> 22009.1 | M18: 20 | N18: =$I$18*M18 -> 346.6 | O18: 0 | P18: =$I$18*O18 -> 0 | Q18: 0 | R18: =$I$18*Q18 -> 0 | S18: 200 | T18: =$I$18*S18 -> 3466 | U18: 0 | V18: =$I$18*U18 -> 0 | W18: 0 | X18: =ROUND(W18*$I$27,2) -> 0 | Y18: 1000 | Z18: =$I$18*Y18 -> 17330 | AB18: =$I$18*AA18 -> 0 | AD18: =$I$18*AC18 -> 0 | AE18: 0 | AF18: =$I$18*AE18 -> 0 | AH18: =$I$18*AG18 -> 0 | AI18: 50 | AJ18: =$I$18*AI18 -> 866.5 | AL18: =AI18+AG18+AE18+AC18+AA18+Y18+W18+U18+S18+Q18+O18+M18 -> 1270 | AM18: =AJ18+AH18+AF18+AD18+AB18+Z18+X18+V18+T18+R18+P18+N18 -> 22009.1 | AN18: =AL18=F18 -> TRUE | AO18: =AM18=K18 -> TRUE
A19: 1.1.8 | B19: Impermeabilização de superfície com argamassa de cimento e areia, com aditivo impermeabilizante, E = 1,5cm. af_09/2023 | D19: 98562 - SINAPI/PR 12/2023 | E19: M2 | F19: =M19+O19+Q19+S19+U19+W19+Y19+AA19+AC19+AE19+AG19+AI19 -> 1670 | G19: 57.58 | H19: =$C$7 -> 0.2034 | I19: =ROUND(G19*(1+H19),2) -> 69.29 | K19: =ROUND(I19*F19,2) -> 115714.3 | M19: 20 | N19: =$I$19*M19 -> 1385.8 | O19: 0 | P19: =$I$19*O19 -> 0 | Q19: 0 | R19: =$I$19*Q19 -> 0 | S19: 600 | T19: =$I$19*S19 -> 41574 | U19: 0 | V19: =$I$19*U19 -> 0 | W19: 0 | X19: =ROUND(W19*$I$28,2) -> 0 | Y19: 1000 | Z19: =$I$19*Y19 -> 69290 | AB19: =$I$19*AA19 -> 0 | AD19: =$I$19*AC19 -> 0 | AE19: 0 | AF19: =$I$19*AE19 -> 0 | AH19: =$I$19*AG19 -> 0 | AI19: 50 | AJ19: =$I$19*AI19 -> 3464.5 | AL19: =AI19+AG19+AE19+AC19+AA19+Y19+W19+U19+S19+Q19+O19+M19 -> 1670 | AM19: =AJ19+AH19+AF19+AD19+AB19+Z19+X19+V19+T19+R19+P19+N19 -> 115714.3 | AN19: =AL19=F19 -> TRUE | AO19: =AM19=K19 -> TRUE
A20: 1.1.9 | B20: Colocação de fita protetora para pintura. af_01/2020 | D20: 100718 - SINAPI/PR 12/2023 | E20: M | F20: =M20+O20+Q20+S20+U20+W20+Y20+AA20+AC20+AE20+AG20+AI20 -> 7800 | G20: 1.65 | H20: =$C$7 -> 0.2034 | I20: =ROUND(G20*(1+H20),2) -> 1.99 | K20: =ROUND(I20*F20,2) -> 15522 | M20: 200 | N20: =$I$20*M20 -> 398 | O20: 650 | P20: =$I$20*O20 -> 1293.5 | Q20: 0 | R20: =$I$20*Q20 -> 0 | S20: 1200 | T20: =$I$20*S20 -> 2388 | U20: 0 | V20: =$I$20*U20 -> 0 | W20: 0 | X20: =ROUND(W20*$I$29,2) -> 0 | Y20: 5000 | Z20: =$I$20*Y20 -> 9950 | AB20: =$I$20*AA20 -> 0 | AD20: =$I$20*AC20 -> 0 | AE20: 650 | AF20: =$I$20*AE20 -> 1293.5 | AH20: =$I$20*AG20 -> 0 | AI20: 100 | AJ20: =$I$20*AI20 -> 199 | AL20: =AI20+AG20+AE20+AC20+AA20+Y20+W20+U20+S20+Q20+O20+M20 -> 7800 | AM20: =AJ20+AH20+AF20+AD20+AB20+Z20+X20+V20+T20+R20+P20+N20 -> 15522 | AN20: =AL20=F20 -> TRUE | AO20: =AM20=K20 -> TRUE
A21: 1.1.10 | B21: Colocação, manutenção e retirada de lona, com reaproveitamento, isolamento/proteção para pintura | D21: C.P. 2942311155290 - Composição Própria 12/2023 | E21: m2 | F21: =M21+O21+Q21+S21+U21+W21+Y21+AA21+AC21+AE21+AG21+AI21 -> 1225 | G21: 4.28 | H21: =$C$7 -> 0.2034 | I21: =ROUND(G21*(1+H21),2) -> 5.15 | K21: =ROUND(I21*F21,2) -> 6308.75 | M21: 200 | N21: =$I$21*M21 -> 1030 | O21: 0 | P21: =$I$21*O21 -> 0 | Q21: 0 | R21: =$I$21*Q21 -> 0 | S21: 200 | T21: =$I$21*S21 -> 1030 | U21: 0 | V21: =$I$21*U21 -> 0 | W21: 0 | X21: =ROUND(W21*$I$30,2) -> 0 | Y21: 500 | Z21: =$I$21*Y21 -> 2575 | AA21: 300 | AB21: =$I$21*AA21 -> 1545 | AD21: =$I$21*AC21 -> 0 | AE21: 0 | AF21: =$I$21*AE21 -> 0 | AH21: =$I$21*AG21 -> 0 | AI21: 25 | AJ21: =$I$21*AI21 -> 128.75 | AL21: =AI21+AG21+AE21+AC21+AA21+Y21+W21+U21+S21+Q21+O21+M21 -> 1225 | AM21: =AJ21+AH21+AF21+AD21+AB21+Z21+X21+V21+T21+R21+P21+N21 -> 6308.75 | AN21: =AL21=F21 -> TRUE | AO21: =AM21=K21 -> TRUE
A22: 1.1.11 | B22: Primer convertedor de ferrugem em fundo de protecao, duas demaos. fornecimento e aplicação | D22: C.P. 2942310153213 - Composição Própria 12/2023 | E22: M2 | F22: =M22+O22+Q22+S22+U22+W22+Y22+AA22+AC22+AE22+AG22+AI22 -> 220 | G22: 7.57 | H22: =$C$7 -> 0.2034 | I22: =ROUND(G22*(1+H22),2) -> 9.11 | K22: =ROUND(I22*F22,2) -> 2004.2 | M22: 20 | N22: =$I$22*M22 -> 182.2 | P22: =$I$22*O22 -> 0 | R22: =$I$22*Q22 -> 0 | T22: =$I$22*S22 -> 0 | V22: =$I$22*U22 -> 0 | Y22: 200 | Z22: =$I$22*Y22 -> 1822 | AB22: =$I$22*AA22 -> 0 | AD22: =$I$22*AC22 -> 0 | AF22: =$I$22*AE22 -> 0 | AH22: =$I$22*AG22 -> 0 | AJ22: =$I$22*AI22 -> 0 | AL22: =AI22+AG22+AE22+AC22+AA22+Y22+W22+U22+S22+Q22+O22+M22 -> 220 | AM22: =AJ22+AH22+AF22+AD22+AB22+Z22+X22+V22+T22+R22+P22+N22 -> 2004.2 | AN22: =AL22=F22 -> TRUE | AO22: =AM22=K22 -> TRUE
A23: 2 | B23: PINTURA EM CONCRETO/ALVENARIA/GESSO ACARTONADO | K23: =K24+K33+K39+K48 -> 2442639
A24: 2.1 | B24: AMBIENTE INTERNO PAREDE | K24: =SUM(K25:K32) -> 635722.04
A25: 2.1.1 | B25: Fundo selador acrílico, aplicação manual em parede, uma demão. af_04/2023 | D25: 88485 - SINAPI/PR 12/2023 | E25: M2 | F25: =M25+O25+Q25+S25+U25+W25+Y25+AA25+AC25+AE25+AG25+AI25 -> 7850 | G25: 4.45 | H25: =$C$7 -> 0.2034 | I25: =ROUND(G25*(1+H25),2) -> 5.36 | K25: =ROUND(I25*F25,2) -> 42076 | M25: 200 | N25: =$I$25*M25 -> 1072 | O25: 200 | P25: =$I$25*O25 -> 1072 | R25: =$I$25*Q25 -> 0 | S25: 6000 | T25: =$I$25*S25 -> 32160 | V25: =$I$25*U25 -> 0 | X25: =$I$25*W25 -> 0 | Y25: 1000 | Z25: =$I$25*Y25 -> 5360 | AB25: =$I$25*AA25 -> 0 | AD25: =$I$25*AC25 -> 0 | AE25: 200 | AF25: =$I$25*AE25 -> 1072 | AH25: =$I$25*AG25 -> 0 | AI25: 250 | AJ25: =$I$25*AI25 -> 1340 | AL25: =AI25+AG25+AE25+AC25+AA25+Y25+W25+U25+S25+Q25+O25+M25 -> 7850 | AM25: =AJ25+AH25+AF25+AD25+AB25+Z25+X25+V25+T25+R25+P25+N25 -> 42076 | AN25: =AL25=F25 -> TRUE | AO25: =AM25=K25 -> TRUE
A26: 2.1.2 | B26: Emassamento com massa látex, aplicação em parede, uma demão, lixamento manual. af_04/2023 | D26: 88495 - SINAPI/PR 12/2023 | E26: M2 | F26: =M26+O26+Q26+S26+U26+W26+Y26+AA26+AC26+AE26+AG26+AI26 -> 5610 | G26: 14.5 | H26: =$C$7 -> 0.2034 | I26: =ROUND(G26*(1+H26),2) -> 17.45 | K26: =ROUND(I26*F26,2) -> 97894.5 | M26: 100 | N26: =$I$26*M26 -> 1745 | O26: 0 | P26: =$I$26*O26 -> 0 | Q26: 200 | R26: =$I$26*Q26 -> 3490 | S26: 0 | T26: =$I$26*S26 -> 0 | U26: 60 | V26: =$I$26*U26 -> 1047 | X26: =$I$26*W26 -> 0 | Y26: 5000 | Z26: =$I$26*Y26 -> 87250 | AB26: =$I$26*AA26 -> 0 | AD26: =$I$26*AC26 -> 0 | AE26: 0 | AF26: =$I$26*AE26 -> 0 | AH26: =$I$26*AG26 -> 0 | AI26: 250 | AJ26: =$I$26*AI26 -> 4362.5 | AL26: =AI26+AG26+AE26+AC26+AA26+Y26+W26+U26+S26+Q26+O26+M26 -> 5610 | AM26: =AJ26+AH26+AF26+AD26+AB26+Z26+X26+V26+T26+R26+P26+N26 -> 97894.5 | AN26: =AL26=F26 -> TRUE | AO26: =AM26=K26 -> TRUE
A27: 2.1.3 | B27: Emassamento com massa látex, aplicação em parede, duas demãos, lixamento manual. af_04/2023 | D27: 88497 - SINAPI/PR 12/2023 | E27: M2 | F27: =M27+O27+Q27+S27+U27+W27+Y27+AA27+AC27+AE27+AG27+AI27 -> 4625 | G27: 22.56 | H27: =$C$7 -> 0.2034 | I27: =ROUND(G27*(1+H27),2) -> 27.15 | K27: =ROUND(I27*F27,2) -> 125568.75 | M27: 50 | N27: =$I$27*M27 -> 1357.5 | O27: 600 | P27: =$I$27*O27 -> 16290 | Q27: 300 | R27: =$I$27*Q27 -> 8145 | S27: 2000 | T27: =$I$27*S27 -> 54300 | V27: =$I$27*U27 -> 0 | X27: =$I$27*W27 -> 0 | Y27: 0 | Z27: =$I$27*Y27 -> 0 | AA27: 900 | AB27: =$I$27*AA27 -> 24435 | AD27: =$I$27*AC27 -> 0 | AE27: 525 | AF27: =$I$27*AE27 -> 14253.75 | AH27: =$I$27*AG27 -> 0 | AI27: 250 | AJ27: =$I$27*AI27 -> 6787.5 | AL27: =AI27+AG27+AE27+AC27+AA27+Y27+W27+U27+S27+Q27+O27+M27 -> 4625 | AM27: =AJ27+AH27+AF27+AD27+AB27+Z27+X27+V27+T27+R27+P27+N27 -> 125568.75 | AN27: =AL27=F27 -> TRUE | AO27: =AM27=K27 -> TRUE
A28: 2.1.4 | B28: Pintura látex acrílica standard, aplicação manual em paredes, duas demãos. af_04/2023 | D28: 104642 - SINAPI/PR 12/2023 | E28: M2 | F28: =M28+O28+Q28+S28+U28+W28+Y28+AA28+AC28+AE28+AG28+AI28 -> 18796 | G28: 11.51 | H28: =$C$7 -> 0.2034 | I28: =ROUND(G28*(1+H28),2) -> 13.85 | K28: =ROUND(I28*F28,2) -> 260324.6 | M28: 200 | N28: =$I$28*M28 -> 2770 | O28: 2500 | P28: =$I$28*O28 -> 34625 | Q28: 500 | R28: =$I$28*Q28 -> 6925 | S28: 6500 | T28: =$I$28*S28 -> 90025 | U28: 226 | V28: =$I$28*U28 -> 3130.1 | X28: =$I$28*W28 -> 0 | Y28: 2500 | Z28: =$I$28*Y28 -> 34625 | AA28: 3100 | AB28: =$I$28*AA28 -> 42935 | AC28: 650 | AD28: =$I$28*AC28 -> 9002.5 | AE28: 2370 | AF28: =$I$28*AE28 -> 32824.5 | AH28: =$I$28*AG28 -> 0 | AI28: 250 | AJ28: =$I$28*AI28 -> 3462.5 | AL28: =AI28+AG28+AE28+AC28+AA28+Y28+W28+U28+S28+Q28+O28+M28 -> 18796 | AM28: =AJ28+AH28+AF28+AD28+AB28+Z28+X28+V28+T28+R28+P28+N28 -> 260324.6 | AN28: =AL28=F28 -> TRUE | AO28: =AM28=K28 -> TRUE
A29: 2.1.5 | B29: Textura acrílica, aplicação manual em parede, uma demão. af_04/2023 | D29: 95305 - SINAPI/PR 12/2023 | E29: M2 | F29: =M29+O29+Q29+S29+U29+W29+Y29+AA29+AC29+AE29+AG29+AI29 -> 900 | G29: 14.04 | H29: =$C$7 -> 0.2034 | I29: =ROUND(G29*(1+H29),2) -> 16.9 | K29: =ROUND(I29*F29,2) -> 15210 | M29: 50 | N29: =$I$29*M29 -> 845 | O29: 0 | P29: =$I$29*O29 -> 0 | R29: =$I$29*Q29 -> 0 | S29: 600 | T29: =$I$29*S29 -> 10140 | V29: =$I$29*U29 -> 0 | X29: =$I$29*W29 -> 0 | Y29: 0 | Z29: =$I$29*Y29 -> 0 | AB29: =$I$29*AA29 -> 0 | AD29: =$I$29*AC29 -> 0 | AE29: 0 | AF29: =$I$29*AE29 -> 0 | AH29: =$I$29*AG29 -> 0 | AI29: 250 | AJ29: =$I$29*AI29 -> 4225 | AL29: =AI29+AG29+AE29+AC29+AA29+Y29+W29+U29+S29+Q29+O29+M29 -> 900 | AM29: =AJ29+AH29+AF29+AD29+AB29+Z29+X29+V29+T29+R29+P29+N29 -> 15210 | AN29: =AL29=F29 -> TRUE | AO29: =AM29=K29 -> TRUE
A30: 2.1.6 | B30: Pintura de rodapé com tinta epóxi, aplicação manual, 2 demãos, inclusão primer epóxi. af_05/2021 | D30: 102496 - SINAPI/PR 12/2023 | E30: M | F30: =M30+O30+Q30+S30+U30+W30+Y30+AA30+AC30+AE30+AG30+AI30 -> 2261 | G30: 14.7 | H30: =$C$7 -> 0.2034 | I30: =ROUND(G30*(1+H30),2) -> 17.69 | K30: =ROUND(I30*F30,2) -> 39997.09 | M30: 25 | N30: =$I$30*M30 -> 442.25 | O30: 350 | P30: =$I$30*O30 -> 6191.5 | R30: =$I$30*Q30 -> 0 | S30: 1200 | T30: =$I$30*S30 -> 21228 | V30: =$I$30*U30 -> 0 | X30: =$I$30*W30 -> 0 | Y30: 300 | Z30: =$I$30*Y30 -> 5307 | AB30: =$I$30*AA30 -> 0 | AD30: =$I$30*AC30 -> 0 | AE30: 286 | AF30: =$I$30*AE30 -> 5059.34 | AH30: =$I$30*AG30 -> 0 | AI30: 100 | AJ30: =$I$30*AI30 -> 1769 | AL30: =AI30+AG30+AE30+AC30+AA30+Y30+W30+U30+S30+Q30+O30+M30 -> 2261 | AM30: =AJ30+AH30+AF30+AD30+AB30+Z30+X30+V30+T30+R30+P30+N30 -> 39997.09 | AN30: =AL30=F30 -> TRUE | AO30: =AM30=K30 -> TRUE
A31: 2.1.7 | B31: Aplicação manual de pintura com tinta látex acrílica em paredes internas, cores variadas, duas demãos. ref. suvinil, renner, sherwin willians, coral, lukscolor ou equivalente | D31: C.P. 2942402163142 - Composição Própria 12/2023 | E31: M2 | F31: =M31+O31+Q31+S31+U31+W31+Y31+AA31+AC31+AE31+AG31+AI31 -> 2525 | G31: 15.64 | H31: =$C$7 -> 0.2034 | I31: =ROUND(G31*(1+H31),2) -> 18.82 | K31: =ROUND(I31*F31,2) -> 47520.5 | M31: 25 | N31: =$I$31*M31 -> 470.5 | P31: =$I$31*O31 -> 0 | R31: =$I$31*Q31 -> 0 | T31: =$I$31*S31 -> 0 | V31: =$I$31*U31 -> 0 | X31: =$I$31*W31 -> 0 | Y31: 2500 | Z31: =$I$31*Y31 -> 47050 | AB31: =$I$31*AA31 -> 0 | AD31: =$I$31*AC31 -> 0 | AF31: =$I$31*AE31 -> 0 | AH31: =$I$31*AG31 -> 0 | AJ31: =$I$31*AI31 -> 0 | AL31: =AI31+AG31+AE31+AC31+AA31+Y31+W31+U31+S31+Q31+O31+M31 -> 2525 | AM31: =AJ31+AH31+AF31+AD31+AB31+Z31+X31+V31+T31+R31+P31+N31 -> 47520.5 | AN31: =AL31=F31 -> TRUE | AO31: =AM31=K31 -> TRUE
A32: 2.1.8 | B32: Pintura com tinta esmalte acetinado efeito lousa seca, aplicada a rolo ou pincel em paredes, 2 demãos | D32: C.P. 2942312161612 - Composição Própria 12/2023 | E32: M2 | F32: =M32+O32+Q32+S32+U32+W32+Y32+AA32+AC32+AE32+AG32+AI32 -> 202 | G32: 29.33 | H32: =$C$7 -> 0.2034 | I32: =ROUND(G32*(1+H32),2) -> 35.3 | K32: =ROUND(I32*F32,2) -> 7130.6 | M32: 2 | N32: =$I$32*M32 -> 70.6 | P32: =$I$32*O32 -> 0 | R32: =$I$32*Q32 -> 0 | T32: =$I$32*S32 -> 0 | V32: =$I$32*U32 -> 0 | X32: =$I$32*W32 -> 0 | Y32: 200 | Z32: =$I$32*Y32 -> 7060 | AB32: =$I$32*AA32 -> 0 | AD32: =$I$32*AC32 -> 0 | AF32: =$I$32*AE32 -> 0 | AH32: =$I$32*AG32 -> 0 | AJ32: =$I$32*AI32 -> 0 | AL32: =AI32+AG32+AE32+AC32+AA32+Y32+W32+U32+S32+Q32+O32+M32 -> 202 | AM32: =AJ32+AH32+AF32+AD32+AB32+Z32+X32+V32+T32+R32+P32+N32 -> 7130.6 | AN32: =AL32=F32 -> TRUE | AO32: =AM32=K32 -> TRUE
A33: 2.2 | B33: AMBIENTE INTERNO TETO | K33: =SUM(K34:K38) -> 350130.43
A34: 2.2.1 | B34: Fundo selador acrílico, aplicação manual em teto, uma demão. af_04/2023 | D34: 88484 - SINAPI/PR 12/2023 | E34: M2 | F34: =M34+O34+Q34+S34+U34+W34+Y34+AA34+AC34+AE34+AG34+AI34 -> 3250 | G34: 5.64 | H34: =$C$7 -> 0.2034 | I34: =ROUND(G34*(1+H34),2) -> 6.79 | K34: =ROUND(I34*F34,2) -> 22067.5 | M34: 200 | N34: =$I$34*M34 -> 1358 | O34: 200 | P34: =$I$34*O34 -> 1358 | R34: =$I$34*Q34 -> 0 | S34: 2200 | T34: =$I$34*S34 -> 14938 | V34: =$I$34*U34 -> 0 | X34: =$I$34*W34 -> 0 | Y34: 200 | Z34: =$I$34*Y34 -> 1358 | AB34: =$I$34*AA34 -> 0 | AD34: =$I$34*AC34 -> 0 | AE34: 200 | AF34: =$I$34*AE34 -> 1358 | AH34: =$I$34*AG34 -> 0 | AI34: 250 | AJ34: =$I$34*AI34 -> 1697.5 | AL34: =AI34+AG34+AE34+AC34+AA34+Y34+W34+U34+S34+Q34+O34+M34 -> 3250 | AM34: =AJ34+AH34+AF34+AD34+AB34+Z34+X34+V34+T34+R34+P34+N34 -> 22067.5 | AN34: =AL34=F34 -> TRUE | AO34: =AM34=K34 -> TRUE
A35: 2.2.2 | B35: Emassamento com massa látex, aplicação em teto, uma demão, lixamento manual. af_04/2023 | D35: 88494 - SINAPI/PR 12/2023 | E35: M2 | F35: =M35+O35+Q35+S35+U35+W35+Y35+AA35+AC35+AE35+AG35+AI35 -> 2750 | G35: 26.22 | H35: =$C$7 -> 0.2034 | I35: =ROUND(G35*(1+H35),2) -> 31.55 | K35: =ROUND(I35*F35,2) -> 86762.5 | M35: 100 | N35: =$I$35*M35 -> 3155 | O35: 0 | P35: =$I$35*O35 -> 0 | Q35: 50 | R35: =$I$35*Q35 -> 1577.5 | S35: 850 | T35: =$I$35*S35 -> 26817.5 | V35: =$I$35*U35 -> 0 | X35: =$I$35*W35 -> 0 | Y35: 1500 | Z35: =$I$35*Y35 -> 47325 | AB35: =$I$35*AA35 -> 0 | AD35: =$I$35*AC35 -> 0 | AE35: 0 | AF35: =$I$35*AE35 -> 0 | AH35: =$I$35*AG35 -> 0 | AI35: 250 | AJ35: =$I$35*AI35 -> 7887.5 | AL35: =AI35+AG35+AE35+AC35+AA35+Y35+W35+U35+S35+Q35+O35+M35 -> 2750 | AM35: =AJ35+AH35+AF35+AD35+AB35+Z35+X35+V35+T35+R35+P35+N35 -> 86762.5 | AN35: =AL35=F35 -> TRUE | AO35: =AM35=K35 -> TRUE
A36: 2.2.3 | B36: Emassamento com massa látex, aplicação em teto, duas demãos, lixamento manual. af_04/2023 | D36: 88496 - SINAPI/PR 12/2023 | E36: M2 | F36: =M36+O36+Q36+S36+U36+W36+Y36+AA36+AC36+AE36+AG36+AI36 -> 1145 | G36: 39.76 | H36: =$C$7 -> 0.2034 | I36: =ROUND(G36*(1+H36),2) -> 47.85 | K36: =ROUND(I36*F36,2) -> 54788.25 | M36: 100 | N36: =$I$36*M36 -> 4785 | O36: 200 | P36: =$I$36*O36 -> 9570 | Q36: 20 | R36: =$I$36*Q36 -> 957 | S36: 0 | T36: =$I$36*S36 -> 0 | V36: =$I$36*U36 -> 0 | X36: =$I$36*W36 -> 0 | Y36: 0 | Z36: =$I$36*Y36 -> 0 | AA36: 375 | AB36: =$I$36*AA36 -> 17943.75 | AD36: =$I$36*AC36 -> 0 | AE36: 200 | AF36: =$I$36*AE36 -> 9570 | AH36: =$I$36*AG36 -> 0 | AI36: 250 | AJ36: =$I$36*AI36 -> 11962.5 | AL36: =AI36+AG36+AE36+AC36+AA36+Y36+W36+U36+S36+Q36+O36+M36 -> 1145 | AM36: =AJ36+AH36+AF36+AD36+AB36+Z36+X36+V36+T36+R36+P36+N36 -> 54788.25 | AN36: =AL36=F36 -> TRUE | AO36: =AM36=K36 -> TRUE
A37: 2.2.4 | B37: Pintura látex acrílica standard, aplicação manual em teto, duas demãos. af_04/2023 | D37: 104640 - SINAPI/PR 12/2023 | E37: M2 | F37: =M37+O37+Q37+S37+U37+W37+Y37+AA37+AC37+AE37+AG37+AI37 -> 7799 | G37: 14.39 | H37: =$C$7 -> 0.2034 | I37: =ROUND(G37*(1+H37),2) -> 17.32 | K37: =ROUND(I37*F37,2) -> 135078.68 | M37: 200 | N37: =$I$37*M37 -> 3464 | O37: 2000 | P37: =$I$37*O37 -> 34640 | Q37: 100 | R37: =$I$37*Q37 -> 1732 | S37: 600 | T37: =$I$37*S37 -> 10392 | U37: 174 | V37: =$I$37*U37 -> 3013.68 | X37: =$I$37*W37 -> 0 | Y37: 1500 | Z37: =$I$37*Y37 -> 25980 | AA37: 1100 | AB37: =$I$37*AA37 -> 19052 | AD37: =$I$37*AC37 -> 0 | AE37: 1875 | AF37: =$I$37*AE37 -> 32475 | AH37: =$I$37*AG37 -> 0 | AI37: 250 | AJ37: =$I$37*AI37 -> 4330 | AL37: =AI37+AG37+AE37+AC37+AA37+Y37+W37+U37+S37+Q37+O37+M37 -> 7799 | AM37: =AJ37+AH37+AF37+AD37+AB37+Z37+X37+V37+T37+R37+P37+N37 -> 135078.68 | AN37: =AL37=F37 -> TRUE | AO37: =AM37=K37 -> TRUE
A38: 2.2.5 | B38: Textura acrílica, aplicação manual em teto, uma demão. af_04/2023 | D38: 95306 - SINAPI/PR 12/2023 | E38: M2 | F38: =M38+O38+Q38+S38+U38+W38+Y38+AA38+AC38+AE38+AG38+AI38 -> 2550 | G38: 16.76 | H38: =$C$7 -> 0.2034 | I38: =ROUND(G38*(1+H38),2) -> 20.17 | K38: =ROUND(I38*F38,2) -> 51433.5 | M38: 50 | N38: =$I$38*M38 -> 1008.5 | O38: 100 | P38: =$I$38*O38 -> 2017 | R38: =$I$38*Q38 -> 0 | S38: 2200 | T38: =$I$38*S38 -> 44374 | V38: =$I$38*U38 -> 0 | X38: =$I$38*W38 -> 0 | Y38: 0 | Z38: =$I$38*Y38 -> 0 | AB38: =$I$38*AA38 -> 0 | AD38: =$I$38*AC38 -> 0 | AE38: 100 | AF38: =$I$38*AE38 -> 2017 | AH38: =$I$38*AG38 -> 0 | AI38: 100 | AJ38: =$I$38*AI38 -> 2017 | AL38: =AI38+AG38+AE38+AC38+AA38+Y38+W38+U38+S38+Q38+O38+M38 -> 2550 | AM38: =AJ38+AH38+AF38+AD38+AB38+Z38+X38+V38+T38+R38+P38+N38 -> 51433.5 | AN38: =AL38=F38 -> TRUE | AO38: =AM38=K38 -> TRUE
A39: 2.3 | B39: AMBIENTE EXTERNO EDIFICAÇÃO TÉRREA | K39: =SUM(K40:K47) -> 644064.58
A40: 2.3.1 | B40: Aplicação manual de massa acrílica em paredes externas de casas, uma demão. af_05/2017 | D40: 96130 - SINAPI/PR 12/2023 | E40: M2 | F40: =M40+O40+Q40+S40+U40+W40+Y40+AA40+AC40+AE40+AG40+AI40 -> 3010 | G40: 27.1 | H40: =$C$7 -> 0.2034 | I40: =ROUND(G40*(1+H40),2) -> 32.61 | K40: =ROUND(I40*F40,2) -> 98156.1 | M40: 50 | N40: =$I$40*M40 -> 1630.5 | O40: 0 | P40: =$I$40*O40 -> 0 | R40: =$I$40*Q40 -> 0 | S40: 150 | T40: =$I$40*S40 -> 4891.5 | V40: =$I$40*U40 -> 0 | X40: =$I$40*W40 -> 0 | Y40: 2500 | Z40: =$I$40*Y40 -> 81525 | AB40: =$I$40*AA40 -> 0 | AC40: 60 | AD40: =$I$40*AC40 -> 1956.6 | AE40: 0 | AF40: =$I$40*AE40 -> 0 | AH40: =$I$40*AG40 -> 0 | AI40: 250 | AJ40: =$I$40*AI40 -> 8152.5 | AL40: =AI40+AG40+AE40+AC40+AA40+Y40+W40+U40+S40+Q40+O40+M40 -> 3010 | AM40: =AJ40+AH40+AF40+AD40+AB40+Z40+X40+V40+T40+R40+P40+N40 -> 98156.1 | AN40: =AL40=F40 -> TRUE | AO40: =AM40=K40 -> TRUE
...

Sheet TR
B1: MUNICÍPIO DE PINHAIS
B2: RODOVIA JOAO LEOPOLDO JACOMEL - 12162, Centro
B3: CEP: 83323410 - Pinhais - PR
A4: OBRA: | B4: 32 - PINTURA IMOBILIÁRIA
A5: ENDEREÇO: | B5: PINHAIS/PR
A6: PLANILHA ORÇAMENTÁRIA
A7: BDI: | C7: 0.2034 | K7: SEMOP | M7: SEMAD | O7: SEMUR | Q7: SEMSA | S7: SEPFO | U7: SEMMA | W7: SEMED | Y7: SEMEL | AA7: SESET | AC7: SEMAS | AE7: SEMDE | AG7: P. PREV.
A8: BASE DO ORÇAMENTO: | C8: SINAPI/PR 02/2024, Composição Própria 02/2024, Cotação 02/2024 | K8: QUANTIDADE | L8: VALOR | M8: QUANTIDADE | N8: VALOR | O8: QUANTIDADE | P8: VALOR | Q8: QUANTIDADE | R8: VALOR | S8: QUANTIDADE | T8: VALOR | U8: QUANTIDADE | V8: VALOR | W8: QUANTIDADE | X8: VALOR | Y8: QUANTIDADE | Z8: VALOR | AA8: QUANTIDADE | AB8: VALOR | AC8: QUANTIDADE | AD8: VALOR | AE8: QUANTIDADE | AF8: VALOR | AG8: QUANTIDADE | AH8: VALOR
A9: ITEM | B9: DESCRIÇÃO | D9: CATSER | E9: UN. | F9: QUANT. | G9: PREÇO(R$) | I9: PREÇO TOTAL(R$)
A10: 1 | B10: Lixamento manual em superfícies metálicas em obra. af_01/2020 | D10: 13455 | E10: M2 | F10: =K10+M10+O10+Q10+S10+U10+W10+Y10+AA10+AC10+AE10+AG10 -> 3601 | G10: =ORÇAMENTO!I12 -> 14.67 | I10: =ROUND(G10*F10,2) -> 52826.67 | K10: 50 | L10: =$G$10*K10 -> 733.5 | M10: 170 | N10: =$G$10*M10 -> 2493.9 | O10: 0 | P10: =$G$10*O10 -> 0 | Q10: 1200 | R10: =$G$10*Q10 -> 17604 | S10: 0 | T10: =$G$10*S10 -> 0 | U10: 0 | V10: =ROUND(U10*$G$19,2) -> 0 | W10: 2000 | X10: =$G$10*W10 -> 29340 | Z10: =$G$10*Y10 -> 0 | AB10: =$G$10*AA10 -> 0 | AC10: 166 | AD10: =$G$10*AC10 -> 2435.22 | AF10: =$G$10*AE10 -> 0 | AG10: 15 | AH10: =$G$10*AG10 -> 220.05 | AJ10: =AG10+AE10+AC10+AA10+Y10+W10+U10+S10+Q10+O10+M10+K10 -> 3601 | AK10: =AH10+AF10+AD10+AB10+Z10+X10+V10+T10+R10+P10+N10+L10 -> 52826.67 | AL10: =AJ10=F10 -> TRUE | AM10: =AK10=I10 -> TRUE
A11: 2 | B11: Lixamento de madeira para aplicação de fundo ou pintura. af_01/2021 | D11: 13455 | E11: M2 | F11: =K11+M11+O11+Q11+S11+U11+W11+Y11+AA11+AC11+AE11+AG11 -> 3950 | G11: =ORÇAMENTO!I13 -> 3.09 | I11: =ROUND(G11*F11,2) -> 12205.5 | K11: 50 | L11: =$G$11*K11 -> 154.5 | M11: 0 | N11: =$G$11*M11 -> 0 | O11: 0 | P11: =$G$11*O11 -> 0 | Q11: 1200 | R11: =$G$11*Q11 -> 3708 | S11: 0 | T11: =$G$11*S11 -> 0 | U11: 0 | V11: =ROUND(U11*$G$20,2) -> 0 | W11: 2500 | X11: =$G$11*W11 -> 7725 | Z11: =$G$11*Y11 -> 0 | AB11: =$G$11*AA11 -> 0 | AC11: 0 | AD11: =$G$11*AC11 -> 0 | AF11: =$G$11*AE11 -> 0 | AG11: 200 | AH11: =$G$11*AG11 -> 618 | AJ11: =AG11+AE11+AC11+AA11+Y11+W11+U11+S11+Q11+O11+M11+K11 -> 3950 | AK11: =AH11+AF11+AD11+AB11+Z11+X11+V11+T11+R11+P11+N11+L11 -> 12205.5 | AL11: =AJ11=F11 -> TRUE | AM11: =AK11=I11 -> TRUE
A12: 3 | B12: Preparo do piso cimentado para pintura - lixamento e limpeza. af_05/2021 | D12: 13455 | E12: M2 | F12: =K12+M12+O12+Q12+S12+U12+W12+Y12+AA12+AC12+AE12+AG12 -> 6200 | G12: =ORÇAMENTO!I14 -> 5.38 | I12: =ROUND(G12*F12,2) -> 33356 | K12: 150 | L12: =$G$12*K12 -> 807 | M12: 500 | N12: =$G$12*M12 -> 2690 | O12: 0 | P12: =$G$12*O12 -> 0 | Q12: 0 | R12: =$G$12*Q12 -> 0 | S12: 0 | T12: =$G$12*S12 -> 0 | U12: 0 | V12: =ROUND(U12*#REF!,2) -> #REF! | W12: 5000 | X12: =$G$12*W12 -> 26900 | Z12: =$G$12*Y12 -> 0 | AB12: =$G$12*AA12 -> 0 | AC12: 500 | AD12: =$G$12*AC12 -> 2690 | AF12: =$G$12*AE12 -> 0 | AG12: 50 | AH12: =$G$12*AG12 -> 269 | AJ12: =AG12+AE12+AC12+AA12+Y12+W12+U12+S12+Q12+O12+M12+K12 -> 6200 | AK12: =AH12+AF12+AD12+AB12+Z12+X12+V12+T12+R12+P12+N12+L12 -> #REF! | AL12: =AJ12=F12 -> TRUE | AM12: =AK12=I12 -> #REF!
A13: 4 | B13: Limpeza de superfície com jato de alta pressão. af_04/2019 | D13: 13455 | E13: M2 | F13: =K13+M13+O13+Q13+S13+U13+W13+Y13+AA13+AC13+AE13+AG13 -> 12656 | G13: =ORÇAMENTO!I15 -> 2.9 | I13: =ROUND(G13*F13,2) -> 36702.4 | K13: 3000 | L13: =$G$13*K13 -> 8700 | M13: 2400 | N13: =$G$13*M13 -> 6960 | O13: 0 | P13: =$G$13*O13 -> 0 | Q13: 0 | R13: =$G$13*Q13 -> 0 | S13: 0 | T13: =$G$13*S13 -> 0 | U13: 0 | V13: =ROUND(U13*#REF!,2) -> #REF! | W13: 5000 | X13: =$G$13*W13 -> 14500 | Z13: =$G$13*Y13 -> 0 | AB13: =$G$13*AA13 -> 0 | AC13: 2206 | AD13: =$G$13*AC13 -> 6397.4 | AF13: =$G$13*AE13 -> 0 | AG13: 50 | AH13: =$G$13*AG13 -> 145 | AJ13: =AG13+AE13+AC13+AA13+Y13+W13+U13+S13+Q13+O13+M13+K13 -> 12656 | AK13: =AH13+AF13+AD13+AB13+Z13+X13+V13+T13+R13+P13+N13+L13 -> #REF! | AL13: =AJ13=F13 -> TRUE | AM13: =AK13=I13 -> #REF!
A14: 5 | B14: Tratamento de rodapé com tela de poliéster. af_09/2023 | D14: 13455 | E14: M | F14: =K14+M14+O14+Q14+S14+U14+W14+Y14+AA14+AC14+AE14+AG14 -> 940 | G14: =ORÇAMENTO!I16 -> 6.63 | I14: =ROUND(G14*F14,2) -> 6232.2 | K14: 30 | L14: =$G$14*K14 -> 198.9 | M14: 200 | N14: =$G$14*M14 -> 1326 | O14: 0 | P14: =$G$14*O14 -> 0 | Q14: 0 | R14: =$G$14*Q14 -> 0 | S14: 0 | T14: =$G$14*S14 -> 0 | U14: 0 | V14: =ROUND(U14*$G$23,2) -> 0 | W14: 500 | X14: =$G$14*W14 -> 3315 | Z14: =$G$14*Y14 -> 0 | AB14: =$G$14*AA14 -> 0 | AC14: 200 | AD14: =$G$14*AC14 -> 1326 | AF14: =$G$14*AE14 -> 0 | AG14: 10 | AH14: =$G$14*AG14 -> 66.3 | AJ14: =AG14+AE14+AC14+AA14+Y14+W14+U14+S14+Q14+O14+M14+K14 -> 940 | AK14: =AH14+AF14+AD14+AB14+Z14+X14+V14+T14+R14+P14+N14+L14 -> 6232.2 | AL14: =AJ14=F14 -> TRUE | AM14: =AK14=I14 -> TRUE
A15: 6 | B15: Aplicação manual de massa de rejunte pronta para tratamento de juntas, em paredes de drywall | D15: 13455 | E15: M2 | F15: =K15+M15+O15+Q15+S15+U15+W15+Y15+AA15+AC15+AE15+AG15 -> 2050 | G15: =ORÇAMENTO!I17 -> 47.51 | I15: =ROUND(G15*F15,2) -> 97395.5 | K15: 50 | L15: =$G$15*K15 -> 2375.5 | M15: 500 | N15: =$G$15*M15 -> 23755 | O15: 0 | P15: =$G$15*O15 -> 0 | Q15: 700 | R15: =$G$15*Q15 -> 33257 | S15: 0 | T15: =$G$15*S15 -> 0 | U15: 0 | V15: =ROUND(U15*$G$24,2) -> 0 | W15: 200 | X15: =$G$15*W15 -> 9502 | Z15: =$G$15*Y15 -> 0 | AB15: =$G$15*AA15 -> 0 | AC15: 500 | AD15: =$G$15*AC15 -> 23755 | AF15: =$G$15*AE15 -> 0 | AG15: 100 | AH15: =$G$15*AG15 -> 4751 | AJ15: =AG15+AE15+AC15+AA15+Y15+W15+U15+S15+Q15+O15+M15+K15 -> 2050 | AK15: =AH15+AF15+AD15+AB15+Z15+X15+V15+T15+R15+P15+N15+L15 -> 97395.5 | AL15: =AJ15=F15 -> TRUE | AM15: =AK15=I15 -> TRUE
A16: 7 | B16: Demolição de argamassas, de forma manual, sem reaproveitamento. af_09/2023 | D16: 13455 | E16: M2 | F16: =K16+M16+O16+Q16+S16+U16+W16+Y16+AA16+AC16+AE16+AG16 -> 1270 | G16: =ORÇAMENTO!I18 -> 17.33 | I16: =ROUND(G16*F16,2) -> 22009.1 | K16: 20 | L16: =$G$16*K16 -> 346.6 | M16: 0 | N16: =$G$16*M16 -> 0 | O16: 0 | P16: =$G$16*O16 -> 0 | Q16: 200 | R16: =$G$16*Q16 -> 3466 | S16: 0 | T16: =$G$16*S16 -> 0 | U16: 0 | V16: =ROUND(U16*$G$25,2) -> 0 | W16: 1000 | X16: =$G$16*W16 -> 17330 | Z16: =$G$16*Y16 -> 0 | AB16: =$G$16*AA16 -> 0 | AC16: 0 | AD16: =$G$16*AC16 -> 0 | AF16: =$G$16*AE16 -> 0 | AG16: 50 | AH16: =$G$16*AG16 -> 866.5 | AJ16: =AG16+AE16+AC16+AA16+Y16+W16+U16+S16+Q16+O16+M16+K16 -> 1270 | AK16: =AH16+AF16+AD16+AB16+Z16+X16+V16+T16+R16+P16+N16+L16 -> 22009.1 | AL16: =AJ16=F16 -> TRUE | AM16: =AK16=I16 -> TRUE
A17: 8 | B17: Impermeabilização de superfície com argamassa de cimento e areia, com aditivo impermeabilizante, E = 1,5cm. af_09/2023 | D17: 13455 | E17: M2 | F17: =K17+M17+O17+Q17+S17+U17+W17+Y17+AA17+AC17+AE17+AG17 -> 1670 | G17: =ORÇAMENTO!I19 -> 69.29 | I17: =ROUND(G17*F17,2) -> 115714.3 | K17: 20 | L17: =$G$17*K17 -> 1385.8 | M17: 0 | N17: =$G$17*M17 -> 0 | O17: 0 | P17: =$G$17*O17 -> 0 | Q17: 600 | R17: =$G$17*Q17 -> 41574 | S17: 0 | T17: =$G$17*S17 -> 0 | U17: 0 | V17: =ROUND(U17*$G$26,2) -> 0 | W17: 1000 | X17: =$G$17*W17 -> 69290 | Z17: =$G$17*Y17 -> 0 | AB17: =$G$17*AA17 -> 0 | AC17: 0 | AD17: =$G$17*AC17 -> 0 | AF17: =$G$17*AE17 -> 0 | AG17: 50 | AH17: =$G$17*AG17 -> 3464.5 | AJ17: =AG17+AE17+AC17+AA17+Y17+W17+U17+S17+Q17+O17+M17+K17 -> 1670 | AK17: =AH17+AF17+AD17+AB17+Z17+X17+V17+T17+R17+P17+N17+L17 -> 115714.3 | AL17: =AJ17=F17 -> TRUE | AM17: =AK17=I17 -> TRUE
A18: 9 | B18: Colocação de fita protetora para pintura. af_01/2020 | D18: 13455 | E18: M | F18: =K18+M18+O18+Q18+S18+U18+W18+Y18+AA18+AC18+AE18+AG18 -> 7800 | G18: =ORÇAMENTO!I20 -> 1.99 | I18: =ROUND(G18*F18,2) -> 15522 | K18: 200 | L18: =$G$18*K18 -> 398 | M18: 650 | N18: =$G$18*M18 -> 1293.5 | O18: 0 | P18: =$G$18*O18 -> 0 | Q18: 1200 | R18: =$G$18*Q18 -> 2388 | S18: 0 | T18: =$G$18*S18 -> 0 | U18: 0 | V18: =ROUND(U18*$G$27,2) -> 0 | W18: 5000 | X18: =$G$18*W18 -> 9950 | Z18: =$G$18*Y18 -> 0 | AB18: =$G$18*AA18 -> 0 | AC18: 650 | AD18: =$G$18*AC18 -> 1293.5 | AF18: =$G$18*AE18 -> 0 | AG18: 100 | AH18: =$G$18*AG18 -> 199 | AJ18: =AG18+AE18+AC18+AA18+Y18+W18+U18+S18+Q18+O18+M18+K18 -> 7800 | AK18: =AH18+AF18+AD18+AB18+Z18+X18+V18+T18+R18+P18+N18+L18 -> 15522 | AL18: =AJ18=F18 -> TRUE | AM18: =AK18=I18 -> TRUE
A19: 10 | B19: Colocação, manutenção e retirada de lona, com reaproveitamento, isolamento/proteção para pintura | D19: 13455 | E19: m2 | F19: =K19+M19+O19+Q19+S19+U19+W19+Y19+AA19+AC19+AE19+AG19 -> 1225 | G19: =ORÇAMENTO!I21 -> 5.15 | I19: =ROUND(G19*F19,2) -> 6308.75 | K19: 200 | L19: =$G$19*K19 -> 1030 | M19: 0 | N19: =$G$19*M19 -> 0 | O19: 0 | P19: =$G$19*O19 -> 0 | Q19: 200 | R19: =$G$19*Q19 -> 1030 | S19: 0 | T19: =$G$19*S19 -> 0 | U19: 0 | V19: =ROUND(U19*$G$28,2) -> 0 | W19: 500 | X19: =$G$19*W19 -> 2575 | Y19: 300 | Z19: =$G$19*Y19 -> 1545 | AB19: =$G$19*AA19 -> 0 | AC19: 0 | AD19: =$G$19*AC19 -> 0 | AF19: =$G$19*AE19 -> 0 | AG19: 25 | AH19: =$G$19*AG19 -> 128.75 | AJ19: =AG19+AE19+AC19+AA19+Y19+W19+U19+S19+Q19+O19+M19+K19 -> 1225 | AK19: =AH19+AF19+AD19+AB19+Z19+X19+V19+T19+R19+P19+N19+L19 -> 6308.75 | AL19: =AJ19=F19 -> TRUE | AM19: =AK19=I19 -> TRUE
A20: 11 | B20: Primer convertedor de ferrugem em fundo de protecao, duas demaos. fornecimento e aplicação | D20: 13455 | E20: M2 | F20: =K20+M20+O20+Q20+S20+U20+W20+Y20+AA20+AC20+AE20+AG20 -> 220 | G20: =ORÇAMENTO!I22 -> 9.11 | I20: =ROUND(G20*F20,2) -> 2004.2 | K20: 20 | L20: =$G$20*K20 -> 182.2 | N20: =$G$20*M20 -> 0 | P20: =$G$20*O20 -> 0 | R20: =$G$20*Q20 -> 0 | T20: =$G$20*S20 -> 0 | W20: 200 | X20: =$G$20*W20 -> 1822 | Z20: =$G$20*Y20 -> 0 | AB20: =$G$20*AA20 -> 0 | AD20: =$G$20*AC20 -> 0 | AF20: =$G$20*AE20 -> 0 | AH20: =$G$20*AG20 -> 0 | AJ20: =AG20+AE20+AC20+AA20+Y20+W20+U20+S20+Q20+O20+M20+K20 -> 220 | AK20: =AH20+AF20+AD20+AB20+Z20+X20+V20+T20+R20+P20+N20+L20 -> 2004.2 | AL20: =AJ20=F20 -> TRUE | AM20: =AK20=I20 -> TRUE
G21: =ORÇAMENTO!I23 -> 0
G22: =ORÇAMENTO!I24 -> 0
A23: 12 | B23: Fundo selador acrílico, aplicação manual em parede, uma demão. af_04/2023 | D23: 13455 | E23: M2 | F23: =K23+M23+O23+Q23+S23+U23+W23+Y23+AA23+AC23+AE23+AG23 -> 7850 | G23: =ORÇAMENTO!I25 -> 5.36 | I23: =ROUND(G23*F23,2) -> 42076 | K23: 200 | L23: =$G$23*K23 -> 1072 | M23: 200 | N23: =$G$23*M23 -> 1072 | P23: =$G$23*O23 -> 0 | Q23: 6000 | R23: =$G$23*Q23 -> 32160 | T23: =$G$23*S23 -> 0 | V23: =$G$23*U23 -> 0 | W23: 1000 | X23: =$G$23*W23 -> 5360 | Z23: =$G$23*Y23 -> 0 | AB23: =$G$23*AA23 -> 0 | AC23: 200 | AD23: =$G$23*AC23 -> 1072 | AF23: =$G$23*AE23 -> 0 | AG23: 250 | AH23: =$G$23*AG23 -> 1340 | AJ23: =AG23+AE23+AC23+AA23+Y23+W23+U23+S23+Q23+O23+M23+K23 -> 7850 | AK23: =AH23+AF23+AD23+AB23+Z23+X23+V23+T23+R23+P23+N23+L23 -> 42076 | AL23: =AJ23=F23 -> TRUE | AM23: =AK23=I23 -> TRUE
A24: 13 | B24: Emassamento com massa látex, aplicação em parede, uma demão, lixamento manual. af_04/2023 | D24: 13455 | E24: M2 | F24: =K24+M24+O24+Q24+S24+U24+W24+Y24+AA24+AC24+AE24+AG24 -> 5610 | G24: =ORÇAMENTO!I26 -> 17.45 | I24: =ROUND(G24*F24,2) -> 97894.5 | K24: 100 | L24: =$G$24*K24 -> 1745 | M24: 0 | N24: =$G$24*M24 -> 0 | O24: 200 | P24: =$G$24*O24 -> 3490 | Q24: 0 | R24: =$G$24*Q24 -> 0 | S24: 60 | T24: =$G$24*S24 -> 1047 | V24: =$G$24*U24 -> 0 | W24: 5000 | X24: =$G$24*W24 -> 87250 | Z24: =$G$24*Y24 -> 0 | AB24: =$G$24*AA24 -> 0 | AC24: 0 | AD24: =$G$24*AC24 -> 0 | AF24: =$G$24*AE24 -> 0 | AG24: 250 | AH24: =$G$24*AG24 -> 4362.5 | AJ24: =AG24+AE24+AC24+AA24+Y24+W24+U24+S24+Q24+O24+M24+K24 -> 5610 | AK24: =AH24+AF24+AD24+AB24+Z24+X24+V24+T24+R24+P24+N24+L24 -> 97894.5 | AL24: =AJ24=F24 -> TRUE | AM24: =AK24=I24 -> TRUE
A25: 14 | B25: Emassamento com massa látex, aplicação em parede, duas demãos, lixamento manual. af_04/2023 | D25: 13455 | E25: M2 | F25: =K25+M25+O25+Q25+S25+U25+W25+Y25+AA25+AC25+AE25+AG25 -> 4625 | G25: =ORÇAMENTO!I27 -> 27.15 | I25: =ROUND(G25*F25,2) -> 125568.75 | K25: 50 | L25: =$G$25*K25 -> 1357.5 | M25: 600 | N25: =$G$25*M25 -> 16290 | O25: 300 | P25: =$G$25*O25 -> 8145 | Q25: 2000 | R25: =$G$25*Q25 -> 54300 | T25: =$G$25*S25 -> 0 | V25: =$G$25*U25 -> 0 | W25: 0 | X25: =$G$25*W25 -> 0 | Y25: 900 | Z25: =$G$25*Y25 -> 24435 | AB25: =$G$25*AA25 -> 0 | AC25: 525 | AD25: =$G$25*AC25 -> 14253.75 | AF25: =$G$25*AE25 -> 0 | AG25: 250 | AH25: =$G$25*AG25 -> 6787.5 | AJ25: =AG25+AE25+AC25+AA25+Y25+W25+U25+S25+Q25+O25+M25+K25 -> 4625 | AK25: =AH25+AF25+AD25+AB25+Z25+X25+V25+T25+R25+P25+N25+L25 -> 125568.75 | AL25: =AJ25=F25 -> TRUE | AM25: =AK25=I25 -> TRUE
A26: 15 | B26: Pintura látex acrílica standard, aplicação manual em paredes, duas demãos. af_04/2023 | D26: 13455 | E26: M2 | F26: =K26+M26+O26+Q26+S26+U26+W26+Y26+AA26+AC26+AE26+AG26 -> 18796 | G26: =ORÇAMENTO!I28 -> 13.85 | I26: =ROUND(G26*F26,2) -> 260324.6 | K26: 200 | L26: =$G$26*K26 -> 2770 | M26: 2500 | N26: =$G$26*M26 -> 34625 | O26: 500 | P26: =$G$26*O26 -> 6925 | Q26: 6500 | R26: =$G$26*Q26 -> 90025 | S26: 226 | T26: =$G$26*S26 -> 3130.1 | V26: =$G$26*U26 -> 0 | W26: 2500 | X26: =$G$26*W26 -> 34625 | Y26: 3100 | Z26: =$G$26*Y26 -> 42935 | AA26: 650 | AB26: =$G$26*AA26 -> 9002.5 | AC26: 2370 | AD26: =$G$26*AC26 -> 32824.5 | AF26: =$G$26*AE26 -> 0 | AG26: 250 | AH26: =$G$26*AG26 -> 3462.5 | AJ26: =AG26+AE26+AC26+AA26+Y26+W26+U26+S26+Q26+O26+M26+K26 -> 18796 | AK26: =AH26+AF26+AD26+AB26+Z26+X26+V26+T26+R26+P26+N26+L26 -> 260324.6 | AL26: =AJ26=F26 -> TRUE | AM26: =AK26=I26 -> TRUE
A27: 16 | B27: Textura acrílica, aplicação manual em parede, uma demão. af_04/2023 | D27: 13455 | E27: M2 | F27: =K27+M27+O27+Q27+S27+U27+W27+Y27+AA27+AC27+AE27+AG27 -> 900 | G27: =ORÇAMENTO!I29 -> 16.9 | I27: =ROUND(G27*F27,2) -> 15210 | K27: 50 | L27: =$G$27*K27 -> 845 | M27: 0 | N27: =$G$27*M27 -> 0 | P27: =$G$27*O27 -> 0 | Q27: 600 | R27: =$G$27*Q27 -> 10140 | T27: =$G$27*S27 -> 0 | V27: =$G$27*U27 -> 0 | W27: 0 | X27: =$G$27*W27 -> 0 | Z27: =$G$27*Y27 -> 0 | AB27: =$G$27*AA27 -> 0 | AC27: 0 | AD27: =$G$27*AC27 -> 0 | AF27: =$G$27*AE27 -> 0 | AG27: 250 | AH27: =$G$27*AG27 -> 4225 | AJ27: =AG27+AE27+AC27+AA27+Y27+W27+U27+S27+Q27+O27+M27+K27 -> 900 | AK27: =AH27+AF27+AD27+AB27+Z27+X27+V27+T27+R27+P27+N27+L27 -> 15210 | AL27: =AJ27=F27 -> TRUE | AM27: =AK27=I27 -> TRUE
