Workbook
Name Esquadrias_Externas: #REF!
Name Percentuais: #REF!
Name CPT: #REF!
Name Regime: #REF!
Name Tarefas: #REF!
Name CPT: #REF!
Name Externa: #REF!
Name Percentuais: #REF!
Name Regime: #REF!
Name Interna: #REF!
Name Fachada_Envidraçada: #REF!
Name Área_Médico_Hospitalar: #REF!

Sheet OPERADOR DE MÁQUINA
A1: MODELO DE PLANILHA DE CUSTOS E FORMAÇÃO DO PREÇO
A2: EMPRESA: | B2: =MOTORISTA!B2 -> NIVISA SOLUÇÕES AMBIENTAIS
A3: Licitação nº: | B3: =MOTORISTA!B3 -> 147/2024 | D3: =MOTORISTA!D3 -> Dia 14/02/2025 às09:00 horas
A4: OBJETO DA LICITAÇÃO: | B4: =MOTORISTA!B4 -> Contratação emergencial de equipes para prestação de serviços terceirizados de Motorista categoria C, Operador de Retroescavadeira e Auxiliar Operacional com fornecimento de veículos e equipamentos, para atividades de Limpeza Urbana no município de Pinhais.
A5: Data apresentação Proposta | B5: =MOTORISTA!B5 -> 45702
A6: =MOTORISTA!A6 -> Regime Tributário da Empresa: LUCRO REAL
A7: =MOTORISTA!A7 -> Valor do Enquadramento: _____________________ ( da receita bruta acumulada nos 12 (doze) meses anteriores ao período de apuração para fins de determinação da alíquota, conforme art. 18 da LC 123/206)
A8: DISCRIMINAÇÃO DOS SERVIÇOS - DADOS REFERENTES À CONTRATAÇÃO
A9: Tipo de Serviço | D9: OPERADOR DE MÁQUINA
A10: Unidade de Medida | D10: EQUIPES
A11: Número de Meses da execucao contratual | D11: 12
A12: Categoria Profissional | D12: SINTRAPAV
A13: Data base da categoria | D13: 45444
A14: Valor do salário normativo da Categoria | D14: 2868.43
A16: MÓDULO 1: COMPOSIÇÃO DA REMUNERAÇÃO
A17: CATEGORIA DO EMPREGADO: | B17: OPERADOR DE MÁQUINA - 40 HORAS SEMANAIS
A19: REMUNERAÇÃO | B19: % | C19: VALOR | D19: FUNDAMENTO LEGAL/MEMÓRIA DE CÁLCULO
A20: Salário Base | C20: =D14/44*40 -> 2607.6636 | D20: CONFORME CCT DA CATEGORIA
A21: Adicional de Risco | C21: 0 | D21: CONFORME CCT DA CATEGORIA
A22: Adicional Noturno | C22: 0 | D22: CONFORME CCT DA CATEGORIA
A23: Hora Noturna Reduzida | C23: 0 | D23: CONFORME CCT DA CATEGORIA
A24: Adicional Periculosidade | C24: 0 | D24: CONFORME CCT DA CATEGORIA
A25: Adicional Insalubridade | C25: =B25*$C$20 -> 0 | D25: CONFORME CCT DA CATEGORIA
A26: Adicional de Horas Extras | C26: =B26*$C$20 -> 0 | D26: CONFORME CCT DA CATEGORIA
A27: Intervalo Intrajornada | C27: =B27*$C$20 -> 0 | D27: CONFORME CCT DA CATEGORIA
A28: Outros (Especificar) | C28: =B28*$C$20 -> 0 | D28: CONFORME CCT DA CATEGORIA
A29: TOTAL DA REMUNERAÇÃO | B29: =SUM(B20:B28) -> 0 | C29: =SUM(C20:C28) -> 2607.6636
A31: MÓDULO 2: BENEFÍCIOS MENSAIS E DIÁRIOS
A32: OBS: O valor informado deverá ser o custo real do insumo, descontado o valor eventualmente pago pelo empregado.
A33: BENEFÍCIOS | B33: % s/REMUN | C33: VALOR | D33: OBSERVAÇÕES/ FUNDAMENTO LEGAL/MEMÓRIA DE CÁLCULO
A34: Vale-transporte | C34: =(6*2*22)-(C29*6%) -> 107.54018 | D34: Lei 7.418/95; VT R$ 6,00 | I34: dias úteis | J34: =366-52-52-7 -> 255 | K34: =J34/12 -> 21.25
A35: Auxílio alimentação/Cesta Básica | C35: 520 | D35: SINTRAPAV, CLÁUSULA DÉCIMA QUARTA, P QUARTO | E35: Jurisprudência do TST (Orientação Jurisprudencial nº 55 SDI-1)
A36: Assistência Médica | C36: 81 | D36: SIEMACO CCT PREPONDERANTE DA EMPRESA
A37: Benefício Social e Familiar | C37: 26 | D37: SIEMACO CCT PREPONDERANTE DA EMPRESA
A38: Fundo de Formação Profssional | C38: 26 | D38: SIEMACO CCT PREPONDERANTE DA EMPRESA
A39: Desjejum | C39: 160 | D39: SIEMACO CCT PREPONDERANTE DA EMPRESA
A40: - outros | C40: 0 | D40: CONFORME CCT DA CATEGORIA
A41: TOTAL DOS BENEFÍCIOS | B41: =SUM(B34:B40) -> 0 | C41: =SUM(C34:C40) -> 920.54018
A43: MÓDULO 3: INSUMOS DIVERSOS
A44: BENEFÍCIOS | B44: % s/REMUN | C44: VALOR | D44: OBSERVAÇÕES/ FUNDAMENTO LEGAL/MEMÓRIA DE CÁLCULO
...

Sheet MOTORISTA
A1: MODELO DE PLANILHA DE CUSTOS E FORMAÇÃO DO PREÇO
A2: EMPRESA: | B2: NIVISA SOLUÇÕES AMBIENTAIS
A3: Licitação nº: | B3: 147/2024 | D3: Dia 14/02/2025 às09:00 horas
A4: OBJETO DA LICITAÇÃO: | B4: Contratação emergencial de equipes para prestação de serviços terceirizados de Motorista categoria C, Operador de Retroescavadeira e Auxiliar Operacional com fornecimento de veículos e equipamentos, para atividades de Limpeza Urbana no município de Pinhais.
A5: Data apresentação Proposta | B5: 45702
A6: Regime Tributário da Empresa: LUCRO REAL
A7: Valor do Enquadramento: _____________________ ( da receita bruta acumulada nos 12 (doze) meses anteriores ao período de apuração para fins de determinação da alíquota, conforme art. 18 da LC 123/206)
A8: DISCRIMINAÇÃO DOS SERVIÇOS - DADOS REFERENTES À CONTRATAÇÃO
A9: Tipo de Serviço | D9: MOTORISTA CATEGORIA "C"
A10: Unidade de Medida | D10: EQUIPES
A11: Número de Meses da execucao contratual | D11: 3
A12: Categoria Profissional | D12: SINTRACARP
A13: Data base da categoria | D13: 45413
A14: Valor do salário normativo da Categoria | D14: 2234
A16: MÓDULO 1: COMPOSIÇÃO DA REMUNERAÇÃO
A17: CATEGORIA DO EMPREGADO: | B17: MOTORISTA CATEGORIA "C" - 40 HORAS SEMANAIS
A19: REMUNERAÇÃO | B19: % | C19: VALOR | D19: FUNDAMENTO LEGAL/MEMÓRIA DE CÁLCULO
A20: Salário Base | C20: =2234/220*200 -> 2030.9091 | D20: SINTRACARP
A21: Adicional de Risco | C21: 0 | D21: CONFORME CCT DA CATEGORIA
A22: Adicional Noturno | C22: 0 | D22: CONFORME CCT DA CATEGORIA
A23: Hora Noturna Reduzida | C23: 0 | D23: CONFORME CCT DA CATEGORIA
A24: Adicional Periculosidade | C24: 0 | D24: CONFORME CCT DA CATEGORIA
A25: Adicional Insalubridade | C25: =B25*$C$20 -> 0 | D25: CONFORME CCT DA CATEGORIA
A26: Adicional de Horas Extras | C26: =B26*$C$20 -> 0 | D26: CONFORME CCT DA CATEGORIA
A27: Intervalo Intrajornada | C27: =B27*$C$20 -> 0 | D27: CONFORME CCT DA CATEGORIA
A28: Outros (Especificar) | C28: =B28*$C$20 -> 0 | D28: CONFORME CCT DA CATEGORIA
A29: TOTAL DA REMUNERAÇÃO | B29: =SUM(B20:B28) -> 0 | C29: =SUM(C20:C28) -> 2030.9091
A31: MÓDULO 2: BENEFÍCIOS MENSAIS E DIÁRIOS
A32: OBS: O valor informado deverá ser o custo real do insumo, descontado o valor eventualmente pago pelo empregado.
A33: BENEFÍCIOS | B33: % s/REMUN | C33: VALOR | D33: OBSERVAÇÕES/ FUNDAMENTO LEGAL/MEMÓRIA DE CÁLCULO
A34: Vale-transporte | C34: =(6*2*22)-(C29*6%) -> 142.14545 | D34: Lei 7.418/95; VT R$ 6,00 | I34: dias úteis | J34: =366-52-52-7 -> 255 | K34: =J34/12 -> 21.25
A35: Auxílio alimentação/Cesta Básica | C35: =560 -> 560 | D35: Conforme CCT preponderante da empresa (Siemaco) | E35: Jurisprudência do TST (Orientação Jurisprudencial nº 55 SDI-1)
A36: Assistência Médica | C36: 81 | D36: Conforme CCT preponderante da empresa (Siemaco)
A37: Benefício Social e Familiar | C37: 26 | D37: Conforme CCT preponderante da empresa (Siemaco)
A38: Fundo de Formação Profssional | C38: 26 | D38: Conforme CCT preponderante da empresa (Siemaco)
A39: Desjejum | C39: 160 | D39: Conforme CCT preponderante da empresa (Siemaco)
A40: - outros
A41: TOTAL DOS BENEFÍCIOS | B41: =SUM(B34:B40) -> 0 | C41: =SUM(C34:C40) -> 995.14545
A43: MÓDULO 3: INSUMOS DIVERSOS
A44: BENEFÍCIOS | B44: % s/REMUN | C44: VALOR | D44: OBSERVAÇÕES/ FUNDAMENTO LEGAL/MEMÓRIA DE CÁLCULO
...

Sheet AUXILIAR OPERACIONAL
A1: MODELO DE PLANILHA DE CUSTOS E FORMAÇÃO DO PREÇO
A2: EMPRESA: | B2: =MOTORISTA!B2 -> NIVISA SOLUÇÕES AMBIENTAIS
A3: Licitação nº: | B3: =MOTORISTA!B3 -> 147/2024 | D3: =MOTORISTA!D3 -> Dia 14/02/2025 às09:00 horas
A4: OBJETO DA LICITAÇÃO: | B4: =MOTORISTA!B4 -> Contratação emergencial de equipes para prestação de serviços terceirizados de Motorista categoria C, Operador de Retroescavadeira e Auxiliar Operacional com fornecimento de veículos e equipamentos, para atividades de Limpeza Urbana no município de Pinhais.
A5: Data apresentação Proposta | B5: =MOTORISTA!B5 -> 45702
A6: =MOTORISTA!A6 -> Regime Tributário da Empresa: LUCRO REAL
A7: =MOTORISTA!A7 -> Valor do Enquadramento: _____________________ ( da receita bruta acumulada nos 12 (doze) meses anteriores ao período de apuração para fins de determinação da alíquota, conforme art. 18 da LC 123/206)
A8: DISCRIMINAÇÃO DOS SERVIÇOS - DADOS REFERENTES À CONTRATAÇÃO
A9: Tipo de Serviço | D9: AUXILIAR OPERACIONAL
A10: Unidade de Medida | D10: EQUIPES
A11: Número de Meses da execucao contratual | D11: 12
A12: Categoria Profissional | D12: SIEMACO
A13: Data base da categoria | D13: 45689
A14: Valor do salário normativo da Categoria | D14: 1749
A16: MÓDULO 1: COMPOSIÇÃO DA REMUNERAÇÃO
A17: CATEGORIA DO EMPREGADO: | B17: AUXILIAR OPERACIONAL - 40 HORAS SEMANAIS
A19: REMUNERAÇÃO | B19: % | C19: VALOR | D19: FUNDAMENTO LEGAL/MEMÓRIA DE CÁLCULO
A20: Salário Base | C20: =D14/44*40 -> 1590 | D20: CONFORME CCT DA CATEGORIA
A21: Adicional de Risco | C21: 0 | D21: CONFORME CCT DA CATEGORIA
A22: Adicional Noturno | C22: 0 | D22: CONFORME CCT DA CATEGORIA
A23: Hora Noturna Reduzida | C23: 0 | D23: CONFORME CCT DA CATEGORIA
A24: Descanso Semanal Remunerado | C24: =SUM(C22:C23)*20% -> 0 | D24: CONFORME CCT DA CATEGORIA
A25: Adicional Periculosidade | C25: 0 | D25: CONFORME CCT DA CATEGORIA
A26: Adicional Insalubridade | B26: 0.4 | C26: =B26*1518/44*40 -> 552 | D26: CONFORME CCT DA CATEGORIA
A27: Feriado Trabalho | C27: 0 | D27: CONFORME CCT DA CATEGORIA
A28: Intervalo Intrajornada | C28: =B28*$C$20 -> 0 | D28: CONFORME CCT DA CATEGORIA
A29: Outros (Especificar) | C29: =B29*$C$20 -> 0 | D29: CONFORME CCT DA CATEGORIA
A30: TOTAL DA REMUNERAÇÃO | B30: =SUM(B20:B29) -> 0.4 | C30: =SUM(C20:C29) -> 2142
A32: MÓDULO 2: BENEFÍCIOS MENSAIS E DIÁRIOS
A33: OBS: O valor informado deverá ser o custo real do insumo, descontado o valor eventualmente pago pelo empregado.
A34: BENEFÍCIOS | B34: % s/REMUN | C34: VALOR | D34: OBSERVAÇÕES/ FUNDAMENTO LEGAL/MEMÓRIA DE CÁLCULO
A35: Vale-transporte | C35: =(6*2*22)-(C20*6%) -> 168.6 | D35: Lei 7.418/95; VT R$ 6,00 | I35: dias úteis | J35: =366-52-52-7 -> 255 | K35: =J35/12 -> 21.25
A36: Auxílio alimentação/Cesta Básica | C36: 560 | D36: SIEMACO CCT PREPONDERANTE DA EMPRESA
A37: Assistência Médica | C37: 81 | D37: SIEMACO CCT PREPONDERANTE DA EMPRESA
A38: Benefício Social e Familiar | C38: 26 | D38: SIEMACO CCT PREPONDERANTE DA EMPRESA
A39: Fundo de Formação Profssional | C39: 26 | D39: SIEMACO CCT PREPONDERANTE DA EMPRESA
A40: Desjejum | C40: 160 | D40: SIEMACO CCT PREPONDERANTE DA EMPRESA
A41: - outros | C41: 0 | D41: SIEMACO CCT PREPONDERANTE DA EMPRESA
A42: TOTAL DOS BENEFÍCIOS | B42: =SUM(B35:B41) -> 0 | C42: =SUM(C35:C41) -> 1021.6
A44: MÓDULO 3: INSUMOS DIVERSOS
...

Sheet COMPOSIÇÃO EQUIPES
A1: MODELO DE PLANILHA DE CUSTOS E FORMAÇÃO DO PREÇO
A2: EMPRESA: | B2: =MOTORISTA!B2 -> NIVISA SOLUÇÕES AMBIENTAIS
A3: Licitação nº: | B3: =MOTORISTA!B3 -> 147/2024
A4: OBJETO DA LICITAÇÃO: | B4: =MOTORISTA!B4 -> Contratação emergencial de equipes para prestação de serviços terceirizados de Motorista categoria C, Operador de Retroescavadeira e Auxiliar Operacional com fornecimento de veículos e equipamentos, para atividades de Limpeza Urbana no município de Pinhais.
B6: Descritivo | C6: Cargos | D6: Valor Unitário | E6: Quantidade Mensal | F6: Valor Final Mensal
A7: Lote 1 | B7: Equipe para execução de serviços de limpeza urbana composta por operador com retroescavadeira, motorista com caminhão basculante e auxiliar operacional | C7: Operador com Retroescavadeira | D7: ='OPERADOR DE MÁQUINA'!D245 -> 13072.824 | E7: 3 | F7: =E7*D7 -> 39218.473
C8: Motorista com caminhão basculante | D8: =MOTORISTA!D260 -> 9433.3682 | E8: 3 | F8: =E8*D8 -> 28300.105
C9: Auxiliar Operacional | D9: ='AUXILIAR OPERACIONAL'!D163 -> 5544.9991 | E9: 3 | F9: =E9*D9 -> 16634.997
E10: Valor Total Mensal | F10: =SUM(F7:F9) -> 84153.574
B13: Descritivo | C13: Cargos | D13: Valor Unitário | E13: Quantidade Mensal | F13: Valor Final Mensal
A14: Lote 2 | B14: Equipe para execução de serviços de limpeza urbana composta por motorista com caminhão carroceria aberta e auxiliar operacional | C14: Motorista com caminhão carroceria aberta | D14: =MOTORISTA!D261 -> 9433.3682 | E14: 3 | F14: =E14*D14 -> 28300.105
C15: Auxiliar Operacional | D15: ='AUXILIAR OPERACIONAL'!D163 -> 5544.9991 | E15: 6 | F15: =E15*D15 -> 33269.994
E16: Valor Total Mensal | F16: =SUM(F14:F15) -> 61570.099
E19: Valor Total Mensal Lote 1 + Lote 2 | F19: =F10+F16 -> 145723.67

Sheet VALOR FINAL
A1: MODELO DE PLANILHA DE CUSTOS E FORMAÇÃO DO PREÇO
A2: EMPRESA: | B2: =MOTORISTA!B2 -> NIVISA SOLUÇÕES AMBIENTAIS
A3: Licitação nº: | B3: =MOTORISTA!B3 -> 147/2024
A4: OBJETO DA LICITAÇÃO: | B4: =MOTORISTA!B4 -> Contratação emergencial de equipes para prestação de serviços terceirizados de Motorista categoria C, Operador de Retroescavadeira e Auxiliar Operacional com fornecimento de veículos e equipamentos, para atividades de Limpeza Urbana no município de Pinhais.
A6: Lote 1
A7: Item | B7: CATSER | C7: Descritivo | D7: Unidade | E7: Quantidade Mensal | F7: Quantidade Total (12 meses) | G7: Valor Unitário por equipe | H7: Valor Mensal | I7: Valor Total
A8: 1 | C8: ='COMPOSIÇÃO EQUIPES'!B7 -> Equipe para execução de serviços de limpeza urbana composta por operador com retroescavadeira, motorista com caminhão basculante e auxiliar operacional | D8: Equipes | E8: 3 | F8: =12*E8 -> 36 | G8: ='COMPOSIÇÃO EQUIPES'!D7+'COMPOSIÇÃO EQUIPES'!D8+'COMPOSIÇÃO EQUIPES'!D9 -> 28051.191 | H8: =G8*E8 -> 84153.574 | I8: =G8*F8 -> 1009842.9
G9: 28826.73
A10: Lote 2
A11: Item | B11: CATSER | C11: Descritivo | D11: Unidade | E11: Quantidade Mensal | F11: Quantidade Total (12 meses) | G11: Valor Unitário por equipe | H11: Valor Mensal | I11: Valor Total
A12: 1 | C12: ='COMPOSIÇÃO EQUIPES'!B14 -> Equipe para execução de serviços de limpeza urbana composta por motorista com caminhão carroceria aberta e auxiliar operacional | D12: Equipes | E12: 3 | F12: =12*E12 -> 36 | G12: ='COMPOSIÇÃO EQUIPES'!D14+2*'COMPOSIÇÃO EQUIPES'!D15 -> 20523.366 | H12: =G12*E12 -> 61570.099 | I12: =G12*F12 -> 738841.19
G13: 20712.33
H14: Valor da Dispensa | I14: =I8+I12 -> 1748684.1
