Workbook
Name REFS2023: 'Dados DEPOR'!$P:$S
Name REFS2024: 'Dados DEPOR'!$T:$W

Sheet Formulário indicação D.O.
A1: Órgão: | B1: Secretaria Municipal de Obras Públicas - SEMOP
A2: Unidade: | B2: Departamento de Infraestrutura - DEINF
A3: Programa PPA n.º: 104 | D3: Descrição: | E3: Pinhais em Obras
A4: AÇÃO LDO nº: 2137 | D4: Descrição: | E4: Manter e subsidiar a compra de insumos para viabilizar a fabricação de artefatos de concreto e dar suporte as atividades do departamento
A5: Objeto: | B5: Aquisição de insumos para reforma, manutenção e ampliação, visando execução de drenagem, calçadas, passeios e ciclovias.
A6: Das Dotações
A7: Vínculo | D7: Descrição do vínculo
A8: Número | C8: Reduzido | D8: Descrição do Elemento de Despesa | F8: Vínculo | G8: origem do recurso (municipal, estadual, federal) | H8: Ano | I8: Valor
A9: 07.007.0015.0452.0104.2137.33.90.30.24.00 | C9: 455 | D9: Material para manutenção de bens imóveis | F9: 33 | G9: Municipal | H9: 2025 | I9: 151481.1
A10: 07.007.0015.0452.0104.2137.33.90.30.25.00 | C10: 455 | D10: Material para manutenção de bens imóveis | F10: 33 | G10: Municipal | H10: 2025 | I10: 79442.25
A11: Total | I11: =SUM(I9:I10) -> 230923.35
I13: Pinhais, 20/08/2025
A15: Forma de contração: | D15: Ata
A16: Prazo: | D16: 12 MESES
A17: O valor da dotação é proveniente de Crédito adicional? | D17: SIM | E17: NÃO | F17: Se sim, indicar o numero do protocolo
A18: Trata-se de convênio? | D18: SIM | E18: NÃO | F18: Se sim, indicar o nome do Recurso e anexar o termo de convênio ao e-mail

Sheet Quantitativo
A1: ITEM | B1: ESPECIFICAÇÃO | C1: CATMAT | D1: UNIDADE DE MEDIDA | E1: QUANTIDADE | F1: VALOR UNITÁRIO | G1: VALOR TOTAL
A2: 1 | B2: Tubo para Esgoto em PVC Série Normal bitola 100mm barra com 6 metros DN100 NBR 5688 | C2: 233972 | D2: unid. | E2: 700 | F2: R$ 81,18 | G2: R$ 56.826,00 | I2: 3390302400
A3: 2 | B3: Joelho 100mm x 90° para Esgoto em PVC Série Normal DN100 NBR 5688 | C3: 351457 | D3: unid. | E3: 1200 | F3: R$ 7,98 | G3: R$ 9.576,00 | I3: 3390302400
A4: 3 | B4: Joelho 150mm x 90° para Esgoto em PVC Série Normal DN150 NBR 5688 | C4: 351458 | D4: unid. | E4: 250 | F4: R$ 31,17 | G4: R$ 7.792,50 | I4: 3390302400
A5: 4 | B5: Joelho 150mm x 45° para Esgoto em PVC Série Normal DN150 NBR 5688 | C5: 351450 | D5: unid. | E5: 250 | F5: R$ 35,88 | G5: R$ 8.970,00 | I5: 3390302400
A6: 5 | B6: Luva Simples 100mm para Esgoto em PVC Série Normal DN100 NBR 5688 | C6: 318685 | D6: unid. | E6: 1500 | F6: R$ 5,04 | G6: R$ 7.560,00 | I6: 3390302400
A7: 6 | B7: Cap 100mm para Esgoto em PVC Série Normal DN100 NBR 5688 | C7: 380960 | D7: unid. | E7: 500 | F7: R$ 5,45 | G7: R$ 2.725,00 | I7: 3390302400
A8: 7 | B8: Tê 100mm x 100mm para Esgoto em PVC Série Normal DN100 NBR 5688 | C8: 351393 | D8: unid. | E8: 180 | F8: R$ 12,61 | G8: R$ 2.269,80 | I8: 3390302400
A9: 8 | B9: Tê 150mm x 150mm para Esgoto em PVC Série Normal DN150 NBR 5688 | C9: 351400 | D9: unid. | E9: 30 | F9: R$ 55,66 | G9: R$ 1.669,80 | I9: 3390302400
A10: 9 | B10: Tê 150mm x 100mm para Esgoto em PVC Série Normal DN150 NBR 5688 | C10: 351399 | D10: unid. | E10: 30 | F10: R$ 66,57 | G10: R$ 1.997,10 | I10: 3390302400
A11: 10 | B11: Junção simples 150mm x 150mm para Esgoto em PVC Série Normal DN150 NBR 5689 | C11: 453477 | D11: unid. | E11: 30 | F11: R$ 78,73 | G11: R$ 2.361,90 | I11: 3390302400
A12: 11 | B12: União em Polipropileno (PP) com compressão, para tubo em PEAD, 20 mm | C12: 480466 | D12: unid. | E12: 1000 | F12: R$ 9,77 | G12: R$ 9.770,00 | I12: 3390302400
A13: 12 | B13: Valvula de retenção para esgoto em PVC 100mm x 150mm Série Normal DN150 NBR 5689 | C13: 237002 | D13: unid. | E13: 200 | F13: R$ 100,51 | G13: R$ 20.102,00 | I13: 3390302400
... A15: 14 | B15: Disco de corte diamantado segmentado para cortar asfalto, concreto, pedra natural e granito, diametro de 350mm, com no mínimo 11mm de pastilha, para corte seco e refrigerado com água, Furo: 25,4mm - Acompanhar fixado no disco pelo fabricante bucha de redução para 20mm, constar na embalagem corte a seco. | C15: 626113 | D15: unid. | E15: 219 | F15: R$ 362,75 | G15: R$ 79.442,25 | I15: 3390302500
A16: TOTAL | F16: R$ 230.923,35

Sheet Dados DEPOR
A1: 0241
C3: Prefeitura Municipal de Pinhais | P3: =IFERROR(__xludf.DUMMYFUNCTION("IMPORTRANGE(""https://docs.google.com/spreadsheets/d/1BiojmyzFLJTGXbOmh3nZ4uJFOSnKYPz2hIAjVnzKLH8/edit#gid=1956144925"",""REFS!A3:H"")"),"#REF!") -> #REF!
C4: Documento dos dados Orçamentarios
C6: Forma de Contratação | F6: Ata R.P
C10: Preencher a tabela abaixo com as dotações orçamentárias; Não mesclar células; Caso seja necessário inserir mais linhas, insira-as no início ou no meio de outras linhas já preenchidas.
C14: O processo licitatório será custeado com orçamento de:
C15: Ano | D15: Referência Despesa(reduzido) | E15: Dotação Completa | F15: Desdobramento | G15: Detalhamento | H15: Vínculo | I15: Origem do Recurso | J15: Valor | K15: Órgão
K16: semop | L16: =LEFT(E16,2)
K17: semop | L17: =LEFT(E17,2)
L18: =LEFT(E18,2)
L19: =LEFT(E19,2)
L20: =LEFT(E20,2)
E21: =IFERROR(IF(C21="2023",VLOOKUP(D21,$Q$4:$T5025,2,0),VLOOKUP(D21,$U$4:$W5025,2,0)),"Verifique a referência") -> Verifique a referência | H21: =IFERROR(IF(C21="2023",VLOOKUP(D21,$Q$4:$T5025,3,0),VLOOKUP(D21,$U$4:$W5025,3,0)),"Verifique a referência") -> Verifique a referência | K21: =IFERROR(VLOOKUP(L21,[1]ORGÃO!A:B,2,0),"Verifique a referência") -> #ERROR! | L21: =LEFT(E21,2) -> Ve
E22: =IFERROR(IF(C22="2023",VLOOKUP(D22,$Q$4:$T5026,2,0),VLOOKUP(D22,$U$4:$W5026,2,0)),"Verifique a referência") -> Verifique a referência | H22: =IFERROR(IF(C22="2023",VLOOKUP(D22,$Q$4:$T5026,3,0),VLOOKUP(D22,$U$4:$W5026,3,0)),"Verifique a referência") -> Verifique a referência | K22: =IFERROR(VLOOKUP(L21,[1]ORGÃO!A:B,2,0),"Verifique a referência") -> #ERROR! | L22: =LEFT(E22,2) -> Ve
E23: =IFERROR(IF(C23="2023",VLOOKUP(D23,$Q$4:$T5027,2,0),VLOOKUP(D23,$U$4:$W5027,2,0)),"Verifique a referência") -> Verifique a referência | H23: =IFERROR(IF(C23="2023",VLOOKUP(D23,$Q$4:$T5027,3,0),VLOOKUP(D23,$U$4:$W5027,3,0)),"Verifique a referência") -> Verifique a referência | K23: =IFERROR(VLOOKUP(L21,[1]ORGÃO!A:B,2,0),"Verifique a referência") -> #ERROR! | L23: =LEFT(E23,2) -> Ve
E24: =IFERROR(IF(C24="2023",VLOOKUP(D24,$Q$4:$T5028,2,0),VLOOKUP(D24,$U$4:$W5028,2,0)),"Verifique a referência") -> Verifique a referência | H24: =IFERROR(IF(C24="2023",VLOOKUP(D24,$Q$4:$T5028,3,0),VLOOKUP(D24,$U$4:$W5028,3,0)),"Verifique a referência") -> Verifique a referência | K24: =IFERROR(VLOOKUP(L21,[1]ORGÃO!A:B,2,0),"Verifique a referência") -> #ERROR! | L24: =LEFT(E24,2) -> Ve
E25: =IFERROR(IF(C25="2023",VLOOKUP(D25,$Q$4:$T5029,2,0),VLOOKUP(D25,$U$4:$W5029,2,0)),"Verifique a referência") -> Verifique a referência | H25: =IFERROR(IF(C25="2023",VLOOKUP(D25,$Q$4:$T5029,3,0),VLOOKUP(D25,$U$4:$W5029,3,0)),"Verifique a referência") -> Verifique a referência | K25: =IFERROR(VLOOKUP(L21,[1]ORGÃO!A:B,2,0),"Verifique a referência") -> #ERROR! | L25: =LEFT(E25,2) -> Ve
E26: =IFERROR(IF(C26="2023",VLOOKUP(D26,$Q$4:$T5030,2,0),VLOOKUP(D26,$U$4:$W5030,2,0)),"Verifique a referência") -> Verifique a referência | H26: =IFERROR(IF(C26="2023",VLOOKUP(D26,$Q$4:$T5030,3,0),VLOOKUP(D26,$U$4:$W5030,3,0)),"Verifique a referência") -> Verifique a referência | K26: =IFERROR(VLOOKUP(L21,[1]ORGÃO!A:B,2,0),"Verifique a referência") -> #ERROR! | L26: =LEFT(E26,2) -> Ve
E27: =IFERROR(IF(C27="2023",VLOOKUP(D27,$Q$4:$T5031,2,0),VLOOKUP(D27,$U$4:$W5031,2,0)),"Verifique a referência") -> Verifique a referência | H27: =IFERROR(IF(C27="2023",VLOOKUP(D27,$Q$4:$T5031,3,0),VLOOKUP(D27,$U$4:$W5031,3,0)),"Verifique a referência") -> Verifique a referência | K27: =IFERROR(VLOOKUP(L21,[1]ORGÃO!A:B,2,0),"Verifique a referência") -> #ERROR! | L27: =LEFT(E27,2) -> Ve
E28: =IFERROR(IF(C28="2023",VLOOKUP(D28,$Q$4:$T5032,2,0),VLOOKUP(D28,$U$4:$W5032,2,0)),"Verifique a referência") -> Verifique a referência | H28: =IFERROR(IF(C28="2023",VLOOKUP(D28,$Q$4:$T5032,3,0),VLOOKUP(D28,$U$4:$W5032,3,0)),"Verifique a referência") -> Verifique a referência | K28: =IFERROR(VLOOKUP(L21,[1]ORGÃO!A:B,2,0),"Verifique a referência") -> #ERROR! | L28: =LEFT(E28,2) -> Ve
E29: =IFERROR(IF(C29="2023",VLOOKUP(D29,$Q$4:$T5033,2,0),VLOOKUP(D29,$U$4:$W5033,2,0)),"Verifique a referência") -> Verifique a referência | H29: =IFERROR(IF(C29="2023",VLOOKUP(D29,$Q$4:$T5033,3,0),VLOOKUP(D29,$U$4:$W5033,3,0)),"Verifique a referência") -> Verifique a referência | K29: =IFERROR(VLOOKUP(L21,[1]ORGÃO!A:B,2,0),"Verifique a referência") -> #ERROR! | L29: =LEFT(E29,2) -> Ve | N29: =MID(E29,23,4)
E30: =IFERROR(IF(C30="2023",VLOOKUP(D30,$Q$4:$T5034,2,0),VLOOKUP(D30,$U$4:$W5034,2,0)),"Verifique a referência") -> Verifique a referência | H30: =IFERROR(IF(C30="2023",VLOOKUP(D30,$Q$4:$T5034,3,0),VLOOKUP(D30,$U$4:$W5034,3,0)),"Verifique a referência") -> Verifique a referência | K30: =IFERROR(VLOOKUP(L21,[1]ORGÃO!A:B,2,0),"Verifique a referência") -> #ERROR! | L30: =LEFT(E30,2) -> Ve
C36: TOTAL 2025 | J36: =SUM(J16:J17) -> 0
C38: TOTAL GERAL | J38: =SUM(J35:J37) -> 0
