Workbook

Sheet PO
A2: PLANILHA ORÇAMENTÁRIA GLOBAL
A3: OBRA/SERVIÇO | C3: CONTRATAÇÃO DE EMPRESA PARA EXECUÇÃO DE ENSAIOS DE SOLOS | H3: LOCAL | I3: DIVERSOS | N3: ÁREA (m²) | O3: - | P3: DATA | Q3: =TODAY() -> 46266 | R3: BDI | S3: =BDI!C15 -> 0.2415
A4: ITEM | B4: FONTE | C4: CÓDIGO | D4: DATA PREÇO | E4: DESCRIÇÃO | F4: UN | G4: QT | H4: CUSTO UNITÁRIO SEM BDI (R$) | K4: CUSTO TOTAL SEM BDI (R$) | N4: PREÇO UNITÁRIO COM BDI (R$) | Q4: PREÇO TOTAL COM BDI (R$)
H5: MATERIAL | I5: MÃO DE OBRA | J5: TOTAL | K5: MATERIAL | L5: MÃO DE OBRA | M5: TOTAL | N5: MATERIAL | O5: MÃO DE OBRA | P5: TOTAL | Q5: MATERIAL | R5: MÃO DE OBRA | S5: TOTAL
A6: TOTAL DO ORÇAMENTO | K6: =K7 -> 0 | L6: =L7 -> 0 | M6: =M7 -> 0 | Q6: =Q7 -> 0 | R6: =R7 -> 0 | S6: =S7 -> 0
A7: =QUANTITATIVOS!A7 -> 1 | B7: =QUANTITATIVOS!B7 -> ENSAIOS LABORATORIAIS | K7: =SUM(K8:K14) -> 0 | L7: =SUM(L8:L14) -> 0 | M7: =SUM(M8:M14) -> 0 | Q7: =SUM(Q8:Q14) -> 0 | R7: =SUM(R8:R14) -> 0 | S7: =SUM(S8:S14) -> 0
A8: =QUANTITATIVOS!A8 -> 1.1 | B8: COMP | C8: CPU 01 | D8: 04/2026 | E8: =IF(B8="COMP",(VLOOKUP(C8,COMP!$B$1:$C$12409,2,0)),(VLOOKUP(C8,SINAPI!$A$1:$B$31347,2,0))) -> MOBILIZAÇÃO E DESMOBILIZAÇÃO DE PESSOAL E EQUIPAMENTOS PARA COLETA E SONDAGEM DE SOLO | F8: =IF(B8="COMP",VLOOKUP(C8,COMP!$B$1:$D$12409,3,0),(VLOOKUP(C8,SINAPI!$A$1:$C$31347,3,0))) -> un | G8: =QUANTITATIVOS!C8 -> 16 | K8: =ROUND($G8*H8,2) -> 0 | L8: =ROUND($G8*I8,2) -> 0 | M8: =K8+L8 -> 0 | N8: =ROUND(H8*(1+$S$3),2) -> 0 | O8: =ROUND(I8*(1+$S$3),2) -> 0 | P8: =N8+O8 -> 0 | Q8: =ROUND(N8*$G8,2) -> 0 | R8: =ROUND(O8*$G8,2) -> 0 | S8: =Q8+R8 -> 0
A9: =QUANTITATIVOS!A9 -> 1.2 | B9: COMP | C9: CPU 02 | D9: 04/2026 | E9: =IF(B9="COMP",(VLOOKUP(C9,COMP!$B$1:$C$12409,2,0)),(VLOOKUP(C9,SINAPI!$A$1:$B$31347,2,0))) -> ENSAIO DE LIMITE DE PLASTICIDADE – SOLOS | F9: =IF(B9="COMP",VLOOKUP(C9,COMP!$B$1:$D$12409,3,0),(VLOOKUP(C9,SINAPI!$A$1:$C$31347,3,0))) -> un | G9: 160 | K9: =ROUND($G9*H9,2) -> 0 | L9: =ROUND($G9*I9,2) -> 0 | M9: =K9+L9 -> 0 | N9: =ROUND(H9*(1+$S$3),2) -> 0 | O9: =ROUND(I9*(1+$S$3),2) -> 0 | P9: =N9+O9 -> 0 | Q9: =ROUND(N9*$G9,2) -> 0 | R9: =ROUND(O9*$G9,2) -> 0 | S9: =Q9+R9 -> 0
A10: =QUANTITATIVOS!A10 -> 1.3 | B10: COMP | C10: CPU 03 | D10: 04/2026 | E10: =IF(B10="COMP",(VLOOKUP(C10,COMP!$B$1:$C$12409,2,0)),(VLOOKUP(C10,SINAPI!$A$1:$B$31347,2,0))) -> ENSAIO DE GRANULOMETRIA POR PENEIRAMENTO E SEDIMENTAÇÃO | F10: =IF(B10="COMP",VLOOKUP(C10,COMP!$B$1:$D$12409,3,0),(VLOOKUP(C10,SINAPI!$A$1:$C$31347,3,0))) -> un | G10: 160 | K10: =ROUND($G10*H10,2) -> 0 | L10: =ROUND($G10*I10,2) -> 0 | M10: =K10+L10 -> 0 | N10: =ROUND(H10*(1+$S$3),2) -> 0 | O10: =ROUND(I10*(1+$S$3),2) -> 0 | P10: =N10+O10 -> 0 | Q10: =ROUND(N10*$G10,2) -> 0 | R10: =ROUND(O10*$G10,2) -> 0 | S10: =Q10+R10 -> 0
A11: =QUANTITATIVOS!A11 -> 1.4 | B11: COMP | C11: CPU 04 | D11: 04/2026 | E11: =IF(B11="COMP",(VLOOKUP(C11,COMP!$B$1:$C$12409,2,0)),(VLOOKUP(C11,SINAPI!$A$1:$B$31347,2,0))) -> ÍNDICE DE SUPORTE CALIFÓRNIA – CBR | F11: =IF(B11="COMP",VLOOKUP(C11,COMP!$B$1:$D$12409,3,0),(VLOOKUP(C11,SINAPI!$A$1:$C$31347,3,0))) -> un | G11: 160 | K11: =ROUND($G11*H11,2) -> 0 | L11: =ROUND($G11*I11,2) -> 0 | M11: =K11+L11 -> 0 | N11: =ROUND(H11*(1+$S$3),2) -> 0 | O11: =ROUND(I11*(1+$S$3),2) -> 0 | P11: =N11+O11 -> 0 | Q11: =ROUND(N11*$G11,2) -> 0 | R11: =ROUND(O11*$G11,2) -> 0 | S11: =Q11+R11 -> 0
A12: =QUANTITATIVOS!A12 -> 1.5 | B12: COMP | C12: CPU 05 | D12: 04/2026 | E12: =IF(B12="COMP",(VLOOKUP(C12,COMP!$B$1:$C$12409,2,0)),(VLOOKUP(C12,SINAPI!$A$1:$B$31347,2,0))) -> COMPACTAÇÃO - PROCTOR NORMAL | F12: =IF(B12="COMP",VLOOKUP(C12,COMP!$B$1:$D$12409,3,0),(VLOOKUP(C12,SINAPI!$A$1:$C$31347,3,0))) -> un | G12: 160 | K12: =ROUND($G12*H12,2) -> 0 | L12: =ROUND($G12*I12,2) -> 0 | M12: =K12+L12 -> 0 | N12: =ROUND(H12*(1+$S$3),2) -> 0 | O12: =ROUND(I12*(1+$S$3),2) -> 0 | P12: =N12+O12 -> 0 | Q12: =ROUND(N12*$G12,2) -> 0 | R12: =ROUND(O12*$G12,2) -> 0 | S12: =Q12+R12 -> 0
A13: =QUANTITATIVOS!A13 -> 1.6 | B13: COMP | C13: CPU 06 | D13: 04/2026 | E13: =IF(B13="COMP",(VLOOKUP(C13,COMP!$B$1:$C$12409,2,0)),(VLOOKUP(C13,SINAPI!$A$1:$B$31347,2,0))) -> SONDAGEM A TRADO 1,5 METROS | F13: =IF(B13="COMP",VLOOKUP(C13,COMP!$B$1:$D$12409,3,0),(VLOOKUP(C13,SINAPI!$A$1:$C$31347,3,0))) -> un | G13: 160 | K13: =ROUND($G13*H13,2) -> 0 | L13: =ROUND($G13*I13,2) -> 0 | M13: =K13+L13 -> 0 | N13: =ROUND(H13*(1+$S$3),2) -> 0 | O13: =ROUND(I13*(1+$S$3),2) -> 0 | P13: =N13+O13 -> 0 | Q13: =ROUND(N13*$G13,2) -> 0 | R13: =ROUND(O13*$G13,2) -> 0 | S13: =Q13+R13 -> 0
A14: =QUANTITATIVOS!A14 -> 1.7 | B14: COMP | C14: CPU 07 | D14: 04/2026 | E14: =IF(B14="COMP",(VLOOKUP(C14,COMP!$B$1:$C$12409,2,0)),(VLOOKUP(C14,SINAPI!$A$1:$B$31347,2,0))) -> ENSAIO DE LIMITE DE LIQUIDEZ – SOLOS | F14: =IF(B14="COMP",VLOOKUP(C14,COMP!$B$1:$D$12409,3,0),(VLOOKUP(C14,SINAPI!$A$1:$C$31347,3,0))) -> un | G14: 160 | K14: =ROUND($G14*H14,2) -> 0 | L14: =ROUND($G14*I14,2) -> 0 | M14: =K14+L14 -> 0 | N14: =ROUND(H14*(1+$S$3),2) -> 0 | O14: =ROUND(I14*(1+$S$3),2) -> 0 | P14: =N14+O14 -> 0 | Q14: =ROUND(N14*$G14,2) -> 0 | R14: =ROUND(O14*$G14,2) -> 0 | S14: =Q14+R14 -> 0
A15: REFERÊNCIA DE PREÇO : SINAPI 06/2026 E DAER 01/2021 (AJUSTADO POR ÍNDICES DE REAJUSTAMENTO DE OBRAS RODOVIÁRIAS DNIT PARA 06/2026)

Sheet CURVA ABC
A2: CURVA ABC
A3: OBRA/SERVIÇO | C3: CONTRATAÇÃO DE EMPRESA PARA EXECUÇÃO DE ENSAIOS DE SOLOS | H3: LOCAL | I3: DIVERSOS | N3: ÁREA (m²) | O3: - | P3: DATA | Q3: =TODAY() -> 46266 | R3: BDI | S3: =BDI!C15 -> 0.2415
A4: ITEM | B4: FONTE | C4: CÓDIGO | D4: DATA PREÇO | E4: DESCRIÇÃO | F4: UN | G4: QT | H4: CUSTO UNITÁRIO SEM BDI (R$) | K4: CUSTO TOTAL SEM BDI (R$) | N4: PREÇO UNITÁRIO COM BDI (R$) | Q4: PREÇO TOTAL COM BDI (R$)
H5: MATERIAL | I5: MÃO DE OBRA | J5: TOTAL | K5: MATERIAL | L5: MÃO DE OBRA | M5: TOTAL | N5: MATERIAL | O5: MÃO DE OBRA | P5: TOTAL | Q5: MATERIAL | R5: MÃO DE OBRA | S5: TOTAL | T5: TOTAL (%) | U5: SOMATÓRIO
A6: TOTAL DO ORÇAMENTO | K6: =K7 -> 0 | L6: =L7 -> 0 | M6: =M7 -> 0 | Q6: =Q7 -> 0 | R6: =R7 -> 0 | S6: =S7 -> 0
A7: =QUANTITATIVOS!A7 -> 1 | B7: =QUANTITATIVOS!B7 -> ENSAIOS LABORATORIAIS | K7: =SUM(K8:K14) -> 0 | L7: =SUM(L8:L14) -> 0 | M7: =SUM(M8:M14) -> 0 | Q7: =SUM(Q9:Q15) -> 0 | R7: =SUM(R9:R15) -> 0 | S7: =SUM(S8:S14) -> 0
A8: =QUANTITATIVOS!A11 -> 1.4 | B8: COMP | C8: CPU 04 | D8: 06/26 | E8: =IF(B8="COMP",(VLOOKUP(C8,COMP!$B$1:$C$12409,2,0)),(VLOOKUP(C8,SINAPI!$A$1:$B$31347,2,0))) -> ÍNDICE DE SUPORTE CALIFÓRNIA – CBR | F8: =IF(B8="COMP",VLOOKUP(C8,COMP!$B$1:$D$12409,3,0),(VLOOKUP(C8,SINAPI!$A$1:$C$31347,3,0))) -> un | G8: 160 | H8: =PO!H11 -> 0 | I8: =PO!I11 -> 0 | J8: =H8+I8 -> 0 | K8: =ROUND($G8*H8,2) -> 0 | L8: =ROUND($G8*I8,2) -> 0 | M8: =K8+L8 -> 0 | N8: =ROUND(H8*(1+$S$3),2) -> 0 | O8: =ROUND(I8*(1+$S$3),2) -> 0 | P8: =N8+O8 -> 0 | Q8: =ROUND(N8*$G8,2) -> 0 | R8: =ROUND(O8*$G8,2) -> 0 | S8: =Q8+R8 -> 0 | T8: =S8/$S$7 -> #DIV/0! | U8: =T8 -> #DIV/0!
A9: =QUANTITATIVOS!A8 -> 1.1 | B9: COMP | C9: CPU 01 | D9: 06/26 | E9: =IF(B9="COMP",(VLOOKUP(C9,COMP!$B$1:$C$12409,2,0)),(VLOOKUP(C9,SINAPI!$A$1:$B$31347,2,0))) -> MOBILIZAÇÃO E DESMOBILIZAÇÃO DE PESSOAL E EQUIPAMENTOS PARA COLETA E SONDAGEM DE SOLO | F9: =IF(B9="COMP",VLOOKUP(C9,COMP!$B$1:$D$12409,3,0),(VLOOKUP(C9,SINAPI!$A$1:$C$31347,3,0))) -> un | G9: =PO!G8 -> 16 | H9: =PO!H8 -> 0 | I9: =PO!I8 -> 0 | J9: =H9+I9 -> 0 | K9: =ROUND($G9*H9,2) -> 0 | L9: =ROUND($G9*I9,2) -> 0 | M9: =K9+L9 -> 0 | N9: =ROUND(H9*(1+$S$3),2) -> 0 | O9: =ROUND(I9*(1+$S$3),2) -> 0 | P9: =N9+O9 -> 0 | Q9: =ROUND(N9*$G9,2) -> 0 | R9: =ROUND(O9*$G9,2) -> 0 | S9: =Q9+R9 -> 0 | T9: =S9/$S$7 -> #DIV/0! | U9: =T9+U8 -> #DIV/0!
A10: =QUANTITATIVOS!A10 -> 1.3 | B10: COMP | C10: CPU 03 | D10: 06/26 | E10: =IF(B10="COMP",(VLOOKUP(C10,COMP!$B$1:$C$12409,2,0)),(VLOOKUP(C10,SINAPI!$A$1:$B$31347,2,0))) -> ENSAIO DE GRANULOMETRIA POR PENEIRAMENTO E SEDIMENTAÇÃO | F10: =IF(B10="COMP",VLOOKUP(C10,COMP!$B$1:$D$12409,3,0),(VLOOKUP(C10,SINAPI!$A$1:$C$31347,3,0))) -> un | G10: 160 | H10: =PO!H10 -> 0 | I10: =PO!I10 -> 0 | J10: =H10+I10 -> 0 | K10: =ROUND($G10*H10,2) -> 0 | L10: =ROUND($G10*I10,2) -> 0 | M10: =K10+L10 -> 0 | N10: =ROUND(H10*(1+$S$3),2) -> 0 | O10: =ROUND(I10*(1+$S$3),2) -> 0 | P10: =N10+O10 -> 0 | Q10: =ROUND(N10*$G10,2) -> 0 | R10: =ROUND(O10*$G10,2) -> 0 | S10: =Q10+R10 -> 0 | T10: =S10/$S$7 -> #DIV/0! | U10: =T10+U9 -> #DIV/0!
A11: =QUANTITATIVOS!A12 -> 1.5 | B11: COMP | C11: CPU 05 | D11: 06/26 | E11: =IF(B11="COMP",(VLOOKUP(C11,COMP!$B$1:$C$12409,2,0)),(VLOOKUP(C11,SINAPI!$A$1:$B$31347,2,0))) -> COMPACTAÇÃO - PROCTOR NORMAL | F11: =IF(B11="COMP",VLOOKUP(C11,COMP!$B$1:$D$12409,3,0),(VLOOKUP(C11,SINAPI!$A$1:$C$31347,3,0))) -> un | G11: 160 | H11: =PO!H12 -> 0 | I11: =PO!I12 -> 0 | J11: =H11+I11 -> 0 | K11: =ROUND($G11*H11,2) -> 0 | L11: =ROUND($G11*I11,2) -> 0 | M11: =K11+L11 -> 0 | N11: =ROUND(H11*(1+$S$3),2) -> 0 | O11: =ROUND(I11*(1+$S$3),2) -> 0 | P11: =N11+O11 -> 0 | Q11: =ROUND(N11*$G11,2) -> 0 | R11: =ROUND(O11*$G11,2) -> 0 | S11: =Q11+R11 -> 0 | T11: =S11/$S$7 -> #DIV/0! | U11: =T11+U10 -> #DIV/0!
A12: =QUANTITATIVOS!A13 -> 1.6 | B12: COMP | C12: CPU 06 | D12: 06/26 | E12: =IF(B12="COMP",(VLOOKUP(C12,COMP!$B$1:$C$12409,2,0)),(VLOOKUP(C12,SINAPI!$A$1:$B$31347,2,0))) -> SONDAGEM A TRADO 1,5 METROS | F12: =IF(B12="COMP",VLOOKUP(C12,COMP!$B$1:$D$12409,3,0),(VLOOKUP(C12,SINAPI!$A$1:$C$31347,3,0))) -> un | G12: 160 | H12: =PO!H13 -> 0 | I12: =PO!I13 -> 0 | J12: =H12+I12 -> 0 | K12: =ROUND($G12*H12,2) -> 0 | L12: =ROUND($G12*I12,2) -> 0 | M12: =K12+L12 -> 0 | N12: =ROUND(H12*(1+$S$3),2) -> 0 | O12: =ROUND(I12*(1+$S$3),2) -> 0 | P12: =N12+O12 -> 0 | Q12: =ROUND(N12*$G12,2) -> 0 | R12: =ROUND(O12*$G12,2) -> 0 | S12: =Q12+R12 -> 0 | T12: =S12/$S$7 -> #DIV/0! | U12: =T12+U11 -> #DIV/0!
A13: =QUANTITATIVOS!A14 -> 1.7 | B13: COMP | C13: CPU 07 | D13: 06/26 | E13: =IF(B13="COMP",(VLOOKUP(C13,COMP!$B$1:$C$12409,2,0)),(VLOOKUP(C13,SINAPI!$A$1:$B$31347,2,0))) -> ENSAIO DE LIMITE DE LIQUIDEZ – SOLOS | F13: =IF(B13="COMP",VLOOKUP(C13,COMP!$B$1:$D$12409,3,0),(VLOOKUP(C13,SINAPI!$A$1:$C$31347,3,0))) -> un | G13: 160 | H13: =PO!H14 -> 0 | I13: =PO!I14 -> 0 | J13: =H13+I13 -> 0 | K13: =ROUND($G13*H13,2) -> 0 | L13: =ROUND($G13*I13,2) -> 0 | M13: =K13+L13 -> 0 | N13: =ROUND(H13*(1+$S$3),2) -> 0 | O13: =ROUND(I13*(1+$S$3),2) -> 0 | P13: =N13+O13 -> 0 | Q13: =ROUND(N13*$G13,2) -> 0 | R13: =ROUND(O13*$G13,2) -> 0 | S13: =Q13+R13 -> 0 | T13: =S13/$S$7 -> #DIV/0! | U13: =T13+U12 -> #DIV/0!
A14: =QUANTITATIVOS!A9 -> 1.2 | B14: COMP | C14: CPU 02 | D14: 06/26 | E14: =IF(B14="COMP",(VLOOKUP(C14,COMP!$B$1:$C$12409,2,0)),(VLOOKUP(C14,SINAPI!$A$1:$B$31347,2,0))) -> ENSAIO DE LIMITE DE PLASTICIDADE – SOLOS | F14: =IF(B14="COMP",VLOOKUP(C14,COMP!$B$1:$D$12409,3,0),(VLOOKUP(C14,SINAPI!$A$1:$C$31347,3,0))) -> un | G14: 160 | H14: =PO!H9 -> 0 | I14: =PO!I9 -> 0 | J14: =H14+I14 -> 0 | K14: =ROUND($G14*H14,2) -> 0 | L14: =ROUND($G14*I14,2) -> 0 | M14: =K14+L14 -> 0 | N14: =ROUND(H14*(1+$S$3),2) -> 0 | O14: =ROUND(I14*(1+$S$3),2) -> 0 | P14: =N14+O14 -> 0 | Q14: =ROUND(N14*$G14,2) -> 0 | R14: =ROUND(O14*$G14,2) -> 0 | S14: =Q14+R14 -> 0 | T14: =S14/$S$7 -> #DIV/0! | U14: =T14+U13 -> #DIV/0!

Sheet QUANTITATIVOS
E5: total
A7: 1 | B7: ENSAIOS LABORATORIAIS
A8: =CONCATENATE(,$A$7,".",ROWS($A$8:A8),) -> 1.1 | B8: =PO!E8 -> MOBILIZAÇÃO E DESMOBILIZAÇÃO DE PESSOAL E EQUIPAMENTOS PARA COLETA E SONDAGEM DE SOLO | C8: 16 | D8: Estimada a utilização de 10 pontos por mobilização, considerando histórico dos últimos dois anos | E8: =SUM(C8:D8) -> 16
A9: =CONCATENATE(,$A$7,".",ROWS($A$8:A9),) -> 1.2 | B9: =PO!E9 -> ENSAIO DE LIMITE DE PLASTICIDADE – SOLOS | C9: 160 | D9: Calculado através da média de utilização dos últimos dois anos, acrescido de 30% | E9: =SUM(C9:D9) -> 160
A10: =CONCATENATE(,$A$7,".",ROWS($A$8:A10),) -> 1.3 | B10: =PO!E10 -> ENSAIO DE GRANULOMETRIA POR PENEIRAMENTO E SEDIMENTAÇÃO | C10: 160 | D10: Calculado através da média de utilização dos últimos dois anos, acrescido de 30% | E10: =SUM(C10:D10) -> 160
A11: =CONCATENATE(,$A$7,".",ROWS($A$8:A11),) -> 1.4 | B11: =PO!E11 -> ÍNDICE DE SUPORTE CALIFÓRNIA – CBR | C11: 160 | D11: Calculado através da média de utilização dos últimos dois anos, acrescido de 30% | E11: =SUM(C11:D11) -> 160
A12: =CONCATENATE(,$A$7,".",ROWS($A$8:A12),) -> 1.5 | B12: =PO!E12 -> COMPACTAÇÃO - PROCTOR NORMAL | C12: 160 | D12: Calculado através da média de utilização dos últimos dois anos, acrescido de 30% | E12: =SUM(C12:D12) -> 160
A13: =CONCATENATE(,$A$7,".",ROWS($A$8:A13),) -> 1.6 | B13: =PO!E13 -> SONDAGEM A TRADO 1,5 METROS | C13: 160 | D13: Calculado através da média de utilização dos últimos dois anos, acrescido de 30% | E13: =SUM(C13:D13) -> 160
A14: =CONCATENATE(,$A$7,".",ROWS($A$8:A14),) -> 1.7 | B14: =PO!E14 -> ENSAIO DE LIMITE DE LIQUIDEZ – SOLOS | C14: 160 | D14: Calculado através da média de utilização dos últimos dois anos, acrescido de 30% | E14: =SUM(C14:D14) -> 160

Sheet BDI
A2: PARÂMETROS DE BDI DE ACORDO COM O ACÓRDÃO 2.622/2013 – TCU – PLENÁRIO
A4: BDI
A5: TIPO DE OBRA: CONSTRUÇÃO E REFORMA DE EDIFÍCIOS | D5: DESONERAÇÃO: | F5: SIM
A6: Itens | C6: Adotado | D6: 1º Quartil | E6: Médio | F6: 3º Quartil
A7: Administração Central – AC | C7: 0.04 | D7: 0.03 | E7: 0.04 | F7: 0.055
A8: Seguro e Garantia – SG | C8: 0.008 | D8: 0.008 | E8: 0.008 | F8: 0.01
A9: Risco – R | C9: 0.01 | D9: 0.0097 | E9: 0.0127 | F9: 0.0127
A10: Despesas Financeiras – DF | C10: =ROUND((((1+($E$22/100))^(15/252))-1),4) -> 0.008 | D10: 0.0059 | E10: 0.0123 | F10: 0.0139
A11: Lucro – L | C11: 0.067 | D11: 0.0616 | E11: 0.074 | F11: 0.0896
A12: Tributos (impostos COFINS 3%, e PIS 0,65%) - CP | C12: 0.0365 | D12: 0.0365 | E12: 0.0365 | F12: 0.0365
A13: Tributos (ISS, variável de acordo com o município) – ISS | C13: 0.02 | D13: 0 | E13: 0.025 | F13: 0.05
A14: Tributos (Contribuição Previdenciária sobre a Receita Bruta - 0% ou 2,7% - Desoneração) – CPRB | C14: =IF(F5="SIM",2.7%,0%) -> 0.027 | D14: 0 | E14: 0.045 | F14: 0.045
A15: BDI COM desoneração (Fórmula Acórdão TCU) – BDI | C15: =TRUNC((((1+C7+C8+C9)*(1+C10)*(1+C11)/(1-(C12+C13+C14)))-1),4) -> 0.2415 | D15: 0.2034 | E15: 0.2212 | F15: 0.25
A17: Fórmula adotada para cálculo do BDI:
A18: BDI = | B18: (1+AC + S + R + G)*(1 + DF)*(1+L) | E18: - 1
B19: (1-T)
A20: Fórmula adotada para cálculo das Despesas Financeiras:
A21: DF =[ (1+(SELIC/100))DU/252 ) - 1] x 100
B22: *Taxa SELIC vigente | C22: =PO!$Q$3 -> 46266 | D22: = | E22: 14.25 | F22: %
B23: sinap
A25: Declaro que, conforme legislação tributária municipal, a alíquota para o cálculo do ISS para Construção e Reforma de Edifícios é de 2,00%, incidindo sobre o custo total orçado, resultando, para efeito de cálculo de BDI, um percentual de ISS de 2,00%.
A27: =CONCATENATE("Declaro para os devidos fins que o regime de Contribuição Previdenciária sobre a Receita Bruta adotado para elaboração do orçamento foi ",IF(F5="NÃO","SEM","COM")," desoneração, e que esta é a alternativa mais adequada para a Administração Pública.") -> Declaro para os devidos fins que o regime de Contribuição Previdenciária sobre a Receita Bruta adotado para elaboração do orçamento foi COM desoneração, e que esta é a alternativa mais adequada para a Administração Pública.
F28: =PO!$Q$3 -> 46266
A30: CARNIELO JOSÉ SCHUH | D30: DEMIS PESSATTO FAQUI
A31: ENG. CIVIL | D31: ENG. CIVIL
A32: CREA/RS 187512 | D32: CREA/RS 242325
A37: VANIR RAMOS DE AZEVEDO
A38: SEC. MUN. DE PLANEJAMENTO E MOBILIDADE URBANA

Sheet ENCARGOS SOCIAIS
A2: ENCARGOS SOCIAIS SOBRE MÃO DE OBRA COM DESONERAÇÃO
A3: RIO GRANDE DO SUL | D3: VIGÊNCIA A PARTIR DE 01/2026
A4: CÓDIGO | B4: DESCRIÇÃO | C4: HORISTA | D4: MENSALISTA
A5: GRUPO A
A6: A
A7: A1 | B7: INSS | C7: 0.1 | D7: 0.1
A8: A2 | B8: SESI | C8: 0.015 | D8: 0.015
A9: A3 | B9: SENAI | C9: 0.01 | D9: 0.01
A10: A4 | B10: INCRA | C10: 0.002 | D10: 0.002
A11: A5 | B11: SEBRAE | C11: 0.006 | D11: 0.006
A12: A6 | B12: Salário Educação | C12: 0.025 | D12: 0.025
A13: A7 | B13: Seguro Contra Acidentes de Trabalho | C13: 0.03 | D13: 0.03
A14: A8 | B14: FGTS | C14: 0.08 | D14: 0.08
A15: A9 | B15: SECONCI | C15: 0 | D15: 0
A16: A | B16: Total | C16: =SUM(C7:C15) -> 0.268 | D16: =SUM(D7:D15) -> 0.268
A17: GRUPO B
A18: B1 | B18: Repouso Semanal Remunerado | C18: 0.1778 | D18: Não incide
A19: B2 | B19: Feriados | C19: 0.0421 | D19: Não incide
A20: B3 | B20: Auxílio Enfermidade | C20: 0.0088 | D20: 0.0067
A21: B4 | B21: 13º Salário | C21: 0.1092 | D21: 0.0829
A22: B5 | B22: Licença Paternidade | C22: 0.0007 | D22: 0.0005
A23: B6 | B23: Faltas Justificadas | C23: 0.0073 | D23: 0.0056
A24: B7 | B24: Dias de Chuvas | C24: 0.0165 | D24: Não incide
A25: B8 | B25: Auxílio Acidente de Trabalho | C25: 0.0003 | D25: 0.0002
A26: B9 | B26: Férias gozadas | C26: 0.1104 | D26: 0.0838
A27: B10 | B27: Salário maternidade | C27: 0.0004 | D27: 0.0003
A28: B | B28: Total | C28: =SUM(C18:C27) -> 0.4735 | D28: =SUM(D18:D27) -> 0.18
A29: GRUPO C
A30: C1 | B30: Aviso Prévio Indenizado | C30: 0.0418 | D30: 0.0317
A31: C2 | B31: Aviso Prévio Trabalhado | C31: 0.0011 | D31: 0.0008
A32: C3 | B32: Férias Indenizadas | C32: 0.0359 | D32: 0.0273
A33: C4 | B33: Depósito Rescisão Sem Justa Causa | C33: 0.0178 | D33: 0.0135
A34: C5 | B34: Indenização Adicional | C34: 0.0035 | D34: 0.0026
A35: C | B35: Total | C35: =SUM(C30:C34) -> 0.1001 | D35: =SUM(D30:D34) -> 0.0759
A36: GRUPO D
A37: D1 | B37: Reincidência de Grupo A sobre Grupo B (sem considerar INNS sobre 13º, conforme Lei nº 14.973/2024) | C37: 0.116 | D37: 0.04
A38: D2 | B38: Reincidência de Grupo A sobre Aviso Prévio Trabalhado e Reincidência do FGTS sobre Aviso Prévio Indenizado | C38: 0.0036 | D38: 0.0028
A39: D | B39: Total | C39: =SUM(C37:C38) -> 0.1196 | D39: =SUM(D37:D38) -> 0.0428
B40: TOTAL PARA ENCARGOS SOCIAIS (A + B + C + D) | C40: =C16+C28+C35+C39 -> 0.9612 | D40: =D16+D28+D35+D39 -> 0.5667
A41: Fonte: Informação Dias de Chuva – INMET
...

Sheet CRONOGRAMA
A1: OBRA/SERVIÇO | C1: CONTRATAÇÃO DE EMPRESA PARA EXECUÇÃO DE ENSAIOS DE SOLOS | R1: LOCAL | S1: DIVERSOS | Z1: DATA | AA1: =TODAY() -> 46266
A2: CRONOGRAMA FÍSICO FINANCEIRO | AC2: SOMA DAS PARCELAS P/ CONFERÊNCIA (NÃO IMPRIMIR)
A3: OBRA | B3: CONTRATAÇÃO DE EMPRESA PARA EXECUÇÃO DE ENSAIOS DE SOLOS | J3: LOCAL | K3: =PO!I3 -> DIVERSOS | P3: ÁREA | Q3: =PO!O3 -> - | R3: DATA | S3: =PO!Q3 -> 46266
A4: ITEM | B4: SERVIÇOS | C4: =CONCATENATE("MÊS ",COLUMNS($C$4:C4),) -> MÊS 1 | E4: =CONCATENATE("MÊS ",ROUND(COLUMNS($C$4:E4)/2,0),) -> MÊS 2 | G4: =CONCATENATE("MÊS ",ROUND(COLUMNS($C$4:G4)/2,0),) -> MÊS 3 | I4: =CONCATENATE("MÊS ",ROUND(COLUMNS($C$4:I4)/2,0),) -> MÊS 4 | K4: =CONCATENATE("MÊS ",ROUND(COLUMNS($C$4:K4)/2,0),) -> MÊS 5 | M4: =CONCATENATE("MÊS ",ROUND(COLUMNS($C$4:M4)/2,0),) -> MÊS 6 | O4: =CONCATENATE("MÊS ",ROUND(COLUMNS($C$4:O4)/2,0),) -> MÊS 7 | Q4: =CONCATENATE("MÊS ",ROUND(COLUMNS($C$4:Q4)/2,0),) -> MÊS 8 | S4: =CONCATENATE("MÊS ",ROUND(COLUMNS($C$4:S4)/2,0),) -> MÊS 9 | U4: =CONCATENATE("MÊS ",ROUND(COLUMNS($C$4:U4)/2,0),) -> MÊS 10 | W4: =CONCATENATE("MÊS ",ROUND(COLUMNS($C$4:W4)/2,0),) -> MÊS 11 | Y4: =CONCATENATE("MÊS ",ROUND(COLUMNS($C$4:Y4)/2,0),) -> MÊS 12 | AA4: TOTAL
C5: R$ | D5: % | E5: R$ | F5: % | G5: R$ | H5: % | I5: R$ | J5: % | K5: R$ | L5: % | M5: R$ | N5: % | O5: R$ | P5: % | Q5: R$ | R5: % | S5: R$ | T5: % | U5: R$ | V5: % | W5: R$ | X5: % | Y5: R$ | Z5: % | AA5: R$ | AB5: %
A6: 1.1 | B6: =PO!E8 -> MOBILIZAÇÃO E DESMOBILIZAÇÃO DE PESSOAL E EQUIPAMENTOS PARA COLETA E SONDAGEM DE SOLO | C6: =$AA6*D6 -> 0 | D6: 0.087 | E6: =$AA6*F6 -> 0 | F6: 0.083 | G6: =$AA6*H6 -> 0 | H6: 0.083 | I6: =$AA6*J6 -> 0 | J6: 0.083 | K6: =$AA6*L6 -> 0 | L6: 0.083 | M6: =$AA6*N6 -> 0 | N6: 0.083 | O6: =$AA6*P6 -> 0 | P6: 0.083 | Q6: =$AA6*R6 -> 0 | R6: 0.083 | S6: =$AA6*T6 -> 0 | T6: 0.083 | U6: =$AA6*V6 -> 0 | V6: 0.083 | W6: =$AA6*X6 -> 0 | X6: 0.083 | Y6: =$AA6*Z6 -> 0 | Z6: 0.083 | AA6: =PO!S8 -> 0 | AB6: =AA6/$AA$13 -> #DIV/0! | AC6: =C6+E6+G6+I6+K6+M6+O6+Q6+S6+U6+W6+Y6 -> 0 | AD6: =PO!S8-AC6 -> 0
A7: 1.2 | B7: =PO!E9 -> ENSAIO DE LIMITE DE PLASTICIDADE – SOLOS | C7: =$AA7*D7 -> 0 | D7: 0.087 | E7: =$AA7*F7 -> 0 | F7: 0.083 | G7: =$AA7*H7 -> 0 | H7: 0.083 | I7: =$AA7*J7 -> 0 | J7: 0.083 | K7: =$AA7*L7 -> 0 | L7: 0.083 | M7: =$AA7*N7 -> 0 | N7: 0.083 | O7: =$AA7*P7 -> 0 | P7: 0.083 | Q7: =$AA7*R7 -> 0 | R7: 0.083 | S7: =$AA7*T7 -> 0 | T7: 0.083 | U7: =$AA7*V7 -> 0 | V7: 0.083 | W7: =$AA7*X7 -> 0 | X7: 0.083 | Y7: =$AA7*Z7 -> 0 | Z7: 0.083 | AA7: =PO!S9 -> 0 | AB7: =AA7/$AA$13 -> #DIV/0! | AC7: =C7+E7+G7+I7+K7+M7+O7+Q7+S7+U7+W7+Y7 -> 0 | AD7: =PO!S9-AC7 -> 0
A8: 1.3 | B8: =PO!E10 -> ENSAIO DE GRANULOMETRIA POR PENEIRAMENTO E SEDIMENTAÇÃO | C8: =$AA8*D8 -> 0 | D8: 0.087 | E8: =$AA8*F8 -> 0 | F8: 0.083 | G8: =$AA8*H8 -> 0 | H8: 0.083 | I8: =$AA8*J8 -> 0 | J8: 0.083 | K8: =$AA8*L8 -> 0 | L8: 0.083 | M8: =$AA8*N8 -> 0 | N8: 0.083 | O8: =$AA8*P8 -> 0 | P8: 0.083 | Q8: =$AA8*R8 -> 0 | R8: 0.083 | S8: =$AA8*T8 -> 0 | T8: 0.083 | U8: =$AA8*V8 -> 0 | V8: 0.083 | W8: =$AA8*X8 -> 0 | X8: 0.083 | Y8: =$AA8*Z8 -> 0 | Z8: 0.083 | AA8: =PO!S10 -> 0 | AB8: =AA8/$AA$13 -> #DIV/0! | AC8: =C8+E8+G8+I8+K8+M8+O8+Q8+S8+U8+W8+Y8 -> 0 | AD8: =PO!S10-AC8 -> 0
A9: 1.4 | B9: =PO!E11 -> ÍNDICE DE SUPORTE CALIFÓRNIA – CBR | C9: =$AA9*D9 -> 0 | D9: 0.087 | E9: =$AA9*F9 -> 0 | F9: 0.083 | G9: =$AA9*H9 -> 0 | H9: 0.083 | I9: =$AA9*J9 -> 0 | J9: 0.083 | K9: =$AA9*L9 -> 0 | L9: 0.083 | M9: =$AA9*N9 -> 0 | N9: 0.083 | O9: =$AA9*P9 -> 0 | P9: 0.083 | Q9: =$AA9*R9 -> 0 | R9: 0.083 | S9: =$AA9*T9 -> 0 | T9: 0.083 | U9: =$AA9*V9 -> 0 | V9: 0.083 | W9: =$AA9*X9 -> 0 | X9: 0.083 | Y9: =$AA9*Z9 -> 0 | Z9: 0.083 | AA9: =PO!S11 -> 0 | AB9: =AA9/$AA$13 -> #DIV/0! | AC9: =C9+E9+G9+I9+K9+M9+O9+Q9+S9+U9+W9+Y9 -> 0 | AD9: =PO!S11-AC9 -> 0
A10: 1.5 | B10: =PO!E12 -> COMPACTAÇÃO - PROCTOR NORMAL | C10: =$AA10*D10 -> 0 | D10: 0.087 | E10: =$AA10*F10 -> 0 | F10: 0.083 | G10: =$AA10*H10 -> 0 | H10: 0.083 | I10: =$AA10*J10 -> 0 | J10: 0.083 | K10: =$AA10*L10 -> 0 | L10: 0.083 | M10: =$AA10*N10 -> 0 | N10: 0.083 | O10: =$AA10*P10 -> 0 | P10: 0.083 | Q10: =$AA10*R10 -> 0 | R10: 0.083 | S10: =$AA10*T10 -> 0 | T10: 0.083 | U10: =$AA10*V10 -> 0 | V10: 0.083 | W10: =$AA10*X10 -> 0 | X10: 0.083 | Y10: =$AA10*Z10 -> 0 | Z10: 0.083 | AA10: =PO!S12 -> 0 | AB10: =AA10/$AA$13 -> #DIV/0! | AC10: =C10+E10+G10+I10+K10+M10+O10+Q10+S10+U10+W10+Y10 -> 0 | AD10: =PO!S12-AC10 -> 0
A11: 1.6 | B11: =PO!E13 -> SONDAGEM A TRADO 1,5 METROS | C11: =$AA11*D11 -> 0 | D11: 0.087 | E11: =$AA11*F11 -> 0 | F11: 0.083 | G11: =$AA11*H11 -> 0 | H11: 0.083 | I11: =$AA11*J11 -> 0 | J11: 0.083 | K11: =$AA11*L11 -> 0 | L11: 0.083 | M11: =$AA11*N11 -> 0 | N11: 0.083 | O11: =$AA11*P11 -> 0 | P11: 0.083 | Q11: =$AA11*R11 -> 0 | R11: 0.083 | S11: =$AA11*T11 -> 0 | T11: 0.083 | U11: =$AA11*V11 -> 0 | V11: 0.083 | W11: =$AA11*X11 -> 0 | X11: 0.083 | Y11: =$AA11*Z11 -> 0 | Z11: 0.083 | AA11: =PO!S13 -> 0 | AB11: =AA11/$AA$13 -> #DIV/0! | AC11: =C11+E11+G11+I11+K11+M11+O11+Q11+S11+U11+W11+Y11 -> 0 | AD11: =PO!S13-AC11 -> 0
A12: 1.7 | B12: =PO!E14 -> ENSAIO DE LIMITE DE LIQUIDEZ – SOLOS | C12: =$AA12*D12 -> 0 | D12: 0.087 | E12: =$AA12*F12 -> 0 | F12: 0.083 | G12: =$AA12*H12 -> 0 | H12: 0.083 | I12: =$AA12*J12 -> 0 | J12: 0.083 | K12: =$AA12*L12 -> 0 | L12: 0.083 | M12: =$AA12*N12 -> 0 | N12: 0.083 | O12: =$AA12*P12 -> 0 | P12: 0.083 | Q12: =$AA12*R12 -> 0 | R12: 0.083 | S12: =$AA12*T12 -> 0 | T12: 0.083 | U12: =$AA12*V12 -> 0 | V12: 0.083 | W12: =$AA12*X12 -> 0 | X12: 0.083 | Y12: =$AA12*Z12 -> 0 | Z12: 0.083 | AA12: =PO!S14 -> 0 | AB12: =AA12/$AA$13 -> #DIV/0! | AC12: =C12+E12+G12+I12+K12+M12+O12+Q12+S12+U12+W12+Y12 -> 0 | AD12: =PO!S14-AC12 -> 0
A13: TOTAL | C13: =SUM(C6:C12) -> 0 | D13: =ROUND((C13/$AA$13),4) -> #DIV/0! | E13: =SUM(E6:E12) -> 0 | F13: =ROUND((E13/$AA$13),4) -> #DIV/0! | G13: =SUM(G6:G12) -> 0 | H13: =ROUND((G13/$AA$13),4) -> #DIV/0! | I13: =SUM(I6:I12) -> 0 | J13: =ROUND((I13/$AA$13),4) -> #DIV/0! | K13: =SUM(K6:K12) -> 0 | L13: =ROUND((K13/$AA$13),4) -> #DIV/0! | M13: =SUM(M6:M12) -> 0 | N13: =ROUND((M13/$AA$13),4) -> #DIV/0! | O13: =SUM(O6:O12) -> 0 | P13: =ROUND((O13/$AA$13),4) -> #DIV/0! | Q13: =SUM(Q6:Q12) -> 0 | R13: =ROUND((Q13/$AA$13),4) -> #DIV/0! | S13: =SUM(S6:S12) -> 0 | T13: =ROUND((S13/$AA$13),4) -> #DIV/0! | U13: =SUM(U6:U12) -> 0 | V13: =ROUND((U13/$AA$13),4) -> #DIV/0! | W13: =SUM(W6:W12) -> 0 | X13: =ROUND((W13/$AA$13),4) -> #DIV/0! | Y13: =SUM(Y6:Y12) -> 0 | Z13: =ROUND((Y13/$AA$13),4) -> #DIV/0! | AA13: =SUM(AA6:AA12) -> 0 | AB13: =SUM(AB6:AB12) -> #DIV/0! | AC13: =C13+E13+G13+I13+K13+M13+O13+Q13+S13+U13+W13+Y13 -> 0
A14: ACUMULADO | C14: =C13 -> 0 | D14: =D13 -> #DIV/0! | E14: =C14+E13 -> 0 | F14: =ROUND((E14/$AA$13),4) -> #DIV/0! | G14: =E14+G13 -> 0 | H14: =ROUND((G14/$AA$13),4) -> #DIV/0! | I14: =G14+I13 -> 0 | J14: =ROUND((I14/$AA$13),4) -> #DIV/0! | K14: =I14+K13 -> 0 | L14: =ROUND((K14/$AA$13),4) -> #DIV/0! | M14: =K14+M13 -> 0 | N14: =ROUND((M14/$AA$13),4) -> #DIV/0! | O14: =M14+O13 -> 0 | P14: =ROUND((O14/$AA$13),4) -> #DIV/0! | Q14: =O14+Q13 -> 0 | R14: =ROUND((Q14/$AA$13),4) -> #DIV/0! | S14: =Q14+S13 -> 0 | T14: =ROUND((S14/$AA$13),4) -> #DIV/0! | U14: =S14+U13 -> 0 | V14: =ROUND((U14/$AA$13),4) -> #DIV/0! | W14: =U14+W13 -> 0 | X14: =ROUND((W14/$AA$13),4) -> #DIV/0! | Y14: =W14+Y13 -> 0 | Z14: =ROUND((Y14/$AA$13),4) -> #DIV/0!
AB15: =PO!S16 -> 0
C17: CARNIELO JOSÉ SCHUH | K17: DEMIS PESSATTO FAQUI | T17: VANIR RAMOS DE AZEVEDO
C18: ENG. CIVIL | K18: ENG. CIVIL | T18: SEC. MUN. DE PLANEJAMENTO E MOBILIDADE URBANA
C19: CREA/RS 187512 | K19: CREA/RS 242325

Sheet SINAPI
A1: SINAPI - Sistema Nacional de Pesquisa de Custos e Índices da Construção Civil
A2: RELATÓRIO DE CUSTOS DE COMPOSIÇÕES - ENCARGOS SOCIAIS COM DESONERAÇÃO
A3: Mês de Referência: | D3: horista | E3: 0.9612
A4: Data de emissão: | D4: mensalista | E4: 0.5667
A5: CÓDIGO | B5: descrição | C5: un | D5: CUSTO TOTAL | E5: % MAO DE OBRA | F5: CUSTO MAO DE OBRA
A6: 104658 | B6: piso podotátil de alerta ou direcional, de concreto, assentado sobre argamassa. af_03/2024 | C6: m2 | D6: 152.15 | E6: =VLOOKUP(A6,SINAPI_MO!$A$1:$E$59566,4,0) -> 0.3155 | F6: =ROUND(D6*E6,2) -> 48
A7: 105002 | B7: rampa de acessibilidade em concreto moldado in loco, em calçada nova com largura maior ou igual à 3,00 m, fck 25mpa, com piso podotátil. af_03/2024 | C7: un | D7: 739.33 | E7: =VLOOKUP(A7,SINAPI_MO!$A$1:$E$59566,4,0) -> 0.4872 | F7: =ROUND(D7*E7,2) -> 360.2
A8: 105004 | B8: rampa de acessibilidade em concreto moldado in loco, em calçada nova com largura menor à 3,00 m, fck 25mpa, com piso podotátil. af_03/2024 | C8: m2 | D8: 126.89 | E8: =VLOOKUP(A8,SINAPI_MO!$A$1:$E$59566,4,0) -> 0.4917 | F8: =ROUND(D8*E8,2) -> 62.39
A9: 105003 | B9: rampa de acessibilidade em concreto moldado in loco, em calçada pré existente com largura maior ou igual à 3,00 m, fck 25mpa, com piso podotátil. af_03/2024 | C9: un | D9: 1221.14 | E9: =VLOOKUP(A9,SINAPI_MO!$A$1:$E$59566,4,0) -> 0.608 | F9: =ROUND(D9*E9,2) -> 742.45
A10: 105005 | B10: rampa de acessibilidade em concreto moldado in loco, em calçada pré existente com largura menor à 3,00 m, fck 25mpa, com piso podotátil. af_03/2024 | C10: m2 | D10: 216.1 | E10: =VLOOKUP(A10,SINAPI_MO!$A$1:$E$59566,4,0) -> 0.6163 | F10: =ROUND(D10*E10,2) -> 133.18
A11: 105006 | B11: rampa de acessibilidade em concreto pré moldado, em calçada nova com largura maior ou igual à 3,00 m, fck 25mpa, com piso podotátil. af_03/2024 | C11: un | D11: 0 | E11: =VLOOKUP(A11,SINAPI_MO!$A$1:$E$59566,4,0) -> #N/A | F11: =ROUND(D11*E11,2) -> #N/A
A12: 104999 | B12: rampa de acessibilidade em concreto pré moldado, em calçada pré existente com largura maior ou igual à 3,00 m, fck 25mpa, com piso podotátil. af_03/2024 | C12: un | D12: 0 | E12: =VLOOKUP(A12,SINAPI_MO!$A$1:$E$59566,4,0) -> #N/A | F12: =ROUND(D12*E12,2) -> #N/A
A13: 105000 | B13: rampa de acessibilidade para acesso a edificações com inclinação de 8,33% em concreto moldado in loco, com largura de 1,20m, fck 25mpa, não armada, com junta a cada 2m com corte à seco. af_03/2024 | C13: m | D13: 1191.74 | E13: =VLOOKUP(A13,SINAPI_MO!$A$1:$E$59566,4,0) -> 0.3381 | F13: =ROUND(D13*E13,2) -> 402.93
A14: 105001 | B14: rampa de acessibilidade para acesso a edificações com inclinação de 8,33% em concreto moldado in loco, com largura de 1,50m, fck 25mpa, não armada, com junta a cada 2m com corte à seco. af_03/2024 | C14: m | D14: 1224.71 | E14: =VLOOKUP(A14,SINAPI_MO!$A$1:$E$59566,4,0) -> 0.3337 | F14: =ROUND(D14*E14,2) -> 408.69
A15: 89306 | B15: alvenaria estrutural de blocos cerâmicos 14x19x29, (espessura de 14 cm), utilizando colher de pedreiro e argamassa de assentamento com preparo em betoneira. af_03/2023 | C15: m2 | D15: 97.5 | E15: =VLOOKUP(A15,SINAPI_MO!$A$1:$E$59566,4,0) -> 0.5224 | F15: =ROUND(D15*E15,2) -> 50.93
A16: 89307 | B16: alvenaria estrutural de blocos cerâmicos 14x19x29, (espessura de 14 cm), utilizando colher de pedreiro e argamassa de assentamento com preparo manual. af_03/2023 | C16: m2 | D16: 99.33 | E16: =VLOOKUP(A16,SINAPI_MO!$A$1:$E$59566,4,0) -> 0.5326 | F16: =ROUND(D16*E16,2) -> 52.9
A17: 89290 | B17: alvenaria estrutural de blocos cerâmicos 14x19x29, (espessura de 14 cm), utilizando palheta e argamassa de assentamento com preparo em betoneira. af_03/2023 | C17: m2 | D17: 80.87 | E17: =VLOOKUP(A17,SINAPI_MO!$A$1:$E$59566,4,0) -> 0.4525 | F17: =ROUND(D17*E17,2) -> 36.59
... A9728: 100231 | B9728: transporte vertical manual, 1 pavimento, de sacos de 20 kg (unidade: kg). af_07/2019 | C9728: kg | D9728: 0.04 | E9728: =VLOOKUP(A9728,SINAPI_MO!$A$1:$E$59566,4,0) -> 1 | F9728: =ROUND(D9728*E9728,2) -> 0.04
A9729: 100230 | B9729: transporte vertical manual, 1 pavimento, de sacos de 30 kg (unidade: kg). af_07/2019 | C9729: kg | D9729: 0.02
A9730: 100229 | B9730: transporte vertical manual, 1 pavimento, de sacos de 50 kg (unidade: kg). af_07/2019 | C9730: kg | D9730: 0.01 | E9730: =VLOOKUP(A9730,SINAPI_MO!$A$1:$E$59566,4,0) -> 1 | F9730: =ROUND(D9730*E9730,2) -> 0.01
A9731: 100272 | B9731: transporte vertical manual, 1 pavimento, de vidro (unidade: m2). af_07/2019 | C9731: m2 | D9731: 1.35 | E9731: =VLOOKUP(A9731,SINAPI_MO!$A$1:$E$59566,4,0) -> 1 | F9731: =ROUND(D9731*E9731,2) -> 1.35
A9732: 100269 | B9732: transporte vertical, bancada de mármore ou granito para cozinha/lavatório ou mármore sintético com cuba integrada, manual, 1 pavimento, (unidade: unid). af_07/2019 | C9732: un | D9732: 1.81 | E9732: =VLOOKUP(A9732,SINAPI_MO!$A$1:$E$59566,4,0) -> 1 | F9732: =ROUND(D9732*E9732,2) -> 1.81
A9733: 100986 | B9733: carga de mistura asfáltica em caminhão basculante 10 m³ (unidade: m3). af_02/2026 | C9733: m3 | D9733: 9.85 | E9733: =VLOOKUP(A9733,SINAPI_MO!$A$1:$E$59566,4,0) -> 0.1259 | F9733: =ROUND(D9733*E9733,2) -> 1.24
A9734: 101002 | B9734: carga de mistura asfáltica em caminhão basculante 10 m³ (unidade: t). af_02/2026 | C9734: t | D9734: 6.56 | E9734: =VLOOKUP(A9734,SINAPI_MO!$A$1:$E$59566,4,0) -> 0.125 | F9734: =ROUND(D9734*E9734,2) -> 0.82
A9735: 100987 | B9735: carga de mistura asfáltica em caminhão basculante 14 m³ (unidade: m3). af_02/2026 | C9735: m3 | D9735: 11.28 | E9735: =VLOOKUP(A9735,SINAPI_MO!$A$1:$E$59566,4,0) -> 0.102 | F9735: =ROUND(D9735*E9735,2) -> 1.15
A9736: 101003 | B9736: carga de mistura asfáltica em caminhão basculante 14 m³ (unidade: t). af_02/2026 | C9736: t | D9736: 7.51 | E9736: =VLOOKUP(A9736,SINAPI_MO!$A$1:$E$59566,4,0) -> 0.1025 | F9736: =ROUND(D9736*E9736,2) -> 0.77
A9737: 100988 | B9737: carga de mistura asfáltica em caminhão basculante 18 m³ (unidade: m3). af_02/2026 | C9737: m3 | D9737: 11.94 | E9737: =VLOOKUP(A9737,SINAPI_MO!$A$1:$E$59566,4,0) -> 0.0913 | F9737: =ROUND(D9737*E9737,2) -> 1.09
A9738: 101004 | B9738: carga de mistura asfáltica em caminhão basculante 18 m³ (unidade: t). af_02/2026 | C9738: t | D9738: 7.96 | E9738: =VLOOKUP(A9738,SINAPI_MO!$A$1:$E$59566,4,0) -> 0.0905 | F9738: =ROUND(D9738*E9738,2) -> 0.72
A9739: 100985 | B9739: carga de mistura asfáltica em caminhão basculante 6 m³ (unidade: m3). af_02/2026 | C9739: m3 | D9739: 8.16 | E9739: =VLOOKUP(A9739,SINAPI_MO!$A$1:$E$59566,4,0) -> 0.1814 | F9739: =ROUND(D9739*E9739,2) -> 1.48
A9740: 101001 | B9740: carga de mistura asfáltica em caminhão basculante 6 m³ (unidade: t). af_02/2026 | C9740: t | D9740: 5.43 | E9740: =VLOOKUP(A9740,SINAPI_MO!$A$1:$E$59566,4,0) -> 0.1805 | F9740: =ROUND(D9740*E9740,2) -> 0.98
A9741: 101008 | B9741: carga de água em caminhão pipa 10 m³. af_02/2026 | C9741: m3 | D9741: 9.86 | E9741: =VLOOKUP(A9741,SINAPI_MO!$A$1:$E$59566,4,0) -> 0.0984 | F9741: =ROUND(D9741*E9741,2) -> 0.97
... A10146: 93187 | B10146: verga moldada in loco em concreto, espessura de *20* cm. af_03/2024 | C10146: m | D10146: 76.08 | E10146: =VLOOKUP(A10146,SINAPI_MO!$A$1:$E$59566,4,0) -> 0.442 | F10146: =ROUND(D10146*E10146,2) -> 33.63
A10147: 105037 | B10147: verga pré-fabricada com até 1,5 m de vão, espessura de *10* cm. af_03/2024 | C10147: m | D10147: 33.29 | G10147: INSUMOS
A10148: 105036 | B10148: verga pré-fabricada com até 1,5 m de vão, espessura de *15* cm. af_03/2024 | C10148: m | D10148: 49.17 | F10148: 0
A10149: 105035 | B10149: verga pré-fabricada com até 1,5 m de vão, espessura de *20* cm. af_03/2024 | C10149: m | D10149: 68.22 | F10149: 0
A10150: 105022 | B10150: verga pré-moldada com até 1,5 m de vão, espessura de *10* cm. af_03/2024 | C10150: m | D10150: 21.3 | F10150: 0
A10151: 105021 | B10151: verga pré-moldada com até 1,5 m de vão, espessura de *15* cm. af_03/2024 | C10151: m | D10151: 24.51 | F10151: 0
A10152: 93184 | B10152: verga pré-moldada com até 1,5 m de vão, espessura de *20* cm. af_03/2024 | C10152: m | D10152: 28.52 | F10152: 0
A10153: 106317 | B10153: box em l de correr, com vidro temperado 8 mm, 90x90x190 cm, 2 folhas fixas, 2 folhas móveis, perfis e ferragens em alumínio. af_11/2025 | C10153: m2 | D10153: 0 | F10153: 0
A10154: 102237 | B10154: box frontal de correr, com vidro temperado 8 mm, 190x100cm, 1 folha fixa, 1 folha móvel, perfis e ferragens em alumínio. af_11/2025 | C10154: m2 | D10154: 0 | F10154: 0
...

Sheet SINAPI_MO
A1: SINAPI - Sistema Nacional de Pesquisa de Custos e Índices da Construção Civil
A2: RELATÓRIO DE PORCENTAGEM DE MÃO DE OBRA EM COMPOSIÇÕES - COM DESONERAÇÃO
A3: Mês de Referência: | B3: 02/2026
A4: Data de emissão: | B4: 13/03/2026
A5: CÓDIGO | B5: descrição | C5: un | D5: % MAO DE OBRA
A6: 104658 | B6: PISO PODOTÁTIL DE ALERTA OU DIRECIONAL, DE CONCRETO, ASSENTADO SOBRE ARGAMASSA. AF_03/2024 | C6: M2 | D6: 0.3155
A7: 105002 | B7: RAMPA DE ACESSIBILIDADE EM CONCRETO MOLDADO IN LOCO, EM CALÇADA NOVA COM LARGURA MAIOR OU IGUAL À 3,00 M, FCK 25MPA, COM PISO PODOTÁTIL. AF_03/2024 | C7: UN | D7: 0.4872
A8: 105004 | B8: RAMPA DE ACESSIBILIDADE EM CONCRETO MOLDADO IN LOCO, EM CALÇADA NOVA COM LARGURA MENOR À 3,00 M, FCK 25MPA, COM PISO PODOTÁTIL. AF_03/2024 | C8: M2 | D8: 0.4917
A9: 105003 | B9: RAMPA DE ACESSIBILIDADE EM CONCRETO MOLDADO IN LOCO, EM CALÇADA PRÉ EXISTENTE COM LARGURA MAIOR OU IGUAL À 3,00 M, FCK 25MPA, COM PISO PODOTÁTIL. AF_03/2024 | C9: UN | D9: 0.608
A10: 105005 | B10: RAMPA DE ACESSIBILIDADE EM CONCRETO MOLDADO IN LOCO, EM CALÇADA PRÉ EXISTENTE COM LARGURA MENOR À 3,00 M, FCK 25MPA, COM PISO PODOTÁTIL. AF_03/2024 | C10: M2 | D10: 0.6163
A11: 105000 | B11: RAMPA DE ACESSIBILIDADE PARA ACESSO A EDIFICAÇÕES COM INCLINAÇÃO DE 8,33% EM CONCRETO MOLDADO IN LOCO, COM LARGURA DE 1,20M, FCK 25MPA, NÃO ARMADA, COM JUNTA A CADA 2M COM CORTE À SECO. AF_03/2024 | C11: M | D11: 0.3381
A12: 105001 | B12: RAMPA DE ACESSIBILIDADE PARA ACESSO A EDIFICAÇÕES COM INCLINAÇÃO DE 8,33% EM CONCRETO MOLDADO IN LOCO, COM LARGURA DE 1,50M, FCK 25MPA, NÃO ARMADA, COM JUNTA A CADA 2M COM CORTE À SECO. AF_03/2024 | C12: M | D12: 0.3337
A13: 89306 | B13: ALVENARIA ESTRUTURAL DE BLOCOS CERÂMICOS 14X19X29, (ESPESSURA DE 14 CM), UTILIZANDO COLHER DE PEDREIRO E ARGAMASSA DE ASSENTAMENTO COM PREPARO EM BETONEIRA. AF_03/2023 | C13: M2 | D13: 0.5224
A14: 89307 | B14: ALVENARIA ESTRUTURAL DE BLOCOS CERÂMICOS 14X19X29, (ESPESSURA DE 14 CM), UTILIZANDO COLHER DE PEDREIRO E ARGAMASSA DE ASSENTAMENTO COM PREPARO MANUAL. AF_03/2023 | C14: M2 | D14: 0.5326
A15: 89290 | B15: ALVENARIA ESTRUTURAL DE BLOCOS CERÂMICOS 14X19X29, (ESPESSURA DE 14 CM), UTILIZANDO PALHETA E ARGAMASSA DE ASSENTAMENTO COM PREPARO EM BETONEIRA. AF_03/2023 | C15: M2 | D15: 0.4525
A16: 89291 | B16: ALVENARIA ESTRUTURAL DE BLOCOS CERÂMICOS 14X19X29, (ESPESSURA DE 14 CM), UTILIZANDO PALHETA E ARGAMASSA DE ASSENTAMENTO COM PREPARO MANUAL. AF_03/2023 | C16: M2 | D16: 0.4628
A17: 89298 | B17: ALVENARIA ESTRUTURAL DE BLOCOS CERÂMICOS 14X19X39, (ESPESSURA DE 14 CM), UTILIZANDO COLHER DE PEDREIRO E ARGAMASSA DE ASSENTAMENTO COM PREPARO EM BETONEIRA. AF_03/2023 | C17: M2 | D17: 0.4486
... A8320: 103017 | B8320: VÁLVULA DE RETENÇÃO, DE BRONZE, PÉ COM CRIVOS, ROSCÁVEL, 4" - FORNECIMENTO E INSTALAÇÃO. AF_08/2021 | C8320: UN | D8320: 0.0184

Sheet COMP
A1: COMPOSIÇÕES
A2: CÓD. COMP REFERÊNCIA DO SINAPI ou DAER | B2: CÓDIGO | C2: DESCRIÇÃO | D2: UN | E2: COEF | F2: PREÇO UNIT | G2: CUSTO TOTAL | H2: TOTAL MÃO DE OBRA | I2: DATA PREÇO
A3: SINAPI 74022/8 | B3: CPU 07 | C3: ENSAIO DE LIMITE DE LIQUIDEZ – SOLOS | D3: un | E3: COEFICIENTE | F3: PREÇO UNIT | G3: =SUM(G4:G5) -> 105.05 | H3: =SUM(H4:H5) -> 105.05 | I3: 03/26
A4: COMPOSIÇÃO | B4: 88249 | C4: =VLOOKUP(B4,SINAPI!$A$1:$B$31347,2,0) -> auxiliar de laboratório com encargos complementares | D4: =VLOOKUP(B4,SINAPI!$A$1:$C$31347,3,0) -> h | E4: 2 | F4: =VLOOKUP(B4,SINAPI!$A$1:$D$31347,4,0) -> 33.16 | G4: =ROUND(COMP!E4*COMP!F4,2) -> 66.32 | H4: =ROUND(VLOOKUP(B4,SINAPI!$A$1:$F$31347,6,0)*E4,2) -> 66.32
A5: COMPOSIÇÃO | B5: 88321 | C5: =VLOOKUP(B5,SINAPI!$A$1:$B$31347,2,0) -> técnico de laboratório com encargos complementares | D5: =VLOOKUP(B5,SINAPI!$A$1:$C$31347,3,0) -> h | E5: 1 | F5: =VLOOKUP(B5,SINAPI!$A$1:$D$31347,4,0) -> 38.73 | G5: =ROUND(COMP!E5*COMP!F5,2) -> 38.73 | H5: =ROUND(VLOOKUP(B5,SINAPI!$A$1:$F$31347,6,0)*E5,2) -> 38.73
A6: SINAPI 74022/9 | B6: CPU 02 | C6: ENSAIO DE LIMITE DE PLASTICIDADE – SOLOS | D6: un | E6: COEFICIENTE | F6: PREÇO UNIT | G6: =SUM(G7:G8) -> 94.55 | H6: =SUM(H7:H8) -> 94.55 | I6: 03/26
A7: COMPOSIÇÃO | B7: 88249 | C7: =VLOOKUP(B7,SINAPI!$A$1:$B$31347,2,0) -> auxiliar de laboratório com encargos complementares | D7: =VLOOKUP(B7,SINAPI!$A$1:$C$31347,3,0) -> h | E7: 1.8 | F7: =VLOOKUP(B7,SINAPI!$A$1:$D$31347,4,0) -> 33.16 | G7: =ROUND(COMP!E7*COMP!F7,2) -> 59.69 | H7: =ROUND(VLOOKUP(B7,SINAPI!$A$1:$F$31347,6,0)*E7,2) -> 59.69
A8: COMPOSIÇÃO | B8: 88321 | C8: =VLOOKUP(B8,SINAPI!$A$1:$B$31347,2,0) -> técnico de laboratório com encargos complementares | D8: =VLOOKUP(B8,SINAPI!$A$1:$C$31347,3,0) -> h | E8: 0.9 | F8: =VLOOKUP(B8,SINAPI!$A$1:$D$31347,4,0) -> 38.73 | G8: =ROUND(COMP!E8*COMP!F8,2) -> 34.86 | H8: =ROUND(VLOOKUP(B8,SINAPI!$A$1:$F$31347,6,0)*E8,2) -> 34.86
A9: SINAPI 74022/7 | B9: CPU 03 | C9: ENSAIO DE GRANULOMETRIA POR PENEIRAMENTO E SEDIMENTAÇÃO | D9: un | E9: COEFICIENTE | F9: PREÇO UNIT | G9: =SUM(G10:G11) -> 199.6 | H9: =SUM(H10:H11) -> 199.6 | I9: 03/26
A10: COMPOSIÇÃO | B10: 88249 | C10: =VLOOKUP(B10,SINAPI!$A$1:$B$31347,2,0) -> auxiliar de laboratório com encargos complementares | D10: =VLOOKUP(B10,SINAPI!$A$1:$C$31347,3,0) -> h | E10: 3.8 | F10: =VLOOKUP(B10,SINAPI!$A$1:$D$31347,4,0) -> 33.16 | G10: =ROUND(COMP!E10*COMP!F10,2) -> 126.01 | H10: =ROUND(VLOOKUP(B10,SINAPI!$A$1:$F$31347,6,0)*E10,2) -> 126.01
A11: COMPOSIÇÃO | B11: 88321 | C11: =VLOOKUP(B11,SINAPI!$A$1:$B$31347,2,0) -> técnico de laboratório com encargos complementares | D11: =VLOOKUP(B11,SINAPI!$A$1:$C$31347,3,0) -> h | E11: 1.9 | F11: =VLOOKUP(B11,SINAPI!$A$1:$D$31347,4,0) -> 38.73 | G11: =ROUND(COMP!E11*COMP!F11,2) -> 73.59 | H11: =ROUND(VLOOKUP(B11,SINAPI!$A$1:$F$31347,6,0)*E11,2) -> 73.59
A12: SINAPI 74022/20 | B12: CPU 04 | C12: ÍNDICE DE SUPORTE CALIFÓRNIA – CBR | D12: un | E12: COEFICIENTE | F12: PREÇO UNIT | G12: =SUM(G13:G14) -> 273.13 | H12: =SUM(H13:H14) -> 273.13 | I12: 03/26
A13: COMPOSIÇÃO | B13: 88249 | C13: =VLOOKUP(B13,SINAPI!$A$1:$B$31347,2,0) -> auxiliar de laboratório com encargos complementares | D13: =VLOOKUP(B13,SINAPI!$A$1:$C$31347,3,0) -> h | E13: 5.2 | F13: =VLOOKUP(B13,SINAPI!$A$1:$D$31347,4,0) -> 33.16 | G13: =ROUND(COMP!E13*COMP!F13,2) -> 172.43 | H13: =ROUND(VLOOKUP(B13,SINAPI!$A$1:$F$31347,6,0)*E13,2) -> 172.43 | J13: =0.25/0.15 -> 1.6666667
A14: COMPOSIÇÃO | B14: 88321 | C14: =VLOOKUP(B14,SINAPI!$A$1:$B$31347,2,0) -> técnico de laboratório com encargos complementares | D14: =VLOOKUP(B14,SINAPI!$A$1:$C$31347,3,0) -> h | E14: 2.6 | F14: =VLOOKUP(B14,SINAPI!$A$1:$D$31347,4,0) -> 38.73 | G14: =ROUND(COMP!E14*COMP!F14,2) -> 100.7 | H14: =ROUND(VLOOKUP(B14,SINAPI!$A$1:$F$31347,6,0)*E14,2) -> 100.7
A15: SINAPI 74022/10 | B15: CPU 05 | C15: COMPACTAÇÃO - PROCTOR NORMAL | D15: un | E15: COEFICIENTE | F15: PREÇO UNIT | G15: =SUM(G16:G17) -> 199.6 | H15: =SUM(H16:H17) -> 199.6 | I15: 03/26
A16: COMPOSIÇÃO | B16: 88249 | C16: =VLOOKUP(B16,SINAPI!$A$1:$B$31347,2,0) -> auxiliar de laboratório com encargos complementares | D16: =VLOOKUP(B16,SINAPI!$A$1:$C$31347,3,0) -> h | E16: 3.8 | F16: =VLOOKUP(B16,SINAPI!$A$1:$D$31347,4,0) -> 33.16 | G16: =ROUND(COMP!E16*COMP!F16,2) -> 126.01 | H16: =ROUND(VLOOKUP(B16,SINAPI!$A$1:$F$31347,6,0)*E16,2) -> 126.01
A17: COMPOSIÇÃO | B17: 88321 | C17: =VLOOKUP(B17,SINAPI!$A$1:$B$31347,2,0) -> técnico de laboratório com encargos complementares | D17: =VLOOKUP(B17,SINAPI!$A$1:$C$31347,3,0) -> h | E17: 1.9 | F17: =VLOOKUP(B17,SINAPI!$A$1:$D$31347,4,0) -> 38.73 | G17: =ROUND(COMP!E17*COMP!F17,2) -> 73.59 | H17: =ROUND(VLOOKUP(B17,SINAPI!$A$1:$F$31347,6,0)*E17,2) -> 73.59
A18: DAER 3.1/2019 | B18: CPU 06 | C18: SONDAGEM A TRADO 1,5 METROS | D18: un | E18: COEFICIENTE | F18: PREÇO UNIT | G18: =SUM(G19:G26) -> 198.11826 | H18: =SUM(H19:H26) -> 147.99826 | I18: 03/26
A19: DAER | B19: 1.58 | C19: SONDADOR | D19: mês | E19: =1.5*1/(20*24) -> 0.003125 | F19: =J26*1696.93 -> 2176.1594 | G19: =ROUND(COMP!E19*COMP!F19,2) -> 6.8 | H19: =G19 -> 6.8
A20: DAER | B20: 1.45 | C20: MOTORISTA | D20: mês | E20: =1.5*1/(20*24) -> 0.003125 | F20: =J26*1761.06 -> 2258.4003 | G20: =ROUND(COMP!E20*COMP!F20,2) -> 7.06 | H20: =G20 -> 7.06
A21: DAER | B21: 1.48 | C21: OPERÁRIO/AUXILIAR DE PISTA | D21: mês | E21: =1.5*3/(20*24) -> 0.009375 | F21: =J26*1333.9 -> 1710.6062 | G21: =ROUND(COMP!E21*COMP!F21,2) -> 16.04 | H21: =G21 -> 16.04
A22: DAER | B22: 1.59 | C22: TAXA DE INSALUBRIDADE | D22: mês | E22: =1.5*6/(20*24) -> 0.01875 | F22: =J26*330 -> 423.19518 | G22: =ROUND(COMP!E22*COMP!F22,2) -> 7.93 | H22: =G22 -> 7.93
C23: ENCARGOS SOCIAIS (% SOBRE MÃO DE OBRA) | D23: % | E23: 56.67 | F23: =E23/100*(F19+F20+F21+F22) -> 3722.2902 | G23: =E23/100*(G19+G20+G21+G22) -> 21.438261 | H23: =G23 -> 21.438261
A24: DAER | B24: 2.2 | C24: DIÁRIAS: NÍVEL AUXILIAR (RIO GRANDE DO SUL) | D24: diária | E24: =1.5*180/(20*24) -> 0.5625 | F24: =J26*123 -> 157.73638 | G24: =ROUND(COMP!E24*COMP!F24,2) -> 88.73 | H24: =G24 -> 88.73
A25: DAER | B25: 3.4.3 | C25: EQUIPAMENTOS PARA SONDAGEM MANUAL | D25: mês | E25: =1.5*1/(20*24) -> 0.003125 | F25: =J26*48.12 -> 61.709551 | G25: =ROUND(COMP!E25*COMP!F25,2) -> 0.19 | H25: 0
A26: DAER | B26: 3.11.9 | C26: CAMINHÃO MÉDIO BASCULANTE 6M³ (1.800KM/MÊS) - COM MANUTENÇÃO E OPERAÇÃO | D26: mês | E26: =1.5*1/(20*24) -> 0.003125 | F26: =J26*12459.68 -> 15978.414 | G26: =ROUND(COMP!E26*COMP!F26,2) -> 49.93 | H26: 0 | J26: =315.106/245.714 -> 1.2824096
A28: UTILIZADA COMO REFERÊNCIA A COMPOSIÇÃO DAER 3.1 DE JANEIRO DE 2019
A29: PRODUTIVIDADE CONSIDERADA = 24 M/DIA (OU 16 PONTOS DE 1,5M POR DIA), 20 DIAS POR MÊS.
A30: TOTAL REAJUSTADO POR ÍNDICES DE REAJUSTAMENTO DE OBRAS RODOVIÁRIAS – CONSULTORIA, SUPERVISÃO E PROJETO: (06/2026 = 315,106 E 01/2021 = 245,714. ENTÃO 315,106/245,714 = 1,28241
A31: 72733 | B31: CPU 01 | C31: MOBILIZAÇÃO E DESMOBILIZAÇÃO DE PESSOAL E EQUIPAMENTOS PARA COLETA E SONDAGEM DE SOLO | D31: un | E31: COEFICIENTE | F31: PREÇO UNIT | G31: =SUM(G32:G34) -> 2372.84 | H31: =SUM(H32:H34) -> 1098.2502 | I31: 03/26
A32: COMPOSIÇÃO | B32: 5824 | C32: =VLOOKUP(B32,SINAPI!$A$1:$B$31347,2,0) -> caminhão toco, pbt 16.000 kg, carga útil máx. 10.685 kg, dist. entre eixos 4,8 m, potência 189 cv, inclusive carroceria fixa aberta de madeira p/ transporte geral de carga seca, dimen. aprox. 2,5 x 7,00 x 0,50 m - chp diurno. af_06/2014 | D32: =VLOOKUP(B32,SINAPI!$A$1:$C$31347,3,0) -> chp | E32: 6 | F32: 240.09 | G32: =ROUND(COMP!E32*COMP!F32,2) -> 1440.54 | H32: =G32*11.52% -> 165.95021 | J32: 3
A33: COMPOSIÇÃO | B33: 88316 | C33: =VLOOKUP(B33,SINAPI!$A$1:$B$31347,2,0) -> servente com encargos complementares | D33: =VLOOKUP(B33,SINAPI!$A$1:$C$31347,3,0) -> h | E33: 20 | F33: =VLOOKUP(B33,SINAPI!$A$1:$D$31347,4,0) -> 23.48 | G33: =ROUND(COMP!E33*COMP!F33,2) -> 469.6 | H33: =G33 -> 469.6 | J33: 10
A34: COMPOSIÇÃO | B34: 88322 | C34: =VLOOKUP(B34,SINAPI!$A$1:$B$31347,2,0) -> técnico em sondagem com encargos complementares | D34: =VLOOKUP(B34,SINAPI!$A$1:$C$31347,3,0) -> h | E34: 10 | F34: =VLOOKUP(B34,SINAPI!$A$1:$D$31347,4,0) -> 46.27 | G34: =ROUND(COMP!E34*COMP!F34,2) -> 462.7 | H34: =G34 -> 462.7 | J34: 5
A35: UTILIZADA A COMPOSIÇÃO SINAPI 72733 (12/2018) COM QUANTIDADES MULTIPLICADAS POR 2 UMA VEZ COM A FINALIDADE DE TER UMA COMPOSIÇÃO TANTO DE MOBILIZAÇÃO QUANTO DE DESMOBILIZAÇÃO
A37: CARNIELO JOSÉ SCHUH | D37: DEMIS PESSATTO FAQUI
A38: ENG. CIVIL | D38: ENG. CIVIL
A39: CREA/RS 187512 | D39: CREA/RS 242325
A40: VANIR RAMOS DE AZEVEDO
A41: SEC. MUN. DE PLANEJAMENTO E MOBILIDADE URBANA
