Workbook

Sheet COMP. ANAHY
A2: COMPOSIÇÃO - ANAHY
A3: MUNICÍPIO: | C3: ANAHY - AGOSTO/2024
A4: OBJETO: | C4: INSTALAÇÃO DE LUMINÁRIAS PARA ILUMINAÇÃO PÚBLICA EM LED - ANAHY
C5: SINAP - 06/2024
A7: ITEM | B7: CÓD. SINAP (NÃO DESONERADO) | C7: DESCRIÇÃO | D7: UNIDADE | E7: COEF. | F7: PREÇO UNITÁRIO (R$) | G7: VALOR MATERIAIS | H7: VALOR MÃO DE OBRA
A8: 1. PATIO PREFEITURA
A9: 1.1 | B9: COMP. 1 | C9: CONJUNTO DE POSTE ORNAMENTAL E LUMINÁRIA EM LED PARA ILUMINAÇÃO PÚBLICA COM POTÊNCIA DE 200WATTS E ALTURA DE ATÉ 6.500MM. | G9: =F10*E10+F13*E13+F14*E14+F15*E15 -> 8607.3416 | H9: =F11*E11+F12*E12 -> 21.735
A10: 1.1.1 | B10: COTAÇÃO 1 | C10: CONJUNTO DE POSTE ORNAMENTAL E LUMINÁRIA EM LED PARA ILUMINAÇÃO PÚBLICA COM POTÊNCIA DE 200WATTS E ALTURA DE ATÉ 6.500MM. | D10: UN | E10: 1 | F10: 8450
A11: 1.1.2 | B11: 88264 | C11: ELETRICISTA COM ENCARGOS COMPLEMENTARES | D11: H | E11: 0.35 | F11: 35.2
A12: 1.1.3 | B12: 88316 | C12: SERVENTE COM ENCARGOS COMPLEMENTARES | D12: H | E12: 0.35 | F12: 26.9
A13: 1.1.4 | B13: 5928 | C13: GUINDAUTO HIDRÁULICO, CAPACIDADE MÁXIMA DE CARGA 6200 KG, MOMENTO MÁXIMO DE CARGA 11,7 TM, ALCANCE MÁXIMO HORIZONTAL 9,70 M, INCLUSIVE CAMINHÃO TOCO PBT 16.000 KG, POTÊNCIA DE 189 CV - CHP DIURNO. AF_06/2014 | D13: CHP | E13: 0.35 | F13: 277.78
A14: 1.1.5 | B14: 92916 | C14: ARMAÇÃO DE ESTRUTURAS DIVERSAS DE CONCRETO ARMADO, EXCETO VIGAS, PILARES, LAJES E FUNDAÇÕES, UTILIZANDO AÇO CA-50 DE 6,3 MM - MONTAGEM. AF_06/2022 | D14: KG | E14: 3.5 | F14: 16.07
A15: 1.1.6 | B15: 94962 | C15: CONCRETO MAGRO PARA LASTRO, TRAÇO 1:4,5:4,5 (EM MASSA SECA DE CIMENTO/ M3 AREIA MÉDIA/ BRITA 1) - PREPARO MECÂNICO COM BETONEIRA 400 L. AF_05/2021 | D15: m³ | E15: 0.01 | F15: 387.36
A16: 2. ROTATÓRIA E CANTEIROS
A17: 2.1 | B17: COMP. 2 | C17: CONJUNTO ORNAMENTAL DE BASE, POSTE E LUMINÁRIA CÔNICA DE 140WATTS E ALTURA DE 5.500mm. | G17: =F18*E18+F21*E21+F22*E22+F23*E23 -> 4707.3416 | H17: =F19*E19+F20*E20 -> 21.735
A18: 2.1.1 | B18: COTAÇÃO 2 | C18: CONJUNTO ORNAMENTAL DE BASE, POSTE E LUMINÁRIA CÔNICA DE 140WATTS E ALTURA DE 5.500mm. | D18: UN | E18: 1 | F18: 4550
A19: 2.1.2 | B19: 88264 | C19: ELETRICISTA COM ENCARGOS COMPLEMENTARES | D19: H | E19: 0.35 | F19: 35.2
A20: 2.1.3 | B20: 88316 | C20: SERVENTE COM ENCARGOS COMPLEMENTARES | D20: H | E20: 0.35 | F20: 26.9
A21: 2.1.4 | B21: 5928 | C21: GUINDAUTO HIDRÁULICO, CAPACIDADE MÁXIMA DE CARGA 6200 KG, MOMENTO MÁXIMO DE CARGA 11,7 TM, ALCANCE MÁXIMO HORIZONTAL 9,70 M, INCLUSIVE CAMINHÃO TOCO PBT 16.000 KG, POTÊNCIA DE 189 CV - CHP DIURNO. AF_06/2014 | D21: CHP | E21: 0.35 | F21: 277.78
A22: 2.1.5 | B22: 92916 | C22: ARMAÇÃO DE ESTRUTURAS DIVERSAS DE CONCRETO ARMADO, EXCETO VIGAS, PILARES, LAJES E FUNDAÇÕES, UTILIZANDO AÇO CA-50 DE 6,3 MM - MONTAGEM. AF_06/2022 | D22: KG | E22: 3.5 | F22: 16.07
A23: 2.1.6 | B23: 94962 | C23: CONCRETO MAGRO PARA LASTRO, TRAÇO 1:4,5:4,5 (EM MASSA SECA DE CIMENTO/ M3 AREIA MÉDIA/ BRITA 1) - PREPARO MECÂNICO COM BETONEIRA 400 L. AF_05/2021 | D23: m³ | E23: 0.01 | F23: 387.36
A24: 2.2 | B24: COMP. 3 | C24: INFRAESTRUTURA - 2X50A | G24: =E25*F25+E26*F26+E27*F27+E28*F28+E29*F29+E30*F30+E31*F31+E32*F32+E33*F33+E34*F34+E35*F35+E36*F36+E39*F39+E40*F40+E41*F41+E42*F42 -> 2661.16 | H24: =E37*F37+E38*F38 -> 217.35
A25: 2.2.1 | B25: COTAÇÃO 7 | C25: CAIXA CN METAL - BIFÁSICO (P/ DISJUNTOR 2X50A) | D25: UN | E25: 1 | F25: 213.87
A26: 2.2.2 | B26: COTAÇÃO 8 | C26: CAIXA POLIFÁSICA COM LENTE COPEL CNPH | D26: UN | E26: 1 | F26: 406.17
A27: 2.2.3 | B27: 406 | C27: FITA ACO INOX PARA CINTAR POSTE, L = 19 MM, E = 0,5 MM (ROLO DE 30M) | D27: UN | E27: 1 | F27: 92.38
A28: 2.2.4 | B28: 93666 | C28: DISJUNTOR BIPOLAR TIPO DIN, CORRENTE NOMINAL DE 50A - FORNECIMENTO E INSTALAÇÃO. AF_10/2020 | D28: UN | E28: 2 | F28: 80.23
A29: 2.2.6 | B29: 1020 | C29: CABO DE COBRE, FLEXIVEL, CLASSE 4 OU 5, ISOLACAO EM PVC/A, ANTICHAMA BWF-B, COBERTURA PVC-ST1, ANTICHAMA BWF-B, 1 CONDUTOR, 0,6/1 KV, SECAO NOMINAL 10 MM2 | D29: m | E29: 15 | F29: 9.51
A30: 2.2.7 | B30: 91932 | C30: CABO DE COBRE FLEXÍVEL ISOLADO, 10 MM², ANTI-CHAMA 450/750 V, PARA CIRCUITOS TERMINAIS - FORNECIMENTO E INSTALAÇÃO. AF_03/2023 | D30: m | E30: 30 | F30: 17.29
A31: 2.2.8 | B31: 1049 | C31: CABECOTE PARA ENTRADA DE LINHA DE ALIMENTACAO PARA ELETRODUTO, EM LIGA DE ALUMINIO COM ACABAMENTO ANTI CORROSIVO, COM FIXACAO POR ENCAIXE LISO DE 360 GRAUS, DE 1 1/2" | D31: UN | E31: 1 | F31: 10.89
A32: 2.2.9 | B32: 1893 | C32: LUVA EM PVC RIGIDO ROSCAVEL, DE 1 1/2", PARA ELETRODUTO | D32: m | E32: 6 | F32: 4.7
A33: 2.2.10 | B33: 2680 | C33: ELETRODUTO DE PVC RIGIDO ROSCAVEL DE 1 1/2 ", SEM LUVA | D33: m | E33: 12 | F33: 13.92
A34: 2.2.12 | B34: 101538 | C34: ARMAÇÃO SECUNDÁRIA, COM 1 ESTRIBO E 1 ISOLADOR - FORNECIMENTO E INSTALAÇÃO. AF_07/2020 | D34: UN | E34: 1 | F34: 40.23
A35: 2.2.13 | B35: 97881 | C35: CAIXA ENTERRADA ELÉTRICA RETANGULAR, EM CONCRETO PRÉ-MOLDADO, FUNDO COM BRITA, DIMENSÕES INTERNAS: 0,3X0,3X0,3 M. AF_12/2020 | D35: UN | E35: 1 | F35: 144.19
A36: 2.2.14 | B36: COTAÇÃO 9 | C36: CONECTOR CUNHA DE ALUMÍNIO P: 4/0X4/0 D: 3/0X4/0 CADC-211 - INTELLI | D36: UN | E36: 4 | F36: 19.09
A37: 2.2.16 | B37: 88264 | C37: ELETRICISTA COM ENCARGOS COMPLEMENTARES | D37: H | E37: 3.5 | F37: 35.2
A38: 2.2.17 | B38: 88316 | C38: SERVENTE COM ENCARGOS COMPLEMENTARES | D38: H | E38: 3.5 | F38: 26.9
A39: 2.2.18 | B39: COTAÇÃO 10 | C39: CONECTOR PERFURANTE INCESA 16-120mm DERIVAÇÃO 16-120mm | D39: UN | E39: 4 | F39: 38.57
A40: 2.2.19 | B40: COTAÇÃO 11 | C40: CONTATORA 50A | D40: UN | E40: 1 | F40: 409.9
A41: 2.2.20 | B41: 96985 | C41: HASTE DE ATERRAMENTO 5/8 PARA SPDA - FORNECIMENTO E INSTALAÇÃO. AF_12/2017 | D41: UN | E41: 1 | F41: 81.26
A42: 2.2.21 | B42: COTAÇÃO 6 | C42: GRAMPO CONECTOR GTDU PARA HASTE ATERRAMENTO TIPO GAR 5/8" | D42: UN | E42: 1 | F42: 14.58
...

Sheet ORÇ. ANAHY
A1: PLANILHA ORÇAMENTARIA - ANAHY
A5: MUNICÍPIO: | C5: ANAHY - AGOSTO/2024 | I5: BDI | J5: 0.168 | K5: 0.2786
A6: OBJETO: | C6: INSTALAÇÃO DE LUMINÁRIAS PARA ILUMINAÇÃO PÚBLICA EM LED - ANAHY
C7: SINAP - 06/2024
A9: ORIGEM | B9: ITEM/CÓDIGO | C9: DESCRIÇÃO | D9: UNIDADE | E9: QUANTIDADE | F9: MATERIAL | G9: MÃO DE OBRA | H9: VALOR UNIT. (MAT+MO) | I9: VALOR UNIT. + BDI | J9: VALOR TOTAL | K9: SUBTOTAL (R$)
A10: 1 | C10: SERVIÇOS PRELIMINARES | K10: =J13+J14 -> 4020.5833
A11: 1.2 | C11: ADMINISTRACAO E CANTEIRO DE OBRAS
A12: 1.2.3 | C12: PLACA DE IDENTIFICAÇÃO / LETREIRO
A13: SINAP | B13: 103689 | C13: FORNECIMENTO E INSTALAÇÃO DE PLACA DE OBRA COM CHAPA GALVANZADA E ESTRUTURA DE MADEIRA.AF_03/2022_PS | D13: M² | E13: 4 | F13: 317.38 | G13: 0 | H13: =F13+G13 -> 317.38 | I13: =H13*1.2786 -> 405.80207 | J13: =I13*E13 -> 1623.2083
A14: SINAP | B14: 10776 | C14: LOCACAO DE CONTAINER 2,30 X 6,00 M, ALT. 2,50 M, PARA ESCRITORIO, SEM DIVISORIAS INTERNAS E SEM SANITARIO (NAO INCLUI MOBILIZACAO/DESMOBILIZACAO) | D14: MÊS | E14: 3 | F14: 625 | G14: 0 | H14: =F14+G14 -> 625 | I14: =H14*1.2786 -> 799.125 | J14: =I14*E14 -> 2397.375
A15: 2 | C15: PATIO PREFEITURA
A16: 2.1 | C16: ILUMINAÇÃO PÚBLICA | K16: =J17+J20+J21+J23+J24+J25+J26+J28+J29+J30+J32+J33+J34 -> 142840.15
A17: X | B17: COMP.1 | C17: CONJUNTO DE POSTE ORNAMENTAL E LUMINÁRIA EM LED PARA ILUMINAÇÃO PÚBLICA COM POTÊNCIA DE 200WATTS E ALTURA DE ATÉ 6.500MM. | D17: UN | E17: 12 | F17: ='COMP. ANAHY'!G9 -> 8607.3416 | G17: ='COMP. ANAHY'!H9 -> 21.735 | H17: =G17+F17 -> 8629.0766 | I17: =H17*1.168 -> 10078.761 | J17: =I17*E17 -> 120945.14
A18: 2.2 | C18: SERVIÇOS
A19: 2.2.1 | C19: CABOS
A20: SINAP | B20: 34618 | C20: CABO FLEXIVEL PVC 750 V, 3 CONDUTORES DE 1,5 MM2 (CABO PP) | D20: M | E20: 100 | F20: 5.51 | G20: 0 | H20: =F20+G20 -> 5.51 | I20: =H20*1.2786 -> 7.045086 | J20: =I20*E20 -> 704.5086
A21: SINAP | B21: 91931 | C21: CABO DE COBRE FLEXÍVEL ISOLADO, 6MM², ANTI-CHAMA 0,6/1,0KV, PARA CIRCUITOS TERMINAIS - FORNECIMENTO E INSTALAÇÃO. AF_03/2023 | D21: M | E21: 460 | F21: 10.51 | G21: 0 | H21: =F21+G21 -> 10.51 | I21: =H21*1.2786 -> 13.438086 | J21: =I21*E21 -> 6181.5196
A22: 2.3.1 | C22: INFRAESTRUTURA
A23: SINAP | B23: 93358 | C23: ESCAVAÇÃO MANUAL DE VALA COM PROFUNDIDADE MENOR OU IGUAL A 1,30 M. AF_ 02/2021 | D23: M³ | E23: 15 | F23: 106.41 | G23: 0 | H23: =G23+F23 -> 106.41 | I23: =H23*1.2786 -> 136.05583 | J23: =I23*E23 -> 2040.8374
A24: SINAP | B24: 93382 | C24: REATERRO MANUAL DE VALAS, COM COMPACTADOR DE SOLOS DE PERCUSSÃO. AF_08/2023 | D24: M³ | E24: 15 | F24: 30.94 | G24: 0 | H24: =G24+F24 -> 30.94 | I24: =H24*1.2786 -> 39.559884 | J24: =I24*E24 -> 593.39826
A25: SINAP | B25: 97667 | C25: ELETRODUTO FLEXÍVEL CORRUGADO, PEAD, DN 50 (1 1/2"), PARA REDE ENTERRADA DE DISTRIBUIÇÃO DE ENERGIA ELÉTRICA - FORNECIMENTO E INSTALAÇÃO. AF_12/2021 | D25: M | E25: 160 | F25: 10.36 | G25: 0 | H25: =G25+F25 -> 10.36 | I25: =H25*1.2786 -> 13.246296 | J25: =I25*E25 -> 2119.4074
A26: SINAP | B26: 97886 | C26: CAIXA ENTERRADA ELÉTRICA RETANGULAR, EM ALVENARIA COM TIJOLOS CERÂMICOS MACIÇOS, FUNDO COM BRITA, DIMENSÕES INTERNAS: 0,3X0,3X0,3 M. AF_12/2020 | D26: UN | E26: 12 | F26: 187.33 | G26: 0 | H26: =G26+F26 -> 187.33 | I26: =H26*1.2786 -> 239.52014 | J26: =I26*E26 -> 2874.2417
A27: 2.4.1 | C27: ACESSÓRIOS
A28: SINAP | B28: 101632 | C28: RELE FOTOELETRICO PARA COMANDO DE ILUMINAÇÃO EXTERNA 1000W - FORNECIMENTO E INSTALAÇÃO. AF_08/2020 | D28: UN | E28: 2 | F28: 38.2 | G28: 0 | H28: =G28+F28 -> 38.2 | I28: =H28*1.2786 -> 48.84252 | J28: =I28*E28 -> 97.68504
A29: SINAP | B29: 96985 | C29: HASTE DE ATERRAMENTO 5/8 PARA SPDA - FORNECIMENTO E INSTALAÇÃO. AF_12/2017 | D29: UN | E29: 12 | F29: 81.26 | G29: 0 | H29: =G29+F29 -> 81.26 | I29: =H29*1.2786 -> 103.89904 | J29: =I29*E29 -> 1246.7884
A30: X | B30: COTAÇÃO 6 | C30: GRAMPO CONECTOR GTDU PARA HASTE ATERRAMENTO TIPO GAR 5/8" | D30: UN | E30: 12 | F30: 14.58 | G30: 0 | H30: =G30+F30 -> 14.58 | I30: =H30*1.2786 -> 18.641988 | J30: =I30*E30 -> 223.70386
A31: 2.6.1 | C31: TESTE DE EQUIPAMENTOS
A32: X | B32: COTAÇÃO 3 | C32: TESTE DE EQUIPAMENTOS | D32: UN | E32: 12 | F32: 149.86 | G32: 0 | H32: =G32+F32 -> 149.86 | I32: =H32*1.2786 -> 191.611 | J32: =I32*E32 -> 2299.332
A33: X | B33: COTAÇÃO 4 | C33: DESCARTE DE CONJUNTO DE ILUMINAÇÃO PÚBLICA EXISTENTE, POR PONTO DE IP | D33: UN | E33: 10 | F33: 76.46 | G33: 0 | H33: =G33+F33 -> 76.46 | I33: =H33*1.2786 -> 97.761756 | J33: =I33*E33 -> 977.61756
A34: X | B34: COTAÇÃO 5 | C34: SERVIÇOS DE RETIRADA E TRANSPORTE DE CONJUNTO DE ILUMINAÇÃO PÚBLICA EXISTENTE, POR PONTO DE IP | D34: UN | E34: 10 | F34: 198.34 | G34: 0 | H34: =G34+F34 -> 198.34 | I34: =H34*1.2786 -> 253.59752 | J34: =I34*E34 -> 2535.9752
A36: 3 | C36: ROTATÓRIA E CANTEIROS
A37: 3.1 | C37: ILUMINAÇÃO PÚBLICA | K37: =J38+J41+J42+J44+J45+J46+J47+J49+J50+J51+J53+J55+J56+J57 -> 175803.11
A38: X | B38: COMP.2 | C38: CONJUNTO ORNAMENTAL DE BASE, POSTE E LUMINÁRIA CÔNICA DE 140WATTS E ALTURA DE 5.500mm. | D38: UN | E38: 23 | F38: ='COMP. ANAHY'!G17 -> 4707.3416 | G38: ='COMP. ANAHY'!H17 -> 21.735 | H38: =G38+F38 -> 4729.0766 | I38: =H38*1.168 -> 5523.5615 | J38: =I38*E38 -> 127041.91
A39: 3.2 | C39: SERVIÇOS
A40: 3.2.1 | C40: CABOS
A41: SINAP | B41: 34618 | C41: CABO FLEXIVEL PVC 750 V, 3 CONDUTORES DE 1,5 MM2 (CABO PP) | D41: M | E41: 150 | F41: 5.51 | G41: 0 | H41: =F41+G41 -> 5.51 | I41: =H41*1.2786 -> 7.045086 | J41: =I41*E41 -> 1056.7629
A42: SINAP | B42: 91931 | C42: CABO DE COBRE FLEXÍVEL ISOLADO, 6MM², ANTI-CHAMA 00,6/1,0KV, PARA CIRCUITOS TERMINAIS - FORNECIMENTO E INSTALAÇÃO. AF_03/2023 | D42: M | E42: 820 | F42: 10.51 | G42: 0 | H42: =F42+G42 -> 10.51 | I42: =H42*1.2786 -> 13.438086 | J42: =I42*E42 -> 11019.231
A43: 3.3.1 | C43: INFRAESTRUTURA
A44: SINAP | B44: 93358 | C44: ESCAVAÇÃO MANUAL DE VALA COM PROFUNDIDADE MENOR OU IGUAL A 1,30 M. AF_ 02/2021 | D44: M³ | E44: 22 | F44: 106.41 | G44: 0 | H44: =G44+F44 -> 106.41 | I44: =H44*1.2786 -> 136.05583 | J44: =I44*E44 -> 2993.2282
A45: SINAP | B45: 93382 | C45: REATERRO MANUAL DE VALAS, COM COMPACTADOR DE SOLOS DE PERCUSSÃO. AF_08/2023 | D45: M³ | E45: 22 | F45: 30.94 | G45: 0 | H45: =G45+F45 -> 30.94 | I45: =H45*1.2786 -> 39.559884 | J45: =I45*E45 -> 870.31745
...

Sheet PLANILHA FIS. ANAHY
A1: CRONOGRAMA FíSICO
A3: MUNICÍPIO: | B3: ANAHY - AGOSTO/2024
A4: OBJETO: | B4: INSTALAÇÃO DE LUMINÁRIAS PARA ILUMINAÇÃO PÚBLICA EM LED - ANAHY
A5: ITEM | B5: SERVIÇO | C5: SEMANAS (MÊS)
C6: 1 MÊS | E6: 2 MÊS | F6: 3 MÊS
A8: 1 | B8: SERVIÇOS PRELIMINARES | C8: 1 | G8: 1
A9: =A8+1 -> 2 | B9: PATIO PREFEITURA | C9: =100/300 -> 0.33333333 | E9: =100/300 -> 0.33333333 | F9: =100/300 -> 0.33333333 | G9: =F9+E9+C9 -> 1
A10: =A9+1 -> 3 | B10: ROTATÓRIA | C10: =100/300 -> 0.33333333 | E10: =100/300 -> 0.33333333 | F10: =100/300 -> 0.33333333 | G10: =F10+E10+C10 -> 1
A11: =A10+1 -> 4 | B11: CIVIL | C11: =100/300 -> 0.33333333 | E11: =100/300 -> 0.33333333 | F11: =100/300 -> 0.33333333 | G11: =F11+E11+C11 -> 1
A12: ACUMULATIVO | G12: 1
B19: DEPARTAMENTO DE ENG | D19: Responsável Técnico

Sheet PLANILHA FIN. ANAHY
A1: CRONOGRAMA FINANCEIRO
A3: MUNICÍPIO: | B3: ANAHY - AGOSTO/2024
A4: OBJETO: | B4: INSTALAÇÃO DE LUMINÁRIAS PARA ILUMINAÇÃO PÚBLICA EM LED - ANAHY
A5: ITEM | B5: SERVIÇO | C5: PARCELAS
C6: 1° MÊS | D6: 2° MÊS | E6: 3° MÊS | F6: TOTAL
A7: 1 | B7: INSTALAÇÃO DE LUMINÁRIAS PARA ILUMINAÇÃO PÚBLICA EM LED | C7: =F10/3 -> 115560.1 | D7: =F10/3 -> 115560.1 | E7: =F10/3 -> 115560.1 | F7: =C7+D7+E7 -> 346680.31
A8: ACUMULATIVO POR PARCELA | C8: =SUM(C7:C7) -> 115560.1 | D8: =C8+D7 -> 231120.2 | E8: =D8+E7 -> 346680.31
A10: TOTAL | F10: ='ORÇ. ANAHY'!K62 -> 346680.31
B16: DEPARTAMENTO DE ENG | E16: RESPONSÁVEL TÉCNICO
