Workbook

Sheet ORÇAMENTO
D4: PLANILHA ORÇAMENTÁRIA DE SERVIÇOS
B7: FONTE | C7: CÓD. | D7: SERVIÇOS | E7: UNIDADE | F7: QUANTIDADE | G7: PREÇO UN. (SEM BDI) R$ | H7: BDI(%) | I7: PREÇO UN. (COM BDI) R$ | J7: VALOR GLOBAL
B8: COTAÇÃO | C8: COTAÇÃO 1 | D8: =COMPOSIÇÕES!D7 -> FORNECIMENTO E MONTAGEM DO PISO MODULAR PARA QUADRA COM MANTA DE IMPACTO E MARCAÇÃO ADESIVA DE 3M | E8: =COMPOSIÇÕES!E7 -> M2 | F8: 1100 | G8: ='COTAÇÕES '!L14/ORÇAMENTO!F8 -> 273.8089 | H8: =BDI!B15 -> 0.2509 | I8: =G8*H8+G8 -> 342.50755 | J8: =F8*I8 -> 376758.3
J11: Cafezal do Sul-PR, 17 de dezembro de 2024.
E17: Luiz Eduardo Candido
E18: Engº - Responsável
E19: CREA-PR 145164/D

Sheet COTAÇÕES 
F9: FORNECEDOR 1 | H9: FORNECEDOR 2 | J9: FORNECEDOR 3 | L9: MÉDIA PREÇO R$
E10: EMPRESA | F10: CB ENGENHARIA | H10: CONSTRUSUL | J10: PRATIK UNIFORMES LTDA
E11: CONTATO | F11: BRUNA | H11: WILLIAN | J11: LARISSA
E12: TELEFONE / E-MAIL / SITE | F12: (44) 99822-5885 | H12: (44) 3655-1212 | J12: (44) 3652-1760
B13: COTAÇÃO | C13: DESCRIÇÃO DO INSUMO / SERVIÇO ESPECIALIZADO | F13: R$ UNITÁRIO MATERIAL | G13: R$ UNITÁRIO MÃO-DE-OBRA | H13: R$ UNITÁRIO MATERIAL | I13: R$ UNITÁRIO MÃO-DE-OBRA | J13: R$ UNITÁRIO MATERIAL | K13: R$ UNITÁRIO MÃO-DE-OBRA | L13: R$ MATERIAL | M13: R$ MÃO-DE-OBRA
B14: COTAÇÃO 1 | C14: FORNECIMENTO E MONTAGEM DO PISO MODULAR PARA QUADRA COM MANTA DE IMPACTO E MARCAÇÃO ADESIVA DE 3M | F14: 298569.36 | G14: 0 | H14: 330000 | I14: 0 | J14: 275000 | K14: 0 | L14: =IF(F14<>"",AVERAGE(F14,H14,J14)," ") -> 301189.79 | M14: =IF(G14<>"",AVERAGE(G14,I14,K14)," ") -> 0
K15: MÉDIA TOTAL | L15: =L14+M14 -> 301189.79
M18: =ORÇAMENTO!J11 -> Cafezal do Sul-PR, 17 de dezembro de 2024.
F24: Luiz Eduardo Candido
F25: Engº - Responsável Técnico do Município
F26: CREA-PR 145164/D

Sheet COMPOSIÇÕES
D1: COMPOSIÇÕES
B5: Referência de Custos: SINAPI 08-2024
B6: FONTE | C6: CÓDIGO | D6: DESCRIÇÃO | E6: UNIDADE | F6: COEFIC. | G6: CUSTO UNITARIO | H6: CUSTO TOTAL
B7: COMPOSIÇÃO | C7: COTAÇÃO 1 | D7: FORNECIMENTO E MONTAGEM DO PISO MODULAR PARA QUADRA COM MANTA DE IMPACTO E MARCAÇÃO ADESIVA DE 3M | E7: M2 | H7: =SUM(H8:H8) -> 301189.79
B8: COTAÇÃO | C8: COTAÇÃO 1 | D8: FORNECIMENTO E MONTAGEM DO PISO MODULAR PARA QUADRA COM MANTA DE IMPACTO E MARCAÇÃO ADESIVA DE 3M | E8: M2 | F8: 1100 | G8: 271.42669 | H8: ='COTAÇÕES '!L14 -> 301189.79
H11: =ORÇAMENTO!J11 -> Cafezal do Sul-PR, 17 de dezembro de 2024.
D16: Luiz Eduardo Candido
D17: Engº - Responsável
D18: CREA-PR 145164/D

Sheet  CRONOGRAMA
G2: CRONOGRAMA
B3: Item | C3: Descrição | F3: Valor (R$) | G3: Parcelas | H3: 1
H4: 45658
B5: 1 | C5: INSTALAÇÃO DE PISO MODULAR | F5: =ORÇAMENTO!J8 -> 376758.3 | G5: % Período: | H5: =H7 -> 1
F7: %: | H7: =H8/F10 -> 1
E8: Período: | F8: Repasse: | H8: =ORÇAMENTO!J8/1 -> 376758.3
F9: Acumulado: | H9: =H8 -> 376758.3
E10: TOTAL | F10: =ORÇAMENTO!J8 -> 376758.3
H13: =ORÇAMENTO!J11 -> Cafezal do Sul-PR, 17 de dezembro de 2024.
D19: Luiz Eduardo Candido
D20: Engº - Responsável
D21: CREA-PR 145164/D

Sheet BDI
A1: BDI - ACÓRDÃO Nº 2622/2013 – TCU EDIFICAÇÃO
A2: IMPOSTOS | B2: ISS = | C2: =B24 -> 2.5
B3: PIS = | C3: 0.65
B4: COFINS = | C4: 3
B5: CRPB = | C5: 0
B6: TOTAL = | C6: =SUM(C2:C5) -> 6.15
A7: TIPO DE SERVIÇO | B7: OBRAS | C7: MATERIAIS
A8: ADMINISTRAÇÃO CENTRAL | B8: 4.77 | C8: 3.45
A9: RISCOS | B9: 0.97 | C9: 0.85
A10: SEGUROS E GRANTIAS | B10: 0.84 | C10: 0.48
A11: DESPESAS FINANCEIRAS | B11: 1.26 | C11: 0.85
A12: LUCRO | B12: 8.78 | C12: 5.11
A13: BDI (OBRA OU MATERIAIS/EQUIP.) | B13: =(((((1+(B8+B9+B10)/100)*(1+B11/100)*(1+B12/100))/(1-C6/100))-1)*100) -> 25.091677 | C13: =(((((1+(C8+C9+C10)/100)*(1+C11/100)*(1+C12/100))/(1-(C3+C4+C5)/100))-1)*100) -> 15.278048
A14: BDI=(((((1+(C8+C9+C10)/100)*(1+C11/100)*(1+C12/100))/(1-C6/100))-1)*100)
A15: BDI (OBRA) | B15: =IF(D15="X",0,ROUND(B13,2)/100) -> 0.2509 | E15: ← Digite "X" para obter Valor Total sem BDI
A17: BDI (MATERIAIS E EQUIPAMENTOS) | B17: =IF(D15="X",0,ROUND(C13,2)/100) -> 0.1528
B20: DIGITE
A21: 1 - Solicitar o valor do ISS do município | B21: 5 | C21: %
A22: 2- Solicitar a "Base de Cálculo" (% de mão de Obra) | B22: 50 | C22: %
A23: 3- Fórmula de cálculo do ISS | B23: =ISS x base de cálculo | C23: %
A24: 4- Valor do ISS calculado | B24: =ROUND(B21*B22/100,4) -> 2.5 | C24: %
A26: VALORES DO BDI POR TIPO DE OBRA
A27: TIPOS DE OBRA | B27: 1º Quartil | C27: Médio | D27: 3º Quartil
A28: CONSTRUÇÃO DE EDIFÍCIOS | B28: 0.2034 | C28: 0.2212 | D28: 0.25
A29: CONSTRUÇÃO DE RODOVIAS E FERROVIAS | B29: 0.196 | C29: 0.2095 | D29: 0.2423
A30: CONSTRUÇÃO DE REDES DE ABASTECIMENTO DE ÁGUA, COLETA DE ESGOTO E CONSTRUÇÕES CORRELATAS | B30: 0.2076 | C30: 0.2418 | D30: 0.2644
A31: CONSTRUÇÃO E MANUTENÇÃO DE ESTAÇÕES E REDES DE DISTRIBUIÇÃO DE ENERGIA ELÉTRICA | B31: 0.24 | C31: 0.2584 | D31: 0.2786
A32: OBRAS PORTUÁRIAS, MARÍTIMAS E FLUVIAIS | B32: 0.228 | C32: 0.2748 | D32: 0.3095
A35: BDI PARA ITENS DE MERO FORNECIMENTO DE MATERIAIS E EQUIPAMENTOS | B35: 1º Quartil | C35: Médio | D35: 3º Quartil
B36: 0.111 | C36: 0.1402 | D36: 0.168
A39: TIPOS DE OBRA | B39: ADMINISTRAÇÃO CENTRAL | E39: RISCO | H39: SEGURO + GARANTIA | K39: DESPESA FINANCEIRA | N39: LUCRO
B40: 1º Quartil | C40: Médio | D40: 3º Quartil | E40: 1º Quartil | F40: Médio | G40: 3º Quartil | H40: 1º Quartil | I40: Médio | J40: 3º Quartil | K40: 1º Quartil | L40: Médio | M40: 3º Quartil | N40: 1º Quartil | O40: Médio | P40: 3º Quartil
A41: CONSTRUÇÃO DE EDIFÍCIOS | B41: 0.03 | C41: 0.04 | D41: 0.055 | E41: 0.0097 | F41: 0.0127 | G41: 0.0127 | H41: 0.008 | I41: 0.008 | J41: 0.01 | K41: 0.0059 | L41: 0.0123 | M41: 0.0139 | N41: 0.0616 | O41: 0.074 | P41: 0.0896
A42: CONSTRUÇÃO DE RODOVIAS E FERROVIAS | B42: 0.038 | C42: 0.0401 | D42: 0.0467 | E42: 0.005 | F42: 0.0056 | G42: 0.0097 | H42: 0.0032 | I42: 0.004 | J42: 0.0074 | K42: 0.0102 | L42: 0.0111 | M42: 0.0121 | N42: 0.0664 | O42: 0.073 | P42: 0.0869
A43: CONSTRUÇÃO DE REDES DE ABASTECIMENTO DE ÁGUA, COLETA DE ESGOTO E CONSTRUÇÕES CORRELATAS | B43: 0.0343 | C43: 0.0493 | D43: 0.0671 | E43: 0.01 | F43: 0.0139 | G43: 0.0174 | H43: 0.0028 | I43: 0.0049 | J43: 0.0075 | K43: 0.0094 | L43: 0.0099 | M43: 0.0117 | N43: 0.0674 | O43: 0.0804 | P43: 0.094
A44: CONSTRUÇÃO E MANUTENÇÃO DE ESTAÇÕES E REDES DE DISTRIBUIÇÃO DE ENERGIA ELÉTRICA | B44: 0.0529 | C44: 0.0592 | D44: 0.0793 | E44: 0.01 | F44: 0.0148 | G44: 0.0197 | H44: 0.0025 | I44: 0.0051 | J44: 0.0056 | K44: 0.0101 | L44: 0.0107 | M44: 0.0111 | N44: 0.08 | O44: 0.0831 | P44: 0.0951
A45: OBRAS PORTUÁRIAS, MARÍTIMAS E FLUVIAIS | B45: 0.04 | C45: 0.0552 | D45: 0.0785 | E45: 0.0146 | F45: 0.0232 | G45: 0.0316 | H45: 0.0081 | I45: 0.0122 | J45: 0.0199 | K45: 0.0094 | L45: 0.0102 | M45: 0.0133 | N45: 0.0714 | O45: 0.084 | P45: 0.1043
A48: BDI PARA ITENS DE MERO FORNECIMENTO DE MATERIAIS E EQUIPAMENTOS
A49: PARCELA DO BDI | B49: 1º Quartil | C49: Médio | D49: 3º Quartil
A50: ADMINISTRAÇÃO CENTRAL | B50: 0.015 | C50: 0.0345 | D50: 0.0449
...
