Workbook

Sheet Calculo
A1: Geral da Licitação
A4: Para 12 meses
A5: FUNÇÃO | B5: FUNÇÃO | C5: CBO | D5: CCT | E5: QTDE | F5: CARGA HORÁRIA | G5: VALOR UNITARIO | H5: VALOR MENSAL | I5: VALOR ANUAL
A6: 1 | B6: INSPETOR ESCOLAR | D6: SIEMACO | E6: 2 | F6: 100HS | G6: ='Monitor escolar 20 horas'!C156 -> 3388.4875 | H6: =G6*E6 -> 6776.975 | I6: =H6*12 -> 81323.7
A7: =A6+1 -> 2 | B7: INSPETOR ESCOLAR | D7: SIEMACO | E7: 5 | F7: 150 HS | G7: ='Monitor escolar 30 horas'!C156 -> 4489.7276 | H7: =G7*E7 -> 22448.638 | I7: =H7*12 -> 269383.66
A8: =A7+1 -> 3 | B8: INSPETOR ESCOLAR | D8: SIEMACO | E8: 8 | F8: 200 HS | G8: ='Monitor escolar 40 horas'!C156 -> 6097.3818 | H8: =G8*E8 -> 48779.054 | I8: =H8*12 -> 585348.65
A9: =A8+1 -> 4 | B9: PROFISSIONAL DE APOIO ESCOLAR | D9: SIEMACO | E9: 30 | F9: 100HS | G9: ='Profissional de apoio esc 20hs'!C156 -> 3270.4672 | H9: =G9*E9 -> 98114.017 | I9: =H9*12 -> 1177368.2
A10: =A9+1 -> 5 | B10: PROFISSIONAL DE APOIO ESCOLAR | D10: SIEMACO | E10: 52 | F10: 150 HS | G10: ='Profissional de apoio Esc 30 hs'!C156 -> 4435.8601 | H10: =G10*E10 -> 230664.72 | I10: =H10*12 -> 2767976.7
A11: 6 | B11: PROFISSIONAL DE APOIO ESCOLAR | D11: SIEMACO | E11: 24 | F11: 200 HS | G11: 5936.65 | H11: =G11*E11 -> 142479.6 | I11: =H11*12 -> 1709755.2
B12: Total Geral | E12: =SUM(E6:E10) -> 97 | H12: =SUM(H6:H11) -> 549263.01 | I12: =SUM(I6:I11) -> 6591156.1

Sheet Monitor escolar 20 horas
A1: MODELO DE PLANILHA DE COMPOSIÇÃO DE CUSTOS E FORMAÇÃO DE PREÇOS
A4: Nº Processo:
A5: Licitação nº
A6: Dia ___ / ___ / _____ às ____ : ____ horas
A8: Discriminação dos Serviços (dados referentes à contratação)
A9: A | B9: Data de apresentação da proposta (dia/mês/ano)
A10: B | B10: Município/UF | C10: ITAIPULÂNDIA/PR
A11: C | B11: CCT’s-REFERÊNCIA | C11: SIEMACO/PR
A12: D | B12: Ano, Acordo, Convenção ou Sentença Normativa em Dissídio Coletivo | C12: Convenção Coletiva de Trabalho 2025/2026
A13: E | B13: Nº de meses de execução contratual | C13: 12 meses
A15: Identificação do Serviço
A16: Tipo de Serviço | B16: Categoria profissional (vinculada à execução contratual) | C16: CARGO REFERÊNCIA - CCT | D16: Quantidade (total) a contratar (em função da unidade de medida)
A17: Posto | B17: Monitor Escolar 100 hs | C17: Monitor | D17: 2
A20: Dados complementares para composição dos custos referente à mão-de-obra
A21: 1 | B21: Tipo de serviço (mesmo serviço com características distintas) | C21: =B17 -> Monitor Escolar 100 hs
A22: 2 | B22: Salário normativo da categoria profissional | C22: 1000.9
A23: 3 | B23: Categoria profissional (vinculada à execução contratual) | C23: =C17 -> Monitor
A24: 4 | B24: Data base da categoria (dia/mês/ano) | C24: 01/02/2025 a 31/01/2026
A25: 5 | B25: Quantidade | C25: =D17 -> 2
A26: Nota: Deverá ser elaborado um quadro para cada tipo de serviço.
A28: MÓDULO 1 - COMPOSIÇÃO DA REMUNERAÇÃO
A29: I | B29: Composição da Remuneração | C29: Valor (R$)
A30: A | B30: Salário Base | C30: =C22 -> 1000.9
A31: B | B31: Adicional de periculosidade | C31: 0
A32: C | B32: Adicional de insalubridade | C32: 0
A33: D | B33: Adicional noturno | C33: 0
A34: E | B34: Hora noturna adicional | C34: 0
A35: F | B35: Adicional de hora extra | C35: 0
A36: G | B36: Adicional de Intrajornada | C36: 0
A37: Total da Remuneração | C37: =C30+C31+C32+C33+C34+C35+C36 -> 1000.9
A38: INSALUBRIDADE: NR 15
A39: Anexo "14" Agentes Biológicos
A40: HORA EXTRA "Feriados" (média 7h)
A42: MÓDULO 2 - BENEFÍCIOS MENSAIS E DIÁRIOS
A43: II | B43: Benefícios Mensais e Diários | C43: Valor (R$)
A44: A | B44: Transporte | C44: 0
A45: A.1 | B45: Desconto Transporte | C45: 0
A46: B | B46: Auxílio alimentação (vales, cesta básica etc.) | C46: 805
A47: C | B47: Assistência médica e familiar | C47: 81
A48: D | B48: Auxílio Creche | C48: 0
...

Sheet Monitor escolar 30 horas
A1: MODELO DE PLANILHA DE COMPOSIÇÃO DE CUSTOS E FORMAÇÃO DE PREÇOS
A4: Nº Processo:
A5: Licitação nº
A6: Dia ___ / ___ / _____ às ____ : ____ horas
A8: Discriminação dos Serviços (dados referentes à contratação)
A9: A | B9: Data de apresentação da proposta (dia/mês/ano)
A10: B | B10: Município/UF | C10: ITAIPULÂNDIA/PR
A11: C | B11: CCT’s-REFERÊNCIA | C11: SIEMACO
A12: D | B12: Ano, Acordo, Convenção ou Sentença Normativa em Dissídio Coletivo | C12: Convenção Coletiva de Trabalho 2025/2026
A13: E | B13: Nº de meses de execução contratual | C13: 12 meses
A15: Identificação do Serviço
A16: Tipo de Serviço | B16: Categoria profissional (vinculada à execução contratual) | C16: CARGO REFERÊNCIA - CCT | D16: Quantidade (total) a contratar (em função da unidade de medida)
A17: Posto | B17: Monitor Escolar 30 horas | C17: Monitor Escolar | D17: 5
A20: Dados complementares para composição dos custos referente à mão-de-obra
A21: 1 | B21: Tipo de serviço (mesmo serviço com características distintas) | C21: =B17 -> Monitor Escolar 30 horas
A22: 2 | B22: Salário normativo da categoria profissional | C22: 2013
A23: 3 | B23: Categoria profissional (vinculada à execução contratual) | C23: =C17 -> Monitor Escolar
A24: 4 | B24: Data base da categoria (dia/mês/ano) | C24: 01/02/2025 a 31/01/2026
A25: 5 | B25: Quantidade | C25: =D17 -> 5
A26: Nota: Deverá ser elaborado um quadro para cada tipo de serviço.
A28: MÓDULO 1 - COMPOSIÇÃO DA REMUNERAÇÃO
A29: I | B29: Composição da Remuneração | C29: Valor (R$)
A30: A | B30: Salário Base | C30: 1501.36
A31: B | B31: Adicional de periculosidade | C31: 0
A32: C | B32: Adicional de insalubridade
A33: D | B33: Adicional noturno | C33: 0
A34: E | B34: Hora noturna adicional | C34: 0
A35: F | B35: Adicional de hora extra | C35: 0
A36: G | B36: Adicional de Intrajornada | C36: 0
A37: Total da Remuneração | C37: =C30+C31+C32+C33+C34+C35+C36 -> 1501.36
A38: INSALUBRIDADE: NR 15
A39: Anexo "14" Agentes Biológicos
A40: HORA EXTRA "Feriados" (média 7h)
A42: MÓDULO 2 - BENEFÍCIOS MENSAIS E DIÁRIOS
A43: II | B43: Benefícios Mensais e Diários | C43: Valor (R$)
A44: A | B44: Transporte | C44: 0
A45: A.1 | B45: Desconto Transporte | C45: 0
A46: B | B46: Auxílio alimentação (vales, cesta básica etc.) | C46: 805
A47: C | B47: Assistência médica e familiar | C47: 81
A48: D | B48: Auxílio Creche
...

Sheet Monitor escolar 40 horas
A1: MODELO DE PLANILHA DE COMPOSIÇÃO DE CUSTOS E FORMAÇÃO DE PREÇOS
A4: Nº Processo:
A5: Licitação nº
A6: Dia ___ / ___ / _____ às ____ : ____ horas
A8: Discriminação dos Serviços (dados referentes à contratação)
A9: A | B9: Data de apresentação da proposta (dia/mês/ano)
A10: B | B10: Município/UF | C10: ITAIPULÂNDIA/PR
A11: C | B11: CCT’s-REFERÊNCIA | C11: SIEMACO
A12: D | B12: Ano, Acordo, Convenção ou Sentença Normativa em Dissídio Coletivo | C12: Convenção Coletiva de Trabalho 2025/2026
A13: E | B13: Nº de meses de execução contratual | C13: 12 meses
A15: Identificação do Serviço
A16: Tipo de Serviço | B16: Categoria profissional (vinculada à execução contratual) | C16: CARGO REFERÊNCIA - CCT | D16: Quantidade (total) a contratar (em função da unidade de medida)
A17: Posto | B17: Monitor escolar 40 horas | C17: Monitor escolar | D17: 8
A20: Dados complementares para composição dos custos referente à mão-de-obra
A21: 1 | B21: Tipo de serviço (mesmo serviço com características distintas) | C21: =B17 -> Monitor escolar 40 horas
A22: 2 | B22: Salário normativo da categoria profissional | C22: 2202
A23: 3 | B23: Categoria profissional (vinculada à execução contratual) | C23: =C17 -> Monitor escolar
A24: 4 | B24: Data base da categoria (dia/mês/ano) | C24: 01/02/2025 a 31/01/2026
A25: 5 | B25: Quantidade | C25: =D17 -> 8
A26: Nota: Deverá ser elaborado um quadro para cada tipo de serviço.
A28: MÓDULO 1 - COMPOSIÇÃO DA REMUNERAÇÃO
A29: I | B29: Composição da Remuneração | C29: Valor (R$)
A30: A | B30: Salário Base | C30: =C22 -> 2202
A31: B | B31: Adicional de periculosidade | C31: 0
A32: C | B32: Adicional de insalubridade
A33: D | B33: Adicional noturno
A34: E | B34: Hora noturna adicional | C34: 0
A35: F | B35: Adicional de hora extra | C35: 0
A36: G | B36: Adicional de Intrajornada
A37: Total da Remuneração | C37: =C30+C31+C32+C33+C34+C35+C36 -> 2202
A38: INSALUBRIDADE: NR 15
A39: Anexo "14" Agentes Biológicos
A40: HORA EXTRA "Feriados" (média 7h)
A42: MÓDULO 2 - BENEFÍCIOS MENSAIS E DIÁRIOS
A43: II | B43: Benefícios Mensais e Diários | C43: Valor (R$)
A44: A | B44: Transporte | C44: 0
A45: A.1 | B45: Desconto Transporte | C45: 0
A46: B | B46: Auxílio alimentação (vales, cesta básica etc.) | C46: 805
A47: C | B47: Assistência médica e familiar | C47: 81
A48: D | B48: Auxílio Creche
...

Sheet Profissional de apoio esc 20hs
A1: MODELO DE PLANILHA DE COMPOSIÇÃO DE CUSTOS E FORMAÇÃO DE PREÇOS
A4: Nº Processo:
A5: Licitação nº
A6: Dia ___ / ___ / _____ às ____ : ____ horas
A8: Discriminação dos Serviços (dados referentes à contratação)
A9: A | B9: Data de apresentação da proposta (dia/mês/ano)
A10: B | B10: Município/UF | C10: ITAIPULÂNDIA/PR
A11: C | B11: CCT’s-REFERÊNCIA | C11: SIEMACO
A12: D | B12: Ano, Acordo, Convenção ou Sentença Normativa em Dissídio Coletivo | C12: Convenção Coletiva de Trabalho 2025/2026
A13: E | B13: Nº de meses de execução contratual | C13: 12 meses
A15: Identificação do Serviço
A16: Tipo de Serviço | B16: Categoria profissional (vinculada à execução contratual) | C16: CARGO REFERÊNCIA - CCT | D16: Quantidade (total) a contratar (em função da unidade de medida)
A17: Posto | B17: Profissional de Apoio escolar 20 horas | C17: Profissional de apoio escolar | D17: 30
A20: Dados complementares para composição dos custos referente à mão-de-obra
A21: 1 | B21: Tipo de serviço (mesmo serviço com características distintas) | C21: =B17 -> Profissional de Apoio escolar 20 horas
A22: 2 | B22: Salário normativo da categoria profissional | C22: 934.55
A23: 3 | B23: Categoria profissional (vinculada à execução contratual) | C23: =C17 -> Profissional de apoio escolar
A24: 4 | B24: Data base da categoria (dia/mês/ano) | C24: 01/02/205 a 31/01/2026
A25: 5 | B25: Quantidade | C25: =D17 -> 30
A26: Nota: Deverá ser elaborado um quadro para cada tipo de serviço.
A28: MÓDULO 1 - COMPOSIÇÃO DA REMUNERAÇÃO
A29: I | B29: Composição da Remuneração | C29: Valor (R$)
A30: A | B30: Salário Base | C30: =C22 -> 934.55
A31: B | B31: Adicional de periculosidade | C31: 0
A32: C | B32: Adicional de insalubridade
A33: D | B33: Adicional noturno | C33: 0
A34: E | B34: Hora noturna adicional | C34: 0
A35: F | B35: Adicional de hora extra | C35: 0
A36: G | B36: Adicional de Intrajornada
A37: Total da Remuneração | C37: =C30+C31+C32+C33+C34+C35+C36 -> 934.55
A38: INSALUBRIDADE: NR 15
A39: Anexo "14" Agentes Biológicos
A40: HORA EXTRA "Feriados" (média 7h)
A42: MÓDULO 2 - BENEFÍCIOS MENSAIS E DIÁRIOS
A43: II | B43: Benefícios Mensais e Diários | C43: Valor (R$)
A44: A | B44: Transporte | C44: 0
A45: A.1 | B45: Desconto Transporte | C45: 0
A46: B | B46: Auxílio alimentação (vales, cesta básica etc.) | C46: 805
A47: C | B47: Assistência médica e familiar | C47: 81
A48: D | B48: Auxílio Creche
...

Sheet Profissional de apoio Esc 30 hs
A1: MODELO DE PLANILHA DE COMPOSIÇÃO DE CUSTOS E FORMAÇÃO DE PREÇOS
A4: Nº Processo:
A5: Licitação nº
A6: Dia ___ / ___ / _____ às ____ : ____ horas
A8: Discriminação dos Serviços (dados referentes à contratação)
A9: A | B9: Data de apresentação da proposta (dia/mês/ano)
A10: B | B10: Município/UF | C10: ITAIPULÂNDIA/PR
A11: C | B11: CCT’s-REFERÊNCIA | C11: SIEMACO
A12: D | B12: Ano, Acordo, Convenção ou Sentença Normativa em Dissídio Coletivo | C12: Convenção Coletiva de Trabalho 2025/2026
A13: E | B13: Nº de meses de execução contratual | C13: 12 meses
A15: Identificação do Serviço
A16: Tipo de Serviço | B16: Categoria profissional (vinculada à execução contratual) | C16: CARGO REFERÊNCIA - CCT | D16: Quantidade (total) a contratar (em função da unidade de medida)
A17: Posto | B17: Profissional de apoio escolar 30hs | C17: Profissional de Apoio escolar | D17: 52
A20: Dados complementares para composição dos custos referente à mão-de-obra
A21: 1 | B21: Tipo de serviço (mesmo serviço com características distintas) | C21: =B17 -> Profissional de apoio escolar 30hs
A22: 2 | B22: Salário normativo da categoria profissional | C22: 1401.81
A23: 3 | B23: Categoria profissional (vinculada à execução contratual) | C23: =C17 -> Profissional de Apoio escolar
A24: 4 | B24: Data base da categoria (dia/mês/ano) | C24: 01/02/2025 a 31/01/2026
A25: 5 | B25: Quantidade | C25: =D17 -> 52
A26: Nota: Deverá ser elaborado um quadro para cada tipo de serviço.
A28: MÓDULO 1 - COMPOSIÇÃO DA REMUNERAÇÃO
A29: I | B29: Composição da Remuneração | C29: Valor (R$)
A30: A | B30: Salário Base | C30: =C22 -> 1401.81
A31: B | B31: Adicional de periculosidade | C31: 0
A32: C | B32: Adicional de insalubridade | C32: 0
A33: D | B33: Adicional noturno | C33: 0
A34: E | B34: Hora noturna adicional | C34: 0
A35: F | B35: Adicional de hora extra | C35: 0
A36: G | B36: Adicional de Intrajornada
A37: Total da Remuneração | C37: =C30+C31+C32+C33+C34+C35+C36 -> 1401.81
A38: INSALUBRIDADE: NR 15
A39: Anexo "14" Agentes Biológicos
A40: HORA EXTRA "Feriados" (média 7h)
A42: MÓDULO 2 - BENEFÍCIOS MENSAIS E DIÁRIOS
A43: II | B43: Benefícios Mensais e Diários | C43: Valor (R$)
A44: A | B44: Transporte | C44: 0
A45: A.1 | B45: Desconto Transporte | C45: 0
A46: B | B46: Auxílio alimentação (vales, cesta básica etc.) | C46: 805
A47: C | B47: Assistência médica e familiar | C47: 81
A48: D | B48: Auxílio Creche
...

Sheet Profissional de apoio esco 40 h
A1: MODELO DE PLANILHA DE COMPOSIÇÃO DE CUSTOS E FORMAÇÃO DE PREÇOS
A4: Nº Processo:
A5: Licitação nº
A6: Dia ___ / ___ / _____ às ____ : ____ horas
A8: Discriminação dos Serviços (dados referentes à contratação)
A9: A | B9: Data de apresentação da proposta (dia/mês/ano)
A10: B | B10: Município/UF | C10: ITAIPULÂNDIA/PR
A11: C | B11: CCT’s-REFERÊNCIA | C11: SINDSFOZ
A12: D | B12: Ano, Acordo, Convenção ou Sentença Normativa em Dissídio Coletivo | C12: Convenção Coletiva de Trabalho 2025/2026
A13: E | B13: Nº de meses de execução contratual | C13: 12 meses
A15: Identificação do Serviço
A16: Tipo de Serviço | B16: Categoria profissional (vinculada à execução contratual) | C16: CARGO REFERÊNCIA - CCT | D16: Quantidade (total) a contratar (em função da unidade de medida)
A17: Posto | B17: Segurança | C17: Segurança | D17: hora
A20: Dados complementares para composição dos custos referente à mão-de-obra
A21: 1 | B21: Tipo de serviço (mesmo serviço com características distintas) | C21: Segurança valor da hora
A22: 2 | B22: Salário normativo da categoria profissional | C22: 16.66
A23: 3 | B23: Categoria profissional (vinculada à execução contratual) | C23: =C17 -> Segurança
A24: 4 | B24: Data base da categoria (dia/mês/ano) | C24: 01/0/2025 a 31/07/2026
A25: 5 | B25: Quantidade | C25: =D17 -> hora
A26: Nota: Deverá ser elaborado um quadro para cada tipo de serviço.
A28: MÓDULO 1 - COMPOSIÇÃO DA REMUNERAÇÃO
A29: I | B29: Composição da Remuneração | C29: Valor (R$)
A30: A | B30: Salário Base | C30: =C22 -> 16.66
A31: B | B31: Adicional de periculosidade | C31: 0
A32: C | B32: Adicional de insalubridade | C32: 0
A33: D | B33: Adicional noturno | C33: 0
A34: E | B34: Hora noturna adicional | C34: 0
A35: F | B35: Adicional de hora extra | C35: 0
A36: G | B36: Adicional de Intrajornada
A37: Total da Remuneração | C37: =C30+C31+C32+C33+C34+C35+C36 -> 16.66
A38: INSALUBRIDADE: NR 15
A39: Anexo "14" Agentes Biológicos
A40: HORA EXTRA "Feriados" (média 7h)
A42: MÓDULO 2 - BENEFÍCIOS MENSAIS E DIÁRIOS
A43: II | B43: Benefícios Mensais e Diários | C43: Valor (R$)
A44: A | B44: Transporte | C44: 0
A45: A.1 | B45: Desconto Transporte | C45: 0
A46: B | B46: Auxílio alimentação (vales, cesta básica etc.)
A47: C | B47: Assistência médica e familiar
A48: D | B48: Auxílio Creche
...

Sheet modelo
A1: MODELO DE PLANILHA DE COMPOSIÇÃO DE CUSTOS E FORMAÇÃO DE PREÇOS
A4: Nº Processo:
A5: Licitação nº
A6: Dia ___ / ___ / _____ às ____ : ____ horas
A8: Discriminação dos Serviços (dados referentes à contratação)
A9: A | B9: Data de apresentação da proposta (dia/mês/ano)
A10: B | B10: Município/UF | C10: ITAIPULÂNDIA/PR
A11: C | B11: CCT’s-REFERÊNCIA
A12: D | B12: Ano, Acordo, Convenção ou Sentença Normativa em Dissídio Coletivo
A13: E | B13: Nº de meses de execução contratual | C13: 12 meses
A15: Identificação do Serviço
A16: Tipo de Serviço | B16: Categoria profissional (vinculada à execução contratual) | C16: CARGO REFERÊNCIA - CCT | D16: Quantidade (total) a contratar (em função da unidade de medida)
A17: Posto
A20: Dados complementares para composição dos custos referente à mão-de-obra
A21: 1 | B21: Tipo de serviço (mesmo serviço com características distintas)
A22: 2 | B22: Salário normativo da categoria profissional
A23: 3 | B23: Categoria profissional (vinculada à execução contratual)
A24: 4 | B24: Data base da categoria (dia/mês/ano)
A25: 5 | B25: Quantidade
A26: Nota: Deverá ser elaborado um quadro para cada tipo de serviço.
A28: MÓDULO 1 - COMPOSIÇÃO DA REMUNERAÇÃO
A29: I | B29: Composição da Remuneração | C29: Valor (R$)
A30: A | B30: Salário Base | C30: =C22/44*40 -> 0
A31: B | B31: Adicional de periculosidade | C31: 0
A32: C | B32: Adicional de insalubridade | C32: 0
A33: D | B33: Adicional noturno | C33: 0
A34: E | B34: Hora noturna adicional | C34: 0
A35: F | B35: Adicional de hora extra | C35: 0
A36: G | B36: Adicional de Intrajornada | C36: 0
A37: Total da Remuneração | C37: =C30+C31+C32+C33+C34+C35+C36 -> 0
A38: INSALUBRIDADE: NR 15
A39: Anexo "14" Agentes Biológicos
A40: HORA EXTRA "Feriados" (média 7h)
A42: MÓDULO 2 - BENEFÍCIOS MENSAIS E DIÁRIOS
A43: II | B43: Benefícios Mensais e Diários | C43: Valor (R$)
A44: A | B44: Transporte | C44: 0
A45: A.1 | B45: Desconto Transporte | C45: 0
A46: B | B46: Auxílio alimentação (vales, cesta básica etc.)
A47: C | B47: Assistência médica e familiar
A48: D | B48: Auxílio Creche | C48: 0
...

Sheet Uniformes
A1: MODELO DE PLANILHA DE CUSTOS DOS UNIFORMES PARA REALIZAÇÃO DO SERVIÇO APOIO SERVIÇOS GERAIS
A5: CATEGORIA PROFISSIONAL | B5: TIPO DE UNIFORME | C5: QUANTIDADE SEMESTRAL POR POSTO | D5: Quantidade Anual (N) | E5: Valor unitário (O) | F5: Valor Anual (P=NxO)
A6: Motorista / Recepcionista / Operador de Vídeo / Encarregado-Geral | B6: FEMININO
B7: Blusa branca de mangas compridas e/ou curtas, abotoamento frontal contendo a identificação da Contratada – 3 peças | C7: 4 | D7: 8 | E7: 0 | F7: =(D7*E7) -> 0
B8: Blazer na cor preta preta - 2 peças | C8: 4 | D8: 8 | E8: 0 | F8: =(D8*E8) -> 0
B9: Lenço (padronizado) para o pescoço – 2 peças | C9: 4 | D9: 8 | E9: 0 | F9: =(D9*E9) -> 0
B10: Saia, calça comprida ou vestido na cor preta – 2 peças | C10: 4 | D10: 8 | E10: 0 | F10: =(D10*E10) -> 0
B11: Sapato em couro, na cor preta – 2 peças | C11: 4 | D11: 8 | E11: 0 | F11: =(D11*E11) -> 0
B12: MASCULINO
B13: Camisa branca de mangas compridas e/ou curtas, abotoamento frontal contendo a identificação da Contratada – 3 peças | C13: 4 | D13: 8 | E13: 0 | F13: =(D13*E13) -> 0
B14: Blazer na cor preta – 2 peças | C14: 4 | D14: 8 | E14: 0 | F14: =(D14*E14) -> 0
B15: Calça comprida na cor preta – 2 peças | C15: 4 | D15: 8 | E15: 0 | F15: =(D15*E15) -> 0
B16: Sapato em couro, na cor preta – 2 pares | C16: 4 | D16: 8 | E16: 0 | F16: =(D16*E16) -> 0
B17: Gravata – 2 peças | C17: 4 | D17: 8 | E17: 0 | F17: =(D17*E17) -> 0
B18: Cinto em couro, na cor preta – 2 peças | C18: 4 | D18: 8 | E18: 0 | F18: =(D18*E18) -> 0
A19: TOTAL | F19: =SUM(F7:F18) -> 0
A20: Carregador | B20: Camiseta (padronizada, em malha de algodão, com mangas curtas e/ou compridas – 3 peças | C20: 4 | D20: 8 | F20: =(D20*E20) -> 0
B21: Casaco de frio – 2 peças | C21: 4 | D21: 8 | F21: =(D21*E21) -> 0
B22: Calça comprida (padronizada) na cor preta, em brim ou tipo jeans – 2 peças | C22: 4 | D22: 8 | F22: =(D22*E22) -> 0
B23: Cinto em couro, na cor preta – 2 peças | C23: 4 | D23: 8 | F23: =(D23*E23) -> 0
B24: Meia, na cor preta – 2 pares | C24: 4 | D24: 8 | F24: =(D24*E24) -> 0
B25: Sapato/bota/botina, em couro, com solado baixo, antiderrapante – 2 pares | C25: 4 | D25: 8 | F25: =(D25*E25) -> 0
B26: Jaleco comprido, na cor azul preta, com 2 bolsos em brim – 2 peças | C26: 4 | D26: 8 | F26: =(D26*E26) -> 0
B27: TOTAL | F27: =SUM(F20:F26) -> 0
A28: *A PLANILHA DE CUSTOS DOS UNIFORMES PARA REALIZAÇÃO DO SERVIÇO DE APOIO DE SERVIÇOS GERAIS (GRUPO 2) DEVERÁ SER APRESENTADA JUNTO COM A PLANILHA DE COMPOSIÇÃO DE CUSTOS E FORMAÇÃO DE PREÇOS DOS CARGOS DE CARREGADOR, MOTORISTA (VEICULOS LEVES), MOTORISTA (VEÍCULO PESADO), RECEPCIONISTA E ENCARREGADO-GERAL, PARA JUSTIFICAR O VALOR ATRIBUÍDO À ALÍNEA “A” (UNIFORMES) DO MÓDULO 3 (INSUMOS DIVERSOS).
B30: Valor Mensal Total (Q) | C30: Valor Mensal por Categoria Profissional (Q / nº de postos / 12 meses)
A31: VALOR ESTIMADO DA PLANILHA DE CUSTOS DOS UNIFORMES PARA REALIZAÇÃO DO SERVIÇO APOIO DE SERVIÇOS GERAIS (EXCETO CARREGADOR) | B31: =F19 -> 0 | C31: =(B31/16/12) -> 0
B33: Valor Mensal Total (Q) | C33: Valor Mensal por Categoria Profissional (Q / nº de postos / 12 meses)
A34: VALOR ESTIMADO DA PLANILHA DE CUSTOS DOS UNIFORMES PARA REALIZAÇÃO DO SERVIÇO DE CARREGADOR | B34: =F27 -> 0 | C34: =(B34/16/12) -> 0
