Workbook

Sheet Resumo_Oficial
A1: MUNICÍPIO DE SANGÃO/SC — PESQUISA DE PREÇOS DE POSTOS TERCEIRIZADOS
A2: Data-base: 09/09/2026 | 8 itens | 145 postos máximos | 1.740 postos-mês em 12 meses
A4: INDICADOR | B4: RESULTADO | D4: CRITÉRIO FINAL DE FORMAÇÃO DO PREÇO
A5: Itens autônomos | B5: 8 | D5: PCFP local por função e jornada, com bases convencionais, provisões por evento e fontes públicas. Cenário-base: API integral no primeiro ciclo; assiduidade conforme memória. Comparações externas contextuais; cenários alternativos segregados.
A6: Quantidade total de postos | B6: =SUM(PCFP_Sangao!E5:E12) -> 145
A7: Valor mensal estimado | B7: =ROUND(SUM(PCFP_Sangao!L5:L12),2) -> 679635.2
A8: Valor anual estimado | B8: =ROUND(SUM(PCFP_Sangao!M5:M12),2) -> 8155622.4
A10: QUADRO FINAL DE PREÇOS ADOTADOS
A11: Item | B11: Função | C11: Jornada | D11: Postos | E11: Preço adotado/posto | F11: Total mensal | G11: Total anual | H11: Síntese da validação
A12: 1 | B12: Porteiro(a) | C12: 40h | D12: 20 | E12: =PCFP_Sangao!D5 -> 6806.27 | F12: =PCFP_Sangao!L5 -> 136125.4 | G12: =PCFP_Sangao!M5 -> 1633504.8 | H12: PCFP por evento; referências externas qualificadas. Premissas e fontes no relatório.
A13: 2 | B13: Cozinheiro(a) | C13: 40h | D13: 5 | E13: =PCFP_Sangao!D6 -> 5367.64 | F13: =PCFP_Sangao!L6 -> 26838.2 | G13: =PCFP_Sangao!M6 -> 322058.4 | H13: PCFP por evento; referências externas qualificadas. Premissas e fontes no relatório.
A14: 3 | B14: Auxiliar de Limpeza | C14: 40h | D14: 5 | E14: =PCFP_Sangao!D7 -> 5909.03 | F14: =PCFP_Sangao!L7 -> 29545.15 | G14: =PCFP_Sangao!M7 -> 354541.8 | H14: PCFP por evento; referências externas qualificadas. Premissas e fontes no relatório.
A15: 4 | B15: Auxiliar de Limpeza | C15: 30h | D15: 25 | E15: =PCFP_Sangao!D8 -> 4861.67 | F15: =PCFP_Sangao!L8 -> 121541.75 | G15: =PCFP_Sangao!M8 -> 1458501 | H15: PCFP por evento; referências externas qualificadas. Premissas e fontes no relatório.
A16: 5 | B16: Agente de Apoio Escolar | C16: 30h | D16: 60 | E16: =PCFP_Sangao!D9 -> 4162.84 | F16: =PCFP_Sangao!L9 -> 249770.4 | G16: =PCFP_Sangao!M9 -> 2997244.8 | H16: Apoio material não pedagógico. UEL/Tambaú: contexto, sem equivalência integral.
A17: 6 | B17: Emissor de Documentos | C17: 40h | D17: 5 | E17: =PCFP_Sangao!D10 -> 5429.51 | F17: =PCFP_Sangao!L10 -> 27147.55 | G17: =PCFP_Sangao!M10 -> 325770.6 | H17: PCFP por evento; referências externas qualificadas. Premissas e fontes no relatório.
A18: 7 | B18: Apoio Administrativo | C18: 40h | D18: 5 | E18: =PCFP_Sangao!D11 -> 5429.51 | F18: =PCFP_Sangao!L11 -> 27147.55 | G18: =PCFP_Sangao!M11 -> 325770.6 | H18: PCFP por evento; referências externas qualificadas. Premissas e fontes no relatório.
A19: 8 | B19: Apoio Administrativo | C19: 20h | D19: 20 | E19: =PCFP_Sangao!D12 -> 3075.96 | F19: =PCFP_Sangao!L12 -> 61519.2 | G19: =PCFP_Sangao!M12 -> 738230.4 | H19: PCFP por evento; referências externas qualificadas. Premissas e fontes no relatório.

Sheet PCFP_Sangao
A1: PCFP ANALÍTICA — BASE LOCAL DE FORMAÇÃO DOS PREÇOS
A2: Fonte: Relatório Técnico de Composição Analítica de Custos e Formação de Preços — CCT paradigma SC000124/2026. Os preços desta aba são a base local adotada, sujeitos ao confronto externo registrado nas demais abas.
A4: Item | B4: Função | C4: Jornada | D4: Preço estimado/posto-mês | E4: Postos | F4: M1 Remun. | G4: M2 Enc./Benef. | H4: M3 Rescisão | I4: M4 Reposição | J4: M5 Insumos | K4: CITL/Tributos* | L4: Total mensal | M4: Total anual
A5: 1 | B5: Porteiro(a) | C5: 40h | D5: =PCFP_Detalhada!B58 -> 6806.27 | E5: =PCFP_Detalhada!B5 -> 20 | F5: =PCFP_Detalhada!B12 -> 2496.27 | G5: =PCFP_Detalhada!B26 -> 2602.061 | H5: =PCFP_Detalhada!B51 -> 451.20506 | I5: =PCFP_Detalhada!B40 -> 140.56468 | J5: =PCFP_Detalhada!B29 -> 58.885833 | K5: =PCFP_Detalhada!B53+PCFP_Detalhada!B54+PCFP_Detalhada!B57 -> 1057.2849 | L5: =PCFP_Detalhada!B59 -> 136125.4 | M5: =PCFP_Detalhada!B60 -> 1633504.8
A6: 2 | B6: Cozinheiro(a) | C6: 40h | D6: =PCFP_Detalhada!C58 -> 5367.64 | E6: =PCFP_Detalhada!C5 -> 5 | F6: =PCFP_Detalhada!C12 -> 1857.54 | G6: =PCFP_Detalhada!C26 -> 2124.0483 | H6: =PCFP_Detalhada!C51 -> 335.75352 | I6: =PCFP_Detalhada!C40 -> 111.33437 | J6: =PCFP_Detalhada!C29 -> 105.15417 | K6: =PCFP_Detalhada!C53+PCFP_Detalhada!C54+PCFP_Detalhada!C57 -> 833.80788 | L6: =PCFP_Detalhada!C59 -> 26838.2 | M6: =PCFP_Detalhada!C60 -> 322058.4
A7: 3 | B7: Auxiliar de Limpeza | C7: 40h | D7: =PCFP_Detalhada!D58 -> 5909.03 | E7: =PCFP_Detalhada!D5 -> 5 | F7: =PCFP_Detalhada!D12 -> 2103.42 | G7: =PCFP_Detalhada!D26 -> 2308.06 | H7: =PCFP_Detalhada!D51 -> 380.19675 | I7: =PCFP_Detalhada!D40 -> 121.63288 | J7: =PCFP_Detalhada!D29 -> 77.814167 | K7: =PCFP_Detalhada!D53+PCFP_Detalhada!D54+PCFP_Detalhada!D57 -> 917.90782 | L7: =PCFP_Detalhada!D59 -> 29545.15 | M7: =PCFP_Detalhada!D60 -> 354541.8
A8: 4 | B8: Auxiliar de Limpeza | C8: 30h | D8: =PCFP_Detalhada!E58 -> 4861.67 | E8: =PCFP_Detalhada!E5 -> 25 | F8: =PCFP_Detalhada!E12 -> 1720.98 | G8: =PCFP_Detalhada!E26 -> 1895.2384 | H8: =PCFP_Detalhada!E51 -> 311.07007 | I8: =PCFP_Detalhada!E40 -> 101.35843 | J8: =PCFP_Detalhada!E29 -> 77.814167 | K8: =PCFP_Detalhada!E53+PCFP_Detalhada!E54+PCFP_Detalhada!E57 -> 755.21123 | L8: =PCFP_Detalhada!E59 -> 121541.75 | M8: =PCFP_Detalhada!E60 -> 1458501
A9: 5 | B9: Agente de Apoio Escolar | C9: 30h | D9: =PCFP_Detalhada!F58 -> 4162.84 | E9: =PCFP_Detalhada!F5 -> 60 | F9: =PCFP_Detalhada!F12 -> 1434.15 | G9: =PCFP_Detalhada!F26 -> 1680.5806 | H9: =PCFP_Detalhada!F51 -> 259.22506 | I9: =PCFP_Detalhada!F40 -> 84.174668 | J9: =PCFP_Detalhada!F29 -> 58.0525 | K9: =PCFP_Detalhada!F53+PCFP_Detalhada!F54+PCFP_Detalhada!F57 -> 646.65431 | L9: =PCFP_Detalhada!F59 -> 249770.4 | M9: =PCFP_Detalhada!F60 -> 2997244.8
A10: 6 | B10: Emissor de Documentos | C10: 40h | D10: =PCFP_Detalhada!G58 -> 5429.51 | E10: =PCFP_Detalhada!G5 -> 5 | F10: =PCFP_Detalhada!G12 -> 1910.81 | G10: =PCFP_Detalhada!G26 -> 2163.9145 | H10: =PCFP_Detalhada!G51 -> 345.38217 | I10: =PCFP_Detalhada!G40 -> 109.30642 | J10: =PCFP_Detalhada!G29 -> 56.6775 | K10: =PCFP_Detalhada!G53+PCFP_Detalhada!G54+PCFP_Detalhada!G57 -> 843.41896 | L10: =PCFP_Detalhada!G59 -> 27147.55 | M10: =PCFP_Detalhada!G60 -> 325770.6
A11: 7 | B11: Apoio Administrativo | C11: 40h | D11: =PCFP_Detalhada!H58 -> 5429.51 | E11: =PCFP_Detalhada!H5 -> 5 | F11: =PCFP_Detalhada!H12 -> 1910.81 | G11: =PCFP_Detalhada!H26 -> 2163.9145 | H11: =PCFP_Detalhada!H51 -> 345.38217 | I11: =PCFP_Detalhada!H40 -> 109.30642 | J11: =PCFP_Detalhada!H29 -> 56.6775 | K11: =PCFP_Detalhada!H53+PCFP_Detalhada!H54+PCFP_Detalhada!H57 -> 843.41896 | L11: =PCFP_Detalhada!H59 -> 27147.55 | M11: =PCFP_Detalhada!H60 -> 325770.6
A12: 8 | B12: Apoio Administrativo | C12: 20h | D12: =PCFP_Detalhada!I58 -> 3075.96 | E12: =PCFP_Detalhada!I5 -> 20 | F12: =PCFP_Detalhada!I12 -> 1042.26 | G12: =PCFP_Detalhada!I26 -> 1247.552 | H12: =PCFP_Detalhada!I51 -> 188.39027 | I12: =PCFP_Detalhada!I40 -> 63.26162 | J12: =PCFP_Detalhada!I29 -> 56.6775 | K12: =PCFP_Detalhada!I53+PCFP_Detalhada!I54+PCFP_Detalhada!I57 -> 477.81911 | L12: =PCFP_Detalhada!I59 -> 61519.2 | M12: =PCFP_Detalhada!I60 -> 738230.4
A14: OBSERVAÇÃO METODOLÓGICA
A15: * CITL/Tributos | B15: CITL calculado: indiretos + lucro + tributos, ligado à memória. O preço final é arredondado; os módulos conservam precisão integral.
A16: Status | B16: Memória integrada à aprovação ordinária do orçamento; premissas e cenários no relatório e na PCFP detalhada.

Sheet Tabela_SEA_2026
A1: ESTADO DE SANTA CATARINA — TABELA DE VALORES DE REFERÊNCIA 2026
A2: Fonte oficial SEA/DGLC/GECON, atualizada em fevereiro/2026. Os preços são estimados a partir de PCFP da GECON, consideram CCT SEAC/SC, ISSQN de 5% e tarifa de ônibus de Florianópolis. Para Sangão, constituem benchmark oficial externo, não preço compulsório municipal.
A5: Grupo | B5: Posto SEA | C5: Jornada | D5: Código item | E5: Preço SEA 2026 | F5: Correspondência Sangão | G5: Aderência | H5: URL/Fonte
A6: 01-04 | B6: PORTEIRO | C6: 8h seg-sex | D6: 500030005 | E6: 7319.35 | F6: Porteiro(a) 40h | G6: ECONÔMICA DIRETA | H6: https://dados.sc.gov.br/dataset/licitacoes-de-terceirizados
A7: 01-07 | B7: COZINHEIRO | C7: 8h seg-sex | D7: 500070003 | E7: 5813.31 | F7: Cozinheiro(a) 40h | G7: DIRETA | H7: https://dados.sc.gov.br/dataset/licitacoes-de-terceirizados
A8: 01-01 | B8: SERVENTE | C8: 8h seg-sex | D8: 500000001 | E8: 6420.86 | F8: Auxiliar de Limpeza 40h | G8: ALTA | H8: https://dados.sc.gov.br/dataset/licitacoes-de-terceirizados
A9: 01-01 | B9: SERVENTE | C9: 6h seg-sex | D9: 500000002 | E9: 5344.87 | F9: Auxiliar de Limpeza 30h | G9: ALTA | H9: https://dados.sc.gov.br/dataset/licitacoes-de-terceirizados
A10: 01-25 | B10: EMISSOR DE DOCUMENTOS | C10: 8h seg-sex | D10: 502950003 | E10: 5767.01 | F10: Emissor de Documentos 40h | G10: DIRETA | H10: https://dados.sc.gov.br/dataset/licitacoes-de-terceirizados
A11: 01-25 | B11: APOIO ADMINISTRATIVO I | C11: 6h seg-sex | D11: 502950001 | E11: 5889.42 | F11: Apoio Administrativo 40h/20h | G11: NÃO DIRETA — jornada diversa | H11: https://dados.sc.gov.br/dataset/licitacoes-de-terceirizados
A12: 01-25 | B12: APOIO ADMINISTRATIVO II | C12: 8h seg-sex | D12: 502950006 | E12: 10713.45 | F12: Apoio Administrativo 40h | G12: NÃO DIRETA — nível funcional diverso | H12: https://dados.sc.gov.br/dataset/licitacoes-de-terceirizados
A14: PREMISSAS OFICIAIS DA TABELA
A15: Premissa | B15: Descrição
A16: Base trabalhista | B16: CCT do SEAC/SC; vigilância utiliza SINDESP/SC.
A17: Tributação/localidade | B17: ISSQN 5% e tarifa de ônibus de Florianópolis.
A18: Metodologia | B18: PCFP GECON conforme IN SEA nº 9/2024 e diretrizes da IN nº 5/2017.
A19: Posto/jornada ausente | B19: Exige análise específica e PCFP própria, com CBO, atividades, requisitos e piso/CCT de referência.

Sheet Farol_PNCP_
A1: REFERÊNCIAS PÚBLICAS MONETÁRIAS — FAROL TCE/SC, PNCP E FONTES OFICIAIS COMPLEMENTARES
A2: Somente referências com preço unitário recuperável ou preço total cuja natureza seja explicitamente conhecida. Preços de jornada diversa, procedimentos revogados, fontes fora de Santa Catarina e valores estimados são mantidos separados e não entram automaticamente em média/mediana.
A5: Ref. | B5: Função alvo | C5: Ente/Fonte | D5: Procedimento | E5: Data | F5: Jornada fonte | G5: Natureza do preço | H5: Preço unit. posto/mês | I5: Valor total/documental | J5: Aderência | K5: Uso estatístico | L5: Situação/ressalva | M5: URL
A6: SC01 | B6: Cozinheiro(a) 40h | C6: Ibiam/SC | D6: PE 89/2025 | E6: 19/01/2026 | F6: 40h | G6: Preço estimado por posto | H6: =I6/2 -> 3862.79 | I6: 7725.58 | J6: ALTA | K6: NÃO — confronto contextual | L6: ETP/TR individualizam 2 merendeiras 40h; preço estimado do órgão. | M6: https://api.virtual.tce.sc.gov.br/api-gateway/ms-esfinge-web/publico/getArquivoOnline?identificadorGed=YjBlYWE4NmQtNTZhNy00OWE5LWFhYTgtNmQ1NmE3ODlhOTkz
A7: SC02 | B7: Cozinheiro(a) 40h | C7: São José do Cedro/SC | D7: PCE 61/2026 | E7: 12/05/2026 | F7: 40h | G7: Preço estimado unitário — PNCP | H7: 3962.6 | I7: 475512 | J7: ALTA | K7: NÃO — confronto contextual | L7: Merendeira 8h/40h, 120 pessoa/mês, CBO 5132-05; preço publicado no PNCP. | M7: https://pncp.gov.br/app/editais/83026781000110/2026/92
A8: SC03 | B8: Auxiliar de Limpeza 40h | C8: São José do Cedro/SC | D8: PCE 61/2026 | E8: 12/05/2026 | F8: 40h | G8: Preço estimado unitário — PNCP | H8: 4247.22 | I8: 1223199.4 | J8: ALTA | K8: NÃO — confronto contextual | L8: Serviços gerais de limpeza, 8h/40h, 288 pessoa/mês, CBO 5143-20. | M8: https://pncp.gov.br/app/editais/83026781000110/2026/92
A9: SC04 | B9: Auxiliar de Limpeza 40h | C9: ARIS/SC | D9: PE 001/2026 | E9: 06/03/2026 | F9: 8h/dia útil | G9: Preço homologado total | I9: 53340 | J9: MUITO ALTA | K9: NÃO — confronto contextual | L9: 1 posto; vencedor homologado. Conversão mensal depende de comprovação formal da vigência. | M9: https://www.portaldecompraspublicas.com.br/processos/SC/Agencia-Reguladora-Intermunicipal-de-Saneamento-Florianopolis-2612/PE-001-2026-2026-453343
A10: P01 | B10: Cozinheiro(a) 40h | C10: SEED/PR — PNCP | D10: Compra 17/2026 | E10: 27/04/2026 | F10: 40h | G10: Preço estimado do órgão | H10: 5120.8 | J10: ALTA FUNCIONAL | K10: NÃO — confronto contextual | L10: Merendeira com acúmulo de cozinheira; fora de SC, usada apenas como complemento. | M10: https://pncp.gov.br/app/editais/76416965000121/2026/56
A11: P02 | B11: Agente de Apoio Escolar 30h | C11: UEL/PR — PNCP | D11: Compra 606/2025 | E11: 07/04/2026 | F11: 30h | G11: Estimado — lote 1, item diurno | H11: 5951.58 | J11: CONTEXTUAL | K11: NÃO — confronto contextual | L11: Apoio à acessibilidade/cuidado; escopo diferente do operacional de Sangão. | M11: https://pncp.gov.br/app/editais/78640489000153/2025/1341
A12: P03 | B12: Agente de Apoio Escolar 30h | C12: UEL/PR — PNCP | D12: Compra 606/2025 | E12: 07/04/2026 | F12: 30h | G12: Estimado — lote 1, item noturno | H12: 6449.28 | J12: NÃO EQUIVALENTE | K12: NÃO — confronto contextual | L12: Mesmo lote do item diurno; noturno excluído do confronto diurno. | M12: https://pncp.gov.br/app/editais/78640489000153/2025/1341
A13: P04 | B13: Agente de Apoio Escolar 30h | C13: Tambaú/SP | D13: PE 01/2026 | E13: 2026 | F13: 30h | G13: Preço estimado no TR, p.22 | H13: 2513.5075 | J13: CONTEXTUAL | K13: NÃO — confronto contextual | L13: 11 meses; supervisão separada e cuidado pessoal. ETP p.68 tem R$2.545,166, não usado. | M13: https://tambau.sp.gov.br/uploads/licitacao/PE01-2026ContratacaoEquipeApoioEducacao.pdf
A14: P05 | B14: Auxiliar de Limpeza 40h | C14: Estado do Paraná | D14: Repactuação PE 912/2020 — lote 05 | E14: 08/06/2026 | F14: 40h | G14: Preço repactuado | H14: 4453.64 | J14: ALTA FUNCIONAL | K14: NÃO — confronto contextual | L14: Servente de limpeza 40h com insumos; fora de SC. | M14: https://www.administracao.pr.gov.br/sites/default/arquivos_restritos/files/documento/2026-06/aviso_34_202625.914.8073_dosrepactuacao_contratos_pe_912_2020_lote05pontual_1.pdf
A15: P06 | B15: Auxiliar de Limpeza 40h | C15: Estado do Paraná | D15: Repactuação PE 912/2020 — lote 05 | E15: 08/06/2026 | F15: 40h | G15: Preço repactuado | H15: 4526.41 | J15: ALTA FUNCIONAL | K15: NÃO — confronto contextual | L15: Servente de limpeza 40h com risco; mesmo aviso, item distinto. | M15: https://www.administracao.pr.gov.br/sites/default/arquivos_restritos/files/documento/2026-06/aviso_34_202625.914.8073_dosrepactuacao_contratos_pe_912_2020_lote05pontual_1.pdf
A16: P07 | B16: Auxiliar de Limpeza 30h | C16: Estado do Paraná | D16: Repactuação PE 912/2020 — lote 05 | E16: 08/06/2026 | F16: 30h | G16: Preço repactuado | H16: 3759.61 | J16: ALTA FUNCIONAL | K16: NÃO — confronto contextual | L16: Servente de limpeza 30h com insumos/risco; fora de SC. | M16: https://www.administracao.pr.gov.br/sites/default/arquivos_restritos/files/documento/2026-06/aviso_34_202625.914.8073_dosrepactuacao_contratos_pe_912_2020_lote05pontual_1.pdf
A17: P08 | B17: Apoio Administrativo 40h | C17: SEED/PR — PNCP | D17: Compra 17/2026 | E17: 27/04/2026 | F17: 40h | G17: Preço estimado do órgão | H17: 5606.64 | J17: ALTA FUNCIONAL | K17: NÃO — confronto contextual | L17: Assistente Administrativo em unidade escolar, com uniforme/EPI. | M17: https://pncp.gov.br/app/editais/76416965000121/2026/56
A18: P09 | B18: Apoio Administrativo 40h | C18: Estado do Paraná | D18: PE 1428/2021 — Lote 02 repact. 2026 | E18: 03/06/2026 | F18: 40h | G18: Preço repactuado | H18: 5956.67 | J18: ALTA FUNCIONAL | K18: NÃO — confronto contextual | L18: Assistente Administrativo I 40h. | M18: https://www.administracao.pr.gov.br/sites/default/arquivos_restritos/files/documento/2026-06/aviso_062_202625.935.3238repaccontratospe14282021lote02adserviadministradora.pdf
A19: P10 | B19: Apoio Administrativo 40h | C19: Estado do Paraná | D19: PE 1428/2021 — Lote 06 repact. 2026 | E19: 25/05/2026 | F19: 40h | G19: Preço repactuado | H19: 5714.38 | J19: PENDENTE DE CONFIRMAÇÃO | K19: EXCLUÍDO DO CONFRONTO | L19: Preço mantido como histórico da planilha recebida; item específico não confirmado, não fundamenta orçamento. | M19: https://www.administracao.pr.gov.br/sites/default/arquivos_restritos/files/documento/2026-05/aviso_43_202625.935.4048repaccontratospe14282021lote06plansul.pdf
A20: P11 | B20: Apoio Administrativo 40h | C20: Estado do Paraná | D20: PE 1428/2021 — Lote 05 repact. 2026 | E20: 25/05/2026 | F20: 40h | G20: Preço repactuado | H20: 5761.41 | J20: PENDENTE DE CONFIRMAÇÃO | K20: EXCLUÍDO DO CONFRONTO | L20: Preço mantido como histórico da planilha recebida; item específico não confirmado, não fundamenta orçamento. | M20: https://www.administracao.pr.gov.br/sites/default/arquivos_restritos/files/documento/2026-05/aviso_44_202625.935.3955repaccontratospe14282021lote05plansul.pdf
A21: P12 | B21: Apoio Administrativo 20h | C21: SEED/PR — PNCP | D21: Compra 17/2026 | E21: 27/04/2026 | F21: 20h | G21: Preço estimado do órgão | H21: 3475.62 | J21: ALTA FUNCIONAL | K21: NÃO — confronto contextual | L21: Assistente Administrativo 20h; fora de SC por ausência de equivalente estadual. | M21: https://pncp.gov.br/app/editais/76416965000121/2026/56
A22: P13 | B22: Apoio Administrativo 40h | C22: Estado do Paraná | D22: PE 1428/2021 — Lote 03 repact. 2026 | E22: 25/05/2026 | F22: 40h | G22: Preço repactuado | H22: 5779.73 | J22: PENDENTE DE CONFIRMAÇÃO | K22: EXCLUÍDO DO CONFRONTO | L22: Preço mantido como histórico da planilha recebida; item específico não confirmado, não fundamenta orçamento. | M22: https://www.administracao.pr.gov.br/sites/default/arquivos_restritos/files/documento/2026-05/aviso_45_202625.935.3521repaccontratospe14282021lote03plansul.pdf

Sheet Matriz_Comparativa
A1: MATRIZ SANGÃO × ESTADO DE SANTA CATARINA × FAROL/PNCP
A2: A matriz não mistura as três camadas em uma média única. A PCFP forma o custo local; a Tabela SEA/SC testa a coerência oficial dos postos equivalentes; Farol/PNCP testam preços públicos de mercado. O preço adotado somente se altera se houver inconsistência material demonstrada na PCFP ou evidência pública homogênea suficientemente robusta.
A5: Item | B5: Função | C5: Jornada | D5: Postos | E5: PCFP Sangão | F5: SEA/SC 2026 | G5: Δ PCFP x SEA | H5: Δ % | I5: Farol/PNCP — principal | J5: Faixa mercado pública | K5: Estatística | L5: Diagnóstico | M5: Preço adotado | N5: Status
A6: 1 | B6: Porteiro(a) | C6: 40h | D6: 20 | E6: =PCFP_Sangao!D5 -> 6806.27 | F6: 7319.35 | G6: =IF(F6="","",ROUND(E6-F6,2)) -> -513.08 | H6: =IF(F6="","",E6/F6-1) -> -0.070099121 | I6: Sem preço unitário atual estritamente homogêneo no Farol | J6: — | K6: Não aplicada | L6: Composição local. Fontes externas não formam amostra homogênea. | M6: =PCFP_Sangao!D5 -> 6806.27 | N6: ADOTAR PCFP
A7: 2 | B7: Cozinheiro(a) | C7: 40h | D7: 5 | E7: =PCFP_Sangao!D6 -> 5367.64 | F7: 5813.31 | G7: =IF(F7="","",ROUND(E7-F7,2)) -> -445.67 | H7: =IF(F7="","",E7/F7-1) -> -0.076663725 | I7: Ibiam/SC R$ 3.862,79; São José do Cedro/SC R$ 3.962,60; SEED/PR R$ 5.120,80 | J7: R$ 3.862,79 a R$ 5.120,80 | K7: Não aplicada | L7: Composição local. Fontes externas não formam amostra homogênea. | M7: =PCFP_Sangao!D6 -> 5367.64 | N7: ADOTAR PCFP
A8: 3 | B8: Auxiliar de Limpeza | C8: 40h | D8: 5 | E8: =PCFP_Sangao!D7 -> 5909.03 | F8: 6420.86 | G8: =IF(F8="","",ROUND(E8-F8,2)) -> -511.83 | H8: =IF(F8="","",E8/F8-1) -> -0.079713621 | I8: São José do Cedro/SC R$ 4.247,22; PR 2026 R$ 4.453,64 e R$ 4.526,41; ARIS homologado total R$ 53.340,00 | J8: R$ 4.247,22 a R$ 4.526,41 | K8: Não aplicada | L8: Composição local. Fontes externas não formam amostra homogênea. | M8: =PCFP_Sangao!D7 -> 5909.03 | N8: ADOTAR PCFP
A9: 4 | B9: Auxiliar de Limpeza | C9: 30h | D9: 25 | E9: =PCFP_Sangao!D8 -> 4861.67 | F9: 5344.87 | G9: =IF(F9="","",ROUND(E9-F9,2)) -> -483.2 | H9: =IF(F9="","",E9/F9-1) -> -0.090404444 | I9: PR 2026 Servente 30h R$ 3.759,61 | J9: R$ 3.759,61 | K9: Não aplicada | L9: Composição local. Fontes externas não formam amostra homogênea. | M9: =PCFP_Sangao!D8 -> 4861.67 | N9: ADOTAR PCFP
A10: 5 | B10: Agente de Apoio Escolar | C10: 30h | D10: 60 | E10: =PCFP_Sangao!D9 -> 4162.84 | G10: =IF(F10="","",ROUND(E10-F10,2)) | H10: =IF(F10="","",E10/F10-1) | I10: Tambaú/TR R$2.513,51; UEL/diurno R$5.951,58 — serviços de cuidado/acessibilidade. | J10: Sem faixa homogênea | K10: Não aplicada | L10: Composição local. Fontes externas não formam amostra homogênea. | M10: =PCFP_Sangao!D9 -> 4162.84 | N10: ADOTAR PCFP
A11: 6 | B11: Emissor de Documentos | C11: 40h | D11: 5 | E11: =PCFP_Sangao!D10 -> 5429.51 | F11: 5767.01 | G11: =IF(F11="","",ROUND(E11-F11,2)) -> -337.5 | H11: =IF(F11="","",E11/F11-1) -> -0.058522527 | I11: Sem preço unitário atual estritamente homogêneo no Farol | J11: — | K11: Não aplicada | L11: Composição local. Fontes externas não formam amostra homogênea. | M11: =PCFP_Sangao!D10 -> 5429.51 | N11: ADOTAR PCFP
A12: 7 | B12: Apoio Administrativo | C12: 40h | D12: 5 | E12: =PCFP_Sangao!D11 -> 5429.51 | G12: =IF(F12="","",ROUND(E12-F12,2)) | H12: =IF(F12="","",E12/F12-1) | I12: SEED R$5.606,64; PR/lote 02 R$5.956,67. Demais lotes não confirmados excluídos. | J12: Sem faixa homogênea | K12: Não aplicada | L12: Composição local. Fontes externas não formam amostra homogênea. | M12: =PCFP_Sangao!D11 -> 5429.51 | N12: ADOTAR PCFP
A13: 8 | B13: Apoio Administrativo | C13: 20h | D13: 20 | E13: =PCFP_Sangao!D12 -> 3075.96 | G13: =IF(F13="","",ROUND(E13-F13,2)) | H13: =IF(F13="","",E13/F13-1) | I13: SEED/PR Assistente Administrativo 20h R$ 3.475,62 | J13: R$ 3.475,62 | K13: Não aplicada | L13: Composição local. Fontes externas não formam amostra homogênea. | M13: =PCFP_Sangao!D12 -> 3075.96 | N13: ADOTAR PCFP
P16: Função | Q16: PCFP Sangão | R16: SEA/SC 2026
P17: Porteiro(a) | Q17: =PCFP_Sangao!D5 -> 6806.27 | R17: 7319.35
P18: Cozinheiro(a) | Q18: =PCFP_Sangao!D6 -> 5367.64 | R18: 5813.31
P19: Aux. Limpeza 40h | Q19: =PCFP_Sangao!D7 -> 5909.03 | R19: 6420.86
P20: Aux. Limpeza 30h | Q20: =PCFP_Sangao!D8 -> 4861.67 | R20: 5344.87
P21: Emissor Documentos | Q21: =PCFP_Sangao!D10 -> 5429.51 | R21: 5767.01
A35: Sem média ou mediana: fontes com diferenças materiais. A posição em faixa de preços não valida a composição.

Sheet Memoria_Orcamento
A1: MEMÓRIA DE CÁLCULO DO ORÇAMENTO — PREÇOS ADOTADOS
A3: Item | B3: Função/jornada | C3: Postos | D3: Preço posto/mês | E3: Total mensal | F3: Meses | G3: Total anual | H3: Critério
A4: 1 | B4: =PCFP_Sangao!B5&" - "&PCFP_Sangao!C5 -> Porteiro(a) - 40h | C4: =PCFP_Sangao!E5 -> 20 | D4: =PCFP_Sangao!D5 -> 6806.27 | E4: =ROUND(C4*D4,2) -> 136125.4 | F4: =Parametros!$B$5 -> 12 | G4: =ROUND(E4*F4,2) -> 1633504.8 | H4: PCFP analítica; confronto contextual
A5: 2 | B5: =PCFP_Sangao!B6&" - "&PCFP_Sangao!C6 -> Cozinheiro(a) - 40h | C5: =PCFP_Sangao!E6 -> 5 | D5: =PCFP_Sangao!D6 -> 5367.64 | E5: =ROUND(C5*D5,2) -> 26838.2 | F5: =Parametros!$B$5 -> 12 | G5: =ROUND(E5*F5,2) -> 322058.4 | H5: PCFP analítica; confronto contextual
A6: 3 | B6: =PCFP_Sangao!B7&" - "&PCFP_Sangao!C7 -> Auxiliar de Limpeza - 40h | C6: =PCFP_Sangao!E7 -> 5 | D6: =PCFP_Sangao!D7 -> 5909.03 | E6: =ROUND(C6*D6,2) -> 29545.15 | F6: =Parametros!$B$5 -> 12 | G6: =ROUND(E6*F6,2) -> 354541.8 | H6: PCFP analítica; confronto contextual
A7: 4 | B7: =PCFP_Sangao!B8&" - "&PCFP_Sangao!C8 -> Auxiliar de Limpeza - 30h | C7: =PCFP_Sangao!E8 -> 25 | D7: =PCFP_Sangao!D8 -> 4861.67 | E7: =ROUND(C7*D7,2) -> 121541.75 | F7: =Parametros!$B$5 -> 12 | G7: =ROUND(E7*F7,2) -> 1458501 | H7: PCFP analítica; confronto contextual
A8: 5 | B8: =PCFP_Sangao!B9&" - "&PCFP_Sangao!C9 -> Agente de Apoio Escolar - 30h | C8: =PCFP_Sangao!E9 -> 60 | D8: =PCFP_Sangao!D9 -> 4162.84 | E8: =ROUND(C8*D8,2) -> 249770.4 | F8: =Parametros!$B$5 -> 12 | G8: =ROUND(E8*F8,2) -> 2997244.8 | H8: PCFP analítica; confronto contextual
A9: 6 | B9: =PCFP_Sangao!B10&" - "&PCFP_Sangao!C10 -> Emissor de Documentos - 40h | C9: =PCFP_Sangao!E10 -> 5 | D9: =PCFP_Sangao!D10 -> 5429.51 | E9: =ROUND(C9*D9,2) -> 27147.55 | F9: =Parametros!$B$5 -> 12 | G9: =ROUND(E9*F9,2) -> 325770.6 | H9: PCFP analítica; confronto contextual
A10: 7 | B10: =PCFP_Sangao!B11&" - "&PCFP_Sangao!C11 -> Apoio Administrativo - 40h | C10: =PCFP_Sangao!E11 -> 5 | D10: =PCFP_Sangao!D11 -> 5429.51 | E10: =ROUND(C10*D10,2) -> 27147.55 | F10: =Parametros!$B$5 -> 12 | G10: =ROUND(E10*F10,2) -> 325770.6 | H10: PCFP analítica; confronto contextual
A11: 8 | B11: =PCFP_Sangao!B12&" - "&PCFP_Sangao!C12 -> Apoio Administrativo - 20h | C11: =PCFP_Sangao!E12 -> 20 | D11: =PCFP_Sangao!D12 -> 3075.96 | E11: =ROUND(C11*D11,2) -> 61519.2 | F11: =Parametros!$B$5 -> 12 | G11: =ROUND(E11*F11,2) -> 738230.4 | H11: PCFP analítica; confronto contextual
A12: TOTAL | C12: =SUM(C4:C11) -> 145 | E12: =ROUND(SUM(E4:E11),2) -> 679635.2 | G12: =ROUND(SUM(G4:G11),2) -> 8155622.4
A14: REGRA DE ADOÇÃO
A15: O orçamento final adota os preços unitários derivados da PCFP analítica, publicados com duas casas decimais. Para cada função: preço unitário × quantidade = total mensal; total mensal × 12 = total anual. A Tabela SEA/SC 2026 e os preços públicos funcionam como testes independentes de razoabilidade, sem serem promediados com a PCFP.

Sheet Metodologia
A1: METODOLOGIA JURÍDICO-ECONÔMICA DA PESQUISA
A3: Camada | B3: Fonte | C3: Papel na pesquisa | D3: Regra de comparabilidade | E3: Tratamento | F3: Resultado
A4: 1 | B4: PCFP Sangão / CCT paradigma SC000124/2026 | C4: Formar o preço local completo | D4: Função e jornada exatas; módulos integralmente rastreáveis | E4: Base do orçamento | F4: Preço analítico por posto
A5: 2 | B5: Tabela SEA/SC 2026 | C5: Benchmark oficial estadual | D5: Somente identidade direta ou alta entre posto/jornada/atribuições | E5: Não promediar com PCFP | F5: Teste oficial de coerência
A6: 3 | B6: Farol TCE/SC | C6: Preços e processos catarinenses | D6: Priorizar preço unitário homologado/contratado; distinguir estimado/global | E6: Excluir revogados e globais sem denominador do núcleo estatístico | F6: Confronto contextual
A7: 4 | B7: PNCP / fontes oficiais externas | C7: Suprir lacuna após insuficiência em SC | D7: Mesma função e jornada; registrar geografia/CCT/insumos | E7: Uso subsidiário | F7: Confronto contextual
A8: 5 | B8: Tratamento estatístico | C8: Somente amostras materialmente homogêneas | D8: Não duplicar lotes do mesmo processo como contratações independentes | E8: Não foram calculadas médias/medianas | F8: Sem amostra homogênea
A10: REGRA | B10: APLICAÇÃO
A11: Janela temporal | B11: 10/09/2025 a 09/09/2026. Fontes antigas ou contratos antigos repactuados: subsidiários, identificados.
A12: Preço estimado x homologado x contratado | B12: Devem ser registrados separadamente; um não é presumido como equivalente ao outro.
A13: Valor global | B13: Só pode ser unitizado quando documento fornece denominadores inequívocos (postos, meses, jornada).
A14: Jornada diversa | B14: Não aplicar regra de três automática entre 20h, 30h, 40h ou 44h.
A15: SEA/SC | B15: Benchmark oficial de primeira grandeza; não preço compulsório municipal.
A16: Preço final | B16: PCFP local por evento, conforme condições de execução do TR. Aprovação pela tramitação ordinária; programas ocupacionais e definição dos acionamentos na fase própria.

Sheet Fontes_Links
A1: FONTES E LINKS DE RASTREABILIDADE
A3: Fonte | B3: Finalidade | C3: Data-base/consulta | D3: URL / identificação
A4: Tabela SEA/SC 2026 | B4: Benchmark oficial estadual de postos terceirizados | C4: 26/08/2026 | D4: https://dados.sc.gov.br/dataset/licitacoes-de-terceirizados
A5: Farol TCE/SC — Licitações | B5: Pesquisa e exportação de contratações catarinenses | C5: 26/08/2026 | D5: https://paineistransparencia.tce.sc.gov.br/extensions/AppLicitacoesExterno/index.html
A6: Farol TCE/SC — Preços | B6: Consulta complementar | C6: 26/08/2026 | D6: https://paineistransparencia.tce.sc.gov.br/extensions/PainelDePrecos/index.html
A7: F01 Ipira | B7: Documento Farol/TCE | C7: 26/08/2026 | D7: https://api.virtual.tce.sc.gov.br/api-gateway/ms-esfinge-web/publico/getArquivoOnline?identificadorGed=NzA0NjVjY2EtNjY4Zi00NmYxLTg2NWMtY2E2NjhmOTZmMTQ0
A8: F02 Indaial | B8: Documento Farol/TCE | C8: 26/08/2026 | D8: https://api.virtual.tce.sc.gov.br/api-gateway/ms-esfinge-web/publico/getArquivoOnline?identificadorGed=YjU2OTAyMmYtNDk0Zi00YzAzLWE5MDItMmY0OTRmYmMwM2Jh
A9: F03 Correia Pinto | B9: Documento Farol/TCE — procedimento revogado | C9: 26/08/2026 | D9: https://api.virtual.tce.sc.gov.br/api-gateway/ms-esfinge-web/publico/getArquivoOnline?identificadorGed=NmViOGUxYTgtNTQ1YS00ZmE4LWI4ZTEtYTg1NDVhMWZhOGYz
A10: F04 Ibiam | B10: Documento Farol/TCE | C10: 26/08/2026 | D10: https://api.virtual.tce.sc.gov.br/api-gateway/ms-esfinge-web/publico/getArquivoOnline?identificadorGed=YjBlYWE4NmQtNTZhNy00OWE5LWFhYTgtNmQ1NmE3ODlhOTkz
A11: ARIS PE 001/2026 | B11: Resultado homologado e histórico de diligências | C11: 26/08/2026 | D11: https://www.portaldecompraspublicas.com.br/processos/SC/Agencia-Reguladora-Intermunicipal-de-Saneamento-Florianopolis-2612/PE-001-2026-2026-453343
A12: PNCP — SEED/PR 17/2026 | B12: Merendeira 40h e Assistente Administrativo 20h/40h | C12: 26/08/2026 | D12: https://pncp.gov.br/app/editais/76416965000121/2026/56
A13: PNCP — UEL 606/2025 | B13: Profissional de Apoio Escolar 30h | C13: 26/08/2026 | D13: https://pncp.gov.br/app/editais/78640489000153/2025/1341
A14: Tambaú/SP PE 01/2026 | B14: Profissional de Apoio Escolar 30h — referência subsidiária | C14: 26/08/2026 | D14: https://tambau.sp.gov.br/uploads/licitacao/PE01-2026ContratacaoEquipeApoioEducacao.pdf
... A57: F143 | B57: PGM/SP, Ementa 12.341/2025: divergência fiscal/trabalhista; conclusão sobre outra CCT e repactuação. | C57: 15/09/2026 | D57: https://legislacao.prefeitura.sp.gov.br/parecer-procuradoria-geral-do-municipio-pgm-12341-de-20-de-marco-de-2025/anexo/67e1a3e0a4efe59371a4fb79/EMENTA%2012341-RBM.pdf

Sheet Inventario
A1: INVENTÁRIO DOS DOCUMENTOS-BASE
A3: Documento | B3: Uso | C3: Status | D3: Observação
A4: Tabela de Valores de Referência 2026(1).pdf | B4: Benchmark SEA/SC | C4: UTILIZADO | D4: Fonte oficial principal externa.
A5: PCFP_ANALITICA_SANGAO_POSTOS_2026_FINAL.docx | B5: PCFP analítica local | C5: UTILIZADO | D5: Base integral de formação dos 8 preços, com fechamento publicável por preço unitário a duas casas.
A6: PLANILHA_MEDIA_SANEADA_SEA_CGE.xlsx | B6: Ferramenta estatística | C6: MODELO NÃO APLICADO | D6: Sem amostra homogênea selecionada; não compõe o orçamento. Preservado como referência metodológica.
A7: 3. Versao-6.0-modelo-etp-licitacao-terceirizados-01-04-2025(1).docx | B7: Modelo estadual ETP | C7: UTILIZADO COMO BOA PRÁTICA | D7: Confirma Tabela SEA como referência e painel quando posto não contemplado.
A8: 1. Versao-5.0-check-list-licitacao-terceirizados-20-02-2025(1).docx | B8: Governança documental | C8: BOA PRÁTICA | D8: Não vincula Sangão, mas orienta instrução.
A9: 2. Versao-5.0-modelo-DOD-licitacao-terceirizados-01-04-25(1).docx | B9: Dimensionamento e histórico | C9: BOA PRÁTICA | D9: Reforça quadro de postos, valores unitários e mensais.
A10: 869635(1).pdf | B10: PCFP Lajeado/RS | C10: REFERÊNCIA TÉCNICA | D10: Valida arquitetura de módulos; jornada/CCT/geografia distintas.
A11: Termo Referência(1).pdf | B11: TR IFSP portaria | C11: REFERÊNCIA TÉCNICA | D11: Jornada 44h; não integra núcleo monetário 40h.
A12: SC000124-2026-FEVASC(10)(1).pdf | B12: CCT paradigma 2026 | C12: CONFERIDO EM 14/09/2026 | D12: CCT paradigma: vigência 01/01–31/12/2026; Sangão. Cláusulas 9, 11 e 38–41 conferidas.

Sheet Parametros
A1: PARÂMETROS — CCT SC000124/2026 — BASE ECONÔMICA 09/09/2026
A2: Base econômica 09/09/2026. Anexos ambientais, provisões/assiduidade e demanda/SRP incorporados. Hipóteses mantidas; sensibilidade não altera orçamento.
A4: Parâmetro | B4: Valor | C4: Unidade | D4: Fonte | E4: Memória / condição
A5: Meses do ciclo | B5: 12 | C5: meses contratados | D5: TR | E5: Horizonte inicial de doze meses; outra duração exige adequar a memória rescisória.
A6: Dias do mês comercial | B6: 30 | C6: dias | D6: Memória | E6: Divisor de 30 dias remunerados; ausências anuais em 360.
A7: Dias de férias | B7: 30 | C7: dias | D7: CLT/CCT | E7: Reserva de 30 dias.
A8: INSS patronal | B8: 0.2 | C8: % | D8: Previdência | E8: Cenário patronal comum; licitante comprova regime.
A9: RAT | B9: 0.03 | C9: % | D9: RAT/FAP | E9: RAT 3% e FAP 1 são cenário; não imposição empresarial.
A10: FAP | B10: 1 | C10: fator | D10: FAP | E10: Fator orçamentário 1.
A11: Salário-educação | B11: 0.025 | C11: % | D11: Previdência | E11: Salário-educação.
A12: SESC | B12: 0.015 | C12: % | D12: Previdência | E12: Terceiros conforme enquadramento real.
A13: SENAC | B13: 0.01 | C13: % | D13: Previdência | E13: Terceiros conforme enquadramento real.
A14: SEBRAE | B14: 0.006 | C14: % | D14: Previdência | E14: Terceiros conforme enquadramento real.
A15: INCRA | B15: 0.002 | C15: % | D15: Previdência | E15: Terceiros conforme enquadramento real.
A16: FGTS | B16: 0.08 | C16: % | D16: Lei FGTS | E16: Incidência por natureza da verba.
... A66: Meses do ano — provisões | B66: 12 | C66: meses/ano | D66: Identidade de cálculo | E66: 12 meses do ano: base das provisões e rateios, distinta da duração do contrato.
A68: Total previdenciário/terceiros | B68: =Parametros!$B$8+Parametros!$B$9*Parametros!$B$10+Parametros!$B$11+Parametros!$B$12+Parametros!$B$13+Parametros!$B$14+Parametros!$B$15 -> 0.288 | D68: Memória / F101 / TR
A69: Total de encargos com FGTS | B69: =Parametros!$B$68+Parametros!$B$16 -> 0.368 | D69: Memória / F101 / TR
A70: M2.1 — 13º + férias + terço | B70: =1/Parametros!$B$66+Parametros!$B$7/Parametros!$B$6/Parametros!$B$66+Parametros!$B$7/Parametros!$B$6/Parametros!$B$66/3 -> 0.19444444 | D70: Memória / F101 / TR
A71: Fator da capacitação | B71: =Parametros!$B$37/(Parametros!$B$66*Parametros!$B$6) -> 0.0055555556 | D71: Memória / F101 / TR
A72: Fator das demais ausências | B72: =Parametros!$B$33+Parametros!$B$34+Parametros!$B$35+Parametros!$B$36+Parametros!$B$71 -> 0.016755556 | D72: Memória / F101 / TR
A73: Kit comum anual | B73: =Parametros!$B$57*Parametros!$B$43+Parametros!$B$58*Parametros!$B$44+Parametros!$B$59*Parametros!$B$45+Parametros!$B$60*Parametros!$B$46 -> 581.13 | D73: Memória / F101 / TR
A74: Kit portaria anual | B74: =Parametros!$B$73+Parametros!$B$64*Parametros!$B$53+Parametros!$B$65*Parametros!$B$54 -> 607.63 | D74: Memória / F101 / TR
A75: Kit cozinha anual | B75: =Parametros!$B$57*Parametros!$B$47+Parametros!$B$58*Parametros!$B$48+Parametros!$B$57*Parametros!$B$49+Parametros!$B$57*Parametros!$B$50+Parametros!$B$59*Parametros!$B$45+Parametros!$B$60*Parametros!$B$46+Parametros!$B$62*Parametros!$B$52+Parametros!$B$61*Parametros!$B$51 -> 1162.85 | D75: Memória / F101 / TR
A76: Kit limpeza anual | B76: =Parametros!$B$73+Parametros!$B$61*Parametros!$B$51+Parametros!$B$63*Parametros!$B$55+Parametros!$B$56+Parametros!$B$65*Parametros!$B$54 -> 834.77 | D76: Memória / F101 / TR
A77: Kit escolar anual | B77: =Parametros!$B$73+Parametros!$B$64*Parametros!$B$53 -> 597.63 | D77: Memória / F101 / TR
A78: Kit administrativo anual | B78: =Parametros!$B$73 -> 581.13 | D78: Memória / F101 / TR
A79: Divisor salarial integral CCT | B79: =220 -> 220 | D79: Memória / F101 / TR
A80: Horas salariais CCT para 6h | B80: =180 -> 180 | D80: Memória / F101 / TR
A81: Horas salariais CCT para 4h | B81: =120 -> 120 | D81: Memória / F101 / TR

Sheet PCFP_Detalhada
A1: PCFP DETALHADA — MEMÓRIA INTEGRAL POR ITEM
A2: Cenário inicial de 12 meses; aviso integral indenizado. Amortizações e prorrogações exigem memória própria.
A4: PARCELA / UNIDADE | B4: 1. Porteiro(a) 40h | C4: 2. Cozinheiro(a) 40h | D4: 3. Auxiliar de Limpeza 40h | E4: 4. Auxiliar de Limpeza 30h | F4: 5. Agente de Apoio Escolar 30h | G4: 6. Emissor de Documentos 40h | H4: 7. Apoio Administrativo 40h | I4: 8. Apoio Administrativo 20h | J4: BASE / INCIDÊNCIA
A5: Quantidade de postos | B5: 20 | C5: 5 | D5: 5 | E5: 25 | F5: 60 | G5: 5 | H5: 5 | I5: 20
A6: Jornada semanal (h) | B6: 40 | C6: 40 | D6: 40 | E6: 30 | F6: 30 | G6: 40 | H6: 40 | I6: 20
A7: Salário integral de referência | B7: 2496.27 | C7: 1857.54 | D7: 1752.85 | E7: 1752.85 | F7: 1752.85 | G7: 1910.81 | H7: 1910.81 | I7: 1910.81
A8: Proporção salarial da CCT | B8: =IF(B6=30,Parametros!$B$80/Parametros!$B$79,IF(B6=20,Parametros!$B$81/Parametros!$B$79,1)) -> 1 | C8: =IF(C6=30,Parametros!$B$80/Parametros!$B$79,IF(C6=20,Parametros!$B$81/Parametros!$B$79,1)) -> 1 | D8: =IF(D6=30,Parametros!$B$80/Parametros!$B$79,IF(D6=20,Parametros!$B$81/Parametros!$B$79,1)) -> 1 | E8: =IF(E6=30,Parametros!$B$80/Parametros!$B$79,IF(E6=20,Parametros!$B$81/Parametros!$B$79,1)) -> 0.81818182 | F8: =IF(F6=30,Parametros!$B$80/Parametros!$B$79,IF(F6=20,Parametros!$B$81/Parametros!$B$79,1)) -> 0.81818182 | G8: =IF(G6=30,Parametros!$B$80/Parametros!$B$79,IF(G6=20,Parametros!$B$81/Parametros!$B$79,1)) -> 1 | H8: =IF(H6=30,Parametros!$B$80/Parametros!$B$79,IF(H6=20,Parametros!$B$81/Parametros!$B$79,1)) -> 1 | I8: =IF(I6=30,Parametros!$B$80/Parametros!$B$79,IF(I6=20,Parametros!$B$81/Parametros!$B$79,1)) -> 0.54545455
A9: Salário da jornada | B9: =ROUND(B7*B8,2) -> 2496.27 | C9: =ROUND(C7*C8,2) -> 1857.54 | D9: =ROUND(D7*D8,2) -> 1752.85 | E9: =ROUND(E7*E8,2) -> 1434.15 | F9: =ROUND(F7*F8,2) -> 1434.15 | G9: =ROUND(G7*G8,2) -> 1910.81 | H9: =ROUND(H7*H8,2) -> 1910.81 | I9: =ROUND(I7*I8,2) -> 1042.26
A10: Adicional de insalubridade | B10: 0 | C10: 0 | D10: 0.2 | E10: 0.2 | F10: 0 | G10: 0 | H10: 0 | I10: 0 | J10: CCT cl. 9: 20% do piso proporcional da limpeza. Parâmetro convencional; avaliação concreta conforme TR.
A11: Insalubridade em R$ | B11: =ROUND(B9*B10,2) -> 0 | C11: =ROUND(C9*C10,2) -> 0 | D11: =ROUND(D9*D10,2) -> 350.57 | E11: =ROUND(E9*E10,2) -> 286.83 | F11: =ROUND(F9*F10,2) -> 0 | G11: =ROUND(G9*G10,2) -> 0 | H11: =ROUND(H9*H10,2) -> 0 | I11: =ROUND(I9*I10,2) -> 0
A12: M1 — REMUNERAÇÃO | B12: =B9+B11 -> 2496.27 | C12: =C9+C11 -> 1857.54 | D12: =D9+D11 -> 2103.42 | E12: =E9+E11 -> 1720.98 | F12: =F9+F11 -> 1434.15 | G12: =G9+G11 -> 1910.81 | H12: =H9+H11 -> 1910.81 | I12: =I9+I11 -> 1042.26
A13: 13º salário | B13: =(B12+B18)/Parametros!$B$66 -> 222.58407 | C13: =(C12+C18)/Parametros!$B$66 -> 165.63065 | D13: =(D12+D18)/Parametros!$B$66 -> 187.55495 | E13: =(E12+E18)/Parametros!$B$66 -> 153.45405 | F13: =(F12+F18)/Parametros!$B$66 -> 127.87838 | G13: =(G12+G18)/Parametros!$B$66 -> 170.38056 | H13: =(H12+H18)/Parametros!$B$66 -> 170.38056 | I13: =(I12+I18)/Parametros!$B$66 -> 92.93485
A14: Férias do titular | B14: =(B12+B18)*Parametros!$B$7/Parametros!$B$6/Parametros!$B$66 -> 222.58407 | C14: =(C12+C18)*Parametros!$B$7/Parametros!$B$6/Parametros!$B$66 -> 165.63065 | D14: =(D12+D18)*Parametros!$B$7/Parametros!$B$6/Parametros!$B$66 -> 187.55495 | E14: =(E12+E18)*Parametros!$B$7/Parametros!$B$6/Parametros!$B$66 -> 153.45405 | F14: =(F12+F18)*Parametros!$B$7/Parametros!$B$6/Parametros!$B$66 -> 127.87838 | G14: =(G12+G18)*Parametros!$B$7/Parametros!$B$6/Parametros!$B$66 -> 170.38056 | H14: =(H12+H18)*Parametros!$B$7/Parametros!$B$6/Parametros!$B$66 -> 170.38056 | I14: =(I12+I18)*Parametros!$B$7/Parametros!$B$6/Parametros!$B$66 -> 92.93485 | J14: Férias do titular; M1 suporta o ocupante ativo.
A15: Terço de férias | B15: =B14/3 -> 74.194692 | C15: =C14/3 -> 55.210217 | D15: =D14/3 -> 62.518317 | E15: =E14/3 -> 51.15135 | F15: =F14/3 -> 42.626125 | G15: =G14/3 -> 56.793519 | H15: =H14/3 -> 56.793519 | I15: =I14/3 -> 30.978283
A16: M2.1 — DIREITOS ANUAIS | B16: =SUM(B13:B15) -> 519.36284 | C16: =SUM(C13:C15) -> 386.47152 | D16: =SUM(D13:D15) -> 437.62822 | E16: =SUM(E13:E15) -> 358.05945 | F16: =SUM(F13:F15) -> 298.38288 | G16: =SUM(G13:G15) -> 397.55464 | H16: =SUM(H13:H15) -> 397.55464 | I16: =SUM(I13:I15) -> 216.84798
A17: Encargos M1 + M2.1 e FGTS de A | B17: =(B12+B16)*Parametros!$B$69+B18*Parametros!$B$16 -> 1123.732 | C17: =(C12+C16)*Parametros!$B$69+C18*Parametros!$B$16 -> 836.19846 | D17: =(D12+D16)*Parametros!$B$69+D18*Parametros!$B$16 -> 946.8849 | E17: =(E12+E16)*Parametros!$B$69+E18*Parametros!$B$16 -> 774.72401 | F17: =(F12+F16)*Parametros!$B$69+F18*Parametros!$B$16 -> 645.60334 | G17: =(G12+G16)*Parametros!$B$69+G18*Parametros!$B$16 -> 860.17872 | H17: =(H12+H16)*Parametros!$B$69+H18*Parametros!$B$16 -> 860.17872 | I17: =(I12+I16)*Parametros!$B$69+I18*Parametros!$B$16 -> 469.18839
A18: Assiduidade condicionada | B18: =B12*Parametros!$B$17 -> 174.7389 | C18: =C12*Parametros!$B$17 -> 130.0278 | D18: =D12*Parametros!$B$17 -> 147.2394 | E18: =E12*Parametros!$B$17 -> 120.4686 | F18: =F12*Parametros!$B$17 -> 100.3905 | G18: =G12*Parametros!$B$17 -> 133.7567 | H18: =H12*Parametros!$B$17 -> 133.7567 | I18: =I12*Parametros!$B$17 -> 72.9582 | J18: 7% de M1. Reserva: previdência, FGTS e reflexos; relatório 16.3.
A19: Previdência/terceiros sobre assiduidade | B19: =B18*Parametros!$B$68*Parametros!$B$18 -> 50.324803 | C19: =C18*Parametros!$B$68*Parametros!$B$18 -> 37.448006 | D19: =D18*Parametros!$B$68*Parametros!$B$18 -> 42.404947 | E19: =E18*Parametros!$B$68*Parametros!$B$18 -> 34.694957 | F19: =F18*Parametros!$B$68*Parametros!$B$18 -> 28.912464 | G19: =G18*Parametros!$B$68*Parametros!$B$18 -> 38.52193 | H19: =H18*Parametros!$B$68*Parametros!$B$18 -> 38.52193 | I19: =I18*Parametros!$B$68*Parametros!$B$18 -> 21.011962 | J19: Reserva previdenciária/terceiros: 28,80% sobre A. FGTS de A na linha 17, sem duplicidade.
A20: M2.2 — ENCARGOS | B20: =B17+B19 -> 1174.0568 | C20: =C17+C19 -> 873.64647 | D20: =D17+D19 -> 989.28984 | E20: =E17+E19 -> 809.41896 | F20: =F17+F19 -> 674.5158 | G20: =G17+G19 -> 898.70065 | H20: =H17+H19 -> 898.70065 | I20: =I17+I19 -> 490.20036
A21: Alimentação líquida | B21: =IF(B6=40,Parametros!$B$19,IF(B6=30,Parametros!$B$20,Parametros!$B$21))*Parametros!$B$23/Parametros!$B$66*(1-Parametros!$B$22) -> 710.5725 | C21: =IF(C6=40,Parametros!$B$19,IF(C6=30,Parametros!$B$20,Parametros!$B$21))*Parametros!$B$23/Parametros!$B$66*(1-Parametros!$B$22) -> 710.5725 | D21: =IF(D6=40,Parametros!$B$19,IF(D6=30,Parametros!$B$20,Parametros!$B$21))*Parametros!$B$23/Parametros!$B$66*(1-Parametros!$B$22) -> 710.5725 | E21: =IF(E6=40,Parametros!$B$19,IF(E6=30,Parametros!$B$20,Parametros!$B$21))*Parametros!$B$23/Parametros!$B$66*(1-Parametros!$B$22) -> 583.9614 | F21: =IF(F6=40,Parametros!$B$19,IF(F6=30,Parametros!$B$20,Parametros!$B$21))*Parametros!$B$23/Parametros!$B$66*(1-Parametros!$B$22) -> 583.9614 | G21: =IF(G6=40,Parametros!$B$19,IF(G6=30,Parametros!$B$20,Parametros!$B$21))*Parametros!$B$23/Parametros!$B$66*(1-Parametros!$B$22) -> 710.5725 | H21: =IF(H6=40,Parametros!$B$19,IF(H6=30,Parametros!$B$20,Parametros!$B$21))*Parametros!$B$23/Parametros!$B$66*(1-Parametros!$B$22) -> 710.5725 | I21: =IF(I6=40,Parametros!$B$19,IF(I6=30,Parametros!$B$20,Parametros!$B$21))*Parametros!$B$23/Parametros!$B$66*(1-Parametros!$B$22) -> 444.21547
A22: BAT | B22: =Parametros!$B$24 -> 11 | C22: =Parametros!$B$24 -> 11 | D22: =Parametros!$B$24 -> 11 | E22: =Parametros!$B$24 -> 11 | F22: =Parametros!$B$24 -> 11 | G22: =Parametros!$B$24 -> 11 | H22: =Parametros!$B$24 -> 11 | I22: =Parametros!$B$24 -> 11
A23: Seguro | B23: =Parametros!$B$25 -> 12.33 | C23: =Parametros!$B$25 -> 12.33 | D23: =Parametros!$B$25 -> 12.33 | E23: =Parametros!$B$25 -> 12.33 | F23: =Parametros!$B$25 -> 12.33 | G23: =Parametros!$B$25 -> 12.33 | H23: =Parametros!$B$25 -> 12.33 | I23: =Parametros!$B$25 -> 12.33
A24: VT líquido | B24: =Parametros!$B$26 -> 0 | C24: =Parametros!$B$26 -> 0 | D24: =Parametros!$B$26 -> 0 | E24: =Parametros!$B$26 -> 0 | F24: =Parametros!$B$26 -> 0 | G24: =Parametros!$B$26 -> 0 | H24: =Parametros!$B$26 -> 0 | I24: =Parametros!$B$26 -> 0
A25: M2.3 — BENEFÍCIOS | B25: =B18+SUM(B21:B24) -> 908.6414 | C25: =C18+SUM(C21:C24) -> 863.9303 | D25: =D18+SUM(D21:D24) -> 881.1419 | E25: =E18+SUM(E21:E24) -> 727.76 | F25: =F18+SUM(F21:F24) -> 707.6819 | G25: =G18+SUM(G21:G24) -> 867.6592 | H25: =H18+SUM(H21:H24) -> 867.6592 | I25: =I18+SUM(I21:I24) -> 540.50367
A26: M2 — TOTAL | B26: =B16+B20+B25 -> 2602.061 | C26: =C16+C20+C25 -> 2124.0483 | D26: =D16+D20+D25 -> 2308.06 | E26: =E16+E20+E25 -> 1895.2384 | F26: =F16+F20+F25 -> 1680.5806 | G26: =G16+G20+G25 -> 2163.9145 | H26: =H16+H20+H25 -> 2163.9145 | I26: =I16+I20+I25 -> 1247.552
A27: Uniformes/EPI — rateio mensal | B27: =Parametros!$B$74/Parametros!$B$66 -> 50.635833 | C27: =Parametros!$B$75/Parametros!$B$66 -> 96.904167 | D27: =Parametros!$B$76/Parametros!$B$66 -> 69.564167 | E27: =Parametros!$B$76/Parametros!$B$66 -> 69.564167 | F27: =Parametros!$B$77/Parametros!$B$66 -> 49.8025 | G27: =Parametros!$B$78/Parametros!$B$66 -> 48.4275 | H27: =Parametros!$B$78/Parametros!$B$66 -> 48.4275 | I27: =Parametros!$B$78/Parametros!$B$66 -> 48.4275 | J27: Cl. 40: dois uniformes completos/ano. Cl. 38–39: chuva/veículos. EPI por risco, CA e reposição conforme NR-6.
A28: Avaliações clínicas — rateio mensal | B28: =Parametros!$B$27*Parametros!$B$28/Parametros!$B$66 -> 8.25 | C28: =Parametros!$B$27*Parametros!$B$28/Parametros!$B$66 -> 8.25 | D28: =Parametros!$B$27*Parametros!$B$28/Parametros!$B$66 -> 8.25 | E28: =Parametros!$B$27*Parametros!$B$28/Parametros!$B$66 -> 8.25 | F28: =Parametros!$B$27*Parametros!$B$28/Parametros!$B$66 -> 8.25 | G28: =Parametros!$B$27*Parametros!$B$28/Parametros!$B$66 -> 8.25 | H28: =Parametros!$B$27*Parametros!$B$28/Parametros!$B$66 -> 8.25 | I28: =Parametros!$B$27*Parametros!$B$28/Parametros!$B$66 -> 8.25 | J28: Reserva clínica: R$33×3/12. PCMSO/NR-7 definem eventos e exames adicionais. Cl. 41 tem remissão antiga.
A29: M5 — INSUMOS | B29: =B27+B28 -> 58.885833 | C29: =C27+C28 -> 105.15417 | D29: =D27+D28 -> 77.814167 | E29: =E27+E28 -> 77.814167 | F29: =F27+F28 -> 58.0525 | G29: =G27+G28 -> 56.6775 | H29: =H27+H28 -> 56.6775 | I29: =I27+I28 -> 56.6775
A30: Direitos próprios do ferista | B30: =(B12+B18)*Parametros!$B$70/Parametros!$B$66 -> 43.280237 | C30: =(C12+C18)*Parametros!$B$70/Parametros!$B$66 -> 32.20596 | D30: =(D12+D18)*Parametros!$B$70/Parametros!$B$66 -> 36.469018 | E30: =(E12+E18)*Parametros!$B$70/Parametros!$B$66 -> 29.838287 | F30: =(F12+F18)*Parametros!$B$70/Parametros!$B$66 -> 24.86524 | G30: =(G12+G18)*Parametros!$B$70/Parametros!$B$66 -> 33.129553 | H30: =(H12+H18)*Parametros!$B$70/Parametros!$B$66 -> 33.129553 | I30: =(I12+I18)*Parametros!$B$70/Parametros!$B$66 -> 18.070665 | J30: (M1+A) × 19,444444%/12; sem novo salário mensal do ferista.
A31: Encargos dos direitos do ferista | B31: =B30*Parametros!$B$69 -> 15.927127 | C31: =C30*Parametros!$B$69 -> 11.851793 | D31: =D30*Parametros!$B$69 -> 13.420599 | E31: =E30*Parametros!$B$69 -> 10.98049 | F31: =F30*Parametros!$B$69 -> 9.1504082 | G31: =G30*Parametros!$B$69 -> 12.191676 | H31: =H30*Parametros!$B$69 -> 12.191676 | I31: =I30*Parametros!$B$69 -> 6.6500048
A32: Despesas adicionais do ferista | B32: =(B22+B23+B29)/Parametros!$B$66 -> 6.8513194 | C32: =(C22+C23+C29)/Parametros!$B$66 -> 10.707014 | D32: =(D22+D23+D29)/Parametros!$B$66 -> 8.4286806 | E32: =(E22+E23+E29)/Parametros!$B$66 -> 8.4286806 | F32: =(F22+F23+F29)/Parametros!$B$66 -> 6.781875 | G32: =(G22+G23+G29)/Parametros!$B$66 -> 6.6672917 | H32: =(H22+H23+H29)/Parametros!$B$66 -> 6.6672917 | I32: =(I22+I23+I29)/Parametros!$B$66 -> 6.6672917 | J32: (BAT + seguro + insumos)/12; sem repetir assiduidade.
A33: Base de outras ausências | B33: =B12+B26+B29-B21-B24 -> 4446.6444 | C33: =C12+C26+C29-C21-C24 -> 3376.17 | D33: =D12+D26+D29-D21-D24 -> 3778.7216 | E33: =E12+E26+E29-E21-E24 -> 3110.0712 | F33: =F12+F26+F29-F21-F24 -> 2588.8217 | G33: =G12+G26+G29-G21-G24 -> 3420.8295 | H33: =H12+H26+H29-H21-H24 -> 3420.8295 | I33: =I12+I26+I29-I21-I24 -> 1902.274
A34: Reposição de ausências legais | B34: =B33*Parametros!$B$33 -> 36.462484 | C34: =C33*Parametros!$B$33 -> 27.684594 | D34: =D33*Parametros!$B$33 -> 30.985517 | E34: =E33*Parametros!$B$33 -> 25.502584 | F34: =F33*Parametros!$B$33 -> 21.228338 | G34: =G33*Parametros!$B$33 -> 28.050802 | H34: =H33*Parametros!$B$33 -> 28.050802 | I34: =I33*Parametros!$B$33 -> 15.598647
A35: Reposição de paternidade | B35: =B33*Parametros!$B$34 -> 0.88932888 | C35: =C33*Parametros!$B$34 -> 0.67523399 | D35: =D33*Parametros!$B$34 -> 0.75574433 | E35: =E33*Parametros!$B$34 -> 0.62201424 | F35: =F33*Parametros!$B$34 -> 0.51776434 | G35: =G33*Parametros!$B$34 -> 0.6841659 | H35: =H33*Parametros!$B$34 -> 0.6841659 | I35: =I33*Parametros!$B$34 -> 0.38045481
A36: Reposição de acidente | B36: =B33*Parametros!$B$35 -> 12.00594 | C36: =C33*Parametros!$B$35 -> 9.1156589 | D36: =D33*Parametros!$B$35 -> 10.202548 | E36: =E33*Parametros!$B$35 -> 8.3971922 | F36: =F33*Parametros!$B$35 -> 6.9898185 | G36: =G33*Parametros!$B$35 -> 9.2362396 | H36: =H33*Parametros!$B$35 -> 9.2362396 | I36: =I33*Parametros!$B$35 -> 5.1361399
A37: Reposição de maternidade | B37: =B33*Parametros!$B$36 -> 0.44466444 | C37: =C33*Parametros!$B$36 -> 0.337617 | D37: =D33*Parametros!$B$36 -> 0.37787216 | E37: =E33*Parametros!$B$36 -> 0.31100712 | F37: =F33*Parametros!$B$36 -> 0.25888217 | G37: =G33*Parametros!$B$36 -> 0.34208295 | H37: =H33*Parametros!$B$36 -> 0.34208295 | I37: =I33*Parametros!$B$36 -> 0.1902274
A38: Reposição para capacitação | B38: =B33*Parametros!$B$71 -> 24.70358 | C38: =C33*Parametros!$B$71 -> 18.7565 | D38: =D33*Parametros!$B$71 -> 20.992898 | E38: =E33*Parametros!$B$71 -> 17.278173 | F38: =F33*Parametros!$B$71 -> 14.382343 | G38: =G33*Parametros!$B$71 -> 19.004608 | H38: =H33*Parametros!$B$71 -> 19.004608 | I38: =I33*Parametros!$B$71 -> 10.568189
A39: Demais reposições — total | B39: =SUM(B34:B38) -> 74.505997 | C39: =SUM(C34:C38) -> 56.569603 | D39: =SUM(D34:D38) -> 63.31458 | E39: =SUM(E34:E38) -> 52.11097 | F39: =SUM(F34:F38) -> 43.377145 | G39: =SUM(G34:G38) -> 57.317899 | H39: =SUM(H34:H38) -> 57.317899 | I39: =SUM(I34:I38) -> 31.873658
A40: M4 — REPOSIÇÕES | B40: =B30+B31+B32+B39 -> 140.56468 | C40: =C30+C31+C32+C39 -> 111.33437 | D40: =D30+D31+D32+D39 -> 121.63288 | E40: =E30+E31+E32+E39 -> 101.35843 | F40: =F30+F31+F32+F39 -> 84.174668 | G40: =G30+G31+G32+G39 -> 109.30642 | H40: =H30+H31+H32+H39 -> 109.30642 | I40: =I30+I31+I32+I39 -> 63.26162
A41: Aviso indenizado 33 dias | B41: =(B12+B18)*Parametros!$B$30/Parametros!$B$6/Parametros!$B$66 -> 244.84248 | C41: =(C12+C18)*Parametros!$B$30/Parametros!$B$6/Parametros!$B$66 -> 182.19371 | D41: =(D12+D18)*Parametros!$B$30/Parametros!$B$6/Parametros!$B$66 -> 206.31044 | E41: =(E12+E18)*Parametros!$B$30/Parametros!$B$6/Parametros!$B$66 -> 168.79945 | F41: =(F12+F18)*Parametros!$B$30/Parametros!$B$6/Parametros!$B$66 -> 140.66621 | G41: =(G12+G18)*Parametros!$B$30/Parametros!$B$6/Parametros!$B$66 -> 187.41861 | H41: =(H12+H18)*Parametros!$B$30/Parametros!$B$6/Parametros!$B$66 -> 187.41861 | I41: =(I12+I18)*Parametros!$B$30/Parametros!$B$6/Parametros!$B$66 -> 102.22834 | J41: (M1+A) × 33/30/12; API sem previdência patronal.
...

Sheet Ambientes
A1: AMBIENTES — CONDIÇÕES DE EXECUÇÃO E ALOCAÇÃO
A2: Cadastro de referência; lotação definida em cada acionamento. Esta aba não constitui laudo. Programas e proteção serão compatibilizados na mobilização conforme o TR.
A4: Código | B4: Unidade | C4: Endereço documental | D4: Função / jornada / postos / turno | E4: Ambiente / tarefas | F4: Sanitários: número, tipo, acesso | G4: População fixa / fluxo | H4: Coleta de lixo sanitário | I4: Cozinha / umidade / calor / exterior | J4: Saneantes / FDS / diluição | K4: EPI/EPC / CA / exames | L4: PGR / PCMSO / LTCAT / LTIP | M4: Conclusão técnica | N4: Fonte / responsável
A5: U01 | B5: CEM João Manoel de Souza | C5: Rua Manoel João de Souza, 50 — Campo do Sangão | D5: Limites por item no ETP. Alocação a definir antes do acionamento. | E5: Tarefas do TR; identificar ambientes efetivamente atendidos. | F5: Caracterização pela tarefa, acesso e circulação do ambiente, conforme TR; verificar na mobilização. | G5: Não estimar circulação de sanitário pelo total de alunos da rede. Identificar o ambiente atendido no acionamento. | H5: Resíduos comuns e sanitários conforme atribuição de limpeza; vedada inclusão informal de resíduo especial. | I5: Condições informadas pelo Município e avaliadas na compatibilização ocupacional antes das atividades. | J5: Materiais fornecidos pelo Município; comunicar produtos, FDS, diluição e forma de uso à contratada. | K5: Kit orçado na PCFP; seleção, CA, reposição e exames segundo riscos e programas ocupacionais. | L5: PGR/PCMSO aplicáveis da contratada na mobilização; Município disponibiliza laudos existentes pertinentes. | M5: 20% para limpeza é parâmetro convencional do orçamento; não certifica enquadramento técnico universal. | N5: F134, p. 38; F135; Educação/RH/SST/fiscalização
A6: U02 | B6: CEI João Inocêncio de Aguiar | C6: Localidade de Areinha; endereço operacional comunicado na ordem de serviço. | D6: Limites por item no ETP. Alocação a definir antes do acionamento. | E6: Tarefas do TR; identificar ambientes efetivamente atendidos. | F6: Caracterização pela tarefa, acesso e circulação do ambiente, conforme TR; verificar na mobilização. | G6: Não estimar circulação de sanitário pelo total de alunos da rede. Identificar o ambiente atendido no acionamento. | H6: Resíduos comuns e sanitários conforme atribuição de limpeza; vedada inclusão informal de resíduo especial. | I6: Condições informadas pelo Município e avaliadas na compatibilização ocupacional antes das atividades. | J6: Materiais fornecidos pelo Município; comunicar produtos, FDS, diluição e forma de uso à contratada. | K6: Kit orçado na PCFP; seleção, CA, reposição e exames segundo riscos e programas ocupacionais. | L6: PGR/PCMSO aplicáveis da contratada na mobilização; Município disponibiliza laudos existentes pertinentes. | M6: 20% para limpeza é parâmetro convencional do orçamento; não certifica enquadramento técnico universal. | N6: F134, p. 38; F135; Educação/RH/SST/fiscalização
A7: U03 | B7: CEI Turma do Cebolinha | C7: Rua Osvaldo Otávio Eduardo, 40 — Centro | D7: Limites por item no ETP. Alocação a definir antes do acionamento. | E7: Tarefas do TR; identificar ambientes efetivamente atendidos. | F7: Caracterização pela tarefa, acesso e circulação do ambiente, conforme TR; verificar na mobilização. | G7: Não estimar circulação de sanitário pelo total de alunos da rede. Identificar o ambiente atendido no acionamento. | H7: Resíduos comuns e sanitários conforme atribuição de limpeza; vedada inclusão informal de resíduo especial. | I7: Condições informadas pelo Município e avaliadas na compatibilização ocupacional antes das atividades. | J7: Materiais fornecidos pelo Município; comunicar produtos, FDS, diluição e forma de uso à contratada. | K7: Kit orçado na PCFP; seleção, CA, reposição e exames segundo riscos e programas ocupacionais. | L7: PGR/PCMSO aplicáveis da contratada na mobilização; Município disponibiliza laudos existentes pertinentes. | M7: 20% para limpeza é parâmetro convencional do orçamento; não certifica enquadramento técnico universal. | N7: F134, p. 38; F135; Educação/RH/SST/fiscalização
A8: U04 | B8: Berçário Brincando e Aprendendo | C8: Rua Izaura Goularte Lessa — Morro Grande. | D8: Limites por item no ETP. Alocação a definir antes do acionamento. | E8: Tarefas do TR; identificar ambientes efetivamente atendidos. | F8: Caracterização pela tarefa, acesso e circulação do ambiente, conforme TR; verificar na mobilização. | G8: Não estimar circulação de sanitário pelo total de alunos da rede. Identificar o ambiente atendido no acionamento. | H8: Resíduos comuns e sanitários conforme atribuição de limpeza; vedada inclusão informal de resíduo especial. | I8: Condições informadas pelo Município e avaliadas na compatibilização ocupacional antes das atividades. | J8: Materiais fornecidos pelo Município; comunicar produtos, FDS, diluição e forma de uso à contratada. | K8: Kit orçado na PCFP; seleção, CA, reposição e exames segundo riscos e programas ocupacionais. | L8: PGR/PCMSO aplicáveis da contratada na mobilização; Município disponibiliza laudos existentes pertinentes. | M8: 20% para limpeza é parâmetro convencional do orçamento; não certifica enquadramento técnico universal. | N8: F134, p. 38; F135; Educação/RH/SST/fiscalização
A9: U05 | B9: CEI Pequenos Brilhantes | C9: Estrada Geral Garganta | D9: Limites por item no ETP. Alocação a definir antes do acionamento. | E9: Tarefas do TR; identificar ambientes efetivamente atendidos. | F9: Caracterização pela tarefa, acesso e circulação do ambiente, conforme TR; verificar na mobilização. | G9: Não estimar circulação de sanitário pelo total de alunos da rede. Identificar o ambiente atendido no acionamento. | H9: Resíduos comuns e sanitários conforme atribuição de limpeza; vedada inclusão informal de resíduo especial. | I9: Condições informadas pelo Município e avaliadas na compatibilização ocupacional antes das atividades. | J9: Materiais fornecidos pelo Município; comunicar produtos, FDS, diluição e forma de uso à contratada. | K9: Kit orçado na PCFP; seleção, CA, reposição e exames segundo riscos e programas ocupacionais. | L9: PGR/PCMSO aplicáveis da contratada na mobilização; Município disponibiliza laudos existentes pertinentes. | M9: 20% para limpeza é parâmetro convencional do orçamento; não certifica enquadramento técnico universal. | N9: F134, p. 38; Educação/RH/SST/fiscalização
A10: U06 | B10: CEI Balão Mágico | C10: Rua Porfírio João Pereira | D10: Limites por item no ETP. Alocação a definir antes do acionamento. | E10: Tarefas do TR; identificar ambientes efetivamente atendidos. | F10: Caracterização pela tarefa, acesso e circulação do ambiente, conforme TR; verificar na mobilização. | G10: Não estimar circulação de sanitário pelo total de alunos da rede. Identificar o ambiente atendido no acionamento. | H10: Resíduos comuns e sanitários conforme atribuição de limpeza; vedada inclusão informal de resíduo especial. | I10: Condições informadas pelo Município e avaliadas na compatibilização ocupacional antes das atividades. | J10: Materiais fornecidos pelo Município; comunicar produtos, FDS, diluição e forma de uso à contratada. | K10: Kit orçado na PCFP; seleção, CA, reposição e exames segundo riscos e programas ocupacionais. | L10: PGR/PCMSO aplicáveis da contratada na mobilização; Município disponibiliza laudos existentes pertinentes. | M10: 20% para limpeza é parâmetro convencional do orçamento; não certifica enquadramento técnico universal. | N10: F134, p. 38; Educação/RH/SST/fiscalização
A11: U07 | B11: CEM Conexão | C11: Rua Projetada H, Quadra H, Loteamento Adelúcio de Aguiar — Centro, s/n | D11: Limites por item no ETP. Alocação a definir antes do acionamento. | E11: Tarefas do TR; identificar ambientes efetivamente atendidos. | F11: Caracterização pela tarefa, acesso e circulação do ambiente, conforme TR; verificar na mobilização. | G11: Não estimar circulação de sanitário pelo total de alunos da rede. Identificar o ambiente atendido no acionamento. | H11: Resíduos comuns e sanitários conforme atribuição de limpeza; vedada inclusão informal de resíduo especial. | I11: Condições informadas pelo Município e avaliadas na compatibilização ocupacional antes das atividades. | J11: Materiais fornecidos pelo Município; comunicar produtos, FDS, diluição e forma de uso à contratada. | K11: Kit orçado na PCFP; seleção, CA, reposição e exames segundo riscos e programas ocupacionais. | L11: PGR/PCMSO aplicáveis da contratada na mobilização; Município disponibiliza laudos existentes pertinentes. | M11: 20% para limpeza é parâmetro convencional do orçamento; não certifica enquadramento técnico universal. | N11: F134, p. 38; Educação/RH/SST/fiscalização
